{"text_format":"1","workbook":"xlsx","n_sheets":5,"sheets":["Abertura Conta Salário Sem port","Dados","Abertura Conta Salário com port","LISTA","TERMO PORTABILIDADE"],"not_rendered":{"charts":0,"images":4,"macros":1,"external_links":0,"defined_names":14,"comments":0,"pivot_tables":0},"unopened":[],"bounds":{"document_bytes":16777216,"sheet_cells":100000,"rows_first":2000,"rows_last":500,"rows_between":2000,"halvings":0,"cell_chars":16384,"cell_head_chars":4096},"cells_cut":0,"cells_raw":0,"read":"whole","date_system":"1900"}

{"sheet":"Abertura Conta Salário Sem port","index":0,"n_rows":2,"n_cols":18,"rows_kept":2,"cut":false,"hidden":false,"merged":[[0,3,0,17]]}
["CPF/CNPJ: ","INSIRA O NOME DA FONTE PAGADORA AQUI","Conta:","Abertura de Conta Salário Massiva - Sem Portabilidade"]
["CPF BENEFICIÁRIO ","NOME BENEFICIARIO","TIPO DE DOCUMENTO","NÚMERO DO DOCUMENTO","ORGÃO EXPEDIDOR","UF EXPEDIÇÃO","DATA DE EMISSÃO","TIPO ENDEREÇO","CEP","TIPO LOGRADOURO","ENDEREÇO","BAIRRO","NÚMERO","COMPLEMENTO","DDD","TELEFONE CELULAR","EMAIL","TIPO CARTÃO"]

{"sheet":"Dados","index":1,"n_rows":46,"n_cols":5,"rows_kept":46,"cut":false,"hidden":true,"merged":[]}
["TIPO LOGRADOURO","TIPO DE DOCUMENTO","TIPO CARTÃO","TIPO ENDEREÇO","UF"]
["1-AEROPORTO","1-CARTEIRA DE IDENTIDADE","0-SEM CARTÃO","0-RESIDENCIAL","AC"]
["2-ALAMEDA","2-REGISTRO ÚNICO DE IDENTIDADE CIVIL RIC","7-SICOOB CABAL SALÁRIO MAIS","1-COMERCIAL","AL"]
["3-ÁREA","3-CARTEIRA DE IDENTIDADE PROFISSIONAL","8-SICOOB MASTERCARD SALÁ\u0081RIO MAIS","2-OUTROS","AM"]
["4-AVENIDA","4-CARTEIRA DE IDENTIDADE MILITAR","9-SICOOB MASTERCARD SALÁRIO TOTAL","3-CAIXA POSTAL","AP"]
["5-CAMPO","5-CARTEIRA NACIONAL DE HABILITAÇÃO CNH",null,"4-ZONA RURAL","BA"]
["6-CHÁCARA","6-PASSAPORTE",null,"5-RURAL SEM CADASTRO","CE"]
["7-COLÔNIA","7-CARTEIRA DE TRABALHO E PREVIDÊNCIA SOCIAL - CTPS",null,null,"DF"]
["8-CONDOMÍNIO","8-REGISTRO NACIONAL DE ESTRANGEIRO - RNE",null,null,"ES"]
["9-CONJUNTO","9-CERTIDÃO DE NASCIMENTO",null,null,"GO"]
["10-DISTRITO","10- PROTOCOLO DE SOLICITAÇÃO DE RNE",null,null,"MA"]
["11-ESPLANADA",null,null,null,"MG"]
["12-ESTAÇÃO",null,null,null,"MS"]
["13-ESTRADA",null,null,null,"MT"]
["14-FAVELA",null,null,null,"PA"]
["15-FAZENDA",null,null,null,"PB"]
["16-FEIRA",null,null,null,"PE"]
["17-JARDIM",null,null,null,"PI"]
["18-LADEIRA",null,null,null,"PR"]
["19-LAGO",null,null,null,"RJ"]
["20-LAGOA",null,null,null,"RN"]
["21-LARGO",null,null,null,"RO"]
["22-LOTEAMENTO",null,null,null,"RR"]
["23-MORRO",null,null,null,"RS"]
["24-NÚCLEO",null,null,null,"SC"]
["99-OUTRO",null,null,null,"SE"]
["25-PARQUE",null,null,null,"SP"]
["26-PASSARELA",null,null,null,"TO"]
["27-PÁTIO"]
["28-PRAÇA"]
["29-QUADRA"]
["30-RECANTO"]
["31-RESIDENCIAL"]
["32-RODOVIA"]
["33-RUA"]
["34-SETOR"]
["35-SÍTIO"]
["36-TRAVESSA"]
["37-TRECHO"]
["38-TREVO"]
["39-VALE"]
["40-VEREDA"]
["41-VIA"]
["42-VIADUTO"]
["43-VIELA"]
["44-VILA"]

{"sheet":"Abertura Conta Salário com port","index":2,"n_rows":1001,"n_cols":25,"rows_kept":1001,"cut":false,"hidden":false,"merged":[[0,3,0,19],[2,22,6,22],[8,22,1048575,22]]}
["CPF/CNPJ","INSIRA O NOME DA FONTE PAGADORA AQUI","CONTA","Abertura de Conta Salário Massiva - Com Portabilidade",null,null,null,null,null,null,null,null,null,null,null,null,null,null,null,null,"Contas:",{"$f":"SUM(Y3:Y1048576)","v":0},null,{"$f":"SUM(X3:X1048576)","v":0}]
["CPF BENEFICIÁRIO ","NOME BENEFICIARIO","TIPO DE DOCUMENTO","NÚMERO DO DOCUMENTO","ORGÃO EXPEDIDOR","UF EXPEDIÇÃO","DATA DE EMISSÃO","TIPO ENDEREÇO","CEP","TIPO LOGRADOURO","ENDEREÇO","BAIRRO","NÚMERO","COMPLEMENTO","DDD","TELEFONE CELULAR","EMAIL","TIPO CARTÃO","TIPO DE CONTA","CÓDIGO BANCO","AGÊNCIA","CONTA","Gerar Termos","Validation","Count Rows"]
[null,null,null,null,null,null,null,null,null,null,null,null,null,null,null,null,null,null,null,null,null,null,{"$f":"IF(X1>0, X1&\" LINHA(S) ERRADA(S)\", IF(V1> 0,\"TUDO CERTO!\",\"PLANILHA VAZIA\"))","v":"PLANILHA VAZIA"},{"$f":"IF(COUNTA(Tabela1[#This Row]) > 0, IF(Tabela1[[#This Row],[TIPO CARTÃO]]  = \"0-SEM CARTÃO\",IF(COUNTA(Tabela1[#This Row]) = 22, 0, 1),IF(COUNTA(Tabela1[#This Row]) = 18, 0, 1)), 0)","v":0},{"$f":"IF(X3 = 1, 0, IF(COUNTA(Tabela1[#This Row]) > 0, 1, 0))","v":0}]
[null,null,null,null,null,null,null,null,null,null,null,null,null,null,null,null,null,null,null,null,null,null,null,{"$f":"IF(COUNTA(Tabela1[#This Row]) > 0, IF(Tabela1[[#This Row],[TIPO CARTÃO]]  = \"0-SEM CARTÃO\",IF(COUNTA(Tabela1[#This Row]) = 22, 0, 1),IF(COUNTA(Tabela1[#This Row]) = 18, 0, 1)), 0)","v":0},{"$f":"IF(X4 = 1, 0, IF(COUNTA(Tabela1[#This Row]) > 0, 1, 0))","v":0}]
[null,null,null,null,null,null,null,null,null,null,null,null,null,null,null,null,null,null,null,null,null,null,null,{"$f":"IF(COUNTA(Tabela1[#This Row]) > 0, IF(Tabela1[[#This Row],[TIPO CARTÃO]]  = \"0-SEM CARTÃO\",IF(COUNTA(Tabela1[#This Row]) = 22, 0, 1),IF(COUNTA(Tabela1[#This Row]) = 18, 0, 1)), 0)","v":0},{"$f":"IF(X5 = 1, 0, IF(COUNTA(Tabela1[#This Row]) > 0, 1, 0))","v":0}]
[null,null,null,null,null,null,null,null,null,null,null,null,null,null,null,null,null,null,null,null,null,null,null,{"$f":"IF(COUNTA(Tabela1[#This Row]) > 0, IF(Tabela1[[#This Row],[TIPO CARTÃO]]  = \"0-SEM CARTÃO\",IF(COUNTA(Tabela1[#This Row]) = 22, 0, 1),IF(COUNTA(Tabela1[#This Row]) = 18, 0, 1)), 0)","v":0},{"$f":"IF(X6 = 1, 0, IF(COUNTA(Tabela1[#This Row]) > 0, 1, 0))","v":0}]
[null,null,null,null,null,null,null,null,null,null,null,null,null,null,null,null,null,null,null,null,null,null,null,{"$f":"IF(COUNTA(Tabela1[#This Row]) > 0, IF(Tabela1[[#This Row],[TIPO CARTÃO]]  = \"0-SEM CARTÃO\",IF(COUNTA(Tabela1[#This Row]) = 22, 0, 1),IF(COUNTA(Tabela1[#This Row]) = 18, 0, 1)), 0)","v":0},{"$f":"IF(X7 = 1, 0, IF(COUNTA(Tabela1[#This Row]) > 0, 1, 0))","v":0}]
[null,null,null,null,null,null,null,null,null,null,null,null,null,null,null,null,null,null,null,null,null,null,"Validação",{"$f":"IF(COUNTA(Tabela1[#This Row]) > 0, IF(Tabela1[[#This Row],[TIPO CARTÃO]]  = \"0-SEM CARTÃO\",IF(COUNTA(Tabela1[#This Row]) = 22, 0, 1),IF(COUNTA(Tabela1[#This Row]) = 18, 0, 1)), 0)","v":0},{"$f":"IF(X8 = 1, 0, IF(COUNTA(Tabela1[#This Row]) > 0, 1, 0))","v":0}]
[null,null,null,null,null,null,null,null,null,null,null,null,null,null,null,null,null,null,null,null,null,null,null,{"$f":"IF(COUNTA(Tabela1[#This Row]) > 0, IF(Tabela1[[#This Row],[TIPO CARTÃO]]  = \"0-SEM CARTÃO\",IF(COUNTA(Tabela1[#This Row]) = 22, 0, 1),IF(COUNTA(Tabela1[#This Row]) = 18, 0, 1)), 0)","v":0},{"$f":"IF(X9 = 1, 0, IF(COUNTA(Tabela1[#This Row]) > 0, 1, 0))","v":0}]
[null,null,null,null,null,null,null,null,null,null,null,null,null,null,null,null,null,null,null,null,null,null,null,{"$f":"IF(COUNTA(Tabela1[#This Row]) > 0, IF(Tabela1[[#This Row],[TIPO CARTÃO]]  = \"0-SEM CARTÃO\",IF(COUNTA(Tabela1[#This Row]) = 22, 0, 1),IF(COUNTA(Tabela1[#This Row]) = 18, 0, 1)), 0)","v":0},{"$f":"IF(X10 = 1, 0, IF(COUNTA(Tabela1[#This Row]) > 0, 1, 0))","v":0}]
[null,null,null,null,null,null,null,null,null,null,null,null,null,null,null,null,null,null,null,null,null,null,null,{"$f":"IF(COUNTA(Tabela1[#This Row]) > 0, IF(Tabela1[[#This Row],[TIPO CARTÃO]]  = \"0-SEM CARTÃO\",IF(COUNTA(Tabela1[#This Row]) = 22, 0, 1),IF(COUNTA(Tabela1[#This Row]) = 18, 0, 1)), 0)","v":0},{"$f":"IF(X11 = 1, 0, IF(COUNTA(Tabela1[#This Row]) > 0, 1, 0))","v":0}]
[null,null,null,null,null,null,null,null,null,null,null,null,null,null,null,null,null,null,null,null,null,null,null,{"$f":"IF(COUNTA(Tabela1[#This Row]) > 0, IF(Tabela1[[#This Row],[TIPO CARTÃO]]  = \"0-SEM CARTÃO\",IF(COUNTA(Tabela1[#This Row]) = 22, 0, 1),IF(COUNTA(Tabela1[#This Row]) = 18, 0, 1)), 0)","v":0},{"$f":"IF(X12 = 1, 0, IF(COUNTA(Tabela1[#This Row]) > 0, 1, 0))","v":0}]
[null,null,null,null,null,null,null,null,null,null,null,null,null,null,null,null,null,null,null,null,null,null,null,{"$f":"IF(COUNTA(Tabela1[#This Row]) > 0, IF(Tabela1[[#This Row],[TIPO CARTÃO]]  = \"0-SEM CARTÃO\",IF(COUNTA(Tabela1[#This Row]) = 22, 0, 1),IF(COUNTA(Tabela1[#This Row]) = 18, 0, 1)), 0)","v":0},{"$f":"IF(X13 = 1, 0, IF(COUNTA(Tabela1[#This Row]) > 0, 1, 0))","v":0}]
[null,null,null,null,null,null,null,null,null,null,null,null,null,null,null,null,null,null,null,null,null,null,null,{"$f":"IF(COUNTA(Tabela1[#This Row]) > 0, IF(Tabela1[[#This Row],[TIPO CARTÃO]]  = \"0-SEM CARTÃO\",IF(COUNTA(Tabela1[#This Row]) = 22, 0, 1),IF(COUNTA(Tabela1[#This Row]) = 18, 0, 1)), 0)","v":0},{"$f":"IF(X14 = 1, 0, IF(COUNTA(Tabela1[#This Row]) > 0, 1, 0))","v":0}]
[null,null,null,null,null,null,null,null,null,null,null,null,null,null,null,null,null,null,null,null,null,null,null,{"$f":"IF(COUNTA(Tabela1[#This Row]) > 0, IF(Tabela1[[#This Row],[TIPO CARTÃO]]  = \"0-SEM CARTÃO\",IF(COUNTA(Tabela1[#This Row]) = 22, 0, 1),IF(COUNTA(Tabela1[#This Row]) = 18, 0, 1)), 0)","v":0},{"$f":"IF(X15 = 1, 0, IF(COUNTA(Tabela1[#This Row]) > 0, 1, 0))","v":0}]
[null,null,null,null,null,null,null,null,null,null,null,null,null,null,null,null,null,null,null,null,null,null,null,{"$f":"IF(COUNTA(Tabela1[#This Row]) > 0, IF(Tabela1[[#This Row],[TIPO CARTÃO]]  = \"0-SEM CARTÃO\",IF(COUNTA(Tabela1[#This Row]) = 22, 0, 1),IF(COUNTA(Tabela1[#This Row]) = 18, 0, 1)), 0)","v":0},{"$f":"IF(X16 = 1, 0, IF(COUNTA(Tabela1[#This Row]) > 0, 1, 0))","v":0}]
[null,null,null,null,null,null,null,null,null,null,null,null,null,null,null,null,null,null,null,null,null,null,null,{"$f":"IF(COUNTA(Tabela1[#This Row]) > 0, IF(Tabela1[[#This Row],[TIPO CARTÃO]]  = \"0-SEM CARTÃO\",IF(COUNTA(Tabela1[#This Row]) = 22, 0, 1),IF(COUNTA(Tabela1[#This Row]) = 18, 0, 1)), 0)","v":0},{"$f":"IF(X17 = 1, 0, IF(COUNTA(Tabela1[#This Row]) > 0, 1, 0))","v":0}]
[null,null,null,null,null,null,null,null,null,null,null,null,null,null,null,null,null,null,null,null,null,null,null,{"$f":"IF(COUNTA(Tabela1[#This Row]) > 0, IF(Tabela1[[#This Row],[TIPO CARTÃO]]  = \"0-SEM CARTÃO\",IF(COUNTA(Tabela1[#This Row]) = 22, 0, 1),IF(COUNTA(Tabela1[#This Row]) = 18, 0, 1)), 0)","v":0},{"$f":"IF(X18 = 1, 0, IF(COUNTA(Tabela1[#This Row]) > 0, 1, 0))","v":0}]
[null,null,null,null,null,null,null,null,null,null,null,null,null,null,null,null,null,null,null,null,null,null,null,{"$f":"IF(COUNTA(Tabela1[#This Row]) > 0, IF(Tabela1[[#This Row],[TIPO CARTÃO]]  = \"0-SEM CARTÃO\",IF(COUNTA(Tabela1[#This Row]) = 22, 0, 1),IF(COUNTA(Tabela1[#This Row]) = 18, 0, 1)), 0)","v":0},{"$f":"IF(X19 = 1, 0, IF(COUNTA(Tabela1[#This Row]) > 0, 1, 0))","v":0}]
[null,null,null,null,null,null,null,null,null,null,null,null,null,null,null,null,null,null,null,null,null,null,null,{"$f":"IF(COUNTA(Tabela1[#This Row]) > 0, IF(Tabela1[[#This Row],[TIPO CARTÃO]]  = \"0-SEM CARTÃO\",IF(COUNTA(Tabela1[#This Row]) = 22, 0, 1),IF(COUNTA(Tabela1[#This Row]) = 18, 0, 1)), 0)","v":0},{"$f":"IF(X20 = 1, 0, IF(COUNTA(Tabela1[#This Row]) > 0, 1, 0))","v":0}]
[null,null,null,null,null,null,null,null,null,null,null,null,null,null,null,null,null,null,null,null,null,null,null,{"$f":"IF(COUNTA(Tabela1[#This Row]) > 0, IF(Tabela1[[#This Row],[TIPO CARTÃO]]  = \"0-SEM CARTÃO\",IF(COUNTA(Tabela1[#This Row]) = 22, 0, 1),IF(COUNTA(Tabela1[#This Row]) = 18, 0, 1)), 0)","v":0},{"$f":"IF(X21 = 1, 0, IF(COUNTA(Tabela1[#This Row]) > 0, 1, 0))","v":0}]
[null,null,null,null,null,null,null,null,null,null,null,null,null,null,null,null,null,null,null,null,null,null,null,{"$f":"IF(COUNTA(Tabela1[#This Row]) > 0, IF(Tabela1[[#This Row],[TIPO CARTÃO]]  = \"0-SEM CARTÃO\",IF(COUNTA(Tabela1[#This Row]) = 22, 0, 1),IF(COUNTA(Tabela1[#This Row]) = 18, 0, 1)), 0)","v":0},{"$f":"IF(X22 = 1, 0, IF(COUNTA(Tabela1[#This Row]) > 0, 1, 0))","v":0}]
[null,null,null,null,null,null,null,null,null,null,null,null,null,null,null,null,null,null,null,null,null,null,null,{"$f":"IF(COUNTA(Tabela1[#This Row]) > 0, IF(Tabela1[[#This Row],[TIPO CARTÃO]]  = \"0-SEM CARTÃO\",IF(COUNTA(Tabela1[#This Row]) = 22, 0, 1),IF(COUNTA(Tabela1[#This Row]) = 18, 0, 1)), 0)","v":0},{"$f":"IF(X23 = 1, 0, IF(COUNTA(Tabela1[#This Row]) > 0, 1, 0))","v":0}]
[null,null,null,null,null,null,null,null,null,null,null,null,null,null,null,null,null,null,null,null,null,null,null,{"$f":"IF(COUNTA(Tabela1[#This Row]) > 0, IF(Tabela1[[#This Row],[TIPO CARTÃO]]  = \"0-SEM CARTÃO\",IF(COUNTA(Tabela1[#This Row]) = 22, 0, 1),IF(COUNTA(Tabela1[#This Row]) = 18, 0, 1)), 0)","v":0},{"$f":"IF(X24 = 1, 0, IF(COUNTA(Tabela1[#This Row]) > 0, 1, 0))","v":0}]
[null,null,null,null,null,null,null,null,null,null,null,null,null,null,null,null,null,null,null,null,null,null,null,{"$f":"IF(COUNTA(Tabela1[#This Row]) > 0, IF(Tabela1[[#This Row],[TIPO CARTÃO]]  = \"0-SEM CARTÃO\",IF(COUNTA(Tabela1[#This Row]) = 22, 0, 1),IF(COUNTA(Tabela1[#This Row]) = 18, 0, 1)), 0)","v":0},{"$f":"IF(X25 = 1, 0, IF(COUNTA(Tabela1[#This Row]) > 0, 1, 0))","v":0}]
[null,null,null,null,null,null,null,null,null,null,null,null,null,null,null,null,null,null,null,null,null,null,null,{"$f":"IF(COUNTA(Tabela1[#This Row]) > 0, IF(Tabela1[[#This Row],[TIPO CARTÃO]]  = \"0-SEM CARTÃO\",IF(COUNTA(Tabela1[#This Row]) = 22, 0, 1),IF(COUNTA(Tabela1[#This Row]) = 18, 0, 1)), 0)","v":0},{"$f":"IF(X26 = 1, 0, IF(COUNTA(Tabela1[#This Row]) > 0, 1, 0))","v":0}]
[null,null,null,null,null,null,null,null,null,null,null,null,null,null,null,null,null,null,null,null,null,null,null,{"$f":"IF(COUNTA(Tabela1[#This Row]) > 0, IF(Tabela1[[#This Row],[TIPO CARTÃO]]  = \"0-SEM CARTÃO\",IF(COUNTA(Tabela1[#This Row]) = 22, 0, 1),IF(COUNTA(Tabela1[#This Row]) = 18, 0, 1)), 0)","v":0},{"$f":"IF(X27 = 1, 0, IF(COUNTA(Tabela1[#This Row]) > 0, 1, 0))","v":0}]
[null,null,null,null,null,null,null,null,null,null,null,null,null,null,null,null,null,null,null,null,null,null,null,{"$f":"IF(COUNTA(Tabela1[#This Row]) > 0, IF(Tabela1[[#This Row],[TIPO CARTÃO]]  = \"0-SEM CARTÃO\",IF(COUNTA(Tabela1[#This Row]) = 22, 0, 1),IF(COUNTA(Tabela1[#This Row]) = 18, 0, 1)), 0)","v":0},{"$f":"IF(X28 = 1, 0, IF(COUNTA(Tabela1[#This Row]) > 0, 1, 0))","v":0}]
[null,null,null,null,null,null,null,null,null,null,null,null,null,null,null,null,null,null,null,null,null,null,null,{"$f":"IF(COUNTA(Tabela1[#This Row]) > 0, IF(Tabela1[[#This Row],[TIPO CARTÃO]]  = \"0-SEM CARTÃO\",IF(COUNTA(Tabela1[#This Row]) = 22, 0, 1),IF(COUNTA(Tabela1[#This Row]) = 18, 0, 1)), 0)","v":0},{"$f":"IF(X29 = 1, 0, IF(COUNTA(Tabela1[#This Row]) > 0, 1, 0))","v":0}]
[null,null,null,null,null,null,null,null,null,null,null,null,null,null,null,null,null,null,null,null,null,null,null,{"$f":"IF(COUNTA(Tabela1[#This Row]) > 0, IF(Tabela1[[#This Row],[TIPO CARTÃO]]  = \"0-SEM CARTÃO\",IF(COUNTA(Tabela1[#This Row]) = 22, 0, 1),IF(COUNTA(Tabela1[#This Row]) = 18, 0, 1)), 0)","v":0},{"$f":"IF(X30 = 1, 0, IF(COUNTA(Tabela1[#This Row]) > 0, 1, 0))","v":0}]
[null,null,null,null,null,null,null,null,null,null,null,null,null,null,null,null,null,null,null,null,null,null,null,{"$f":"IF(COUNTA(Tabela1[#This Row]) > 0, IF(Tabela1[[#This Row],[TIPO CARTÃO]]  = \"0-SEM CARTÃO\",IF(COUNTA(Tabela1[#This Row]) = 22, 0, 1),IF(COUNTA(Tabela1[#This Row]) = 18, 0, 1)), 0)","v":0},{"$f":"IF(X31 = 1, 0, IF(COUNTA(Tabela1[#This Row]) > 0, 1, 0))","v":0}]
[null,null,null,null,null,null,null,null,null,null,null,null,null,null,null,null,null,null,null,null,null,null,null,{"$f":"IF(COUNTA(Tabela1[#This Row]) > 0, IF(Tabela1[[#This Row],[TIPO CARTÃO]]  = \"0-SEM CARTÃO\",IF(COUNTA(Tabela1[#This Row]) = 22, 0, 1),IF(COUNTA(Tabela1[#This Row]) = 18, 0, 1)), 0)","v":0},{"$f":"IF(X32 = 1, 0, IF(COUNTA(Tabela1[#This Row]) > 0, 1, 0))","v":0}]
[null,null,null,null,null,null,null,null,null,null,null,null,null,null,null,null,null,null,null,null,null,null,null,{"$f":"IF(COUNTA(Tabela1[#This Row]) > 0, IF(Tabela1[[#This Row],[TIPO CARTÃO]]  = \"0-SEM CARTÃO\",IF(COUNTA(Tabela1[#This Row]) = 22, 0, 1),IF(COUNTA(Tabela1[#This Row]) = 18, 0, 1)), 0)","v":0},{"$f":"IF(X33 = 1, 0, IF(COUNTA(Tabela1[#This Row]) > 0, 1, 0))","v":0}]
[null,null,null,null,null,null,null,null,null,null,null,null,null,null,null,null,null,null,null,null,null,null,null,{"$f":"IF(COUNTA(Tabela1[#This Row]) > 0, IF(Tabela1[[#This Row],[TIPO CARTÃO]]  = \"0-SEM CARTÃO\",IF(COUNTA(Tabela1[#This Row]) = 22, 0, 1),IF(COUNTA(Tabela1[#This Row]) = 18, 0, 1)), 0)","v":0},{"$f":"IF(X34 = 1, 0, IF(COUNTA(Tabela1[#This Row]) > 0, 1, 0))","v":0}]
[null,null,null,null,null,null,null,null,null,null,null,null,null,null,null,null,null,null,null,null,null,null,null,{"$f":"IF(COUNTA(Tabela1[#This Row]) > 0, IF(Tabela1[[#This Row],[TIPO CARTÃO]]  = \"0-SEM CARTÃO\",IF(COUNTA(Tabela1[#This Row]) = 22, 0, 1),IF(COUNTA(Tabela1[#This Row]) = 18, 0, 1)), 0)","v":0},{"$f":"IF(X35 = 1, 0, IF(COUNTA(Tabela1[#This Row]) > 0, 1, 0))","v":0}]
[null,null,null,null,null,null,null,null,null,null,null,null,null,null,null,null,null,null,null,null,null,null,null,{"$f":"IF(COUNTA(Tabela1[#This Row]) > 0, IF(Tabela1[[#This Row],[TIPO CARTÃO]]  = \"0-SEM CARTÃO\",IF(COUNTA(Tabela1[#This Row]) = 22, 0, 1),IF(COUNTA(Tabela1[#This Row]) = 18, 0, 1)), 0)","v":0},{"$f":"IF(X36 = 1, 0, IF(COUNTA(Tabela1[#This Row]) > 0, 1, 0))","v":0}]
[null,null,null,null,null,null,null,null,null,null,null,null,null,null,null,null,null,null,null,null,null,null,null,{"$f":"IF(COUNTA(Tabela1[#This Row]) > 0, IF(Tabela1[[#This Row],[TIPO CARTÃO]]  = \"0-SEM CARTÃO\",IF(COUNTA(Tabela1[#This Row]) = 22, 0, 1),IF(COUNTA(Tabela1[#This Row]) = 18, 0, 1)), 0)","v":0},{"$f":"IF(X37 = 1, 0, IF(COUNTA(Tabela1[#This Row]) > 0, 1, 0))","v":0}]
[null,null,null,null,null,null,null,null,null,null,null,null,null,null,null,null,null,null,null,null,null,null,null,{"$f":"IF(COUNTA(Tabela1[#This Row]) > 0, IF(Tabela1[[#This Row],[TIPO CARTÃO]]  = \"0-SEM CARTÃO\",IF(COUNTA(Tabela1[#This Row]) = 22, 0, 1),IF(COUNTA(Tabela1[#This Row]) = 18, 0, 1)), 0)","v":0},{"$f":"IF(X38 = 1, 0, IF(COUNTA(Tabela1[#This Row]) > 0, 1, 0))","v":0}]
[null,null,null,null,null,null,null,null,null,null,null,null,null,null,null,null,null,null,null,null,null,null,null,{"$f":"IF(COUNTA(Tabela1[#This Row]) > 0, IF(Tabela1[[#This Row],[TIPO CARTÃO]]  = \"0-SEM CARTÃO\",IF(COUNTA(Tabela1[#This Row]) = 22, 0, 1),IF(COUNTA(Tabela1[#This Row]) = 18, 0, 1)), 0)","v":0},{"$f":"IF(X39 = 1, 0, IF(COUNTA(Tabela1[#This Row]) > 0, 1, 0))","v":0}]
[null,null,null,null,null,null,null,null,null,null,null,null,null,null,null,null,null,null,null,null,null,null,null,{"$f":"IF(COUNTA(Tabela1[#This Row]) > 0, IF(Tabela1[[#This Row],[TIPO CARTÃO]]  = \"0-SEM CARTÃO\",IF(COUNTA(Tabela1[#This Row]) = 22, 0, 1),IF(COUNTA(Tabela1[#This Row]) = 18, 0, 1)), 0)","v":0},{"$f":"IF(X40 = 1, 0, IF(COUNTA(Tabela1[#This Row]) > 0, 1, 0))","v":0}]
[null,null,null,null,null,null,null,null,null,null,null,null,null,null,null,null,null,null,null,null,null,null,null,{"$f":"IF(COUNTA(Tabela1[#This Row]) > 0, IF(Tabela1[[#This Row],[TIPO CARTÃO]]  = \"0-SEM CARTÃO\",IF(COUNTA(Tabela1[#This Row]) = 22, 0, 1),IF(COUNTA(Tabela1[#This Row]) = 18, 0, 1)), 0)","v":0},{"$f":"IF(X41 = 1, 0, IF(COUNTA(Tabela1[#This Row]) > 0, 1, 0))","v":0}]
[null,null,null,null,null,null,null,null,null,null,null,null,null,null,null,null,null,null,null,null,null,null,null,{"$f":"IF(COUNTA(Tabela1[#This Row]) > 0, IF(Tabela1[[#This Row],[TIPO CARTÃO]]  = \"0-SEM CARTÃO\",IF(COUNTA(Tabela1[#This Row]) = 22, 0, 1),IF(COUNTA(Tabela1[#This Row]) = 18, 0, 1)), 0)","v":0},{"$f":"IF(X42 = 1, 0, IF(COUNTA(Tabela1[#This Row]) > 0, 1, 0))","v":0}]
[null,null,null,null,null,null,null,null,null,null,null,null,null,null,null,null,null,null,null,null,null,null,null,{"$f":"IF(COUNTA(Tabela1[#This Row]) > 0, IF(Tabela1[[#This Row],[TIPO CARTÃO]]  = \"0-SEM CARTÃO\",IF(COUNTA(Tabela1[#This Row]) = 22, 0, 1),IF(COUNTA(Tabela1[#This Row]) = 18, 0, 1)), 0)","v":0},{"$f":"IF(X43 = 1, 0, IF(COUNTA(Tabela1[#This Row]) > 0, 1, 0))","v":0}]
[null,null,null,null,null,null,null,null,null,null,null,null,null,null,null,null,null,null,null,null,null,null,null,{"$f":"IF(COUNTA(Tabela1[#This Row]) > 0, IF(Tabela1[[#This Row],[TIPO CARTÃO]]  = \"0-SEM CARTÃO\",IF(COUNTA(Tabela1[#This Row]) = 22, 0, 1),IF(COUNTA(Tabela1[#This Row]) = 18, 0, 1)), 0)","v":0},{"$f":"IF(X44 = 1, 0, IF(COUNTA(Tabela1[#This Row]) > 0, 1, 0))","v":0}]
[null,null,null,null,null,null,null,null,null,null,null,null,null,null,null,null,null,null,null,null,null,null,null,{"$f":"IF(COUNTA(Tabela1[#This Row]) > 0, IF(Tabela1[[#This Row],[TIPO CARTÃO]]  = \"0-SEM CARTÃO\",IF(COUNTA(Tabela1[#This Row]) = 22, 0, 1),IF(COUNTA(Tabela1[#This Row]) = 18, 0, 1)), 0)","v":0},{"$f":"IF(X45 = 1, 0, IF(COUNTA(Tabela1[#This Row]) > 0, 1, 0))","v":0}]
[null,null,null,null,null,null,null,null,null,null,null,null,null,null,null,null,null,null,null,null,null,null,null,{"$f":"IF(COUNTA(Tabela1[#This Row]) > 0, IF(Tabela1[[#This Row],[TIPO CARTÃO]]  = \"0-SEM CARTÃO\",IF(COUNTA(Tabela1[#This Row]) = 22, 0, 1),IF(COUNTA(Tabela1[#This Row]) = 18, 0, 1)), 0)","v":0},{"$f":"IF(X46 = 1, 0, IF(COUNTA(Tabela1[#This Row]) > 0, 1, 0))","v":0}]
[null,null,null,null,null,null,null,null,null,null,null,null,null,null,null,null,null,null,null,null,null,null,null,{"$f":"IF(COUNTA(Tabela1[#This Row]) > 0, IF(Tabela1[[#This Row],[TIPO CARTÃO]]  = \"0-SEM CARTÃO\",IF(COUNTA(Tabela1[#This Row]) = 22, 0, 1),IF(COUNTA(Tabela1[#This Row]) = 18, 0, 1)), 0)","v":0},{"$f":"IF(X47 = 1, 0, IF(COUNTA(Tabela1[#This Row]) > 0, 1, 0))","v":0}]
[null,null,null,null,null,null,null,null,null,null,null,null,null,null,null,null,null,null,null,null,null,null,null,{"$f":"IF(COUNTA(Tabela1[#This Row]) > 0, IF(Tabela1[[#This Row],[TIPO CARTÃO]]  = \"0-SEM CARTÃO\",IF(COUNTA(Tabela1[#This Row]) = 22, 0, 1),IF(COUNTA(Tabela1[#This Row]) = 18, 0, 1)), 0)","v":0},{"$f":"IF(X48 = 1, 0, IF(COUNTA(Tabela1[#This Row]) > 0, 1, 0))","v":0}]
[null,null,null,null,null,null,null,null,null,null,null,null,null,null,null,null,null,null,null,null,null,null,null,{"$f":"IF(COUNTA(Tabela1[#This Row]) > 0, IF(Tabela1[[#This Row],[TIPO CARTÃO]]  = \"0-SEM CARTÃO\",IF(COUNTA(Tabela1[#This Row]) = 22, 0, 1),IF(COUNTA(Tabela1[#This Row]) = 18, 0, 1)), 0)","v":0},{"$f":"IF(X49 = 1, 0, IF(COUNTA(Tabela1[#This Row]) > 0, 1, 0))","v":0}]
[null,null,null,null,null,null,null,null,null,null,null,null,null,null,null,null,null,null,null,null,null,null,null,{"$f":"IF(COUNTA(Tabela1[#This Row]) > 0, IF(Tabela1[[#This Row],[TIPO CARTÃO]]  = \"0-SEM CARTÃO\",IF(COUNTA(Tabela1[#This Row]) = 22, 0, 1),IF(COUNTA(Tabela1[#This Row]) = 18, 0, 1)), 0)","v":0},{"$f":"IF(X50 = 1, 0, IF(COUNTA(Tabela1[#This Row]) > 0, 1, 0))","v":0}]
[null,null,null,null,null,null,null,null,null,null,null,null,null,null,null,null,null,null,null,null,null,null,null,{"$f":"IF(COUNTA(Tabela1[#This Row]) > 0, IF(Tabela1[[#This Row],[TIPO CARTÃO]]  = \"0-SEM CARTÃO\",IF(COUNTA(Tabela1[#This Row]) = 22, 0, 1),IF(COUNTA(Tabela1[#This Row]) = 18, 0, 1)), 0)","v":0},{"$f":"IF(X51 = 1, 0, IF(COUNTA(Tabela1[#This Row]) > 0, 1, 0))","v":0}]
[null,null,null,null,null,null,null,null,null,null,null,null,null,null,null,null,null,null,null,null,null,null,null,{"$f":"IF(COUNTA(Tabela1[#This Row]) > 0, IF(Tabela1[[#This Row],[TIPO CARTÃO]]  = \"0-SEM CARTÃO\",IF(COUNTA(Tabela1[#This Row]) = 22, 0, 1),IF(COUNTA(Tabela1[#This Row]) = 18, 0, 1)), 0)","v":0},{"$f":"IF(X52 = 1, 0, IF(COUNTA(Tabela1[#This Row]) > 0, 1, 0))","v":0}]
[null,null,null,null,null,null,null,null,null,null,null,null,null,null,null,null,null,null,null,null,null,null,null,{"$f":"IF(COUNTA(Tabela1[#This Row]) > 0, IF(Tabela1[[#This Row],[TIPO CARTÃO]]  = \"0-SEM CARTÃO\",IF(COUNTA(Tabela1[#This Row]) = 22, 0, 1),IF(COUNTA(Tabela1[#This Row]) = 18, 0, 1)), 0)","v":0},{"$f":"IF(X53 = 1, 0, IF(COUNTA(Tabela1[#This Row]) > 0, 1, 0))","v":0}]
[null,null,null,null,null,null,null,null,null,null,null,null,null,null,null,null,null,null,null,null,null,null,null,{"$f":"IF(COUNTA(Tabela1[#This Row]) > 0, IF(Tabela1[[#This Row],[TIPO CARTÃO]]  = \"0-SEM CARTÃO\",IF(COUNTA(Tabela1[#This Row]) = 22, 0, 1),IF(COUNTA(Tabela1[#This Row]) = 18, 0, 1)), 0)","v":0},{"$f":"IF(X54 = 1, 0, IF(COUNTA(Tabela1[#This Row]) > 0, 1, 0))","v":0}]
[null,null,null,null,null,null,null,null,null,null,null,null,null,null,null,null,null,null,null,null,null,null,null,{"$f":"IF(COUNTA(Tabela1[#This Row]) > 0, IF(Tabela1[[#This Row],[TIPO CARTÃO]]  = \"0-SEM CARTÃO\",IF(COUNTA(Tabela1[#This Row]) = 22, 0, 1),IF(COUNTA(Tabela1[#This Row]) = 18, 0, 1)), 0)","v":0},{"$f":"IF(X55 = 1, 0, IF(COUNTA(Tabela1[#This Row]) > 0, 1, 0))","v":0}]
[null,null,null,null,null,null,null,null,null,null,null,null,null,null,null,null,null,null,null,null,null,null,null,{"$f":"IF(COUNTA(Tabela1[#This Row]) > 0, IF(Tabela1[[#This Row],[TIPO CARTÃO]]  = \"0-SEM CARTÃO\",IF(COUNTA(Tabela1[#This Row]) = 22, 0, 1),IF(COUNTA(Tabela1[#This Row]) = 18, 0, 1)), 0)","v":0},{"$f":"IF(X56 = 1, 0, IF(COUNTA(Tabela1[#This Row]) > 0, 1, 0))","v":0}]
[null,null,null,null,null,null,null,null,null,null,null,null,null,null,null,null,null,null,null,null,null,null,null,{"$f":"IF(COUNTA(Tabela1[#This Row]) > 0, IF(Tabela1[[#This Row],[TIPO CARTÃO]]  = \"0-SEM CARTÃO\",IF(COUNTA(Tabela1[#This Row]) = 22, 0, 1),IF(COUNTA(Tabela1[#This Row]) = 18, 0, 1)), 0)","v":0},{"$f":"IF(X57 = 1, 0, IF(COUNTA(Tabela1[#This Row]) > 0, 1, 0))","v":0}]
[null,null,null,null,null,null,null,null,null,null,null,null,null,null,null,null,null,null,null,null,null,null,null,{"$f":"IF(COUNTA(Tabela1[#This Row]) > 0, IF(Tabela1[[#This Row],[TIPO CARTÃO]]  = \"0-SEM CARTÃO\",IF(COUNTA(Tabela1[#This Row]) = 22, 0, 1),IF(COUNTA(Tabela1[#This Row]) = 18, 0, 1)), 0)","v":0},{"$f":"IF(X58 = 1, 0, IF(COUNTA(Tabela1[#This Row]) > 0, 1, 0))","v":0}]
[null,null,null,null,null,null,null,null,null,null,null,null,null,null,null,null,null,null,null,null,null,null,null,{"$f":"IF(COUNTA(Tabela1[#This Row]) > 0, IF(Tabela1[[#This Row],[TIPO CARTÃO]]  = \"0-SEM CARTÃO\",IF(COUNTA(Tabela1[#This Row]) = 22, 0, 1),IF(COUNTA(Tabela1[#This Row]) = 18, 0, 1)), 0)","v":0},{"$f":"IF(X59 = 1, 0, IF(COUNTA(Tabela1[#This Row]) > 0, 1, 0))","v":0}]
[null,null,null,null,null,null,null,null,null,null,null,null,null,null,null,null,null,null,null,null,null,null,null,{"$f":"IF(COUNTA(Tabela1[#This Row]) > 0, IF(Tabela1[[#This Row],[TIPO CARTÃO]]  = \"0-SEM CARTÃO\",IF(COUNTA(Tabela1[#This Row]) = 22, 0, 1),IF(COUNTA(Tabela1[#This Row]) = 18, 0, 1)), 0)","v":0},{"$f":"IF(X60 = 1, 0, IF(COUNTA(Tabela1[#This Row]) > 0, 1, 0))","v":0}]
[null,null,null,null,null,null,null,null,null,null,null,null,null,null,null,null,null,null,null,null,null,null,null,{"$f":"IF(COUNTA(Tabela1[#This Row]) > 0, IF(Tabela1[[#This Row],[TIPO CARTÃO]]  = \"0-SEM CARTÃO\",IF(COUNTA(Tabela1[#This Row]) = 22, 0, 1),IF(COUNTA(Tabela1[#This Row]) = 18, 0, 1)), 0)","v":0},{"$f":"IF(X61 = 1, 0, IF(COUNTA(Tabela1[#This Row]) > 0, 1, 0))","v":0}]
[null,null,null,null,null,null,null,null,null,null,null,null,null,null,null,null,null,null,null,null,null,null,null,{"$f":"IF(COUNTA(Tabela1[#This Row]) > 0, IF(Tabela1[[#This Row],[TIPO CARTÃO]]  = \"0-SEM CARTÃO\",IF(COUNTA(Tabela1[#This Row]) = 22, 0, 1),IF(COUNTA(Tabela1[#This Row]) = 18, 0, 1)), 0)","v":0},{"$f":"IF(X62 = 1, 0, IF(COUNTA(Tabela1[#This Row]) > 0, 1, 0))","v":0}]
[null,null,null,null,null,null,null,null,null,null,null,null,null,null,null,null,null,null,null,null,null,null,null,{"$f":"IF(COUNTA(Tabela1[#This Row]) > 0, IF(Tabela1[[#This Row],[TIPO CARTÃO]]  = \"0-SEM CARTÃO\",IF(COUNTA(Tabela1[#This Row]) = 22, 0, 1),IF(COUNTA(Tabela1[#This Row]) = 18, 0, 1)), 0)","v":0},{"$f":"IF(X63 = 1, 0, IF(COUNTA(Tabela1[#This Row]) > 0, 1, 0))","v":0}]
[null,null,null,null,null,null,null,null,null,null,null,null,null,null,null,null,null,null,null,null,null,null,null,{"$f":"IF(COUNTA(Tabela1[#This Row]) > 0, IF(Tabela1[[#This Row],[TIPO CARTÃO]]  = \"0-SEM CARTÃO\",IF(COUNTA(Tabela1[#This Row]) = 22, 0, 1),IF(COUNTA(Tabela1[#This Row]) = 18, 0, 1)), 0)","v":0},{"$f":"IF(X64 = 1, 0, IF(COUNTA(Tabela1[#This Row]) > 0, 1, 0))","v":0}]
[null,null,null,null,null,null,null,null,null,null,null,null,null,null,null,null,null,null,null,null,null,null,null,{"$f":"IF(COUNTA(Tabela1[#This Row]) > 0, IF(Tabela1[[#This Row],[TIPO CARTÃO]]  = \"0-SEM CARTÃO\",IF(COUNTA(Tabela1[#This Row]) = 22, 0, 1),IF(COUNTA(Tabela1[#This Row]) = 18, 0, 1)), 0)","v":0},{"$f":"IF(X65 = 1, 0, IF(COUNTA(Tabela1[#This Row]) > 0, 1, 0))","v":0}]
[null,null,null,null,null,null,null,null,null,null,null,null,null,null,null,null,null,null,null,null,null,null,null,{"$f":"IF(COUNTA(Tabela1[#This Row]) > 0, IF(Tabela1[[#This Row],[TIPO CARTÃO]]  = \"0-SEM CARTÃO\",IF(COUNTA(Tabela1[#This Row]) = 22, 0, 1),IF(COUNTA(Tabela1[#This Row]) = 18, 0, 1)), 0)","v":0},{"$f":"IF(X66 = 1, 0, IF(COUNTA(Tabela1[#This Row]) > 0, 1, 0))","v":0}]
[null,null,null,null,null,null,null,null,null,null,null,null,null,null,null,null,null,null,null,null,null,null,null,{"$f":"IF(COUNTA(Tabela1[#This Row]) > 0, IF(Tabela1[[#This Row],[TIPO CARTÃO]]  = \"0-SEM CARTÃO\",IF(COUNTA(Tabela1[#This Row]) = 22, 0, 1),IF(COUNTA(Tabela1[#This Row]) = 18, 0, 1)), 0)","v":0},{"$f":"IF(X67 = 1, 0, IF(COUNTA(Tabela1[#This Row]) > 0, 1, 0))","v":0}]
[null,null,null,null,null,null,null,null,null,null,null,null,null,null,null,null,null,null,null,null,null,null,null,{"$f":"IF(COUNTA(Tabela1[#This Row]) > 0, IF(Tabela1[[#This Row],[TIPO CARTÃO]]  = \"0-SEM CARTÃO\",IF(COUNTA(Tabela1[#This Row]) = 22, 0, 1),IF(COUNTA(Tabela1[#This Row]) = 18, 0, 1)), 0)","v":0},{"$f":"IF(X68 = 1, 0, IF(COUNTA(Tabela1[#This Row]) > 0, 1, 0))","v":0}]
[null,null,null,null,null,null,null,null,null,null,null,null,null,null,null,null,null,null,null,null,null,null,null,{"$f":"IF(COUNTA(Tabela1[#This Row]) > 0, IF(Tabela1[[#This Row],[TIPO CARTÃO]]  = \"0-SEM CARTÃO\",IF(COUNTA(Tabela1[#This Row]) = 22, 0, 1),IF(COUNTA(Tabela1[#This Row]) = 18, 0, 1)), 0)","v":0},{"$f":"IF(X69 = 1, 0, IF(COUNTA(Tabela1[#This Row]) > 0, 1, 0))","v":0}]
[null,null,null,null,null,null,null,null,null,null,null,null,null,null,null,null,null,null,null,null,null,null,null,{"$f":"IF(COUNTA(Tabela1[#This Row]) > 0, IF(Tabela1[[#This Row],[TIPO CARTÃO]]  = \"0-SEM CARTÃO\",IF(COUNTA(Tabela1[#This Row]) = 22, 0, 1),IF(COUNTA(Tabela1[#This Row]) = 18, 0, 1)), 0)","v":0},{"$f":"IF(X70 = 1, 0, IF(COUNTA(Tabela1[#This Row]) > 0, 1, 0))","v":0}]
[null,null,null,null,null,null,null,null,null,null,null,null,null,null,null,null,null,null,null,null,null,null,null,{"$f":"IF(COUNTA(Tabela1[#This Row]) > 0, IF(Tabela1[[#This Row],[TIPO CARTÃO]]  = \"0-SEM CARTÃO\",IF(COUNTA(Tabela1[#This Row]) = 22, 0, 1),IF(COUNTA(Tabela1[#This Row]) = 18, 0, 1)), 0)","v":0},{"$f":"IF(X71 = 1, 0, IF(COUNTA(Tabela1[#This Row]) > 0, 1, 0))","v":0}]
[null,null,null,null,null,null,null,null,null,null,null,null,null,null,null,null,null,null,null,null,null,null,null,{"$f":"IF(COUNTA(Tabela1[#This Row]) > 0, IF(Tabela1[[#This Row],[TIPO CARTÃO]]  = \"0-SEM CARTÃO\",IF(COUNTA(Tabela1[#This Row]) = 22, 0, 1),IF(COUNTA(Tabela1[#This Row]) = 18, 0, 1)), 0)","v":0},{"$f":"IF(X72 = 1, 0, IF(COUNTA(Tabela1[#This Row]) > 0, 1, 0))","v":0}]
[null,null,null,null,null,null,null,null,null,null,null,null,null,null,null,null,null,null,null,null,null,null,null,{"$f":"IF(COUNTA(Tabela1[#This Row]) > 0, IF(Tabela1[[#This Row],[TIPO CARTÃO]]  = \"0-SEM CARTÃO\",IF(COUNTA(Tabela1[#This Row]) = 22, 0, 1),IF(COUNTA(Tabela1[#This Row]) = 18, 0, 1)), 0)","v":0},{"$f":"IF(X73 = 1, 0, IF(COUNTA(Tabela1[#This Row]) > 0, 1, 0))","v":0}]
[null,null,null,null,null,null,null,null,null,null,null,null,null,null,null,null,null,null,null,null,null,null,null,{"$f":"IF(COUNTA(Tabela1[#This Row]) > 0, IF(Tabela1[[#This Row],[TIPO CARTÃO]]  = \"0-SEM CARTÃO\",IF(COUNTA(Tabela1[#This Row]) = 22, 0, 1),IF(COUNTA(Tabela1[#This Row]) = 18, 0, 1)), 0)","v":0},{"$f":"IF(X74 = 1, 0, IF(COUNTA(Tabela1[#This Row]) > 0, 1, 0))","v":0}]
[null,null,null,null,null,null,null,null,null,null,null,null,null,null,null,null,null,null,null,null,null,null,null,{"$f":"IF(COUNTA(Tabela1[#This Row]) > 0, IF(Tabela1[[#This Row],[TIPO CARTÃO]]  = \"0-SEM CARTÃO\",IF(COUNTA(Tabela1[#This Row]) = 22, 0, 1),IF(COUNTA(Tabela1[#This Row]) = 18, 0, 1)), 0)","v":0},{"$f":"IF(X75 = 1, 0, IF(COUNTA(Tabela1[#This Row]) > 0, 1, 0))","v":0}]
[null,null,null,null,null,null,null,null,null,null,null,null,null,null,null,null,null,null,null,null,null,null,null,{"$f":"IF(COUNTA(Tabela1[#This Row]) > 0, IF(Tabela1[[#This Row],[TIPO CARTÃO]]  = \"0-SEM CARTÃO\",IF(COUNTA(Tabela1[#This Row]) = 22, 0, 1),IF(COUNTA(Tabela1[#This Row]) = 18, 0, 1)), 0)","v":0},{"$f":"IF(X76 = 1, 0, IF(COUNTA(Tabela1[#This Row]) > 0, 1, 0))","v":0}]
[null,null,null,null,null,null,null,null,null,null,null,null,null,null,null,null,null,null,null,null,null,null,null,{"$f":"IF(COUNTA(Tabela1[#This Row]) > 0, IF(Tabela1[[#This Row],[TIPO CARTÃO]]  = \"0-SEM CARTÃO\",IF(COUNTA(Tabela1[#This Row]) = 22, 0, 1),IF(COUNTA(Tabela1[#This Row]) = 18, 0, 1)), 0)","v":0},{"$f":"IF(X77 = 1, 0, IF(COUNTA(Tabela1[#This Row]) > 0, 1, 0))","v":0}]
[null,null,null,null,null,null,null,null,null,null,null,null,null,null,null,null,null,null,null,null,null,null,null,{"$f":"IF(COUNTA(Tabela1[#This Row]) > 0, IF(Tabela1[[#This Row],[TIPO CARTÃO]]  = \"0-SEM CARTÃO\",IF(COUNTA(Tabela1[#This Row]) = 22, 0, 1),IF(COUNTA(Tabela1[#This Row]) = 18, 0, 1)), 0)","v":0},{"$f":"IF(X78 = 1, 0, IF(COUNTA(Tabela1[#This Row]) > 0, 1, 0))","v":0}]
[null,null,null,null,null,null,null,null,null,null,null,null,null,null,null,null,null,null,null,null,null,null,null,{"$f":"IF(COUNTA(Tabela1[#This Row]) > 0, IF(Tabela1[[#This Row],[TIPO CARTÃO]]  = \"0-SEM CARTÃO\",IF(COUNTA(Tabela1[#This Row]) = 22, 0, 1),IF(COUNTA(Tabela1[#This Row]) = 18, 0, 1)), 0)","v":0},{"$f":"IF(X79 = 1, 0, IF(COUNTA(Tabela1[#This Row]) > 0, 1, 0))","v":0}]
[null,null,null,null,null,null,null,null,null,null,null,null,null,null,null,null,null,null,null,null,null,null,null,{"$f":"IF(COUNTA(Tabela1[#This Row]) > 0, IF(Tabela1[[#This Row],[TIPO CARTÃO]]  = \"0-SEM CARTÃO\",IF(COUNTA(Tabela1[#This Row]) = 22, 0, 1),IF(COUNTA(Tabela1[#This Row]) = 18, 0, 1)), 0)","v":0},{"$f":"IF(X80 = 1, 0, IF(COUNTA(Tabela1[#This Row]) > 0, 1, 0))","v":0}]
[null,null,null,null,null,null,null,null,null,null,null,null,null,null,null,null,null,null,null,null,null,null,null,{"$f":"IF(COUNTA(Tabela1[#This Row]) > 0, IF(Tabela1[[#This Row],[TIPO CARTÃO]]  = \"0-SEM CARTÃO\",IF(COUNTA(Tabela1[#This Row]) = 22, 0, 1),IF(COUNTA(Tabela1[#This Row]) = 18, 0, 1)), 0)","v":0},{"$f":"IF(X81 = 1, 0, IF(COUNTA(Tabela1[#This Row]) > 0, 1, 0))","v":0}]
[null,null,null,null,null,null,null,null,null,null,null,null,null,null,null,null,null,null,null,null,null,null,null,{"$f":"IF(COUNTA(Tabela1[#This Row]) > 0, IF(Tabela1[[#This Row],[TIPO CARTÃO]]  = \"0-SEM CARTÃO\",IF(COUNTA(Tabela1[#This Row]) = 22, 0, 1),IF(COUNTA(Tabela1[#This Row]) = 18, 0, 1)), 0)","v":0},{"$f":"IF(X82 = 1, 0, IF(COUNTA(Tabela1[#This Row]) > 0, 1, 0))","v":0}]
[null,null,null,null,null,null,null,null,null,null,null,null,null,null,null,null,null,null,null,null,null,null,null,{"$f":"IF(COUNTA(Tabela1[#This Row]) > 0, IF(Tabela1[[#This Row],[TIPO CARTÃO]]  = \"0-SEM CARTÃO\",IF(COUNTA(Tabela1[#This Row]) = 22, 0, 1),IF(COUNTA(Tabela1[#This Row]) = 18, 0, 1)), 0)","v":0},{"$f":"IF(X83 = 1, 0, IF(COUNTA(Tabela1[#This Row]) > 0, 1, 0))","v":0}]
[null,null,null,null,null,null,null,null,null,null,null,null,null,null,null,null,null,null,null,null,null,null,null,{"$f":"IF(COUNTA(Tabela1[#This Row]) > 0, IF(Tabela1[[#This Row],[TIPO CARTÃO]]  = \"0-SEM CARTÃO\",IF(COUNTA(Tabela1[#This Row]) = 22, 0, 1),IF(COUNTA(Tabela1[#This Row]) = 18, 0, 1)), 0)","v":0},{"$f":"IF(X84 = 1, 0, IF(COUNTA(Tabela1[#This Row]) > 0, 1, 0))","v":0}]
[null,null,null,null,null,null,null,null,null,null,null,null,null,null,null,null,null,null,null,null,null,null,null,{"$f":"IF(COUNTA(Tabela1[#This Row]) > 0, IF(Tabela1[[#This Row],[TIPO CARTÃO]]  = \"0-SEM CARTÃO\",IF(COUNTA(Tabela1[#This Row]) = 22, 0, 1),IF(COUNTA(Tabela1[#This Row]) = 18, 0, 1)), 0)","v":0},{"$f":"IF(X85 = 1, 0, IF(COUNTA(Tabela1[#This Row]) > 0, 1, 0))","v":0}]
[null,null,null,null,null,null,null,null,null,null,null,null,null,null,null,null,null,null,null,null,null,null,null,{"$f":"IF(COUNTA(Tabela1[#This Row]) > 0, IF(Tabela1[[#This Row],[TIPO CARTÃO]]  = \"0-SEM CARTÃO\",IF(COUNTA(Tabela1[#This Row]) = 22, 0, 1),IF(COUNTA(Tabela1[#This Row]) = 18, 0, 1)), 0)","v":0},{"$f":"IF(X86 = 1, 0, IF(COUNTA(Tabela1[#This Row]) > 0, 1, 0))","v":0}]
[null,null,null,null,null,null,null,null,null,null,null,null,null,null,null,null,null,null,null,null,null,null,null,{"$f":"IF(COUNTA(Tabela1[#This Row]) > 0, IF(Tabela1[[#This Row],[TIPO CARTÃO]]  = \"0-SEM CARTÃO\",IF(COUNTA(Tabela1[#This Row]) = 22, 0, 1),IF(COUNTA(Tabela1[#This Row]) = 18, 0, 1)), 0)","v":0},{"$f":"IF(X87 = 1, 0, IF(COUNTA(Tabela1[#This Row]) > 0, 1, 0))","v":0}]
[null,null,null,null,null,null,null,null,null,null,null,null,null,null,null,null,null,null,null,null,null,null,null,{"$f":"IF(COUNTA(Tabela1[#This Row]) > 0, IF(Tabela1[[#This Row],[TIPO CARTÃO]]  = \"0-SEM CARTÃO\",IF(COUNTA(Tabela1[#This Row]) = 22, 0, 1),IF(COUNTA(Tabela1[#This Row]) = 18, 0, 1)), 0)","v":0},{"$f":"IF(X88 = 1, 0, IF(COUNTA(Tabela1[#This Row]) > 0, 1, 0))","v":0}]
[null,null,null,null,null,null,null,null,null,null,null,null,null,null,null,null,null,null,null,null,null,null,null,{"$f":"IF(COUNTA(Tabela1[#This Row]) > 0, IF(Tabela1[[#This Row],[TIPO CARTÃO]]  = \"0-SEM CARTÃO\",IF(COUNTA(Tabela1[#This Row]) = 22, 0, 1),IF(COUNTA(Tabela1[#This Row]) = 18, 0, 1)), 0)","v":0},{"$f":"IF(X89 = 1, 0, IF(COUNTA(Tabela1[#This Row]) > 0, 1, 0))","v":0}]
[null,null,null,null,null,null,null,null,null,null,null,null,null,null,null,null,null,null,null,null,null,null,null,{"$f":"IF(COUNTA(Tabela1[#This Row]) > 0, IF(Tabela1[[#This Row],[TIPO CARTÃO]]  = \"0-SEM CARTÃO\",IF(COUNTA(Tabela1[#This Row]) = 22, 0, 1),IF(COUNTA(Tabela1[#This Row]) = 18, 0, 1)), 0)","v":0},{"$f":"IF(X90 = 1, 0, IF(COUNTA(Tabela1[#This Row]) > 0, 1, 0))","v":0}]
[null,null,null,null,null,null,null,null,null,null,null,null,null,null,null,null,null,null,null,null,null,null,null,{"$f":"IF(COUNTA(Tabela1[#This Row]) > 0, IF(Tabela1[[#This Row],[TIPO CARTÃO]]  = \"0-SEM CARTÃO\",IF(COUNTA(Tabela1[#This Row]) = 22, 0, 1),IF(COUNTA(Tabela1[#This Row]) = 18, 0, 1)), 0)","v":0},{"$f":"IF(X91 = 1, 0, IF(COUNTA(Tabela1[#This Row]) > 0, 1, 0))","v":0}]
[null,null,null,null,null,null,null,null,null,null,null,null,null,null,null,null,null,null,null,null,null,null,null,{"$f":"IF(COUNTA(Tabela1[#This Row]) > 0, IF(Tabela1[[#This Row],[TIPO CARTÃO]]  = \"0-SEM CARTÃO\",IF(COUNTA(Tabela1[#This Row]) = 22, 0, 1),IF(COUNTA(Tabela1[#This Row]) = 18, 0, 1)), 0)","v":0},{"$f":"IF(X92 = 1, 0, IF(COUNTA(Tabela1[#This Row]) > 0, 1, 0))","v":0}]
[null,null,null,null,null,null,null,null,null,null,null,null,null,null,null,null,null,null,null,null,null,null,null,{"$f":"IF(COUNTA(Tabela1[#This Row]) > 0, IF(Tabela1[[#This Row],[TIPO CARTÃO]]  = \"0-SEM CARTÃO\",IF(COUNTA(Tabela1[#This Row]) = 22, 0, 1),IF(COUNTA(Tabela1[#This Row]) = 18, 0, 1)), 0)","v":0},{"$f":"IF(X93 = 1, 0, IF(COUNTA(Tabela1[#This Row]) > 0, 1, 0))","v":0}]
[null,null,null,null,null,null,null,null,null,null,null,null,null,null,null,null,null,null,null,null,null,null,null,{"$f":"IF(COUNTA(Tabela1[#This Row]) > 0, IF(Tabela1[[#This Row],[TIPO CARTÃO]]  = \"0-SEM CARTÃO\",IF(COUNTA(Tabela1[#This Row]) = 22, 0, 1),IF(COUNTA(Tabela1[#This Row]) = 18, 0, 1)), 0)","v":0},{"$f":"IF(X94 = 1, 0, IF(COUNTA(Tabela1[#This Row]) > 0, 1, 0))","v":0}]
[null,null,null,null,null,null,null,null,null,null,null,null,null,null,null,null,null,null,null,null,null,null,null,{"$f":"IF(COUNTA(Tabela1[#This Row]) > 0, IF(Tabela1[[#This Row],[TIPO CARTÃO]]  = \"0-SEM CARTÃO\",IF(COUNTA(Tabela1[#This Row]) = 22, 0, 1),IF(COUNTA(Tabela1[#This Row]) = 18, 0, 1)), 0)","v":0},{"$f":"IF(X95 = 1, 0, IF(COUNTA(Tabela1[#This Row]) > 0, 1, 0))","v":0}]
[null,null,null,null,null,null,null,null,null,null,null,null,null,null,null,null,null,null,null,null,null,null,null,{"$f":"IF(COUNTA(Tabela1[#This Row]) > 0, IF(Tabela1[[#This Row],[TIPO CARTÃO]]  = \"0-SEM CARTÃO\",IF(COUNTA(Tabela1[#This Row]) = 22, 0, 1),IF(COUNTA(Tabela1[#This Row]) = 18, 0, 1)), 0)","v":0},{"$f":"IF(X96 = 1, 0, IF(COUNTA(Tabela1[#This Row]) > 0, 1, 0))","v":0}]
[null,null,null,null,null,null,null,null,null,null,null,null,null,null,null,null,null,null,null,null,null,null,null,{"$f":"IF(COUNTA(Tabela1[#This Row]) > 0, IF(Tabela1[[#This Row],[TIPO CARTÃO]]  = \"0-SEM CARTÃO\",IF(COUNTA(Tabela1[#This Row]) = 22, 0, 1),IF(COUNTA(Tabela1[#This Row]) = 18, 0, 1)), 0)","v":0},{"$f":"IF(X97 = 1, 0, IF(COUNTA(Tabela1[#This Row]) > 0, 1, 0))","v":0}]
[null,null,null,null,null,null,null,null,null,null,null,null,null,null,null,null,null,null,null,null,null,null,null,{"$f":"IF(COUNTA(Tabela1[#This Row]) > 0, IF(Tabela1[[#This Row],[TIPO CARTÃO]]  = \"0-SEM CARTÃO\",IF(COUNTA(Tabela1[#This Row]) = 22, 0, 1),IF(COUNTA(Tabela1[#This Row]) = 18, 0, 1)), 0)","v":0},{"$f":"IF(X98 = 1, 0, IF(COUNTA(Tabela1[#This Row]) > 0, 1, 0))","v":0}]
[null,null,null,null,null,null,null,null,null,null,null,null,null,null,null,null,null,null,null,null,null,null,null,{"$f":"IF(COUNTA(Tabela1[#This Row]) > 0, IF(Tabela1[[#This Row],[TIPO CARTÃO]]  = \"0-SEM CARTÃO\",IF(COUNTA(Tabela1[#This Row]) = 22, 0, 1),IF(COUNTA(Tabela1[#This Row]) = 18, 0, 1)), 0)","v":0},{"$f":"IF(X99 = 1, 0, IF(COUNTA(Tabela1[#This Row]) > 0, 1, 0))","v":0}]
[null,null,null,null,null,null,null,null,null,null,null,null,null,null,null,null,null,null,null,null,null,null,null,{"$f":"IF(COUNTA(Tabela1[#This Row]) > 0, IF(Tabela1[[#This Row],[TIPO CARTÃO]]  = \"0-SEM CARTÃO\",IF(COUNTA(Tabela1[#This Row]) = 22, 0, 1),IF(COUNTA(Tabela1[#This Row]) = 18, 0, 1)), 0)","v":0},{"$f":"IF(X100 = 1, 0, IF(COUNTA(Tabela1[#This Row]) > 0, 1, 0))","v":0}]
[null,null,null,null,null,null,null,null,null,null,null,null,null,null,null,null,null,null,null,null,null,null,null,{"$f":"IF(COUNTA(Tabela1[#This Row]) > 0, IF(Tabela1[[#This Row],[TIPO CARTÃO]]  = \"0-SEM CARTÃO\",IF(COUNTA(Tabela1[#This Row]) = 22, 0, 1),IF(COUNTA(Tabela1[#This Row]) = 18, 0, 1)), 0)","v":0},{"$f":"IF(X101 = 1, 0, IF(COUNTA(Tabela1[#This Row]) > 0, 1, 0))","v":0}]
[null,null,null,null,null,null,null,null,null,null,null,null,null,null,null,null,null,null,null,null,null,null,null,{"$f":"IF(COUNTA(Tabela1[#This Row]) > 0, IF(Tabela1[[#This Row],[TIPO CARTÃO]]  = \"0-SEM CARTÃO\",IF(COUNTA(Tabela1[#This Row]) = 22, 0, 1),IF(COUNTA(Tabela1[#This Row]) = 18, 0, 1)), 0)","v":0},{"$f":"IF(X102 = 1, 0, IF(COUNTA(Tabela1[#This Row]) > 0, 1, 0))","v":0}]
[null,null,null,null,null,null,null,null,null,null,null,null,null,null,null,null,null,null,null,null,null,null,null,{"$f":"IF(COUNTA(Tabela1[#This Row]) > 0, IF(Tabela1[[#This Row],[TIPO CARTÃO]]  = \"0-SEM CARTÃO\",IF(COUNTA(Tabela1[#This Row]) = 22, 0, 1),IF(COUNTA(Tabela1[#This Row]) = 18, 0, 1)), 0)","v":0},{"$f":"IF(X103 = 1, 0, IF(COUNTA(Tabela1[#This Row]) > 0, 1, 0))","v":0}]
[null,null,null,null,null,null,null,null,null,null,null,null,null,null,null,null,null,null,null,null,null,null,null,{"$f":"IF(COUNTA(Tabela1[#This Row]) > 0, IF(Tabela1[[#This Row],[TIPO CARTÃO]]  = \"0-SEM CARTÃO\",IF(COUNTA(Tabela1[#This Row]) = 22, 0, 1),IF(COUNTA(Tabela1[#This Row]) = 18, 0, 1)), 0)","v":0},{"$f":"IF(X104 = 1, 0, IF(COUNTA(Tabela1[#This Row]) > 0, 1, 0))","v":0}]
[null,null,null,null,null,null,null,null,null,null,null,null,null,null,null,null,null,null,null,null,null,null,null,{"$f":"IF(COUNTA(Tabela1[#This Row]) > 0, IF(Tabela1[[#This Row],[TIPO CARTÃO]]  = \"0-SEM CARTÃO\",IF(COUNTA(Tabela1[#This Row]) = 22, 0, 1),IF(COUNTA(Tabela1[#This Row]) = 18, 0, 1)), 0)","v":0},{"$f":"IF(X105 = 1, 0, IF(COUNTA(Tabela1[#This Row]) > 0, 1, 0))","v":0}]
[null,null,null,null,null,null,null,null,null,null,null,null,null,null,null,null,null,null,null,null,null,null,null,{"$f":"IF(COUNTA(Tabela1[#This Row]) > 0, IF(Tabela1[[#This Row],[TIPO CARTÃO]]  = \"0-SEM CARTÃO\",IF(COUNTA(Tabela1[#This Row]) = 22, 0, 1),IF(COUNTA(Tabela1[#This Row]) = 18, 0, 1)), 0)","v":0},{"$f":"IF(X106 = 1, 0, IF(COUNTA(Tabela1[#This Row]) > 0, 1, 0))","v":0}]
[null,null,null,null,null,null,null,null,null,null,null,null,null,null,null,null,null,null,null,null,null,null,null,{"$f":"IF(COUNTA(Tabela1[#This Row]) > 0, IF(Tabela1[[#This Row],[TIPO CARTÃO]]  = \"0-SEM CARTÃO\",IF(COUNTA(Tabela1[#This Row]) = 22, 0, 1),IF(COUNTA(Tabela1[#This Row]) = 18, 0, 1)), 0)","v":0},{"$f":"IF(X107 = 1, 0, IF(COUNTA(Tabela1[#This Row]) > 0, 1, 0))","v":0}]
[null,null,null,null,null,null,null,null,null,null,null,null,null,null,null,null,null,null,null,null,null,null,null,{"$f":"IF(COUNTA(Tabela1[#This Row]) > 0, IF(Tabela1[[#This Row],[TIPO CARTÃO]]  = \"0-SEM CARTÃO\",IF(COUNTA(Tabela1[#This Row]) = 22, 0, 1),IF(COUNTA(Tabela1[#This Row]) = 18, 0, 1)), 0)","v":0},{"$f":"IF(X108 = 1, 0, IF(COUNTA(Tabela1[#This Row]) > 0, 1, 0))","v":0}]
[null,null,null,null,null,null,null,null,null,null,null,null,null,null,null,null,null,null,null,null,null,null,null,{"$f":"IF(COUNTA(Tabela1[#This Row]) > 0, IF(Tabela1[[#This Row],[TIPO CARTÃO]]  = \"0-SEM CARTÃO\",IF(COUNTA(Tabela1[#This Row]) = 22, 0, 1),IF(COUNTA(Tabela1[#This Row]) = 18, 0, 1)), 0)","v":0},{"$f":"IF(X109 = 1, 0, IF(COUNTA(Tabela1[#This Row]) > 0, 1, 0))","v":0}]
[null,null,null,null,null,null,null,null,null,null,null,null,null,null,null,null,null,null,null,null,null,null,null,{"$f":"IF(COUNTA(Tabela1[#This Row]) > 0, IF(Tabela1[[#This Row],[TIPO CARTÃO]]  = \"0-SEM CARTÃO\",IF(COUNTA(Tabela1[#This Row]) = 22, 0, 1),IF(COUNTA(Tabela1[#This Row]) = 18, 0, 1)), 0)","v":0},{"$f":"IF(X110 = 1, 0, IF(COUNTA(Tabela1[#This Row]) > 0, 1, 0))","v":0}]
[null,null,null,null,null,null,null,null,null,null,null,null,null,null,null,null,null,null,null,null,null,null,null,{"$f":"IF(COUNTA(Tabela1[#This Row]) > 0, IF(Tabela1[[#This Row],[TIPO CARTÃO]]  = \"0-SEM CARTÃO\",IF(COUNTA(Tabela1[#This Row]) = 22, 0, 1),IF(COUNTA(Tabela1[#This Row]) = 18, 0, 1)), 0)","v":0},{"$f":"IF(X111 = 1, 0, IF(COUNTA(Tabela1[#This Row]) > 0, 1, 0))","v":0}]
[null,null,null,null,null,null,null,null,null,null,null,null,null,null,null,null,null,null,null,null,null,null,null,{"$f":"IF(COUNTA(Tabela1[#This Row]) > 0, IF(Tabela1[[#This Row],[TIPO CARTÃO]]  = \"0-SEM CARTÃO\",IF(COUNTA(Tabela1[#This Row]) = 22, 0, 1),IF(COUNTA(Tabela1[#This Row]) = 18, 0, 1)), 0)","v":0},{"$f":"IF(X112 = 1, 0, IF(COUNTA(Tabela1[#This Row]) > 0, 1, 0))","v":0}]
[null,null,null,null,null,null,null,null,null,null,null,null,null,null,null,null,null,null,null,null,null,null,null,{"$f":"IF(COUNTA(Tabela1[#This Row]) > 0, IF(Tabela1[[#This Row],[TIPO CARTÃO]]  = \"0-SEM CARTÃO\",IF(COUNTA(Tabela1[#This Row]) = 22, 0, 1),IF(COUNTA(Tabela1[#This Row]) = 18, 0, 1)), 0)","v":0},{"$f":"IF(X113 = 1, 0, IF(COUNTA(Tabela1[#This Row]) > 0, 1, 0))","v":0}]
[null,null,null,null,null,null,null,null,null,null,null,null,null,null,null,null,null,null,null,null,null,null,null,{"$f":"IF(COUNTA(Tabela1[#This Row]) > 0, IF(Tabela1[[#This Row],[TIPO CARTÃO]]  = \"0-SEM CARTÃO\",IF(COUNTA(Tabela1[#This Row]) = 22, 0, 1),IF(COUNTA(Tabela1[#This Row]) = 18, 0, 1)), 0)","v":0},{"$f":"IF(X114 = 1, 0, IF(COUNTA(Tabela1[#This Row]) > 0, 1, 0))","v":0}]
[null,null,null,null,null,null,null,null,null,null,null,null,null,null,null,null,null,null,null,null,null,null,null,{"$f":"IF(COUNTA(Tabela1[#This Row]) > 0, IF(Tabela1[[#This Row],[TIPO CARTÃO]]  = \"0-SEM CARTÃO\",IF(COUNTA(Tabela1[#This Row]) = 22, 0, 1),IF(COUNTA(Tabela1[#This Row]) = 18, 0, 1)), 0)","v":0},{"$f":"IF(X115 = 1, 0, IF(COUNTA(Tabela1[#This Row]) > 0, 1, 0))","v":0}]
[null,null,null,null,null,null,null,null,null,null,null,null,null,null,null,null,null,null,null,null,null,null,null,{"$f":"IF(COUNTA(Tabela1[#This Row]) > 0, IF(Tabela1[[#This Row],[TIPO CARTÃO]]  = \"0-SEM CARTÃO\",IF(COUNTA(Tabela1[#This Row]) = 22, 0, 1),IF(COUNTA(Tabela1[#This Row]) = 18, 0, 1)), 0)","v":0},{"$f":"IF(X116 = 1, 0, IF(COUNTA(Tabela1[#This Row]) > 0, 1, 0))","v":0}]
[null,null,null,null,null,null,null,null,null,null,null,null,null,null,null,null,null,null,null,null,null,null,null,{"$f":"IF(COUNTA(Tabela1[#This Row]) > 0, IF(Tabela1[[#This Row],[TIPO CARTÃO]]  = \"0-SEM CARTÃO\",IF(COUNTA(Tabela1[#This Row]) = 22, 0, 1),IF(COUNTA(Tabela1[#This Row]) = 18, 0, 1)), 0)","v":0},{"$f":"IF(X117 = 1, 0, IF(COUNTA(Tabela1[#This Row]) > 0, 1, 0))","v":0}]
[null,null,null,null,null,null,null,null,null,null,null,null,null,null,null,null,null,null,null,null,null,null,null,{"$f":"IF(COUNTA(Tabela1[#This Row]) > 0, IF(Tabela1[[#This Row],[TIPO CARTÃO]]  = \"0-SEM CARTÃO\",IF(COUNTA(Tabela1[#This Row]) = 22, 0, 1),IF(COUNTA(Tabela1[#This Row]) = 18, 0, 1)), 0)","v":0},{"$f":"IF(X118 = 1, 0, IF(COUNTA(Tabela1[#This Row]) > 0, 1, 0))","v":0}]
[null,null,null,null,null,null,null,null,null,null,null,null,null,null,null,null,null,null,null,null,null,null,null,{"$f":"IF(COUNTA(Tabela1[#This Row]) > 0, IF(Tabela1[[#This Row],[TIPO CARTÃO]]  = \"0-SEM CARTÃO\",IF(COUNTA(Tabela1[#This Row]) = 22, 0, 1),IF(COUNTA(Tabela1[#This Row]) = 18, 0, 1)), 0)","v":0},{"$f":"IF(X119 = 1, 0, IF(COUNTA(Tabela1[#This Row]) > 0, 1, 0))","v":0}]
[null,null,null,null,null,null,null,null,null,null,null,null,null,null,null,null,null,null,null,null,null,null,null,{"$f":"IF(COUNTA(Tabela1[#This Row]) > 0, IF(Tabela1[[#This Row],[TIPO CARTÃO]]  = \"0-SEM CARTÃO\",IF(COUNTA(Tabela1[#This Row]) = 22, 0, 1),IF(COUNTA(Tabela1[#This Row]) = 18, 0, 1)), 0)","v":0},{"$f":"IF(X120 = 1, 0, IF(COUNTA(Tabela1[#This Row]) > 0, 1, 0))","v":0}]
[null,null,null,null,null,null,null,null,null,null,null,null,null,null,null,null,null,null,null,null,null,null,null,{"$f":"IF(COUNTA(Tabela1[#This Row]) > 0, IF(Tabela1[[#This Row],[TIPO CARTÃO]]  = \"0-SEM CARTÃO\",IF(COUNTA(Tabela1[#This Row]) = 22, 0, 1),IF(COUNTA(Tabela1[#This Row]) = 18, 0, 1)), 0)","v":0},{"$f":"IF(X121 = 1, 0, IF(COUNTA(Tabela1[#This Row]) > 0, 1, 0))","v":0}]
[null,null,null,null,null,null,null,null,null,null,null,null,null,null,null,null,null,null,null,null,null,null,null,{"$f":"IF(COUNTA(Tabela1[#This Row]) > 0, IF(Tabela1[[#This Row],[TIPO CARTÃO]]  = \"0-SEM CARTÃO\",IF(COUNTA(Tabela1[#This Row]) = 22, 0, 1),IF(COUNTA(Tabela1[#This Row]) = 18, 0, 1)), 0)","v":0},{"$f":"IF(X122 = 1, 0, IF(COUNTA(Tabela1[#This Row]) > 0, 1, 0))","v":0}]
[null,null,null,null,null,null,null,null,null,null,null,null,null,null,null,null,null,null,null,null,null,null,null,{"$f":"IF(COUNTA(Tabela1[#This Row]) > 0, IF(Tabela1[[#This Row],[TIPO CARTÃO]]  = \"0-SEM CARTÃO\",IF(COUNTA(Tabela1[#This Row]) = 22, 0, 1),IF(COUNTA(Tabela1[#This Row]) = 18, 0, 1)), 0)","v":0},{"$f":"IF(X123 = 1, 0, IF(COUNTA(Tabela1[#This Row]) > 0, 1, 0))","v":0}]
[null,null,null,null,null,null,null,null,null,null,null,null,null,null,null,null,null,null,null,null,null,null,null,{"$f":"IF(COUNTA(Tabela1[#This Row]) > 0, IF(Tabela1[[#This Row],[TIPO CARTÃO]]  = \"0-SEM CARTÃO\",IF(COUNTA(Tabela1[#This Row]) = 22, 0, 1),IF(COUNTA(Tabela1[#This Row]) = 18, 0, 1)), 0)","v":0},{"$f":"IF(X124 = 1, 0, IF(COUNTA(Tabela1[#This Row]) > 0, 1, 0))","v":0}]
[null,null,null,null,null,null,null,null,null,null,null,null,null,null,null,null,null,null,null,null,null,null,null,{"$f":"IF(COUNTA(Tabela1[#This Row]) > 0, IF(Tabela1[[#This Row],[TIPO CARTÃO]]  = \"0-SEM CARTÃO\",IF(COUNTA(Tabela1[#This Row]) = 22, 0, 1),IF(COUNTA(Tabela1[#This Row]) = 18, 0, 1)), 0)","v":0},{"$f":"IF(X125 = 1, 0, IF(COUNTA(Tabela1[#This Row]) > 0, 1, 0))","v":0}]
[null,null,null,null,null,null,null,null,null,null,null,null,null,null,null,null,null,null,null,null,null,null,null,{"$f":"IF(COUNTA(Tabela1[#This Row]) > 0, IF(Tabela1[[#This Row],[TIPO CARTÃO]]  = \"0-SEM CARTÃO\",IF(COUNTA(Tabela1[#This Row]) = 22, 0, 1),IF(COUNTA(Tabela1[#This Row]) = 18, 0, 1)), 0)","v":0},{"$f":"IF(X126 = 1, 0, IF(COUNTA(Tabela1[#This Row]) > 0, 1, 0))","v":0}]
[null,null,null,null,null,null,null,null,null,null,null,null,null,null,null,null,null,null,null,null,null,null,null,{"$f":"IF(COUNTA(Tabela1[#This Row]) > 0, IF(Tabela1[[#This Row],[TIPO CARTÃO]]  = \"0-SEM CARTÃO\",IF(COUNTA(Tabela1[#This Row]) = 22, 0, 1),IF(COUNTA(Tabela1[#This Row]) = 18, 0, 1)), 0)","v":0},{"$f":"IF(X127 = 1, 0, IF(COUNTA(Tabela1[#This Row]) > 0, 1, 0))","v":0}]
[null,null,null,null,null,null,null,null,null,null,null,null,null,null,null,null,null,null,null,null,null,null,null,{"$f":"IF(COUNTA(Tabela1[#This Row]) > 0, IF(Tabela1[[#This Row],[TIPO CARTÃO]]  = \"0-SEM CARTÃO\",IF(COUNTA(Tabela1[#This Row]) = 22, 0, 1),IF(COUNTA(Tabela1[#This Row]) = 18, 0, 1)), 0)","v":0},{"$f":"IF(X128 = 1, 0, IF(COUNTA(Tabela1[#This Row]) > 0, 1, 0))","v":0}]
[null,null,null,null,null,null,null,null,null,null,null,null,null,null,null,null,null,null,null,null,null,null,null,{"$f":"IF(COUNTA(Tabela1[#This Row]) > 0, IF(Tabela1[[#This Row],[TIPO CARTÃO]]  = \"0-SEM CARTÃO\",IF(COUNTA(Tabela1[#This Row]) = 22, 0, 1),IF(COUNTA(Tabela1[#This Row]) = 18, 0, 1)), 0)","v":0},{"$f":"IF(X129 = 1, 0, IF(COUNTA(Tabela1[#This Row]) > 0, 1, 0))","v":0}]
[null,null,null,null,null,null,null,null,null,null,null,null,null,null,null,null,null,null,null,null,null,null,null,{"$f":"IF(COUNTA(Tabela1[#This Row]) > 0, IF(Tabela1[[#This Row],[TIPO CARTÃO]]  = \"0-SEM CARTÃO\",IF(COUNTA(Tabela1[#This Row]) = 22, 0, 1),IF(COUNTA(Tabela1[#This Row]) = 18, 0, 1)), 0)","v":0},{"$f":"IF(X130 = 1, 0, IF(COUNTA(Tabela1[#This Row]) > 0, 1, 0))","v":0}]
[null,null,null,null,null,null,null,null,null,null,null,null,null,null,null,null,null,null,null,null,null,null,null,{"$f":"IF(COUNTA(Tabela1[#This Row]) > 0, IF(Tabela1[[#This Row],[TIPO CARTÃO]]  = \"0-SEM CARTÃO\",IF(COUNTA(Tabela1[#This Row]) = 22, 0, 1),IF(COUNTA(Tabela1[#This Row]) = 18, 0, 1)), 0)","v":0},{"$f":"IF(X131 = 1, 0, IF(COUNTA(Tabela1[#This Row]) > 0, 1, 0))","v":0}]
[null,null,null,null,null,null,null,null,null,null,null,null,null,null,null,null,null,null,null,null,null,null,null,{"$f":"IF(COUNTA(Tabela1[#This Row]) > 0, IF(Tabela1[[#This Row],[TIPO CARTÃO]]  = \"0-SEM CARTÃO\",IF(COUNTA(Tabela1[#This Row]) = 22, 0, 1),IF(COUNTA(Tabela1[#This Row]) = 18, 0, 1)), 0)","v":0},{"$f":"IF(X132 = 1, 0, IF(COUNTA(Tabela1[#This Row]) > 0, 1, 0))","v":0}]
[null,null,null,null,null,null,null,null,null,null,null,null,null,null,null,null,null,null,null,null,null,null,null,{"$f":"IF(COUNTA(Tabela1[#This Row]) > 0, IF(Tabela1[[#This Row],[TIPO CARTÃO]]  = \"0-SEM CARTÃO\",IF(COUNTA(Tabela1[#This Row]) = 22, 0, 1),IF(COUNTA(Tabela1[#This Row]) = 18, 0, 1)), 0)","v":0},{"$f":"IF(X133 = 1, 0, IF(COUNTA(Tabela1[#This Row]) > 0, 1, 0))","v":0}]
[null,null,null,null,null,null,null,null,null,null,null,null,null,null,null,null,null,null,null,null,null,null,null,{"$f":"IF(COUNTA(Tabela1[#This Row]) > 0, IF(Tabela1[[#This Row],[TIPO CARTÃO]]  = \"0-SEM CARTÃO\",IF(COUNTA(Tabela1[#This Row]) = 22, 0, 1),IF(COUNTA(Tabela1[#This Row]) = 18, 0, 1)), 0)","v":0},{"$f":"IF(X134 = 1, 0, IF(COUNTA(Tabela1[#This Row]) > 0, 1, 0))","v":0}]
[null,null,null,null,null,null,null,null,null,null,null,null,null,null,null,null,null,null,null,null,null,null,null,{"$f":"IF(COUNTA(Tabela1[#This Row]) > 0, IF(Tabela1[[#This Row],[TIPO CARTÃO]]  = \"0-SEM CARTÃO\",IF(COUNTA(Tabela1[#This Row]) = 22, 0, 1),IF(COUNTA(Tabela1[#This Row]) = 18, 0, 1)), 0)","v":0},{"$f":"IF(X135 = 1, 0, IF(COUNTA(Tabela1[#This Row]) > 0, 1, 0))","v":0}]
[null,null,null,null,null,null,null,null,null,null,null,null,null,null,null,null,null,null,null,null,null,null,null,{"$f":"IF(COUNTA(Tabela1[#This Row]) > 0, IF(Tabela1[[#This Row],[TIPO CARTÃO]]  = \"0-SEM CARTÃO\",IF(COUNTA(Tabela1[#This Row]) = 22, 0, 1),IF(COUNTA(Tabela1[#This Row]) = 18, 0, 1)), 0)","v":0},{"$f":"IF(X136 = 1, 0, IF(COUNTA(Tabela1[#This Row]) > 0, 1, 0))","v":0}]
[null,null,null,null,null,null,null,null,null,null,null,null,null,null,null,null,null,null,null,null,null,null,null,{"$f":"IF(COUNTA(Tabela1[#This Row]) > 0, IF(Tabela1[[#This Row],[TIPO CARTÃO]]  = \"0-SEM CARTÃO\",IF(COUNTA(Tabela1[#This Row]) = 22, 0, 1),IF(COUNTA(Tabela1[#This Row]) = 18, 0, 1)), 0)","v":0},{"$f":"IF(X137 = 1, 0, IF(COUNTA(Tabela1[#This Row]) > 0, 1, 0))","v":0}]
[null,null,null,null,null,null,null,null,null,null,null,null,null,null,null,null,null,null,null,null,null,null,null,{"$f":"IF(COUNTA(Tabela1[#This Row]) > 0, IF(Tabela1[[#This Row],[TIPO CARTÃO]]  = \"0-SEM CARTÃO\",IF(COUNTA(Tabela1[#This Row]) = 22, 0, 1),IF(COUNTA(Tabela1[#This Row]) = 18, 0, 1)), 0)","v":0},{"$f":"IF(X138 = 1, 0, IF(COUNTA(Tabela1[#This Row]) > 0, 1, 0))","v":0}]
[null,null,null,null,null,null,null,null,null,null,null,null,null,null,null,null,null,null,null,null,null,null,null,{"$f":"IF(COUNTA(Tabela1[#This Row]) > 0, IF(Tabela1[[#This Row],[TIPO CARTÃO]]  = \"0-SEM CARTÃO\",IF(COUNTA(Tabela1[#This Row]) = 22, 0, 1),IF(COUNTA(Tabela1[#This Row]) = 18, 0, 1)), 0)","v":0},{"$f":"IF(X139 = 1, 0, IF(COUNTA(Tabela1[#This Row]) > 0, 1, 0))","v":0}]
[null,null,null,null,null,null,null,null,null,null,null,null,null,null,null,null,null,null,null,null,null,null,null,{"$f":"IF(COUNTA(Tabela1[#This Row]) > 0, IF(Tabela1[[#This Row],[TIPO CARTÃO]]  = \"0-SEM CARTÃO\",IF(COUNTA(Tabela1[#This Row]) = 22, 0, 1),IF(COUNTA(Tabela1[#This Row]) = 18, 0, 1)), 0)","v":0},{"$f":"IF(X140 = 1, 0, IF(COUNTA(Tabela1[#This Row]) > 0, 1, 0))","v":0}]
[null,null,null,null,null,null,null,null,null,null,null,null,null,null,null,null,null,null,null,null,null,null,null,{"$f":"IF(COUNTA(Tabela1[#This Row]) > 0, IF(Tabela1[[#This Row],[TIPO CARTÃO]]  = \"0-SEM CARTÃO\",IF(COUNTA(Tabela1[#This Row]) = 22, 0, 1),IF(COUNTA(Tabela1[#This Row]) = 18, 0, 1)), 0)","v":0},{"$f":"IF(X141 = 1, 0, IF(COUNTA(Tabela1[#This Row]) > 0, 1, 0))","v":0}]
[null,null,null,null,null,null,null,null,null,null,null,null,null,null,null,null,null,null,null,null,null,null,null,{"$f":"IF(COUNTA(Tabela1[#This Row]) > 0, IF(Tabela1[[#This Row],[TIPO CARTÃO]]  = \"0-SEM CARTÃO\",IF(COUNTA(Tabela1[#This Row]) = 22, 0, 1),IF(COUNTA(Tabela1[#This Row]) = 18, 0, 1)), 0)","v":0},{"$f":"IF(X142 = 1, 0, IF(COUNTA(Tabela1[#This Row]) > 0, 1, 0))","v":0}]
[null,null,null,null,null,null,null,null,null,null,null,null,null,null,null,null,null,null,null,null,null,null,null,{"$f":"IF(COUNTA(Tabela1[#This Row]) > 0, IF(Tabela1[[#This Row],[TIPO CARTÃO]]  = \"0-SEM CARTÃO\",IF(COUNTA(Tabela1[#This Row]) = 22, 0, 1),IF(COUNTA(Tabela1[#This Row]) = 18, 0, 1)), 0)","v":0},{"$f":"IF(X143 = 1, 0, IF(COUNTA(Tabela1[#This Row]) > 0, 1, 0))","v":0}]
[null,null,null,null,null,null,null,null,null,null,null,null,null,null,null,null,null,null,null,null,null,null,null,{"$f":"IF(COUNTA(Tabela1[#This Row]) > 0, IF(Tabela1[[#This Row],[TIPO CARTÃO]]  = \"0-SEM CARTÃO\",IF(COUNTA(Tabela1[#This Row]) = 22, 0, 1),IF(COUNTA(Tabela1[#This Row]) = 18, 0, 1)), 0)","v":0},{"$f":"IF(X144 = 1, 0, IF(COUNTA(Tabela1[#This Row]) > 0, 1, 0))","v":0}]
[null,null,null,null,null,null,null,null,null,null,null,null,null,null,null,null,null,null,null,null,null,null,null,{"$f":"IF(COUNTA(Tabela1[#This Row]) > 0, IF(Tabela1[[#This Row],[TIPO CARTÃO]]  = \"0-SEM CARTÃO\",IF(COUNTA(Tabela1[#This Row]) = 22, 0, 1),IF(COUNTA(Tabela1[#This Row]) = 18, 0, 1)), 0)","v":0},{"$f":"IF(X145 = 1, 0, IF(COUNTA(Tabela1[#This Row]) > 0, 1, 0))","v":0}]
[null,null,null,null,null,null,null,null,null,null,null,null,null,null,null,null,null,null,null,null,null,null,null,{"$f":"IF(COUNTA(Tabela1[#This Row]) > 0, IF(Tabela1[[#This Row],[TIPO CARTÃO]]  = \"0-SEM CARTÃO\",IF(COUNTA(Tabela1[#This Row]) = 22, 0, 1),IF(COUNTA(Tabela1[#This Row]) = 18, 0, 1)), 0)","v":0},{"$f":"IF(X146 = 1, 0, IF(COUNTA(Tabela1[#This Row]) > 0, 1, 0))","v":0}]
[null,null,null,null,null,null,null,null,null,null,null,null,null,null,null,null,null,null,null,null,null,null,null,{"$f":"IF(COUNTA(Tabela1[#This Row]) > 0, IF(Tabela1[[#This Row],[TIPO CARTÃO]]  = \"0-SEM CARTÃO\",IF(COUNTA(Tabela1[#This Row]) = 22, 0, 1),IF(COUNTA(Tabela1[#This Row]) = 18, 0, 1)), 0)","v":0},{"$f":"IF(X147 = 1, 0, IF(COUNTA(Tabela1[#This Row]) > 0, 1, 0))","v":0}]
[null,null,null,null,null,null,null,null,null,null,null,null,null,null,null,null,null,null,null,null,null,null,null,{"$f":"IF(COUNTA(Tabela1[#This Row]) > 0, IF(Tabela1[[#This Row],[TIPO CARTÃO]]  = \"0-SEM CARTÃO\",IF(COUNTA(Tabela1[#This Row]) = 22, 0, 1),IF(COUNTA(Tabela1[#This Row]) = 18, 0, 1)), 0)","v":0},{"$f":"IF(X148 = 1, 0, IF(COUNTA(Tabela1[#This Row]) > 0, 1, 0))","v":0}]
[null,null,null,null,null,null,null,null,null,null,null,null,null,null,null,null,null,null,null,null,null,null,null,{"$f":"IF(COUNTA(Tabela1[#This Row]) > 0, IF(Tabela1[[#This Row],[TIPO CARTÃO]]  = \"0-SEM CARTÃO\",IF(COUNTA(Tabela1[#This Row]) = 22, 0, 1),IF(COUNTA(Tabela1[#This Row]) = 18, 0, 1)), 0)","v":0},{"$f":"IF(X149 = 1, 0, IF(COUNTA(Tabela1[#This Row]) > 0, 1, 0))","v":0}]
[null,null,null,null,null,null,null,null,null,null,null,null,null,null,null,null,null,null,null,null,null,null,null,{"$f":"IF(COUNTA(Tabela1[#This Row]) > 0, IF(Tabela1[[#This Row],[TIPO CARTÃO]]  = \"0-SEM CARTÃO\",IF(COUNTA(Tabela1[#This Row]) = 22, 0, 1),IF(COUNTA(Tabela1[#This Row]) = 18, 0, 1)), 0)","v":0},{"$f":"IF(X150 = 1, 0, IF(COUNTA(Tabela1[#This Row]) > 0, 1, 0))","v":0}]
[null,null,null,null,null,null,null,null,null,null,null,null,null,null,null,null,null,null,null,null,null,null,null,{"$f":"IF(COUNTA(Tabela1[#This Row]) > 0, IF(Tabela1[[#This Row],[TIPO CARTÃO]]  = \"0-SEM CARTÃO\",IF(COUNTA(Tabela1[#This Row]) = 22, 0, 1),IF(COUNTA(Tabela1[#This Row]) = 18, 0, 1)), 0)","v":0},{"$f":"IF(X151 = 1, 0, IF(COUNTA(Tabela1[#This Row]) > 0, 1, 0))","v":0}]
[null,null,null,null,null,null,null,null,null,null,null,null,null,null,null,null,null,null,null,null,null,null,null,{"$f":"IF(COUNTA(Tabela1[#This Row]) > 0, IF(Tabela1[[#This Row],[TIPO CARTÃO]]  = \"0-SEM CARTÃO\",IF(COUNTA(Tabela1[#This Row]) = 22, 0, 1),IF(COUNTA(Tabela1[#This Row]) = 18, 0, 1)), 0)","v":0},{"$f":"IF(X152 = 1, 0, IF(COUNTA(Tabela1[#This Row]) > 0, 1, 0))","v":0}]
[null,null,null,null,null,null,null,null,null,null,null,null,null,null,null,null,null,null,null,null,null,null,null,{"$f":"IF(COUNTA(Tabela1[#This Row]) > 0, IF(Tabela1[[#This Row],[TIPO CARTÃO]]  = \"0-SEM CARTÃO\",IF(COUNTA(Tabela1[#This Row]) = 22, 0, 1),IF(COUNTA(Tabela1[#This Row]) = 18, 0, 1)), 0)","v":0},{"$f":"IF(X153 = 1, 0, IF(COUNTA(Tabela1[#This Row]) > 0, 1, 0))","v":0}]
[null,null,null,null,null,null,null,null,null,null,null,null,null,null,null,null,null,null,null,null,null,null,null,{"$f":"IF(COUNTA(Tabela1[#This Row]) > 0, IF(Tabela1[[#This Row],[TIPO CARTÃO]]  = \"0-SEM CARTÃO\",IF(COUNTA(Tabela1[#This Row]) = 22, 0, 1),IF(COUNTA(Tabela1[#This Row]) = 18, 0, 1)), 0)","v":0},{"$f":"IF(X154 = 1, 0, IF(COUNTA(Tabela1[#This Row]) > 0, 1, 0))","v":0}]
[null,null,null,null,null,null,null,null,null,null,null,null,null,null,null,null,null,null,null,null,null,null,null,{"$f":"IF(COUNTA(Tabela1[#This Row]) > 0, IF(Tabela1[[#This Row],[TIPO CARTÃO]]  = \"0-SEM CARTÃO\",IF(COUNTA(Tabela1[#This Row]) = 22, 0, 1),IF(COUNTA(Tabela1[#This Row]) = 18, 0, 1)), 0)","v":0},{"$f":"IF(X155 = 1, 0, IF(COUNTA(Tabela1[#This Row]) > 0, 1, 0))","v":0}]
[null,null,null,null,null,null,null,null,null,null,null,null,null,null,null,null,null,null,null,null,null,null,null,{"$f":"IF(COUNTA(Tabela1[#This Row]) > 0, IF(Tabela1[[#This Row],[TIPO CARTÃO]]  = \"0-SEM CARTÃO\",IF(COUNTA(Tabela1[#This Row]) = 22, 0, 1),IF(COUNTA(Tabela1[#This Row]) = 18, 0, 1)), 0)","v":0},{"$f":"IF(X156 = 1, 0, IF(COUNTA(Tabela1[#This Row]) > 0, 1, 0))","v":0}]
[null,null,null,null,null,null,null,null,null,null,null,null,null,null,null,null,null,null,null,null,null,null,null,{"$f":"IF(COUNTA(Tabela1[#This Row]) > 0, IF(Tabela1[[#This Row],[TIPO CARTÃO]]  = \"0-SEM CARTÃO\",IF(COUNTA(Tabela1[#This Row]) = 22, 0, 1),IF(COUNTA(Tabela1[#This Row]) = 18, 0, 1)), 0)","v":0},{"$f":"IF(X157 = 1, 0, IF(COUNTA(Tabela1[#This Row]) > 0, 1, 0))","v":0}]
[null,null,null,null,null,null,null,null,null,null,null,null,null,null,null,null,null,null,null,null,null,null,null,{"$f":"IF(COUNTA(Tabela1[#This Row]) > 0, IF(Tabela1[[#This Row],[TIPO CARTÃO]]  = \"0-SEM CARTÃO\",IF(COUNTA(Tabela1[#This Row]) = 22, 0, 1),IF(COUNTA(Tabela1[#This Row]) = 18, 0, 1)), 0)","v":0},{"$f":"IF(X158 = 1, 0, IF(COUNTA(Tabela1[#This Row]) > 0, 1, 0))","v":0}]
[null,null,null,null,null,null,null,null,null,null,null,null,null,null,null,null,null,null,null,null,null,null,null,{"$f":"IF(COUNTA(Tabela1[#This Row]) > 0, IF(Tabela1[[#This Row],[TIPO CARTÃO]]  = \"0-SEM CARTÃO\",IF(COUNTA(Tabela1[#This Row]) = 22, 0, 1),IF(COUNTA(Tabela1[#This Row]) = 18, 0, 1)), 0)","v":0},{"$f":"IF(X159 = 1, 0, IF(COUNTA(Tabela1[#This Row]) > 0, 1, 0))","v":0}]
[null,null,null,null,null,null,null,null,null,null,null,null,null,null,null,null,null,null,null,null,null,null,null,{"$f":"IF(COUNTA(Tabela1[#This Row]) > 0, IF(Tabela1[[#This Row],[TIPO CARTÃO]]  = \"0-SEM CARTÃO\",IF(COUNTA(Tabela1[#This Row]) = 22, 0, 1),IF(COUNTA(Tabela1[#This Row]) = 18, 0, 1)), 0)","v":0},{"$f":"IF(X160 = 1, 0, IF(COUNTA(Tabela1[#This Row]) > 0, 1, 0))","v":0}]
[null,null,null,null,null,null,null,null,null,null,null,null,null,null,null,null,null,null,null,null,null,null,null,{"$f":"IF(COUNTA(Tabela1[#This Row]) > 0, IF(Tabela1[[#This Row],[TIPO CARTÃO]]  = \"0-SEM CARTÃO\",IF(COUNTA(Tabela1[#This Row]) = 22, 0, 1),IF(COUNTA(Tabela1[#This Row]) = 18, 0, 1)), 0)","v":0},{"$f":"IF(X161 = 1, 0, IF(COUNTA(Tabela1[#This Row]) > 0, 1, 0))","v":0}]
[null,null,null,null,null,null,null,null,null,null,null,null,null,null,null,null,null,null,null,null,null,null,null,{"$f":"IF(COUNTA(Tabela1[#This Row]) > 0, IF(Tabela1[[#This Row],[TIPO CARTÃO]]  = \"0-SEM CARTÃO\",IF(COUNTA(Tabela1[#This Row]) = 22, 0, 1),IF(COUNTA(Tabela1[#This Row]) = 18, 0, 1)), 0)","v":0},{"$f":"IF(X162 = 1, 0, IF(COUNTA(Tabela1[#This Row]) > 0, 1, 0))","v":0}]
[null,null,null,null,null,null,null,null,null,null,null,null,null,null,null,null,null,null,null,null,null,null,null,{"$f":"IF(COUNTA(Tabela1[#This Row]) > 0, IF(Tabela1[[#This Row],[TIPO CARTÃO]]  = \"0-SEM CARTÃO\",IF(COUNTA(Tabela1[#This Row]) = 22, 0, 1),IF(COUNTA(Tabela1[#This Row]) = 18, 0, 1)), 0)","v":0},{"$f":"IF(X163 = 1, 0, IF(COUNTA(Tabela1[#This Row]) > 0, 1, 0))","v":0}]
[null,null,null,null,null,null,null,null,null,null,null,null,null,null,null,null,null,null,null,null,null,null,null,{"$f":"IF(COUNTA(Tabela1[#This Row]) > 0, IF(Tabela1[[#This Row],[TIPO CARTÃO]]  = \"0-SEM CARTÃO\",IF(COUNTA(Tabela1[#This Row]) = 22, 0, 1),IF(COUNTA(Tabela1[#This Row]) = 18, 0, 1)), 0)","v":0},{"$f":"IF(X164 = 1, 0, IF(COUNTA(Tabela1[#This Row]) > 0, 1, 0))","v":0}]
[null,null,null,null,null,null,null,null,null,null,null,null,null,null,null,null,null,null,null,null,null,null,null,{"$f":"IF(COUNTA(Tabela1[#This Row]) > 0, IF(Tabela1[[#This Row],[TIPO CARTÃO]]  = \"0-SEM CARTÃO\",IF(COUNTA(Tabela1[#This Row]) = 22, 0, 1),IF(COUNTA(Tabela1[#This Row]) = 18, 0, 1)), 0)","v":0},{"$f":"IF(X165 = 1, 0, IF(COUNTA(Tabela1[#This Row]) > 0, 1, 0))","v":0}]
[null,null,null,null,null,null,null,null,null,null,null,null,null,null,null,null,null,null,null,null,null,null,null,{"$f":"IF(COUNTA(Tabela1[#This Row]) > 0, IF(Tabela1[[#This Row],[TIPO CARTÃO]]  = \"0-SEM CARTÃO\",IF(COUNTA(Tabela1[#This Row]) = 22, 0, 1),IF(COUNTA(Tabela1[#This Row]) = 18, 0, 1)), 0)","v":0},{"$f":"IF(X166 = 1, 0, IF(COUNTA(Tabela1[#This Row]) > 0, 1, 0))","v":0}]
[null,null,null,null,null,null,null,null,null,null,null,null,null,null,null,null,null,null,null,null,null,null,null,{"$f":"IF(COUNTA(Tabela1[#This Row]) > 0, IF(Tabela1[[#This Row],[TIPO CARTÃO]]  = \"0-SEM CARTÃO\",IF(COUNTA(Tabela1[#This Row]) = 22, 0, 1),IF(COUNTA(Tabela1[#This Row]) = 18, 0, 1)), 0)","v":0},{"$f":"IF(X167 = 1, 0, IF(COUNTA(Tabela1[#This Row]) > 0, 1, 0))","v":0}]
[null,null,null,null,null,null,null,null,null,null,null,null,null,null,null,null,null,null,null,null,null,null,null,{"$f":"IF(COUNTA(Tabela1[#This Row]) > 0, IF(Tabela1[[#This Row],[TIPO CARTÃO]]  = \"0-SEM CARTÃO\",IF(COUNTA(Tabela1[#This Row]) = 22, 0, 1),IF(COUNTA(Tabela1[#This Row]) = 18, 0, 1)), 0)","v":0},{"$f":"IF(X168 = 1, 0, IF(COUNTA(Tabela1[#This Row]) > 0, 1, 0))","v":0}]
[null,null,null,null,null,null,null,null,null,null,null,null,null,null,null,null,null,null,null,null,null,null,null,{"$f":"IF(COUNTA(Tabela1[#This Row]) > 0, IF(Tabela1[[#This Row],[TIPO CARTÃO]]  = \"0-SEM CARTÃO\",IF(COUNTA(Tabela1[#This Row]) = 22, 0, 1),IF(COUNTA(Tabela1[#This Row]) = 18, 0, 1)), 0)","v":0},{"$f":"IF(X169 = 1, 0, IF(COUNTA(Tabela1[#This Row]) > 0, 1, 0))","v":0}]
[null,null,null,null,null,null,null,null,null,null,null,null,null,null,null,null,null,null,null,null,null,null,null,{"$f":"IF(COUNTA(Tabela1[#This Row]) > 0, IF(Tabela1[[#This Row],[TIPO CARTÃO]]  = \"0-SEM CARTÃO\",IF(COUNTA(Tabela1[#This Row]) = 22, 0, 1),IF(COUNTA(Tabela1[#This Row]) = 18, 0, 1)), 0)","v":0},{"$f":"IF(X170 = 1, 0, IF(COUNTA(Tabela1[#This Row]) > 0, 1, 0))","v":0}]
[null,null,null,null,null,null,null,null,null,null,null,null,null,null,null,null,null,null,null,null,null,null,null,{"$f":"IF(COUNTA(Tabela1[#This Row]) > 0, IF(Tabela1[[#This Row],[TIPO CARTÃO]]  = \"0-SEM CARTÃO\",IF(COUNTA(Tabela1[#This Row]) = 22, 0, 1),IF(COUNTA(Tabela1[#This Row]) = 18, 0, 1)), 0)","v":0},{"$f":"IF(X171 = 1, 0, IF(COUNTA(Tabela1[#This Row]) > 0, 1, 0))","v":0}]
[null,null,null,null,null,null,null,null,null,null,null,null,null,null,null,null,null,null,null,null,null,null,null,{"$f":"IF(COUNTA(Tabela1[#This Row]) > 0, IF(Tabela1[[#This Row],[TIPO CARTÃO]]  = \"0-SEM CARTÃO\",IF(COUNTA(Tabela1[#This Row]) = 22, 0, 1),IF(COUNTA(Tabela1[#This Row]) = 18, 0, 1)), 0)","v":0},{"$f":"IF(X172 = 1, 0, IF(COUNTA(Tabela1[#This Row]) > 0, 1, 0))","v":0}]
[null,null,null,null,null,null,null,null,null,null,null,null,null,null,null,null,null,null,null,null,null,null,null,{"$f":"IF(COUNTA(Tabela1[#This Row]) > 0, IF(Tabela1[[#This Row],[TIPO CARTÃO]]  = \"0-SEM CARTÃO\",IF(COUNTA(Tabela1[#This Row]) = 22, 0, 1),IF(COUNTA(Tabela1[#This Row]) = 18, 0, 1)), 0)","v":0},{"$f":"IF(X173 = 1, 0, IF(COUNTA(Tabela1[#This Row]) > 0, 1, 0))","v":0}]
[null,null,null,null,null,null,null,null,null,null,null,null,null,null,null,null,null,null,null,null,null,null,null,{"$f":"IF(COUNTA(Tabela1[#This Row]) > 0, IF(Tabela1[[#This Row],[TIPO CARTÃO]]  = \"0-SEM CARTÃO\",IF(COUNTA(Tabela1[#This Row]) = 22, 0, 1),IF(COUNTA(Tabela1[#This Row]) = 18, 0, 1)), 0)","v":0},{"$f":"IF(X174 = 1, 0, IF(COUNTA(Tabela1[#This Row]) > 0, 1, 0))","v":0}]
[null,null,null,null,null,null,null,null,null,null,null,null,null,null,null,null,null,null,null,null,null,null,null,{"$f":"IF(COUNTA(Tabela1[#This Row]) > 0, IF(Tabela1[[#This Row],[TIPO CARTÃO]]  = \"0-SEM CARTÃO\",IF(COUNTA(Tabela1[#This Row]) = 22, 0, 1),IF(COUNTA(Tabela1[#This Row]) = 18, 0, 1)), 0)","v":0},{"$f":"IF(X175 = 1, 0, IF(COUNTA(Tabela1[#This Row]) > 0, 1, 0))","v":0}]
[null,null,null,null,null,null,null,null,null,null,null,null,null,null,null,null,null,null,null,null,null,null,null,{"$f":"IF(COUNTA(Tabela1[#This Row]) > 0, IF(Tabela1[[#This Row],[TIPO CARTÃO]]  = \"0-SEM CARTÃO\",IF(COUNTA(Tabela1[#This Row]) = 22, 0, 1),IF(COUNTA(Tabela1[#This Row]) = 18, 0, 1)), 0)","v":0},{"$f":"IF(X176 = 1, 0, IF(COUNTA(Tabela1[#This Row]) > 0, 1, 0))","v":0}]
[null,null,null,null,null,null,null,null,null,null,null,null,null,null,null,null,null,null,null,null,null,null,null,{"$f":"IF(COUNTA(Tabela1[#This Row]) > 0, IF(Tabela1[[#This Row],[TIPO CARTÃO]]  = \"0-SEM CARTÃO\",IF(COUNTA(Tabela1[#This Row]) = 22, 0, 1),IF(COUNTA(Tabela1[#This Row]) = 18, 0, 1)), 0)","v":0},{"$f":"IF(X177 = 1, 0, IF(COUNTA(Tabela1[#This Row]) > 0, 1, 0))","v":0}]
[null,null,null,null,null,null,null,null,null,null,null,null,null,null,null,null,null,null,null,null,null,null,null,{"$f":"IF(COUNTA(Tabela1[#This Row]) > 0, IF(Tabela1[[#This Row],[TIPO CARTÃO]]  = \"0-SEM CARTÃO\",IF(COUNTA(Tabela1[#This Row]) = 22, 0, 1),IF(COUNTA(Tabela1[#This Row]) = 18, 0, 1)), 0)","v":0},{"$f":"IF(X178 = 1, 0, IF(COUNTA(Tabela1[#This Row]) > 0, 1, 0))","v":0}]
[null,null,null,null,null,null,null,null,null,null,null,null,null,null,null,null,null,null,null,null,null,null,null,{"$f":"IF(COUNTA(Tabela1[#This Row]) > 0, IF(Tabela1[[#This Row],[TIPO CARTÃO]]  = \"0-SEM CARTÃO\",IF(COUNTA(Tabela1[#This Row]) = 22, 0, 1),IF(COUNTA(Tabela1[#This Row]) = 18, 0, 1)), 0)","v":0},{"$f":"IF(X179 = 1, 0, IF(COUNTA(Tabela1[#This Row]) > 0, 1, 0))","v":0}]
[null,null,null,null,null,null,null,null,null,null,null,null,null,null,null,null,null,null,null,null,null,null,null,{"$f":"IF(COUNTA(Tabela1[#This Row]) > 0, IF(Tabela1[[#This Row],[TIPO CARTÃO]]  = \"0-SEM CARTÃO\",IF(COUNTA(Tabela1[#This Row]) = 22, 0, 1),IF(COUNTA(Tabela1[#This Row]) = 18, 0, 1)), 0)","v":0},{"$f":"IF(X180 = 1, 0, IF(COUNTA(Tabela1[#This Row]) > 0, 1, 0))","v":0}]
[null,null,null,null,null,null,null,null,null,null,null,null,null,null,null,null,null,null,null,null,null,null,null,{"$f":"IF(COUNTA(Tabela1[#This Row]) > 0, IF(Tabela1[[#This Row],[TIPO CARTÃO]]  = \"0-SEM CARTÃO\",IF(COUNTA(Tabela1[#This Row]) = 22, 0, 1),IF(COUNTA(Tabela1[#This Row]) = 18, 0, 1)), 0)","v":0},{"$f":"IF(X181 = 1, 0, IF(COUNTA(Tabela1[#This Row]) > 0, 1, 0))","v":0}]
[null,null,null,null,null,null,null,null,null,null,null,null,null,null,null,null,null,null,null,null,null,null,null,{"$f":"IF(COUNTA(Tabela1[#This Row]) > 0, IF(Tabela1[[#This Row],[TIPO CARTÃO]]  = \"0-SEM CARTÃO\",IF(COUNTA(Tabela1[#This Row]) = 22, 0, 1),IF(COUNTA(Tabela1[#This Row]) = 18, 0, 1)), 0)","v":0},{"$f":"IF(X182 = 1, 0, IF(COUNTA(Tabela1[#This Row]) > 0, 1, 0))","v":0}]
[null,null,null,null,null,null,null,null,null,null,null,null,null,null,null,null,null,null,null,null,null,null,null,{"$f":"IF(COUNTA(Tabela1[#This Row]) > 0, IF(Tabela1[[#This Row],[TIPO CARTÃO]]  = \"0-SEM CARTÃO\",IF(COUNTA(Tabela1[#This Row]) = 22, 0, 1),IF(COUNTA(Tabela1[#This Row]) = 18, 0, 1)), 0)","v":0},{"$f":"IF(X183 = 1, 0, IF(COUNTA(Tabela1[#This Row]) > 0, 1, 0))","v":0}]
[null,null,null,null,null,null,null,null,null,null,null,null,null,null,null,null,null,null,null,null,null,null,null,{"$f":"IF(COUNTA(Tabela1[#This Row]) > 0, IF(Tabela1[[#This Row],[TIPO CARTÃO]]  = \"0-SEM CARTÃO\",IF(COUNTA(Tabela1[#This Row]) = 22, 0, 1),IF(COUNTA(Tabela1[#This Row]) = 18, 0, 1)), 0)","v":0},{"$f":"IF(X184 = 1, 0, IF(COUNTA(Tabela1[#This Row]) > 0, 1, 0))","v":0}]
[null,null,null,null,null,null,null,null,null,null,null,null,null,null,null,null,null,null,null,null,null,null,null,{"$f":"IF(COUNTA(Tabela1[#This Row]) > 0, IF(Tabela1[[#This Row],[TIPO CARTÃO]]  = \"0-SEM CARTÃO\",IF(COUNTA(Tabela1[#This Row]) = 22, 0, 1),IF(COUNTA(Tabela1[#This Row]) = 18, 0, 1)), 0)","v":0},{"$f":"IF(X185 = 1, 0, IF(COUNTA(Tabela1[#This Row]) > 0, 1, 0))","v":0}]
[null,null,null,null,null,null,null,null,null,null,null,null,null,null,null,null,null,null,null,null,null,null,null,{"$f":"IF(COUNTA(Tabela1[#This Row]) > 0, IF(Tabela1[[#This Row],[TIPO CARTÃO]]  = \"0-SEM CARTÃO\",IF(COUNTA(Tabela1[#This Row]) = 22, 0, 1),IF(COUNTA(Tabela1[#This Row]) = 18, 0, 1)), 0)","v":0},{"$f":"IF(X186 = 1, 0, IF(COUNTA(Tabela1[#This Row]) > 0, 1, 0))","v":0}]
[null,null,null,null,null,null,null,null,null,null,null,null,null,null,null,null,null,null,null,null,null,null,null,{"$f":"IF(COUNTA(Tabela1[#This Row]) > 0, IF(Tabela1[[#This Row],[TIPO CARTÃO]]  = \"0-SEM CARTÃO\",IF(COUNTA(Tabela1[#This Row]) = 22, 0, 1),IF(COUNTA(Tabela1[#This Row]) = 18, 0, 1)), 0)","v":0},{"$f":"IF(X187 = 1, 0, IF(COUNTA(Tabela1[#This Row]) > 0, 1, 0))","v":0}]
[null,null,null,null,null,null,null,null,null,null,null,null,null,null,null,null,null,null,null,null,null,null,null,{"$f":"IF(COUNTA(Tabela1[#This Row]) > 0, IF(Tabela1[[#This Row],[TIPO CARTÃO]]  = \"0-SEM CARTÃO\",IF(COUNTA(Tabela1[#This Row]) = 22, 0, 1),IF(COUNTA(Tabela1[#This Row]) = 18, 0, 1)), 0)","v":0},{"$f":"IF(X188 = 1, 0, IF(COUNTA(Tabela1[#This Row]) > 0, 1, 0))","v":0}]
[null,null,null,null,null,null,null,null,null,null,null,null,null,null,null,null,null,null,null,null,null,null,null,{"$f":"IF(COUNTA(Tabela1[#This Row]) > 0, IF(Tabela1[[#This Row],[TIPO CARTÃO]]  = \"0-SEM CARTÃO\",IF(COUNTA(Tabela1[#This Row]) = 22, 0, 1),IF(COUNTA(Tabela1[#This Row]) = 18, 0, 1)), 0)","v":0},{"$f":"IF(X189 = 1, 0, IF(COUNTA(Tabela1[#This Row]) > 0, 1, 0))","v":0}]
[null,null,null,null,null,null,null,null,null,null,null,null,null,null,null,null,null,null,null,null,null,null,null,{"$f":"IF(COUNTA(Tabela1[#This Row]) > 0, IF(Tabela1[[#This Row],[TIPO CARTÃO]]  = \"0-SEM CARTÃO\",IF(COUNTA(Tabela1[#This Row]) = 22, 0, 1),IF(COUNTA(Tabela1[#This Row]) = 18, 0, 1)), 0)","v":0},{"$f":"IF(X190 = 1, 0, IF(COUNTA(Tabela1[#This Row]) > 0, 1, 0))","v":0}]
[null,null,null,null,null,null,null,null,null,null,null,null,null,null,null,null,null,null,null,null,null,null,null,{"$f":"IF(COUNTA(Tabela1[#This Row]) > 0, IF(Tabela1[[#This Row],[TIPO CARTÃO]]  = \"0-SEM CARTÃO\",IF(COUNTA(Tabela1[#This Row]) = 22, 0, 1),IF(COUNTA(Tabela1[#This Row]) = 18, 0, 1)), 0)","v":0},{"$f":"IF(X191 = 1, 0, IF(COUNTA(Tabela1[#This Row]) > 0, 1, 0))","v":0}]
[null,null,null,null,null,null,null,null,null,null,null,null,null,null,null,null,null,null,null,null,null,null,null,{"$f":"IF(COUNTA(Tabela1[#This Row]) > 0, IF(Tabela1[[#This Row],[TIPO CARTÃO]]  = \"0-SEM CARTÃO\",IF(COUNTA(Tabela1[#This Row]) = 22, 0, 1),IF(COUNTA(Tabela1[#This Row]) = 18, 0, 1)), 0)","v":0},{"$f":"IF(X192 = 1, 0, IF(COUNTA(Tabela1[#This Row]) > 0, 1, 0))","v":0}]
[null,null,null,null,null,null,null,null,null,null,null,null,null,null,null,null,null,null,null,null,null,null,null,{"$f":"IF(COUNTA(Tabela1[#This Row]) > 0, IF(Tabela1[[#This Row],[TIPO CARTÃO]]  = \"0-SEM CARTÃO\",IF(COUNTA(Tabela1[#This Row]) = 22, 0, 1),IF(COUNTA(Tabela1[#This Row]) = 18, 0, 1)), 0)","v":0},{"$f":"IF(X193 = 1, 0, IF(COUNTA(Tabela1[#This Row]) > 0, 1, 0))","v":0}]
[null,null,null,null,null,null,null,null,null,null,null,null,null,null,null,null,null,null,null,null,null,null,null,{"$f":"IF(COUNTA(Tabela1[#This Row]) > 0, IF(Tabela1[[#This Row],[TIPO CARTÃO]]  = \"0-SEM CARTÃO\",IF(COUNTA(Tabela1[#This Row]) = 22, 0, 1),IF(COUNTA(Tabela1[#This Row]) = 18, 0, 1)), 0)","v":0},{"$f":"IF(X194 = 1, 0, IF(COUNTA(Tabela1[#This Row]) > 0, 1, 0))","v":0}]
[null,null,null,null,null,null,null,null,null,null,null,null,null,null,null,null,null,null,null,null,null,null,null,{"$f":"IF(COUNTA(Tabela1[#This Row]) > 0, IF(Tabela1[[#This Row],[TIPO CARTÃO]]  = \"0-SEM CARTÃO\",IF(COUNTA(Tabela1[#This Row]) = 22, 0, 1),IF(COUNTA(Tabela1[#This Row]) = 18, 0, 1)), 0)","v":0},{"$f":"IF(X195 = 1, 0, IF(COUNTA(Tabela1[#This Row]) > 0, 1, 0))","v":0}]
[null,null,null,null,null,null,null,null,null,null,null,null,null,null,null,null,null,null,null,null,null,null,null,{"$f":"IF(COUNTA(Tabela1[#This Row]) > 0, IF(Tabela1[[#This Row],[TIPO CARTÃO]]  = \"0-SEM CARTÃO\",IF(COUNTA(Tabela1[#This Row]) = 22, 0, 1),IF(COUNTA(Tabela1[#This Row]) = 18, 0, 1)), 0)","v":0},{"$f":"IF(X196 = 1, 0, IF(COUNTA(Tabela1[#This Row]) > 0, 1, 0))","v":0}]
[null,null,null,null,null,null,null,null,null,null,null,null,null,null,null,null,null,null,null,null,null,null,null,{"$f":"IF(COUNTA(Tabela1[#This Row]) > 0, IF(Tabela1[[#This Row],[TIPO CARTÃO]]  = \"0-SEM CARTÃO\",IF(COUNTA(Tabela1[#This Row]) = 22, 0, 1),IF(COUNTA(Tabela1[#This Row]) = 18, 0, 1)), 0)","v":0},{"$f":"IF(X197 = 1, 0, IF(COUNTA(Tabela1[#This Row]) > 0, 1, 0))","v":0}]
[null,null,null,null,null,null,null,null,null,null,null,null,null,null,null,null,null,null,null,null,null,null,null,{"$f":"IF(COUNTA(Tabela1[#This Row]) > 0, IF(Tabela1[[#This Row],[TIPO CARTÃO]]  = \"0-SEM CARTÃO\",IF(COUNTA(Tabela1[#This Row]) = 22, 0, 1),IF(COUNTA(Tabela1[#This Row]) = 18, 0, 1)), 0)","v":0},{"$f":"IF(X198 = 1, 0, IF(COUNTA(Tabela1[#This Row]) > 0, 1, 0))","v":0}]
[null,null,null,null,null,null,null,null,null,null,null,null,null,null,null,null,null,null,null,null,null,null,null,{"$f":"IF(COUNTA(Tabela1[#This Row]) > 0, IF(Tabela1[[#This Row],[TIPO CARTÃO]]  = \"0-SEM CARTÃO\",IF(COUNTA(Tabela1[#This Row]) = 22, 0, 1),IF(COUNTA(Tabela1[#This Row]) = 18, 0, 1)), 0)","v":0},{"$f":"IF(X199 = 1, 0, IF(COUNTA(Tabela1[#This Row]) > 0, 1, 0))","v":0}]
[null,null,null,null,null,null,null,null,null,null,null,null,null,null,null,null,null,null,null,null,null,null,null,{"$f":"IF(COUNTA(Tabela1[#This Row]) > 0, IF(Tabela1[[#This Row],[TIPO CARTÃO]]  = \"0-SEM CARTÃO\",IF(COUNTA(Tabela1[#This Row]) = 22, 0, 1),IF(COUNTA(Tabela1[#This Row]) = 18, 0, 1)), 0)","v":0},{"$f":"IF(X200 = 1, 0, IF(COUNTA(Tabela1[#This Row]) > 0, 1, 0))","v":0}]
[null,null,null,null,null,null,null,null,null,null,null,null,null,null,null,null,null,null,null,null,null,null,null,{"$f":"IF(COUNTA(Tabela1[#This Row]) > 0, IF(Tabela1[[#This Row],[TIPO CARTÃO]]  = \"0-SEM CARTÃO\",IF(COUNTA(Tabela1[#This Row]) = 22, 0, 1),IF(COUNTA(Tabela1[#This Row]) = 18, 0, 1)), 0)","v":0},{"$f":"IF(X201 = 1, 0, IF(COUNTA(Tabela1[#This Row]) > 0, 1, 0))","v":0}]
[null,null,null,null,null,null,null,null,null,null,null,null,null,null,null,null,null,null,null,null,null,null,null,{"$f":"IF(COUNTA(Tabela1[#This Row]) > 0, IF(Tabela1[[#This Row],[TIPO CARTÃO]]  = \"0-SEM CARTÃO\",IF(COUNTA(Tabela1[#This Row]) = 22, 0, 1),IF(COUNTA(Tabela1[#This Row]) = 18, 0, 1)), 0)","v":0},{"$f":"IF(X202 = 1, 0, IF(COUNTA(Tabela1[#This Row]) > 0, 1, 0))","v":0}]
[null,null,null,null,null,null,null,null,null,null,null,null,null,null,null,null,null,null,null,null,null,null,null,{"$f":"IF(COUNTA(Tabela1[#This Row]) > 0, IF(Tabela1[[#This Row],[TIPO CARTÃO]]  = \"0-SEM CARTÃO\",IF(COUNTA(Tabela1[#This Row]) = 22, 0, 1),IF(COUNTA(Tabela1[#This Row]) = 18, 0, 1)), 0)","v":0},{"$f":"IF(X203 = 1, 0, IF(COUNTA(Tabela1[#This Row]) > 0, 1, 0))","v":0}]
[null,null,null,null,null,null,null,null,null,null,null,null,null,null,null,null,null,null,null,null,null,null,null,{"$f":"IF(COUNTA(Tabela1[#This Row]) > 0, IF(Tabela1[[#This Row],[TIPO CARTÃO]]  = \"0-SEM CARTÃO\",IF(COUNTA(Tabela1[#This Row]) = 22, 0, 1),IF(COUNTA(Tabela1[#This Row]) = 18, 0, 1)), 0)","v":0},{"$f":"IF(X204 = 1, 0, IF(COUNTA(Tabela1[#This Row]) > 0, 1, 0))","v":0}]
[null,null,null,null,null,null,null,null,null,null,null,null,null,null,null,null,null,null,null,null,null,null,null,{"$f":"IF(COUNTA(Tabela1[#This Row]) > 0, IF(Tabela1[[#This Row],[TIPO CARTÃO]]  = \"0-SEM CARTÃO\",IF(COUNTA(Tabela1[#This Row]) = 22, 0, 1),IF(COUNTA(Tabela1[#This Row]) = 18, 0, 1)), 0)","v":0},{"$f":"IF(X205 = 1, 0, IF(COUNTA(Tabela1[#This Row]) > 0, 1, 0))","v":0}]
[null,null,null,null,null,null,null,null,null,null,null,null,null,null,null,null,null,null,null,null,null,null,null,{"$f":"IF(COUNTA(Tabela1[#This Row]) > 0, IF(Tabela1[[#This Row],[TIPO CARTÃO]]  = \"0-SEM CARTÃO\",IF(COUNTA(Tabela1[#This Row]) = 22, 0, 1),IF(COUNTA(Tabela1[#This Row]) = 18, 0, 1)), 0)","v":0},{"$f":"IF(X206 = 1, 0, IF(COUNTA(Tabela1[#This Row]) > 0, 1, 0))","v":0}]
[null,null,null,null,null,null,null,null,null,null,null,null,null,null,null,null,null,null,null,null,null,null,null,{"$f":"IF(COUNTA(Tabela1[#This Row]) > 0, IF(Tabela1[[#This Row],[TIPO CARTÃO]]  = \"0-SEM CARTÃO\",IF(COUNTA(Tabela1[#This Row]) = 22, 0, 1),IF(COUNTA(Tabela1[#This Row]) = 18, 0, 1)), 0)","v":0},{"$f":"IF(X207 = 1, 0, IF(COUNTA(Tabela1[#This Row]) > 0, 1, 0))","v":0}]
[null,null,null,null,null,null,null,null,null,null,null,null,null,null,null,null,null,null,null,null,null,null,null,{"$f":"IF(COUNTA(Tabela1[#This Row]) > 0, IF(Tabela1[[#This Row],[TIPO CARTÃO]]  = \"0-SEM CARTÃO\",IF(COUNTA(Tabela1[#This Row]) = 22, 0, 1),IF(COUNTA(Tabela1[#This Row]) = 18, 0, 1)), 0)","v":0},{"$f":"IF(X208 = 1, 0, IF(COUNTA(Tabela1[#This Row]) > 0, 1, 0))","v":0}]
[null,null,null,null,null,null,null,null,null,null,null,null,null,null,null,null,null,null,null,null,null,null,null,{"$f":"IF(COUNTA(Tabela1[#This Row]) > 0, IF(Tabela1[[#This Row],[TIPO CARTÃO]]  = \"0-SEM CARTÃO\",IF(COUNTA(Tabela1[#This Row]) = 22, 0, 1),IF(COUNTA(Tabela1[#This Row]) = 18, 0, 1)), 0)","v":0},{"$f":"IF(X209 = 1, 0, IF(COUNTA(Tabela1[#This Row]) > 0, 1, 0))","v":0}]
[null,null,null,null,null,null,null,null,null,null,null,null,null,null,null,null,null,null,null,null,null,null,null,{"$f":"IF(COUNTA(Tabela1[#This Row]) > 0, IF(Tabela1[[#This Row],[TIPO CARTÃO]]  = \"0-SEM CARTÃO\",IF(COUNTA(Tabela1[#This Row]) = 22, 0, 1),IF(COUNTA(Tabela1[#This Row]) = 18, 0, 1)), 0)","v":0},{"$f":"IF(X210 = 1, 0, IF(COUNTA(Tabela1[#This Row]) > 0, 1, 0))","v":0}]
[null,null,null,null,null,null,null,null,null,null,null,null,null,null,null,null,null,null,null,null,null,null,null,{"$f":"IF(COUNTA(Tabela1[#This Row]) > 0, IF(Tabela1[[#This Row],[TIPO CARTÃO]]  = \"0-SEM CARTÃO\",IF(COUNTA(Tabela1[#This Row]) = 22, 0, 1),IF(COUNTA(Tabela1[#This Row]) = 18, 0, 1)), 0)","v":0},{"$f":"IF(X211 = 1, 0, IF(COUNTA(Tabela1[#This Row]) > 0, 1, 0))","v":0}]
[null,null,null,null,null,null,null,null,null,null,null,null,null,null,null,null,null,null,null,null,null,null,null,{"$f":"IF(COUNTA(Tabela1[#This Row]) > 0, IF(Tabela1[[#This Row],[TIPO CARTÃO]]  = \"0-SEM CARTÃO\",IF(COUNTA(Tabela1[#This Row]) = 22, 0, 1),IF(COUNTA(Tabela1[#This Row]) = 18, 0, 1)), 0)","v":0},{"$f":"IF(X212 = 1, 0, IF(COUNTA(Tabela1[#This Row]) > 0, 1, 0))","v":0}]
[null,null,null,null,null,null,null,null,null,null,null,null,null,null,null,null,null,null,null,null,null,null,null,{"$f":"IF(COUNTA(Tabela1[#This Row]) > 0, IF(Tabela1[[#This Row],[TIPO CARTÃO]]  = \"0-SEM CARTÃO\",IF(COUNTA(Tabela1[#This Row]) = 22, 0, 1),IF(COUNTA(Tabela1[#This Row]) = 18, 0, 1)), 0)","v":0},{"$f":"IF(X213 = 1, 0, IF(COUNTA(Tabela1[#This Row]) > 0, 1, 0))","v":0}]
[null,null,null,null,null,null,null,null,null,null,null,null,null,null,null,null,null,null,null,null,null,null,null,{"$f":"IF(COUNTA(Tabela1[#This Row]) > 0, IF(Tabela1[[#This Row],[TIPO CARTÃO]]  = \"0-SEM CARTÃO\",IF(COUNTA(Tabela1[#This Row]) = 22, 0, 1),IF(COUNTA(Tabela1[#This Row]) = 18, 0, 1)), 0)","v":0},{"$f":"IF(X214 = 1, 0, IF(COUNTA(Tabela1[#This Row]) > 0, 1, 0))","v":0}]
[null,null,null,null,null,null,null,null,null,null,null,null,null,null,null,null,null,null,null,null,null,null,null,{"$f":"IF(COUNTA(Tabela1[#This Row]) > 0, IF(Tabela1[[#This Row],[TIPO CARTÃO]]  = \"0-SEM CARTÃO\",IF(COUNTA(Tabela1[#This Row]) = 22, 0, 1),IF(COUNTA(Tabela1[#This Row]) = 18, 0, 1)), 0)","v":0},{"$f":"IF(X215 = 1, 0, IF(COUNTA(Tabela1[#This Row]) > 0, 1, 0))","v":0}]
[null,null,null,null,null,null,null,null,null,null,null,null,null,null,null,null,null,null,null,null,null,null,null,{"$f":"IF(COUNTA(Tabela1[#This Row]) > 0, IF(Tabela1[[#This Row],[TIPO CARTÃO]]  = \"0-SEM CARTÃO\",IF(COUNTA(Tabela1[#This Row]) = 22, 0, 1),IF(COUNTA(Tabela1[#This Row]) = 18, 0, 1)), 0)","v":0},{"$f":"IF(X216 = 1, 0, IF(COUNTA(Tabela1[#This Row]) > 0, 1, 0))","v":0}]
[null,null,null,null,null,null,null,null,null,null,null,null,null,null,null,null,null,null,null,null,null,null,null,{"$f":"IF(COUNTA(Tabela1[#This Row]) > 0, IF(Tabela1[[#This Row],[TIPO CARTÃO]]  = \"0-SEM CARTÃO\",IF(COUNTA(Tabela1[#This Row]) = 22, 0, 1),IF(COUNTA(Tabela1[#This Row]) = 18, 0, 1)), 0)","v":0},{"$f":"IF(X217 = 1, 0, IF(COUNTA(Tabela1[#This Row]) > 0, 1, 0))","v":0}]
[null,null,null,null,null,null,null,null,null,null,null,null,null,null,null,null,null,null,null,null,null,null,null,{"$f":"IF(COUNTA(Tabela1[#This Row]) > 0, IF(Tabela1[[#This Row],[TIPO CARTÃO]]  = \"0-SEM CARTÃO\",IF(COUNTA(Tabela1[#This Row]) = 22, 0, 1),IF(COUNTA(Tabela1[#This Row]) = 18, 0, 1)), 0)","v":0},{"$f":"IF(X218 = 1, 0, IF(COUNTA(Tabela1[#This Row]) > 0, 1, 0))","v":0}]
[null,null,null,null,null,null,null,null,null,null,null,null,null,null,null,null,null,null,null,null,null,null,null,{"$f":"IF(COUNTA(Tabela1[#This Row]) > 0, IF(Tabela1[[#This Row],[TIPO CARTÃO]]  = \"0-SEM CARTÃO\",IF(COUNTA(Tabela1[#This Row]) = 22, 0, 1),IF(COUNTA(Tabela1[#This Row]) = 18, 0, 1)), 0)","v":0},{"$f":"IF(X219 = 1, 0, IF(COUNTA(Tabela1[#This Row]) > 0, 1, 0))","v":0}]
[null,null,null,null,null,null,null,null,null,null,null,null,null,null,null,null,null,null,null,null,null,null,null,{"$f":"IF(COUNTA(Tabela1[#This Row]) > 0, IF(Tabela1[[#This Row],[TIPO CARTÃO]]  = \"0-SEM CARTÃO\",IF(COUNTA(Tabela1[#This Row]) = 22, 0, 1),IF(COUNTA(Tabela1[#This Row]) = 18, 0, 1)), 0)","v":0},{"$f":"IF(X220 = 1, 0, IF(COUNTA(Tabela1[#This Row]) > 0, 1, 0))","v":0}]
[null,null,null,null,null,null,null,null,null,null,null,null,null,null,null,null,null,null,null,null,null,null,null,{"$f":"IF(COUNTA(Tabela1[#This Row]) > 0, IF(Tabela1[[#This Row],[TIPO CARTÃO]]  = \"0-SEM CARTÃO\",IF(COUNTA(Tabela1[#This Row]) = 22, 0, 1),IF(COUNTA(Tabela1[#This Row]) = 18, 0, 1)), 0)","v":0},{"$f":"IF(X221 = 1, 0, IF(COUNTA(Tabela1[#This Row]) > 0, 1, 0))","v":0}]
[null,null,null,null,null,null,null,null,null,null,null,null,null,null,null,null,null,null,null,null,null,null,null,{"$f":"IF(COUNTA(Tabela1[#This Row]) > 0, IF(Tabela1[[#This Row],[TIPO CARTÃO]]  = \"0-SEM CARTÃO\",IF(COUNTA(Tabela1[#This Row]) = 22, 0, 1),IF(COUNTA(Tabela1[#This Row]) = 18, 0, 1)), 0)","v":0},{"$f":"IF(X222 = 1, 0, IF(COUNTA(Tabela1[#This Row]) > 0, 1, 0))","v":0}]
[null,null,null,null,null,null,null,null,null,null,null,null,null,null,null,null,null,null,null,null,null,null,null,{"$f":"IF(COUNTA(Tabela1[#This Row]) > 0, IF(Tabela1[[#This Row],[TIPO CARTÃO]]  = \"0-SEM CARTÃO\",IF(COUNTA(Tabela1[#This Row]) = 22, 0, 1),IF(COUNTA(Tabela1[#This Row]) = 18, 0, 1)), 0)","v":0},{"$f":"IF(X223 = 1, 0, IF(COUNTA(Tabela1[#This Row]) > 0, 1, 0))","v":0}]
[null,null,null,null,null,null,null,null,null,null,null,null,null,null,null,null,null,null,null,null,null,null,null,{"$f":"IF(COUNTA(Tabela1[#This Row]) > 0, IF(Tabela1[[#This Row],[TIPO CARTÃO]]  = \"0-SEM CARTÃO\",IF(COUNTA(Tabela1[#This Row]) = 22, 0, 1),IF(COUNTA(Tabela1[#This Row]) = 18, 0, 1)), 0)","v":0},{"$f":"IF(X224 = 1, 0, IF(COUNTA(Tabela1[#This Row]) > 0, 1, 0))","v":0}]
[null,null,null,null,null,null,null,null,null,null,null,null,null,null,null,null,null,null,null,null,null,null,null,{"$f":"IF(COUNTA(Tabela1[#This Row]) > 0, IF(Tabela1[[#This Row],[TIPO CARTÃO]]  = \"0-SEM CARTÃO\",IF(COUNTA(Tabela1[#This Row]) = 22, 0, 1),IF(COUNTA(Tabela1[#This Row]) = 18, 0, 1)), 0)","v":0},{"$f":"IF(X225 = 1, 0, IF(COUNTA(Tabela1[#This Row]) > 0, 1, 0))","v":0}]
[null,null,null,null,null,null,null,null,null,null,null,null,null,null,null,null,null,null,null,null,null,null,null,{"$f":"IF(COUNTA(Tabela1[#This Row]) > 0, IF(Tabela1[[#This Row],[TIPO CARTÃO]]  = \"0-SEM CARTÃO\",IF(COUNTA(Tabela1[#This Row]) = 22, 0, 1),IF(COUNTA(Tabela1[#This Row]) = 18, 0, 1)), 0)","v":0},{"$f":"IF(X226 = 1, 0, IF(COUNTA(Tabela1[#This Row]) > 0, 1, 0))","v":0}]
[null,null,null,null,null,null,null,null,null,null,null,null,null,null,null,null,null,null,null,null,null,null,null,{"$f":"IF(COUNTA(Tabela1[#This Row]) > 0, IF(Tabela1[[#This Row],[TIPO CARTÃO]]  = \"0-SEM CARTÃO\",IF(COUNTA(Tabela1[#This Row]) = 22, 0, 1),IF(COUNTA(Tabela1[#This Row]) = 18, 0, 1)), 0)","v":0},{"$f":"IF(X227 = 1, 0, IF(COUNTA(Tabela1[#This Row]) > 0, 1, 0))","v":0}]
[null,null,null,null,null,null,null,null,null,null,null,null,null,null,null,null,null,null,null,null,null,null,null,{"$f":"IF(COUNTA(Tabela1[#This Row]) > 0, IF(Tabela1[[#This Row],[TIPO CARTÃO]]  = \"0-SEM CARTÃO\",IF(COUNTA(Tabela1[#This Row]) = 22, 0, 1),IF(COUNTA(Tabela1[#This Row]) = 18, 0, 1)), 0)","v":0},{"$f":"IF(X228 = 1, 0, IF(COUNTA(Tabela1[#This Row]) > 0, 1, 0))","v":0}]
[null,null,null,null,null,null,null,null,null,null,null,null,null,null,null,null,null,null,null,null,null,null,null,{"$f":"IF(COUNTA(Tabela1[#This Row]) > 0, IF(Tabela1[[#This Row],[TIPO CARTÃO]]  = \"0-SEM CARTÃO\",IF(COUNTA(Tabela1[#This Row]) = 22, 0, 1),IF(COUNTA(Tabela1[#This Row]) = 18, 0, 1)), 0)","v":0},{"$f":"IF(X229 = 1, 0, IF(COUNTA(Tabela1[#This Row]) > 0, 1, 0))","v":0}]
[null,null,null,null,null,null,null,null,null,null,null,null,null,null,null,null,null,null,null,null,null,null,null,{"$f":"IF(COUNTA(Tabela1[#This Row]) > 0, IF(Tabela1[[#This Row],[TIPO CARTÃO]]  = \"0-SEM CARTÃO\",IF(COUNTA(Tabela1[#This Row]) = 22, 0, 1),IF(COUNTA(Tabela1[#This Row]) = 18, 0, 1)), 0)","v":0},{"$f":"IF(X230 = 1, 0, IF(COUNTA(Tabela1[#This Row]) > 0, 1, 0))","v":0}]
[null,null,null,null,null,null,null,null,null,null,null,null,null,null,null,null,null,null,null,null,null,null,null,{"$f":"IF(COUNTA(Tabela1[#This Row]) > 0, IF(Tabela1[[#This Row],[TIPO CARTÃO]]  = \"0-SEM CARTÃO\",IF(COUNTA(Tabela1[#This Row]) = 22, 0, 1),IF(COUNTA(Tabela1[#This Row]) = 18, 0, 1)), 0)","v":0},{"$f":"IF(X231 = 1, 0, IF(COUNTA(Tabela1[#This Row]) > 0, 1, 0))","v":0}]
[null,null,null,null,null,null,null,null,null,null,null,null,null,null,null,null,null,null,null,null,null,null,null,{"$f":"IF(COUNTA(Tabela1[#This Row]) > 0, IF(Tabela1[[#This Row],[TIPO CARTÃO]]  = \"0-SEM CARTÃO\",IF(COUNTA(Tabela1[#This Row]) = 22, 0, 1),IF(COUNTA(Tabela1[#This Row]) = 18, 0, 1)), 0)","v":0},{"$f":"IF(X232 = 1, 0, IF(COUNTA(Tabela1[#This Row]) > 0, 1, 0))","v":0}]
[null,null,null,null,null,null,null,null,null,null,null,null,null,null,null,null,null,null,null,null,null,null,null,{"$f":"IF(COUNTA(Tabela1[#This Row]) > 0, IF(Tabela1[[#This Row],[TIPO CARTÃO]]  = \"0-SEM CARTÃO\",IF(COUNTA(Tabela1[#This Row]) = 22, 0, 1),IF(COUNTA(Tabela1[#This Row]) = 18, 0, 1)), 0)","v":0},{"$f":"IF(X233 = 1, 0, IF(COUNTA(Tabela1[#This Row]) > 0, 1, 0))","v":0}]
[null,null,null,null,null,null,null,null,null,null,null,null,null,null,null,null,null,null,null,null,null,null,null,{"$f":"IF(COUNTA(Tabela1[#This Row]) > 0, IF(Tabela1[[#This Row],[TIPO CARTÃO]]  = \"0-SEM CARTÃO\",IF(COUNTA(Tabela1[#This Row]) = 22, 0, 1),IF(COUNTA(Tabela1[#This Row]) = 18, 0, 1)), 0)","v":0},{"$f":"IF(X234 = 1, 0, IF(COUNTA(Tabela1[#This Row]) > 0, 1, 0))","v":0}]
[null,null,null,null,null,null,null,null,null,null,null,null,null,null,null,null,null,null,null,null,null,null,null,{"$f":"IF(COUNTA(Tabela1[#This Row]) > 0, IF(Tabela1[[#This Row],[TIPO CARTÃO]]  = \"0-SEM CARTÃO\",IF(COUNTA(Tabela1[#This Row]) = 22, 0, 1),IF(COUNTA(Tabela1[#This Row]) = 18, 0, 1)), 0)","v":0},{"$f":"IF(X235 = 1, 0, IF(COUNTA(Tabela1[#This Row]) > 0, 1, 0))","v":0}]
[null,null,null,null,null,null,null,null,null,null,null,null,null,null,null,null,null,null,null,null,null,null,null,{"$f":"IF(COUNTA(Tabela1[#This Row]) > 0, IF(Tabela1[[#This Row],[TIPO CARTÃO]]  = \"0-SEM CARTÃO\",IF(COUNTA(Tabela1[#This Row]) = 22, 0, 1),IF(COUNTA(Tabela1[#This Row]) = 18, 0, 1)), 0)","v":0},{"$f":"IF(X236 = 1, 0, IF(COUNTA(Tabela1[#This Row]) > 0, 1, 0))","v":0}]
[null,null,null,null,null,null,null,null,null,null,null,null,null,null,null,null,null,null,null,null,null,null,null,{"$f":"IF(COUNTA(Tabela1[#This Row]) > 0, IF(Tabela1[[#This Row],[TIPO CARTÃO]]  = \"0-SEM CARTÃO\",IF(COUNTA(Tabela1[#This Row]) = 22, 0, 1),IF(COUNTA(Tabela1[#This Row]) = 18, 0, 1)), 0)","v":0},{"$f":"IF(X237 = 1, 0, IF(COUNTA(Tabela1[#This Row]) > 0, 1, 0))","v":0}]
[null,null,null,null,null,null,null,null,null,null,null,null,null,null,null,null,null,null,null,null,null,null,null,{"$f":"IF(COUNTA(Tabela1[#This Row]) > 0, IF(Tabela1[[#This Row],[TIPO CARTÃO]]  = \"0-SEM CARTÃO\",IF(COUNTA(Tabela1[#This Row]) = 22, 0, 1),IF(COUNTA(Tabela1[#This Row]) = 18, 0, 1)), 0)","v":0},{"$f":"IF(X238 = 1, 0, IF(COUNTA(Tabela1[#This Row]) > 0, 1, 0))","v":0}]
[null,null,null,null,null,null,null,null,null,null,null,null,null,null,null,null,null,null,null,null,null,null,null,{"$f":"IF(COUNTA(Tabela1[#This Row]) > 0, IF(Tabela1[[#This Row],[TIPO CARTÃO]]  = \"0-SEM CARTÃO\",IF(COUNTA(Tabela1[#This Row]) = 22, 0, 1),IF(COUNTA(Tabela1[#This Row]) = 18, 0, 1)), 0)","v":0},{"$f":"IF(X239 = 1, 0, IF(COUNTA(Tabela1[#This Row]) > 0, 1, 0))","v":0}]
[null,null,null,null,null,null,null,null,null,null,null,null,null,null,null,null,null,null,null,null,null,null,null,{"$f":"IF(COUNTA(Tabela1[#This Row]) > 0, IF(Tabela1[[#This Row],[TIPO CARTÃO]]  = \"0-SEM CARTÃO\",IF(COUNTA(Tabela1[#This Row]) = 22, 0, 1),IF(COUNTA(Tabela1[#This Row]) = 18, 0, 1)), 0)","v":0},{"$f":"IF(X240 = 1, 0, IF(COUNTA(Tabela1[#This Row]) > 0, 1, 0))","v":0}]
[null,null,null,null,null,null,null,null,null,null,null,null,null,null,null,null,null,null,null,null,null,null,null,{"$f":"IF(COUNTA(Tabela1[#This Row]) > 0, IF(Tabela1[[#This Row],[TIPO CARTÃO]]  = \"0-SEM CARTÃO\",IF(COUNTA(Tabela1[#This Row]) = 22, 0, 1),IF(COUNTA(Tabela1[#This Row]) = 18, 0, 1)), 0)","v":0},{"$f":"IF(X241 = 1, 0, IF(COUNTA(Tabela1[#This Row]) > 0, 1, 0))","v":0}]
[null,null,null,null,null,null,null,null,null,null,null,null,null,null,null,null,null,null,null,null,null,null,null,{"$f":"IF(COUNTA(Tabela1[#This Row]) > 0, IF(Tabela1[[#This Row],[TIPO CARTÃO]]  = \"0-SEM CARTÃO\",IF(COUNTA(Tabela1[#This Row]) = 22, 0, 1),IF(COUNTA(Tabela1[#This Row]) = 18, 0, 1)), 0)","v":0},{"$f":"IF(X242 = 1, 0, IF(COUNTA(Tabela1[#This Row]) > 0, 1, 0))","v":0}]
[null,null,null,null,null,null,null,null,null,null,null,null,null,null,null,null,null,null,null,null,null,null,null,{"$f":"IF(COUNTA(Tabela1[#This Row]) > 0, IF(Tabela1[[#This Row],[TIPO CARTÃO]]  = \"0-SEM CARTÃO\",IF(COUNTA(Tabela1[#This Row]) = 22, 0, 1),IF(COUNTA(Tabela1[#This Row]) = 18, 0, 1)), 0)","v":0},{"$f":"IF(X243 = 1, 0, IF(COUNTA(Tabela1[#This Row]) > 0, 1, 0))","v":0}]
[null,null,null,null,null,null,null,null,null,null,null,null,null,null,null,null,null,null,null,null,null,null,null,{"$f":"IF(COUNTA(Tabela1[#This Row]) > 0, IF(Tabela1[[#This Row],[TIPO CARTÃO]]  = \"0-SEM CARTÃO\",IF(COUNTA(Tabela1[#This Row]) = 22, 0, 1),IF(COUNTA(Tabela1[#This Row]) = 18, 0, 1)), 0)","v":0},{"$f":"IF(X244 = 1, 0, IF(COUNTA(Tabela1[#This Row]) > 0, 1, 0))","v":0}]
[null,null,null,null,null,null,null,null,null,null,null,null,null,null,null,null,null,null,null,null,null,null,null,{"$f":"IF(COUNTA(Tabela1[#This Row]) > 0, IF(Tabela1[[#This Row],[TIPO CARTÃO]]  = \"0-SEM CARTÃO\",IF(COUNTA(Tabela1[#This Row]) = 22, 0, 1),IF(COUNTA(Tabela1[#This Row]) = 18, 0, 1)), 0)","v":0},{"$f":"IF(X245 = 1, 0, IF(COUNTA(Tabela1[#This Row]) > 0, 1, 0))","v":0}]
[null,null,null,null,null,null,null,null,null,null,null,null,null,null,null,null,null,null,null,null,null,null,null,{"$f":"IF(COUNTA(Tabela1[#This Row]) > 0, IF(Tabela1[[#This Row],[TIPO CARTÃO]]  = \"0-SEM CARTÃO\",IF(COUNTA(Tabela1[#This Row]) = 22, 0, 1),IF(COUNTA(Tabela1[#This Row]) = 18, 0, 1)), 0)","v":0},{"$f":"IF(X246 = 1, 0, IF(COUNTA(Tabela1[#This Row]) > 0, 1, 0))","v":0}]
[null,null,null,null,null,null,null,null,null,null,null,null,null,null,null,null,null,null,null,null,null,null,null,{"$f":"IF(COUNTA(Tabela1[#This Row]) > 0, IF(Tabela1[[#This Row],[TIPO CARTÃO]]  = \"0-SEM CARTÃO\",IF(COUNTA(Tabela1[#This Row]) = 22, 0, 1),IF(COUNTA(Tabela1[#This Row]) = 18, 0, 1)), 0)","v":0},{"$f":"IF(X247 = 1, 0, IF(COUNTA(Tabela1[#This Row]) > 0, 1, 0))","v":0}]
[null,null,null,null,null,null,null,null,null,null,null,null,null,null,null,null,null,null,null,null,null,null,null,{"$f":"IF(COUNTA(Tabela1[#This Row]) > 0, IF(Tabela1[[#This Row],[TIPO CARTÃO]]  = \"0-SEM CARTÃO\",IF(COUNTA(Tabela1[#This Row]) = 22, 0, 1),IF(COUNTA(Tabela1[#This Row]) = 18, 0, 1)), 0)","v":0},{"$f":"IF(X248 = 1, 0, IF(COUNTA(Tabela1[#This Row]) > 0, 1, 0))","v":0}]
[null,null,null,null,null,null,null,null,null,null,null,null,null,null,null,null,null,null,null,null,null,null,null,{"$f":"IF(COUNTA(Tabela1[#This Row]) > 0, IF(Tabela1[[#This Row],[TIPO CARTÃO]]  = \"0-SEM CARTÃO\",IF(COUNTA(Tabela1[#This Row]) = 22, 0, 1),IF(COUNTA(Tabela1[#This Row]) = 18, 0, 1)), 0)","v":0},{"$f":"IF(X249 = 1, 0, IF(COUNTA(Tabela1[#This Row]) > 0, 1, 0))","v":0}]
[null,null,null,null,null,null,null,null,null,null,null,null,null,null,null,null,null,null,null,null,null,null,null,{"$f":"IF(COUNTA(Tabela1[#This Row]) > 0, IF(Tabela1[[#This Row],[TIPO CARTÃO]]  = \"0-SEM CARTÃO\",IF(COUNTA(Tabela1[#This Row]) = 22, 0, 1),IF(COUNTA(Tabela1[#This Row]) = 18, 0, 1)), 0)","v":0},{"$f":"IF(X250 = 1, 0, IF(COUNTA(Tabela1[#This Row]) > 0, 1, 0))","v":0}]
[null,null,null,null,null,null,null,null,null,null,null,null,null,null,null,null,null,null,null,null,null,null,null,{"$f":"IF(COUNTA(Tabela1[#This Row]) > 0, IF(Tabela1[[#This Row],[TIPO CARTÃO]]  = \"0-SEM CARTÃO\",IF(COUNTA(Tabela1[#This Row]) = 22, 0, 1),IF(COUNTA(Tabela1[#This Row]) = 18, 0, 1)), 0)","v":0},{"$f":"IF(X251 = 1, 0, IF(COUNTA(Tabela1[#This Row]) > 0, 1, 0))","v":0}]
[null,null,null,null,null,null,null,null,null,null,null,null,null,null,null,null,null,null,null,null,null,null,null,{"$f":"IF(COUNTA(Tabela1[#This Row]) > 0, IF(Tabela1[[#This Row],[TIPO CARTÃO]]  = \"0-SEM CARTÃO\",IF(COUNTA(Tabela1[#This Row]) = 22, 0, 1),IF(COUNTA(Tabela1[#This Row]) = 18, 0, 1)), 0)","v":0},{"$f":"IF(X252 = 1, 0, IF(COUNTA(Tabela1[#This Row]) > 0, 1, 0))","v":0}]
[null,null,null,null,null,null,null,null,null,null,null,null,null,null,null,null,null,null,null,null,null,null,null,{"$f":"IF(COUNTA(Tabela1[#This Row]) > 0, IF(Tabela1[[#This Row],[TIPO CARTÃO]]  = \"0-SEM CARTÃO\",IF(COUNTA(Tabela1[#This Row]) = 22, 0, 1),IF(COUNTA(Tabela1[#This Row]) = 18, 0, 1)), 0)","v":0},{"$f":"IF(X253 = 1, 0, IF(COUNTA(Tabela1[#This Row]) > 0, 1, 0))","v":0}]
[null,null,null,null,null,null,null,null,null,null,null,null,null,null,null,null,null,null,null,null,null,null,null,{"$f":"IF(COUNTA(Tabela1[#This Row]) > 0, IF(Tabela1[[#This Row],[TIPO CARTÃO]]  = \"0-SEM CARTÃO\",IF(COUNTA(Tabela1[#This Row]) = 22, 0, 1),IF(COUNTA(Tabela1[#This Row]) = 18, 0, 1)), 0)","v":0},{"$f":"IF(X254 = 1, 0, IF(COUNTA(Tabela1[#This Row]) > 0, 1, 0))","v":0}]
[null,null,null,null,null,null,null,null,null,null,null,null,null,null,null,null,null,null,null,null,null,null,null,{"$f":"IF(COUNTA(Tabela1[#This Row]) > 0, IF(Tabela1[[#This Row],[TIPO CARTÃO]]  = \"0-SEM CARTÃO\",IF(COUNTA(Tabela1[#This Row]) = 22, 0, 1),IF(COUNTA(Tabela1[#This Row]) = 18, 0, 1)), 0)","v":0},{"$f":"IF(X255 = 1, 0, IF(COUNTA(Tabela1[#This Row]) > 0, 1, 0))","v":0}]
[null,null,null,null,null,null,null,null,null,null,null,null,null,null,null,null,null,null,null,null,null,null,null,{"$f":"IF(COUNTA(Tabela1[#This Row]) > 0, IF(Tabela1[[#This Row],[TIPO CARTÃO]]  = \"0-SEM CARTÃO\",IF(COUNTA(Tabela1[#This Row]) = 22, 0, 1),IF(COUNTA(Tabela1[#This Row]) = 18, 0, 1)), 0)","v":0},{"$f":"IF(X256 = 1, 0, IF(COUNTA(Tabela1[#This Row]) > 0, 1, 0))","v":0}]
[null,null,null,null,null,null,null,null,null,null,null,null,null,null,null,null,null,null,null,null,null,null,null,{"$f":"IF(COUNTA(Tabela1[#This Row]) > 0, IF(Tabela1[[#This Row],[TIPO CARTÃO]]  = \"0-SEM CARTÃO\",IF(COUNTA(Tabela1[#This Row]) = 22, 0, 1),IF(COUNTA(Tabela1[#This Row]) = 18, 0, 1)), 0)","v":0},{"$f":"IF(X257 = 1, 0, IF(COUNTA(Tabela1[#This Row]) > 0, 1, 0))","v":0}]
[null,null,null,null,null,null,null,null,null,null,null,null,null,null,null,null,null,null,null,null,null,null,null,{"$f":"IF(COUNTA(Tabela1[#This Row]) > 0, IF(Tabela1[[#This Row],[TIPO CARTÃO]]  = \"0-SEM CARTÃO\",IF(COUNTA(Tabela1[#This Row]) = 22, 0, 1),IF(COUNTA(Tabela1[#This Row]) = 18, 0, 1)), 0)","v":0},{"$f":"IF(X258 = 1, 0, IF(COUNTA(Tabela1[#This Row]) > 0, 1, 0))","v":0}]
[null,null,null,null,null,null,null,null,null,null,null,null,null,null,null,null,null,null,null,null,null,null,null,{"$f":"IF(COUNTA(Tabela1[#This Row]) > 0, IF(Tabela1[[#This Row],[TIPO CARTÃO]]  = \"0-SEM CARTÃO\",IF(COUNTA(Tabela1[#This Row]) = 22, 0, 1),IF(COUNTA(Tabela1[#This Row]) = 18, 0, 1)), 0)","v":0},{"$f":"IF(X259 = 1, 0, IF(COUNTA(Tabela1[#This Row]) > 0, 1, 0))","v":0}]
[null,null,null,null,null,null,null,null,null,null,null,null,null,null,null,null,null,null,null,null,null,null,null,{"$f":"IF(COUNTA(Tabela1[#This Row]) > 0, IF(Tabela1[[#This Row],[TIPO CARTÃO]]  = \"0-SEM CARTÃO\",IF(COUNTA(Tabela1[#This Row]) = 22, 0, 1),IF(COUNTA(Tabela1[#This Row]) = 18, 0, 1)), 0)","v":0},{"$f":"IF(X260 = 1, 0, IF(COUNTA(Tabela1[#This Row]) > 0, 1, 0))","v":0}]
[null,null,null,null,null,null,null,null,null,null,null,null,null,null,null,null,null,null,null,null,null,null,null,{"$f":"IF(COUNTA(Tabela1[#This Row]) > 0, IF(Tabela1[[#This Row],[TIPO CARTÃO]]  = \"0-SEM CARTÃO\",IF(COUNTA(Tabela1[#This Row]) = 22, 0, 1),IF(COUNTA(Tabela1[#This Row]) = 18, 0, 1)), 0)","v":0},{"$f":"IF(X261 = 1, 0, IF(COUNTA(Tabela1[#This Row]) > 0, 1, 0))","v":0}]
[null,null,null,null,null,null,null,null,null,null,null,null,null,null,null,null,null,null,null,null,null,null,null,{"$f":"IF(COUNTA(Tabela1[#This Row]) > 0, IF(Tabela1[[#This Row],[TIPO CARTÃO]]  = \"0-SEM CARTÃO\",IF(COUNTA(Tabela1[#This Row]) = 22, 0, 1),IF(COUNTA(Tabela1[#This Row]) = 18, 0, 1)), 0)","v":0},{"$f":"IF(X262 = 1, 0, IF(COUNTA(Tabela1[#This Row]) > 0, 1, 0))","v":0}]
[null,null,null,null,null,null,null,null,null,null,null,null,null,null,null,null,null,null,null,null,null,null,null,{"$f":"IF(COUNTA(Tabela1[#This Row]) > 0, IF(Tabela1[[#This Row],[TIPO CARTÃO]]  = \"0-SEM CARTÃO\",IF(COUNTA(Tabela1[#This Row]) = 22, 0, 1),IF(COUNTA(Tabela1[#This Row]) = 18, 0, 1)), 0)","v":0},{"$f":"IF(X263 = 1, 0, IF(COUNTA(Tabela1[#This Row]) > 0, 1, 0))","v":0}]
[null,null,null,null,null,null,null,null,null,null,null,null,null,null,null,null,null,null,null,null,null,null,null,{"$f":"IF(COUNTA(Tabela1[#This Row]) > 0, IF(Tabela1[[#This Row],[TIPO CARTÃO]]  = \"0-SEM CARTÃO\",IF(COUNTA(Tabela1[#This Row]) = 22, 0, 1),IF(COUNTA(Tabela1[#This Row]) = 18, 0, 1)), 0)","v":0},{"$f":"IF(X264 = 1, 0, IF(COUNTA(Tabela1[#This Row]) > 0, 1, 0))","v":0}]
[null,null,null,null,null,null,null,null,null,null,null,null,null,null,null,null,null,null,null,null,null,null,null,{"$f":"IF(COUNTA(Tabela1[#This Row]) > 0, IF(Tabela1[[#This Row],[TIPO CARTÃO]]  = \"0-SEM CARTÃO\",IF(COUNTA(Tabela1[#This Row]) = 22, 0, 1),IF(COUNTA(Tabela1[#This Row]) = 18, 0, 1)), 0)","v":0},{"$f":"IF(X265 = 1, 0, IF(COUNTA(Tabela1[#This Row]) > 0, 1, 0))","v":0}]
[null,null,null,null,null,null,null,null,null,null,null,null,null,null,null,null,null,null,null,null,null,null,null,{"$f":"IF(COUNTA(Tabela1[#This Row]) > 0, IF(Tabela1[[#This Row],[TIPO CARTÃO]]  = \"0-SEM CARTÃO\",IF(COUNTA(Tabela1[#This Row]) = 22, 0, 1),IF(COUNTA(Tabela1[#This Row]) = 18, 0, 1)), 0)","v":0},{"$f":"IF(X266 = 1, 0, IF(COUNTA(Tabela1[#This Row]) > 0, 1, 0))","v":0}]
[null,null,null,null,null,null,null,null,null,null,null,null,null,null,null,null,null,null,null,null,null,null,null,{"$f":"IF(COUNTA(Tabela1[#This Row]) > 0, IF(Tabela1[[#This Row],[TIPO CARTÃO]]  = \"0-SEM CARTÃO\",IF(COUNTA(Tabela1[#This Row]) = 22, 0, 1),IF(COUNTA(Tabela1[#This Row]) = 18, 0, 1)), 0)","v":0},{"$f":"IF(X267 = 1, 0, IF(COUNTA(Tabela1[#This Row]) > 0, 1, 0))","v":0}]
[null,null,null,null,null,null,null,null,null,null,null,null,null,null,null,null,null,null,null,null,null,null,null,{"$f":"IF(COUNTA(Tabela1[#This Row]) > 0, IF(Tabela1[[#This Row],[TIPO CARTÃO]]  = \"0-SEM CARTÃO\",IF(COUNTA(Tabela1[#This Row]) = 22, 0, 1),IF(COUNTA(Tabela1[#This Row]) = 18, 0, 1)), 0)","v":0},{"$f":"IF(X268 = 1, 0, IF(COUNTA(Tabela1[#This Row]) > 0, 1, 0))","v":0}]
[null,null,null,null,null,null,null,null,null,null,null,null,null,null,null,null,null,null,null,null,null,null,null,{"$f":"IF(COUNTA(Tabela1[#This Row]) > 0, IF(Tabela1[[#This Row],[TIPO CARTÃO]]  = \"0-SEM CARTÃO\",IF(COUNTA(Tabela1[#This Row]) = 22, 0, 1),IF(COUNTA(Tabela1[#This Row]) = 18, 0, 1)), 0)","v":0},{"$f":"IF(X269 = 1, 0, IF(COUNTA(Tabela1[#This Row]) > 0, 1, 0))","v":0}]
[null,null,null,null,null,null,null,null,null,null,null,null,null,null,null,null,null,null,null,null,null,null,null,{"$f":"IF(COUNTA(Tabela1[#This Row]) > 0, IF(Tabela1[[#This Row],[TIPO CARTÃO]]  = \"0-SEM CARTÃO\",IF(COUNTA(Tabela1[#This Row]) = 22, 0, 1),IF(COUNTA(Tabela1[#This Row]) = 18, 0, 1)), 0)","v":0},{"$f":"IF(X270 = 1, 0, IF(COUNTA(Tabela1[#This Row]) > 0, 1, 0))","v":0}]
[null,null,null,null,null,null,null,null,null,null,null,null,null,null,null,null,null,null,null,null,null,null,null,{"$f":"IF(COUNTA(Tabela1[#This Row]) > 0, IF(Tabela1[[#This Row],[TIPO CARTÃO]]  = \"0-SEM CARTÃO\",IF(COUNTA(Tabela1[#This Row]) = 22, 0, 1),IF(COUNTA(Tabela1[#This Row]) = 18, 0, 1)), 0)","v":0},{"$f":"IF(X271 = 1, 0, IF(COUNTA(Tabela1[#This Row]) > 0, 1, 0))","v":0}]
[null,null,null,null,null,null,null,null,null,null,null,null,null,null,null,null,null,null,null,null,null,null,null,{"$f":"IF(COUNTA(Tabela1[#This Row]) > 0, IF(Tabela1[[#This Row],[TIPO CARTÃO]]  = \"0-SEM CARTÃO\",IF(COUNTA(Tabela1[#This Row]) = 22, 0, 1),IF(COUNTA(Tabela1[#This Row]) = 18, 0, 1)), 0)","v":0},{"$f":"IF(X272 = 1, 0, IF(COUNTA(Tabela1[#This Row]) > 0, 1, 0))","v":0}]
[null,null,null,null,null,null,null,null,null,null,null,null,null,null,null,null,null,null,null,null,null,null,null,{"$f":"IF(COUNTA(Tabela1[#This Row]) > 0, IF(Tabela1[[#This Row],[TIPO CARTÃO]]  = \"0-SEM CARTÃO\",IF(COUNTA(Tabela1[#This Row]) = 22, 0, 1),IF(COUNTA(Tabela1[#This Row]) = 18, 0, 1)), 0)","v":0},{"$f":"IF(X273 = 1, 0, IF(COUNTA(Tabela1[#This Row]) > 0, 1, 0))","v":0}]
[null,null,null,null,null,null,null,null,null,null,null,null,null,null,null,null,null,null,null,null,null,null,null,{"$f":"IF(COUNTA(Tabela1[#This Row]) > 0, IF(Tabela1[[#This Row],[TIPO CARTÃO]]  = \"0-SEM CARTÃO\",IF(COUNTA(Tabela1[#This Row]) = 22, 0, 1),IF(COUNTA(Tabela1[#This Row]) = 18, 0, 1)), 0)","v":0},{"$f":"IF(X274 = 1, 0, IF(COUNTA(Tabela1[#This Row]) > 0, 1, 0))","v":0}]
[null,null,null,null,null,null,null,null,null,null,null,null,null,null,null,null,null,null,null,null,null,null,null,{"$f":"IF(COUNTA(Tabela1[#This Row]) > 0, IF(Tabela1[[#This Row],[TIPO CARTÃO]]  = \"0-SEM CARTÃO\",IF(COUNTA(Tabela1[#This Row]) = 22, 0, 1),IF(COUNTA(Tabela1[#This Row]) = 18, 0, 1)), 0)","v":0},{"$f":"IF(X275 = 1, 0, IF(COUNTA(Tabela1[#This Row]) > 0, 1, 0))","v":0}]
[null,null,null,null,null,null,null,null,null,null,null,null,null,null,null,null,null,null,null,null,null,null,null,{"$f":"IF(COUNTA(Tabela1[#This Row]) > 0, IF(Tabela1[[#This Row],[TIPO CARTÃO]]  = \"0-SEM CARTÃO\",IF(COUNTA(Tabela1[#This Row]) = 22, 0, 1),IF(COUNTA(Tabela1[#This Row]) = 18, 0, 1)), 0)","v":0},{"$f":"IF(X276 = 1, 0, IF(COUNTA(Tabela1[#This Row]) > 0, 1, 0))","v":0}]
[null,null,null,null,null,null,null,null,null,null,null,null,null,null,null,null,null,null,null,null,null,null,null,{"$f":"IF(COUNTA(Tabela1[#This Row]) > 0, IF(Tabela1[[#This Row],[TIPO CARTÃO]]  = \"0-SEM CARTÃO\",IF(COUNTA(Tabela1[#This Row]) = 22, 0, 1),IF(COUNTA(Tabela1[#This Row]) = 18, 0, 1)), 0)","v":0},{"$f":"IF(X277 = 1, 0, IF(COUNTA(Tabela1[#This Row]) > 0, 1, 0))","v":0}]
[null,null,null,null,null,null,null,null,null,null,null,null,null,null,null,null,null,null,null,null,null,null,null,{"$f":"IF(COUNTA(Tabela1[#This Row]) > 0, IF(Tabela1[[#This Row],[TIPO CARTÃO]]  = \"0-SEM CARTÃO\",IF(COUNTA(Tabela1[#This Row]) = 22, 0, 1),IF(COUNTA(Tabela1[#This Row]) = 18, 0, 1)), 0)","v":0},{"$f":"IF(X278 = 1, 0, IF(COUNTA(Tabela1[#This Row]) > 0, 1, 0))","v":0}]
[null,null,null,null,null,null,null,null,null,null,null,null,null,null,null,null,null,null,null,null,null,null,null,{"$f":"IF(COUNTA(Tabela1[#This Row]) > 0, IF(Tabela1[[#This Row],[TIPO CARTÃO]]  = \"0-SEM CARTÃO\",IF(COUNTA(Tabela1[#This Row]) = 22, 0, 1),IF(COUNTA(Tabela1[#This Row]) = 18, 0, 1)), 0)","v":0},{"$f":"IF(X279 = 1, 0, IF(COUNTA(Tabela1[#This Row]) > 0, 1, 0))","v":0}]
[null,null,null,null,null,null,null,null,null,null,null,null,null,null,null,null,null,null,null,null,null,null,null,{"$f":"IF(COUNTA(Tabela1[#This Row]) > 0, IF(Tabela1[[#This Row],[TIPO CARTÃO]]  = \"0-SEM CARTÃO\",IF(COUNTA(Tabela1[#This Row]) = 22, 0, 1),IF(COUNTA(Tabela1[#This Row]) = 18, 0, 1)), 0)","v":0},{"$f":"IF(X280 = 1, 0, IF(COUNTA(Tabela1[#This Row]) > 0, 1, 0))","v":0}]
[null,null,null,null,null,null,null,null,null,null,null,null,null,null,null,null,null,null,null,null,null,null,null,{"$f":"IF(COUNTA(Tabela1[#This Row]) > 0, IF(Tabela1[[#This Row],[TIPO CARTÃO]]  = \"0-SEM CARTÃO\",IF(COUNTA(Tabela1[#This Row]) = 22, 0, 1),IF(COUNTA(Tabela1[#This Row]) = 18, 0, 1)), 0)","v":0},{"$f":"IF(X281 = 1, 0, IF(COUNTA(Tabela1[#This Row]) > 0, 1, 0))","v":0}]
[null,null,null,null,null,null,null,null,null,null,null,null,null,null,null,null,null,null,null,null,null,null,null,{"$f":"IF(COUNTA(Tabela1[#This Row]) > 0, IF(Tabela1[[#This Row],[TIPO CARTÃO]]  = \"0-SEM CARTÃO\",IF(COUNTA(Tabela1[#This Row]) = 22, 0, 1),IF(COUNTA(Tabela1[#This Row]) = 18, 0, 1)), 0)","v":0},{"$f":"IF(X282 = 1, 0, IF(COUNTA(Tabela1[#This Row]) > 0, 1, 0))","v":0}]
[null,null,null,null,null,null,null,null,null,null,null,null,null,null,null,null,null,null,null,null,null,null,null,{"$f":"IF(COUNTA(Tabela1[#This Row]) > 0, IF(Tabela1[[#This Row],[TIPO CARTÃO]]  = \"0-SEM CARTÃO\",IF(COUNTA(Tabela1[#This Row]) = 22, 0, 1),IF(COUNTA(Tabela1[#This Row]) = 18, 0, 1)), 0)","v":0},{"$f":"IF(X283 = 1, 0, IF(COUNTA(Tabela1[#This Row]) > 0, 1, 0))","v":0}]
[null,null,null,null,null,null,null,null,null,null,null,null,null,null,null,null,null,null,null,null,null,null,null,{"$f":"IF(COUNTA(Tabela1[#This Row]) > 0, IF(Tabela1[[#This Row],[TIPO CARTÃO]]  = \"0-SEM CARTÃO\",IF(COUNTA(Tabela1[#This Row]) = 22, 0, 1),IF(COUNTA(Tabela1[#This Row]) = 18, 0, 1)), 0)","v":0},{"$f":"IF(X284 = 1, 0, IF(COUNTA(Tabela1[#This Row]) > 0, 1, 0))","v":0}]
[null,null,null,null,null,null,null,null,null,null,null,null,null,null,null,null,null,null,null,null,null,null,null,{"$f":"IF(COUNTA(Tabela1[#This Row]) > 0, IF(Tabela1[[#This Row],[TIPO CARTÃO]]  = \"0-SEM CARTÃO\",IF(COUNTA(Tabela1[#This Row]) = 22, 0, 1),IF(COUNTA(Tabela1[#This Row]) = 18, 0, 1)), 0)","v":0},{"$f":"IF(X285 = 1, 0, IF(COUNTA(Tabela1[#This Row]) > 0, 1, 0))","v":0}]
[null,null,null,null,null,null,null,null,null,null,null,null,null,null,null,null,null,null,null,null,null,null,null,{"$f":"IF(COUNTA(Tabela1[#This Row]) > 0, IF(Tabela1[[#This Row],[TIPO CARTÃO]]  = \"0-SEM CARTÃO\",IF(COUNTA(Tabela1[#This Row]) = 22, 0, 1),IF(COUNTA(Tabela1[#This Row]) = 18, 0, 1)), 0)","v":0},{"$f":"IF(X286 = 1, 0, IF(COUNTA(Tabela1[#This Row]) > 0, 1, 0))","v":0}]
[null,null,null,null,null,null,null,null,null,null,null,null,null,null,null,null,null,null,null,null,null,null,null,{"$f":"IF(COUNTA(Tabela1[#This Row]) > 0, IF(Tabela1[[#This Row],[TIPO CARTÃO]]  = \"0-SEM CARTÃO\",IF(COUNTA(Tabela1[#This Row]) = 22, 0, 1),IF(COUNTA(Tabela1[#This Row]) = 18, 0, 1)), 0)","v":0},{"$f":"IF(X287 = 1, 0, IF(COUNTA(Tabela1[#This Row]) > 0, 1, 0))","v":0}]
[null,null,null,null,null,null,null,null,null,null,null,null,null,null,null,null,null,null,null,null,null,null,null,{"$f":"IF(COUNTA(Tabela1[#This Row]) > 0, IF(Tabela1[[#This Row],[TIPO CARTÃO]]  = \"0-SEM CARTÃO\",IF(COUNTA(Tabela1[#This Row]) = 22, 0, 1),IF(COUNTA(Tabela1[#This Row]) = 18, 0, 1)), 0)","v":0},{"$f":"IF(X288 = 1, 0, IF(COUNTA(Tabela1[#This Row]) > 0, 1, 0))","v":0}]
[null,null,null,null,null,null,null,null,null,null,null,null,null,null,null,null,null,null,null,null,null,null,null,{"$f":"IF(COUNTA(Tabela1[#This Row]) > 0, IF(Tabela1[[#This Row],[TIPO CARTÃO]]  = \"0-SEM CARTÃO\",IF(COUNTA(Tabela1[#This Row]) = 22, 0, 1),IF(COUNTA(Tabela1[#This Row]) = 18, 0, 1)), 0)","v":0},{"$f":"IF(X289 = 1, 0, IF(COUNTA(Tabela1[#This Row]) > 0, 1, 0))","v":0}]
[null,null,null,null,null,null,null,null,null,null,null,null,null,null,null,null,null,null,null,null,null,null,null,{"$f":"IF(COUNTA(Tabela1[#This Row]) > 0, IF(Tabela1[[#This Row],[TIPO CARTÃO]]  = \"0-SEM CARTÃO\",IF(COUNTA(Tabela1[#This Row]) = 22, 0, 1),IF(COUNTA(Tabela1[#This Row]) = 18, 0, 1)), 0)","v":0},{"$f":"IF(X290 = 1, 0, IF(COUNTA(Tabela1[#This Row]) > 0, 1, 0))","v":0}]
[null,null,null,null,null,null,null,null,null,null,null,null,null,null,null,null,null,null,null,null,null,null,null,{"$f":"IF(COUNTA(Tabela1[#This Row]) > 0, IF(Tabela1[[#This Row],[TIPO CARTÃO]]  = \"0-SEM CARTÃO\",IF(COUNTA(Tabela1[#This Row]) = 22, 0, 1),IF(COUNTA(Tabela1[#This Row]) = 18, 0, 1)), 0)","v":0},{"$f":"IF(X291 = 1, 0, IF(COUNTA(Tabela1[#This Row]) > 0, 1, 0))","v":0}]
[null,null,null,null,null,null,null,null,null,null,null,null,null,null,null,null,null,null,null,null,null,null,null,{"$f":"IF(COUNTA(Tabela1[#This Row]) > 0, IF(Tabela1[[#This Row],[TIPO CARTÃO]]  = \"0-SEM CARTÃO\",IF(COUNTA(Tabela1[#This Row]) = 22, 0, 1),IF(COUNTA(Tabela1[#This Row]) = 18, 0, 1)), 0)","v":0},{"$f":"IF(X292 = 1, 0, IF(COUNTA(Tabela1[#This Row]) > 0, 1, 0))","v":0}]
[null,null,null,null,null,null,null,null,null,null,null,null,null,null,null,null,null,null,null,null,null,null,null,{"$f":"IF(COUNTA(Tabela1[#This Row]) > 0, IF(Tabela1[[#This Row],[TIPO CARTÃO]]  = \"0-SEM CARTÃO\",IF(COUNTA(Tabela1[#This Row]) = 22, 0, 1),IF(COUNTA(Tabela1[#This Row]) = 18, 0, 1)), 0)","v":0},{"$f":"IF(X293 = 1, 0, IF(COUNTA(Tabela1[#This Row]) > 0, 1, 0))","v":0}]
[null,null,null,null,null,null,null,null,null,null,null,null,null,null,null,null,null,null,null,null,null,null,null,{"$f":"IF(COUNTA(Tabela1[#This Row]) > 0, IF(Tabela1[[#This Row],[TIPO CARTÃO]]  = \"0-SEM CARTÃO\",IF(COUNTA(Tabela1[#This Row]) = 22, 0, 1),IF(COUNTA(Tabela1[#This Row]) = 18, 0, 1)), 0)","v":0},{"$f":"IF(X294 = 1, 0, IF(COUNTA(Tabela1[#This Row]) > 0, 1, 0))","v":0}]
[null,null,null,null,null,null,null,null,null,null,null,null,null,null,null,null,null,null,null,null,null,null,null,{"$f":"IF(COUNTA(Tabela1[#This Row]) > 0, IF(Tabela1[[#This Row],[TIPO CARTÃO]]  = \"0-SEM CARTÃO\",IF(COUNTA(Tabela1[#This Row]) = 22, 0, 1),IF(COUNTA(Tabela1[#This Row]) = 18, 0, 1)), 0)","v":0},{"$f":"IF(X295 = 1, 0, IF(COUNTA(Tabela1[#This Row]) > 0, 1, 0))","v":0}]
[null,null,null,null,null,null,null,null,null,null,null,null,null,null,null,null,null,null,null,null,null,null,null,{"$f":"IF(COUNTA(Tabela1[#This Row]) > 0, IF(Tabela1[[#This Row],[TIPO CARTÃO]]  = \"0-SEM CARTÃO\",IF(COUNTA(Tabela1[#This Row]) = 22, 0, 1),IF(COUNTA(Tabela1[#This Row]) = 18, 0, 1)), 0)","v":0},{"$f":"IF(X296 = 1, 0, IF(COUNTA(Tabela1[#This Row]) > 0, 1, 0))","v":0}]
[null,null,null,null,null,null,null,null,null,null,null,null,null,null,null,null,null,null,null,null,null,null,null,{"$f":"IF(COUNTA(Tabela1[#This Row]) > 0, IF(Tabela1[[#This Row],[TIPO CARTÃO]]  = \"0-SEM CARTÃO\",IF(COUNTA(Tabela1[#This Row]) = 22, 0, 1),IF(COUNTA(Tabela1[#This Row]) = 18, 0, 1)), 0)","v":0},{"$f":"IF(X297 = 1, 0, IF(COUNTA(Tabela1[#This Row]) > 0, 1, 0))","v":0}]
[null,null,null,null,null,null,null,null,null,null,null,null,null,null,null,null,null,null,null,null,null,null,null,{"$f":"IF(COUNTA(Tabela1[#This Row]) > 0, IF(Tabela1[[#This Row],[TIPO CARTÃO]]  = \"0-SEM CARTÃO\",IF(COUNTA(Tabela1[#This Row]) = 22, 0, 1),IF(COUNTA(Tabela1[#This Row]) = 18, 0, 1)), 0)","v":0},{"$f":"IF(X298 = 1, 0, IF(COUNTA(Tabela1[#This Row]) > 0, 1, 0))","v":0}]
[null,null,null,null,null,null,null,null,null,null,null,null,null,null,null,null,null,null,null,null,null,null,null,{"$f":"IF(COUNTA(Tabela1[#This Row]) > 0, IF(Tabela1[[#This Row],[TIPO CARTÃO]]  = \"0-SEM CARTÃO\",IF(COUNTA(Tabela1[#This Row]) = 22, 0, 1),IF(COUNTA(Tabela1[#This Row]) = 18, 0, 1)), 0)","v":0},{"$f":"IF(X299 = 1, 0, IF(COUNTA(Tabela1[#This Row]) > 0, 1, 0))","v":0}]
[null,null,null,null,null,null,null,null,null,null,null,null,null,null,null,null,null,null,null,null,null,null,null,{"$f":"IF(COUNTA(Tabela1[#This Row]) > 0, IF(Tabela1[[#This Row],[TIPO CARTÃO]]  = \"0-SEM CARTÃO\",IF(COUNTA(Tabela1[#This Row]) = 22, 0, 1),IF(COUNTA(Tabela1[#This Row]) = 18, 0, 1)), 0)","v":0},{"$f":"IF(X300 = 1, 0, IF(COUNTA(Tabela1[#This Row]) > 0, 1, 0))","v":0}]
[null,null,null,null,null,null,null,null,null,null,null,null,null,null,null,null,null,null,null,null,null,null,null,{"$f":"IF(COUNTA(Tabela1[#This Row]) > 0, IF(Tabela1[[#This Row],[TIPO CARTÃO]]  = \"0-SEM CARTÃO\",IF(COUNTA(Tabela1[#This Row]) = 22, 0, 1),IF(COUNTA(Tabela1[#This Row]) = 18, 0, 1)), 0)","v":0},{"$f":"IF(X301 = 1, 0, IF(COUNTA(Tabela1[#This Row]) > 0, 1, 0))","v":0}]
[null,null,null,null,null,null,null,null,null,null,null,null,null,null,null,null,null,null,null,null,null,null,null,{"$f":"IF(COUNTA(Tabela1[#This Row]) > 0, IF(Tabela1[[#This Row],[TIPO CARTÃO]]  = \"0-SEM CARTÃO\",IF(COUNTA(Tabela1[#This Row]) = 22, 0, 1),IF(COUNTA(Tabela1[#This Row]) = 18, 0, 1)), 0)","v":0},{"$f":"IF(X302 = 1, 0, IF(COUNTA(Tabela1[#This Row]) > 0, 1, 0))","v":0}]
[null,null,null,null,null,null,null,null,null,null,null,null,null,null,null,null,null,null,null,null,null,null,null,{"$f":"IF(COUNTA(Tabela1[#This Row]) > 0, IF(Tabela1[[#This Row],[TIPO CARTÃO]]  = \"0-SEM CARTÃO\",IF(COUNTA(Tabela1[#This Row]) = 22, 0, 1),IF(COUNTA(Tabela1[#This Row]) = 18, 0, 1)), 0)","v":0},{"$f":"IF(X303 = 1, 0, IF(COUNTA(Tabela1[#This Row]) > 0, 1, 0))","v":0}]
[null,null,null,null,null,null,null,null,null,null,null,null,null,null,null,null,null,null,null,null,null,null,null,{"$f":"IF(COUNTA(Tabela1[#This Row]) > 0, IF(Tabela1[[#This Row],[TIPO CARTÃO]]  = \"0-SEM CARTÃO\",IF(COUNTA(Tabela1[#This Row]) = 22, 0, 1),IF(COUNTA(Tabela1[#This Row]) = 18, 0, 1)), 0)","v":0},{"$f":"IF(X304 = 1, 0, IF(COUNTA(Tabela1[#This Row]) > 0, 1, 0))","v":0}]
[null,null,null,null,null,null,null,null,null,null,null,null,null,null,null,null,null,null,null,null,null,null,null,{"$f":"IF(COUNTA(Tabela1[#This Row]) > 0, IF(Tabela1[[#This Row],[TIPO CARTÃO]]  = \"0-SEM CARTÃO\",IF(COUNTA(Tabela1[#This Row]) = 22, 0, 1),IF(COUNTA(Tabela1[#This Row]) = 18, 0, 1)), 0)","v":0},{"$f":"IF(X305 = 1, 0, IF(COUNTA(Tabela1[#This Row]) > 0, 1, 0))","v":0}]
[null,null,null,null,null,null,null,null,null,null,null,null,null,null,null,null,null,null,null,null,null,null,null,{"$f":"IF(COUNTA(Tabela1[#This Row]) > 0, IF(Tabela1[[#This Row],[TIPO CARTÃO]]  = \"0-SEM CARTÃO\",IF(COUNTA(Tabela1[#This Row]) = 22, 0, 1),IF(COUNTA(Tabela1[#This Row]) = 18, 0, 1)), 0)","v":0},{"$f":"IF(X306 = 1, 0, IF(COUNTA(Tabela1[#This Row]) > 0, 1, 0))","v":0}]
[null,null,null,null,null,null,null,null,null,null,null,null,null,null,null,null,null,null,null,null,null,null,null,{"$f":"IF(COUNTA(Tabela1[#This Row]) > 0, IF(Tabela1[[#This Row],[TIPO CARTÃO]]  = \"0-SEM CARTÃO\",IF(COUNTA(Tabela1[#This Row]) = 22, 0, 1),IF(COUNTA(Tabela1[#This Row]) = 18, 0, 1)), 0)","v":0},{"$f":"IF(X307 = 1, 0, IF(COUNTA(Tabela1[#This Row]) > 0, 1, 0))","v":0}]
[null,null,null,null,null,null,null,null,null,null,null,null,null,null,null,null,null,null,null,null,null,null,null,{"$f":"IF(COUNTA(Tabela1[#This Row]) > 0, IF(Tabela1[[#This Row],[TIPO CARTÃO]]  = \"0-SEM CARTÃO\",IF(COUNTA(Tabela1[#This Row]) = 22, 0, 1),IF(COUNTA(Tabela1[#This Row]) = 18, 0, 1)), 0)","v":0},{"$f":"IF(X308 = 1, 0, IF(COUNTA(Tabela1[#This Row]) > 0, 1, 0))","v":0}]
[null,null,null,null,null,null,null,null,null,null,null,null,null,null,null,null,null,null,null,null,null,null,null,{"$f":"IF(COUNTA(Tabela1[#This Row]) > 0, IF(Tabela1[[#This Row],[TIPO CARTÃO]]  = \"0-SEM CARTÃO\",IF(COUNTA(Tabela1[#This Row]) = 22, 0, 1),IF(COUNTA(Tabela1[#This Row]) = 18, 0, 1)), 0)","v":0},{"$f":"IF(X309 = 1, 0, IF(COUNTA(Tabela1[#This Row]) > 0, 1, 0))","v":0}]
[null,null,null,null,null,null,null,null,null,null,null,null,null,null,null,null,null,null,null,null,null,null,null,{"$f":"IF(COUNTA(Tabela1[#This Row]) > 0, IF(Tabela1[[#This Row],[TIPO CARTÃO]]  = \"0-SEM CARTÃO\",IF(COUNTA(Tabela1[#This Row]) = 22, 0, 1),IF(COUNTA(Tabela1[#This Row]) = 18, 0, 1)), 0)","v":0},{"$f":"IF(X310 = 1, 0, IF(COUNTA(Tabela1[#This Row]) > 0, 1, 0))","v":0}]
[null,null,null,null,null,null,null,null,null,null,null,null,null,null,null,null,null,null,null,null,null,null,null,{"$f":"IF(COUNTA(Tabela1[#This Row]) > 0, IF(Tabela1[[#This Row],[TIPO CARTÃO]]  = \"0-SEM CARTÃO\",IF(COUNTA(Tabela1[#This Row]) = 22, 0, 1),IF(COUNTA(Tabela1[#This Row]) = 18, 0, 1)), 0)","v":0},{"$f":"IF(X311 = 1, 0, IF(COUNTA(Tabela1[#This Row]) > 0, 1, 0))","v":0}]
[null,null,null,null,null,null,null,null,null,null,null,null,null,null,null,null,null,null,null,null,null,null,null,{"$f":"IF(COUNTA(Tabela1[#This Row]) > 0, IF(Tabela1[[#This Row],[TIPO CARTÃO]]  = \"0-SEM CARTÃO\",IF(COUNTA(Tabela1[#This Row]) = 22, 0, 1),IF(COUNTA(Tabela1[#This Row]) = 18, 0, 1)), 0)","v":0},{"$f":"IF(X312 = 1, 0, IF(COUNTA(Tabela1[#This Row]) > 0, 1, 0))","v":0}]
[null,null,null,null,null,null,null,null,null,null,null,null,null,null,null,null,null,null,null,null,null,null,null,{"$f":"IF(COUNTA(Tabela1[#This Row]) > 0, IF(Tabela1[[#This Row],[TIPO CARTÃO]]  = \"0-SEM CARTÃO\",IF(COUNTA(Tabela1[#This Row]) = 22, 0, 1),IF(COUNTA(Tabela1[#This Row]) = 18, 0, 1)), 0)","v":0},{"$f":"IF(X313 = 1, 0, IF(COUNTA(Tabela1[#This Row]) > 0, 1, 0))","v":0}]
[null,null,null,null,null,null,null,null,null,null,null,null,null,null,null,null,null,null,null,null,null,null,null,{"$f":"IF(COUNTA(Tabela1[#This Row]) > 0, IF(Tabela1[[#This Row],[TIPO CARTÃO]]  = \"0-SEM CARTÃO\",IF(COUNTA(Tabela1[#This Row]) = 22, 0, 1),IF(COUNTA(Tabela1[#This Row]) = 18, 0, 1)), 0)","v":0},{"$f":"IF(X314 = 1, 0, IF(COUNTA(Tabela1[#This Row]) > 0, 1, 0))","v":0}]
[null,null,null,null,null,null,null,null,null,null,null,null,null,null,null,null,null,null,null,null,null,null,null,{"$f":"IF(COUNTA(Tabela1[#This Row]) > 0, IF(Tabela1[[#This Row],[TIPO CARTÃO]]  = \"0-SEM CARTÃO\",IF(COUNTA(Tabela1[#This Row]) = 22, 0, 1),IF(COUNTA(Tabela1[#This Row]) = 18, 0, 1)), 0)","v":0},{"$f":"IF(X315 = 1, 0, IF(COUNTA(Tabela1[#This Row]) > 0, 1, 0))","v":0}]
[null,null,null,null,null,null,null,null,null,null,null,null,null,null,null,null,null,null,null,null,null,null,null,{"$f":"IF(COUNTA(Tabela1[#This Row]) > 0, IF(Tabela1[[#This Row],[TIPO CARTÃO]]  = \"0-SEM CARTÃO\",IF(COUNTA(Tabela1[#This Row]) = 22, 0, 1),IF(COUNTA(Tabela1[#This Row]) = 18, 0, 1)), 0)","v":0},{"$f":"IF(X316 = 1, 0, IF(COUNTA(Tabela1[#This Row]) > 0, 1, 0))","v":0}]
[null,null,null,null,null,null,null,null,null,null,null,null,null,null,null,null,null,null,null,null,null,null,null,{"$f":"IF(COUNTA(Tabela1[#This Row]) > 0, IF(Tabela1[[#This Row],[TIPO CARTÃO]]  = \"0-SEM CARTÃO\",IF(COUNTA(Tabela1[#This Row]) = 22, 0, 1),IF(COUNTA(Tabela1[#This Row]) = 18, 0, 1)), 0)","v":0},{"$f":"IF(X317 = 1, 0, IF(COUNTA(Tabela1[#This Row]) > 0, 1, 0))","v":0}]
[null,null,null,null,null,null,null,null,null,null,null,null,null,null,null,null,null,null,null,null,null,null,null,{"$f":"IF(COUNTA(Tabela1[#This Row]) > 0, IF(Tabela1[[#This Row],[TIPO CARTÃO]]  = \"0-SEM CARTÃO\",IF(COUNTA(Tabela1[#This Row]) = 22, 0, 1),IF(COUNTA(Tabela1[#This Row]) = 18, 0, 1)), 0)","v":0},{"$f":"IF(X318 = 1, 0, IF(COUNTA(Tabela1[#This Row]) > 0, 1, 0))","v":0}]
[null,null,null,null,null,null,null,null,null,null,null,null,null,null,null,null,null,null,null,null,null,null,null,{"$f":"IF(COUNTA(Tabela1[#This Row]) > 0, IF(Tabela1[[#This Row],[TIPO CARTÃO]]  = \"0-SEM CARTÃO\",IF(COUNTA(Tabela1[#This Row]) = 22, 0, 1),IF(COUNTA(Tabela1[#This Row]) = 18, 0, 1)), 0)","v":0},{"$f":"IF(X319 = 1, 0, IF(COUNTA(Tabela1[#This Row]) > 0, 1, 0))","v":0}]
[null,null,null,null,null,null,null,null,null,null,null,null,null,null,null,null,null,null,null,null,null,null,null,{"$f":"IF(COUNTA(Tabela1[#This Row]) > 0, IF(Tabela1[[#This Row],[TIPO CARTÃO]]  = \"0-SEM CARTÃO\",IF(COUNTA(Tabela1[#This Row]) = 22, 0, 1),IF(COUNTA(Tabela1[#This Row]) = 18, 0, 1)), 0)","v":0},{"$f":"IF(X320 = 1, 0, IF(COUNTA(Tabela1[#This Row]) > 0, 1, 0))","v":0}]
[null,null,null,null,null,null,null,null,null,null,null,null,null,null,null,null,null,null,null,null,null,null,null,{"$f":"IF(COUNTA(Tabela1[#This Row]) > 0, IF(Tabela1[[#This Row],[TIPO CARTÃO]]  = \"0-SEM CARTÃO\",IF(COUNTA(Tabela1[#This Row]) = 22, 0, 1),IF(COUNTA(Tabela1[#This Row]) = 18, 0, 1)), 0)","v":0},{"$f":"IF(X321 = 1, 0, IF(COUNTA(Tabela1[#This Row]) > 0, 1, 0))","v":0}]
[null,null,null,null,null,null,null,null,null,null,null,null,null,null,null,null,null,null,null,null,null,null,null,{"$f":"IF(COUNTA(Tabela1[#This Row]) > 0, IF(Tabela1[[#This Row],[TIPO CARTÃO]]  = \"0-SEM CARTÃO\",IF(COUNTA(Tabela1[#This Row]) = 22, 0, 1),IF(COUNTA(Tabela1[#This Row]) = 18, 0, 1)), 0)","v":0},{"$f":"IF(X322 = 1, 0, IF(COUNTA(Tabela1[#This Row]) > 0, 1, 0))","v":0}]
[null,null,null,null,null,null,null,null,null,null,null,null,null,null,null,null,null,null,null,null,null,null,null,{"$f":"IF(COUNTA(Tabela1[#This Row]) > 0, IF(Tabela1[[#This Row],[TIPO CARTÃO]]  = \"0-SEM CARTÃO\",IF(COUNTA(Tabela1[#This Row]) = 22, 0, 1),IF(COUNTA(Tabela1[#This Row]) = 18, 0, 1)), 0)","v":0},{"$f":"IF(X323 = 1, 0, IF(COUNTA(Tabela1[#This Row]) > 0, 1, 0))","v":0}]
[null,null,null,null,null,null,null,null,null,null,null,null,null,null,null,null,null,null,null,null,null,null,null,{"$f":"IF(COUNTA(Tabela1[#This Row]) > 0, IF(Tabela1[[#This Row],[TIPO CARTÃO]]  = \"0-SEM CARTÃO\",IF(COUNTA(Tabela1[#This Row]) = 22, 0, 1),IF(COUNTA(Tabela1[#This Row]) = 18, 0, 1)), 0)","v":0},{"$f":"IF(X324 = 1, 0, IF(COUNTA(Tabela1[#This Row]) > 0, 1, 0))","v":0}]
[null,null,null,null,null,null,null,null,null,null,null,null,null,null,null,null,null,null,null,null,null,null,null,{"$f":"IF(COUNTA(Tabela1[#This Row]) > 0, IF(Tabela1[[#This Row],[TIPO CARTÃO]]  = \"0-SEM CARTÃO\",IF(COUNTA(Tabela1[#This Row]) = 22, 0, 1),IF(COUNTA(Tabela1[#This Row]) = 18, 0, 1)), 0)","v":0},{"$f":"IF(X325 = 1, 0, IF(COUNTA(Tabela1[#This Row]) > 0, 1, 0))","v":0}]
[null,null,null,null,null,null,null,null,null,null,null,null,null,null,null,null,null,null,null,null,null,null,null,{"$f":"IF(COUNTA(Tabela1[#This Row]) > 0, IF(Tabela1[[#This Row],[TIPO CARTÃO]]  = \"0-SEM CARTÃO\",IF(COUNTA(Tabela1[#This Row]) = 22, 0, 1),IF(COUNTA(Tabela1[#This Row]) = 18, 0, 1)), 0)","v":0},{"$f":"IF(X326 = 1, 0, IF(COUNTA(Tabela1[#This Row]) > 0, 1, 0))","v":0}]
[null,null,null,null,null,null,null,null,null,null,null,null,null,null,null,null,null,null,null,null,null,null,null,{"$f":"IF(COUNTA(Tabela1[#This Row]) > 0, IF(Tabela1[[#This Row],[TIPO CARTÃO]]  = \"0-SEM CARTÃO\",IF(COUNTA(Tabela1[#This Row]) = 22, 0, 1),IF(COUNTA(Tabela1[#This Row]) = 18, 0, 1)), 0)","v":0},{"$f":"IF(X327 = 1, 0, IF(COUNTA(Tabela1[#This Row]) > 0, 1, 0))","v":0}]
[null,null,null,null,null,null,null,null,null,null,null,null,null,null,null,null,null,null,null,null,null,null,null,{"$f":"IF(COUNTA(Tabela1[#This Row]) > 0, IF(Tabela1[[#This Row],[TIPO CARTÃO]]  = \"0-SEM CARTÃO\",IF(COUNTA(Tabela1[#This Row]) = 22, 0, 1),IF(COUNTA(Tabela1[#This Row]) = 18, 0, 1)), 0)","v":0},{"$f":"IF(X328 = 1, 0, IF(COUNTA(Tabela1[#This Row]) > 0, 1, 0))","v":0}]
[null,null,null,null,null,null,null,null,null,null,null,null,null,null,null,null,null,null,null,null,null,null,null,{"$f":"IF(COUNTA(Tabela1[#This Row]) > 0, IF(Tabela1[[#This Row],[TIPO CARTÃO]]  = \"0-SEM CARTÃO\",IF(COUNTA(Tabela1[#This Row]) = 22, 0, 1),IF(COUNTA(Tabela1[#This Row]) = 18, 0, 1)), 0)","v":0},{"$f":"IF(X329 = 1, 0, IF(COUNTA(Tabela1[#This Row]) > 0, 1, 0))","v":0}]
[null,null,null,null,null,null,null,null,null,null,null,null,null,null,null,null,null,null,null,null,null,null,null,{"$f":"IF(COUNTA(Tabela1[#This Row]) > 0, IF(Tabela1[[#This Row],[TIPO CARTÃO]]  = \"0-SEM CARTÃO\",IF(COUNTA(Tabela1[#This Row]) = 22, 0, 1),IF(COUNTA(Tabela1[#This Row]) = 18, 0, 1)), 0)","v":0},{"$f":"IF(X330 = 1, 0, IF(COUNTA(Tabela1[#This Row]) > 0, 1, 0))","v":0}]
[null,null,null,null,null,null,null,null,null,null,null,null,null,null,null,null,null,null,null,null,null,null,null,{"$f":"IF(COUNTA(Tabela1[#This Row]) > 0, IF(Tabela1[[#This Row],[TIPO CARTÃO]]  = \"0-SEM CARTÃO\",IF(COUNTA(Tabela1[#This Row]) = 22, 0, 1),IF(COUNTA(Tabela1[#This Row]) = 18, 0, 1)), 0)","v":0},{"$f":"IF(X331 = 1, 0, IF(COUNTA(Tabela1[#This Row]) > 0, 1, 0))","v":0}]
[null,null,null,null,null,null,null,null,null,null,null,null,null,null,null,null,null,null,null,null,null,null,null,{"$f":"IF(COUNTA(Tabela1[#This Row]) > 0, IF(Tabela1[[#This Row],[TIPO CARTÃO]]  = \"0-SEM CARTÃO\",IF(COUNTA(Tabela1[#This Row]) = 22, 0, 1),IF(COUNTA(Tabela1[#This Row]) = 18, 0, 1)), 0)","v":0},{"$f":"IF(X332 = 1, 0, IF(COUNTA(Tabela1[#This Row]) > 0, 1, 0))","v":0}]
[null,null,null,null,null,null,null,null,null,null,null,null,null,null,null,null,null,null,null,null,null,null,null,{"$f":"IF(COUNTA(Tabela1[#This Row]) > 0, IF(Tabela1[[#This Row],[TIPO CARTÃO]]  = \"0-SEM CARTÃO\",IF(COUNTA(Tabela1[#This Row]) = 22, 0, 1),IF(COUNTA(Tabela1[#This Row]) = 18, 0, 1)), 0)","v":0},{"$f":"IF(X333 = 1, 0, IF(COUNTA(Tabela1[#This Row]) > 0, 1, 0))","v":0}]
[null,null,null,null,null,null,null,null,null,null,null,null,null,null,null,null,null,null,null,null,null,null,null,{"$f":"IF(COUNTA(Tabela1[#This Row]) > 0, IF(Tabela1[[#This Row],[TIPO CARTÃO]]  = \"0-SEM CARTÃO\",IF(COUNTA(Tabela1[#This Row]) = 22, 0, 1),IF(COUNTA(Tabela1[#This Row]) = 18, 0, 1)), 0)","v":0},{"$f":"IF(X334 = 1, 0, IF(COUNTA(Tabela1[#This Row]) > 0, 1, 0))","v":0}]
[null,null,null,null,null,null,null,null,null,null,null,null,null,null,null,null,null,null,null,null,null,null,null,{"$f":"IF(COUNTA(Tabela1[#This Row]) > 0, IF(Tabela1[[#This Row],[TIPO CARTÃO]]  = \"0-SEM CARTÃO\",IF(COUNTA(Tabela1[#This Row]) = 22, 0, 1),IF(COUNTA(Tabela1[#This Row]) = 18, 0, 1)), 0)","v":0},{"$f":"IF(X335 = 1, 0, IF(COUNTA(Tabela1[#This Row]) > 0, 1, 0))","v":0}]
[null,null,null,null,null,null,null,null,null,null,null,null,null,null,null,null,null,null,null,null,null,null,null,{"$f":"IF(COUNTA(Tabela1[#This Row]) > 0, IF(Tabela1[[#This Row],[TIPO CARTÃO]]  = \"0-SEM CARTÃO\",IF(COUNTA(Tabela1[#This Row]) = 22, 0, 1),IF(COUNTA(Tabela1[#This Row]) = 18, 0, 1)), 0)","v":0},{"$f":"IF(X336 = 1, 0, IF(COUNTA(Tabela1[#This Row]) > 0, 1, 0))","v":0}]
[null,null,null,null,null,null,null,null,null,null,null,null,null,null,null,null,null,null,null,null,null,null,null,{"$f":"IF(COUNTA(Tabela1[#This Row]) > 0, IF(Tabela1[[#This Row],[TIPO CARTÃO]]  = \"0-SEM CARTÃO\",IF(COUNTA(Tabela1[#This Row]) = 22, 0, 1),IF(COUNTA(Tabela1[#This Row]) = 18, 0, 1)), 0)","v":0},{"$f":"IF(X337 = 1, 0, IF(COUNTA(Tabela1[#This Row]) > 0, 1, 0))","v":0}]
[null,null,null,null,null,null,null,null,null,null,null,null,null,null,null,null,null,null,null,null,null,null,null,{"$f":"IF(COUNTA(Tabela1[#This Row]) > 0, IF(Tabela1[[#This Row],[TIPO CARTÃO]]  = \"0-SEM CARTÃO\",IF(COUNTA(Tabela1[#This Row]) = 22, 0, 1),IF(COUNTA(Tabela1[#This Row]) = 18, 0, 1)), 0)","v":0},{"$f":"IF(X338 = 1, 0, IF(COUNTA(Tabela1[#This Row]) > 0, 1, 0))","v":0}]
[null,null,null,null,null,null,null,null,null,null,null,null,null,null,null,null,null,null,null,null,null,null,null,{"$f":"IF(COUNTA(Tabela1[#This Row]) > 0, IF(Tabela1[[#This Row],[TIPO CARTÃO]]  = \"0-SEM CARTÃO\",IF(COUNTA(Tabela1[#This Row]) = 22, 0, 1),IF(COUNTA(Tabela1[#This Row]) = 18, 0, 1)), 0)","v":0},{"$f":"IF(X339 = 1, 0, IF(COUNTA(Tabela1[#This Row]) > 0, 1, 0))","v":0}]
[null,null,null,null,null,null,null,null,null,null,null,null,null,null,null,null,null,null,null,null,null,null,null,{"$f":"IF(COUNTA(Tabela1[#This Row]) > 0, IF(Tabela1[[#This Row],[TIPO CARTÃO]]  = \"0-SEM CARTÃO\",IF(COUNTA(Tabela1[#This Row]) = 22, 0, 1),IF(COUNTA(Tabela1[#This Row]) = 18, 0, 1)), 0)","v":0},{"$f":"IF(X340 = 1, 0, IF(COUNTA(Tabela1[#This Row]) > 0, 1, 0))","v":0}]
[null,null,null,null,null,null,null,null,null,null,null,null,null,null,null,null,null,null,null,null,null,null,null,{"$f":"IF(COUNTA(Tabela1[#This Row]) > 0, IF(Tabela1[[#This Row],[TIPO CARTÃO]]  = \"0-SEM CARTÃO\",IF(COUNTA(Tabela1[#This Row]) = 22, 0, 1),IF(COUNTA(Tabela1[#This Row]) = 18, 0, 1)), 0)","v":0},{"$f":"IF(X341 = 1, 0, IF(COUNTA(Tabela1[#This Row]) > 0, 1, 0))","v":0}]
[null,null,null,null,null,null,null,null,null,null,null,null,null,null,null,null,null,null,null,null,null,null,null,{"$f":"IF(COUNTA(Tabela1[#This Row]) > 0, IF(Tabela1[[#This Row],[TIPO CARTÃO]]  = \"0-SEM CARTÃO\",IF(COUNTA(Tabela1[#This Row]) = 22, 0, 1),IF(COUNTA(Tabela1[#This Row]) = 18, 0, 1)), 0)","v":0},{"$f":"IF(X342 = 1, 0, IF(COUNTA(Tabela1[#This Row]) > 0, 1, 0))","v":0}]
[null,null,null,null,null,null,null,null,null,null,null,null,null,null,null,null,null,null,null,null,null,null,null,{"$f":"IF(COUNTA(Tabela1[#This Row]) > 0, IF(Tabela1[[#This Row],[TIPO CARTÃO]]  = \"0-SEM CARTÃO\",IF(COUNTA(Tabela1[#This Row]) = 22, 0, 1),IF(COUNTA(Tabela1[#This Row]) = 18, 0, 1)), 0)","v":0},{"$f":"IF(X343 = 1, 0, IF(COUNTA(Tabela1[#This Row]) > 0, 1, 0))","v":0}]
[null,null,null,null,null,null,null,null,null,null,null,null,null,null,null,null,null,null,null,null,null,null,null,{"$f":"IF(COUNTA(Tabela1[#This Row]) > 0, IF(Tabela1[[#This Row],[TIPO CARTÃO]]  = \"0-SEM CARTÃO\",IF(COUNTA(Tabela1[#This Row]) = 22, 0, 1),IF(COUNTA(Tabela1[#This Row]) = 18, 0, 1)), 0)","v":0},{"$f":"IF(X344 = 1, 0, IF(COUNTA(Tabela1[#This Row]) > 0, 1, 0))","v":0}]
[null,null,null,null,null,null,null,null,null,null,null,null,null,null,null,null,null,null,null,null,null,null,null,{"$f":"IF(COUNTA(Tabela1[#This Row]) > 0, IF(Tabela1[[#This Row],[TIPO CARTÃO]]  = \"0-SEM CARTÃO\",IF(COUNTA(Tabela1[#This Row]) = 22, 0, 1),IF(COUNTA(Tabela1[#This Row]) = 18, 0, 1)), 0)","v":0},{"$f":"IF(X345 = 1, 0, IF(COUNTA(Tabela1[#This Row]) > 0, 1, 0))","v":0}]
[null,null,null,null,null,null,null,null,null,null,null,null,null,null,null,null,null,null,null,null,null,null,null,{"$f":"IF(COUNTA(Tabela1[#This Row]) > 0, IF(Tabela1[[#This Row],[TIPO CARTÃO]]  = \"0-SEM CARTÃO\",IF(COUNTA(Tabela1[#This Row]) = 22, 0, 1),IF(COUNTA(Tabela1[#This Row]) = 18, 0, 1)), 0)","v":0},{"$f":"IF(X346 = 1, 0, IF(COUNTA(Tabela1[#This Row]) > 0, 1, 0))","v":0}]
[null,null,null,null,null,null,null,null,null,null,null,null,null,null,null,null,null,null,null,null,null,null,null,{"$f":"IF(COUNTA(Tabela1[#This Row]) > 0, IF(Tabela1[[#This Row],[TIPO CARTÃO]]  = \"0-SEM CARTÃO\",IF(COUNTA(Tabela1[#This Row]) = 22, 0, 1),IF(COUNTA(Tabela1[#This Row]) = 18, 0, 1)), 0)","v":0},{"$f":"IF(X347 = 1, 0, IF(COUNTA(Tabela1[#This Row]) > 0, 1, 0))","v":0}]
[null,null,null,null,null,null,null,null,null,null,null,null,null,null,null,null,null,null,null,null,null,null,null,{"$f":"IF(COUNTA(Tabela1[#This Row]) > 0, IF(Tabela1[[#This Row],[TIPO CARTÃO]]  = \"0-SEM CARTÃO\",IF(COUNTA(Tabela1[#This Row]) = 22, 0, 1),IF(COUNTA(Tabela1[#This Row]) = 18, 0, 1)), 0)","v":0},{"$f":"IF(X348 = 1, 0, IF(COUNTA(Tabela1[#This Row]) > 0, 1, 0))","v":0}]
[null,null,null,null,null,null,null,null,null,null,null,null,null,null,null,null,null,null,null,null,null,null,null,{"$f":"IF(COUNTA(Tabela1[#This Row]) > 0, IF(Tabela1[[#This Row],[TIPO CARTÃO]]  = \"0-SEM CARTÃO\",IF(COUNTA(Tabela1[#This Row]) = 22, 0, 1),IF(COUNTA(Tabela1[#This Row]) = 18, 0, 1)), 0)","v":0},{"$f":"IF(X349 = 1, 0, IF(COUNTA(Tabela1[#This Row]) > 0, 1, 0))","v":0}]
[null,null,null,null,null,null,null,null,null,null,null,null,null,null,null,null,null,null,null,null,null,null,null,{"$f":"IF(COUNTA(Tabela1[#This Row]) > 0, IF(Tabela1[[#This Row],[TIPO CARTÃO]]  = \"0-SEM CARTÃO\",IF(COUNTA(Tabela1[#This Row]) = 22, 0, 1),IF(COUNTA(Tabela1[#This Row]) = 18, 0, 1)), 0)","v":0},{"$f":"IF(X350 = 1, 0, IF(COUNTA(Tabela1[#This Row]) > 0, 1, 0))","v":0}]
[null,null,null,null,null,null,null,null,null,null,null,null,null,null,null,null,null,null,null,null,null,null,null,{"$f":"IF(COUNTA(Tabela1[#This Row]) > 0, IF(Tabela1[[#This Row],[TIPO CARTÃO]]  = \"0-SEM CARTÃO\",IF(COUNTA(Tabela1[#This Row]) = 22, 0, 1),IF(COUNTA(Tabela1[#This Row]) = 18, 0, 1)), 0)","v":0},{"$f":"IF(X351 = 1, 0, IF(COUNTA(Tabela1[#This Row]) > 0, 1, 0))","v":0}]
[null,null,null,null,null,null,null,null,null,null,null,null,null,null,null,null,null,null,null,null,null,null,null,{"$f":"IF(COUNTA(Tabela1[#This Row]) > 0, IF(Tabela1[[#This Row],[TIPO CARTÃO]]  = \"0-SEM CARTÃO\",IF(COUNTA(Tabela1[#This Row]) = 22, 0, 1),IF(COUNTA(Tabela1[#This Row]) = 18, 0, 1)), 0)","v":0},{"$f":"IF(X352 = 1, 0, IF(COUNTA(Tabela1[#This Row]) > 0, 1, 0))","v":0}]
[null,null,null,null,null,null,null,null,null,null,null,null,null,null,null,null,null,null,null,null,null,null,null,{"$f":"IF(COUNTA(Tabela1[#This Row]) > 0, IF(Tabela1[[#This Row],[TIPO CARTÃO]]  = \"0-SEM CARTÃO\",IF(COUNTA(Tabela1[#This Row]) = 22, 0, 1),IF(COUNTA(Tabela1[#This Row]) = 18, 0, 1)), 0)","v":0},{"$f":"IF(X353 = 1, 0, IF(COUNTA(Tabela1[#This Row]) > 0, 1, 0))","v":0}]
[null,null,null,null,null,null,null,null,null,null,null,null,null,null,null,null,null,null,null,null,null,null,null,{"$f":"IF(COUNTA(Tabela1[#This Row]) > 0, IF(Tabela1[[#This Row],[TIPO CARTÃO]]  = \"0-SEM CARTÃO\",IF(COUNTA(Tabela1[#This Row]) = 22, 0, 1),IF(COUNTA(Tabela1[#This Row]) = 18, 0, 1)), 0)","v":0},{"$f":"IF(X354 = 1, 0, IF(COUNTA(Tabela1[#This Row]) > 0, 1, 0))","v":0}]
[null,null,null,null,null,null,null,null,null,null,null,null,null,null,null,null,null,null,null,null,null,null,null,{"$f":"IF(COUNTA(Tabela1[#This Row]) > 0, IF(Tabela1[[#This Row],[TIPO CARTÃO]]  = \"0-SEM CARTÃO\",IF(COUNTA(Tabela1[#This Row]) = 22, 0, 1),IF(COUNTA(Tabela1[#This Row]) = 18, 0, 1)), 0)","v":0},{"$f":"IF(X355 = 1, 0, IF(COUNTA(Tabela1[#This Row]) > 0, 1, 0))","v":0}]
[null,null,null,null,null,null,null,null,null,null,null,null,null,null,null,null,null,null,null,null,null,null,null,{"$f":"IF(COUNTA(Tabela1[#This Row]) > 0, IF(Tabela1[[#This Row],[TIPO CARTÃO]]  = \"0-SEM CARTÃO\",IF(COUNTA(Tabela1[#This Row]) = 22, 0, 1),IF(COUNTA(Tabela1[#This Row]) = 18, 0, 1)), 0)","v":0},{"$f":"IF(X356 = 1, 0, IF(COUNTA(Tabela1[#This Row]) > 0, 1, 0))","v":0}]
[null,null,null,null,null,null,null,null,null,null,null,null,null,null,null,null,null,null,null,null,null,null,null,{"$f":"IF(COUNTA(Tabela1[#This Row]) > 0, IF(Tabela1[[#This Row],[TIPO CARTÃO]]  = \"0-SEM CARTÃO\",IF(COUNTA(Tabela1[#This Row]) = 22, 0, 1),IF(COUNTA(Tabela1[#This Row]) = 18, 0, 1)), 0)","v":0},{"$f":"IF(X357 = 1, 0, IF(COUNTA(Tabela1[#This Row]) > 0, 1, 0))","v":0}]
[null,null,null,null,null,null,null,null,null,null,null,null,null,null,null,null,null,null,null,null,null,null,null,{"$f":"IF(COUNTA(Tabela1[#This Row]) > 0, IF(Tabela1[[#This Row],[TIPO CARTÃO]]  = \"0-SEM CARTÃO\",IF(COUNTA(Tabela1[#This Row]) = 22, 0, 1),IF(COUNTA(Tabela1[#This Row]) = 18, 0, 1)), 0)","v":0},{"$f":"IF(X358 = 1, 0, IF(COUNTA(Tabela1[#This Row]) > 0, 1, 0))","v":0}]
[null,null,null,null,null,null,null,null,null,null,null,null,null,null,null,null,null,null,null,null,null,null,null,{"$f":"IF(COUNTA(Tabela1[#This Row]) > 0, IF(Tabela1[[#This Row],[TIPO CARTÃO]]  = \"0-SEM CARTÃO\",IF(COUNTA(Tabela1[#This Row]) = 22, 0, 1),IF(COUNTA(Tabela1[#This Row]) = 18, 0, 1)), 0)","v":0},{"$f":"IF(X359 = 1, 0, IF(COUNTA(Tabela1[#This Row]) > 0, 1, 0))","v":0}]
[null,null,null,null,null,null,null,null,null,null,null,null,null,null,null,null,null,null,null,null,null,null,null,{"$f":"IF(COUNTA(Tabela1[#This Row]) > 0, IF(Tabela1[[#This Row],[TIPO CARTÃO]]  = \"0-SEM CARTÃO\",IF(COUNTA(Tabela1[#This Row]) = 22, 0, 1),IF(COUNTA(Tabela1[#This Row]) = 18, 0, 1)), 0)","v":0},{"$f":"IF(X360 = 1, 0, IF(COUNTA(Tabela1[#This Row]) > 0, 1, 0))","v":0}]
[null,null,null,null,null,null,null,null,null,null,null,null,null,null,null,null,null,null,null,null,null,null,null,{"$f":"IF(COUNTA(Tabela1[#This Row]) > 0, IF(Tabela1[[#This Row],[TIPO CARTÃO]]  = \"0-SEM CARTÃO\",IF(COUNTA(Tabela1[#This Row]) = 22, 0, 1),IF(COUNTA(Tabela1[#This Row]) = 18, 0, 1)), 0)","v":0},{"$f":"IF(X361 = 1, 0, IF(COUNTA(Tabela1[#This Row]) > 0, 1, 0))","v":0}]
[null,null,null,null,null,null,null,null,null,null,null,null,null,null,null,null,null,null,null,null,null,null,null,{"$f":"IF(COUNTA(Tabela1[#This Row]) > 0, IF(Tabela1[[#This Row],[TIPO CARTÃO]]  = \"0-SEM CARTÃO\",IF(COUNTA(Tabela1[#This Row]) = 22, 0, 1),IF(COUNTA(Tabela1[#This Row]) = 18, 0, 1)), 0)","v":0},{"$f":"IF(X362 = 1, 0, IF(COUNTA(Tabela1[#This Row]) > 0, 1, 0))","v":0}]
[null,null,null,null,null,null,null,null,null,null,null,null,null,null,null,null,null,null,null,null,null,null,null,{"$f":"IF(COUNTA(Tabela1[#This Row]) > 0, IF(Tabela1[[#This Row],[TIPO CARTÃO]]  = \"0-SEM CARTÃO\",IF(COUNTA(Tabela1[#This Row]) = 22, 0, 1),IF(COUNTA(Tabela1[#This Row]) = 18, 0, 1)), 0)","v":0},{"$f":"IF(X363 = 1, 0, IF(COUNTA(Tabela1[#This Row]) > 0, 1, 0))","v":0}]
[null,null,null,null,null,null,null,null,null,null,null,null,null,null,null,null,null,null,null,null,null,null,null,{"$f":"IF(COUNTA(Tabela1[#This Row]) > 0, IF(Tabela1[[#This Row],[TIPO CARTÃO]]  = \"0-SEM CARTÃO\",IF(COUNTA(Tabela1[#This Row]) = 22, 0, 1),IF(COUNTA(Tabela1[#This Row]) = 18, 0, 1)), 0)","v":0},{"$f":"IF(X364 = 1, 0, IF(COUNTA(Tabela1[#This Row]) > 0, 1, 0))","v":0}]
[null,null,null,null,null,null,null,null,null,null,null,null,null,null,null,null,null,null,null,null,null,null,null,{"$f":"IF(COUNTA(Tabela1[#This Row]) > 0, IF(Tabela1[[#This Row],[TIPO CARTÃO]]  = \"0-SEM CARTÃO\",IF(COUNTA(Tabela1[#This Row]) = 22, 0, 1),IF(COUNTA(Tabela1[#This Row]) = 18, 0, 1)), 0)","v":0},{"$f":"IF(X365 = 1, 0, IF(COUNTA(Tabela1[#This Row]) > 0, 1, 0))","v":0}]
[null,null,null,null,null,null,null,null,null,null,null,null,null,null,null,null,null,null,null,null,null,null,null,{"$f":"IF(COUNTA(Tabela1[#This Row]) > 0, IF(Tabela1[[#This Row],[TIPO CARTÃO]]  = \"0-SEM CARTÃO\",IF(COUNTA(Tabela1[#This Row]) = 22, 0, 1),IF(COUNTA(Tabela1[#This Row]) = 18, 0, 1)), 0)","v":0},{"$f":"IF(X366 = 1, 0, IF(COUNTA(Tabela1[#This Row]) > 0, 1, 0))","v":0}]
[null,null,null,null,null,null,null,null,null,null,null,null,null,null,null,null,null,null,null,null,null,null,null,{"$f":"IF(COUNTA(Tabela1[#This Row]) > 0, IF(Tabela1[[#This Row],[TIPO CARTÃO]]  = \"0-SEM CARTÃO\",IF(COUNTA(Tabela1[#This Row]) = 22, 0, 1),IF(COUNTA(Tabela1[#This Row]) = 18, 0, 1)), 0)","v":0},{"$f":"IF(X367 = 1, 0, IF(COUNTA(Tabela1[#This Row]) > 0, 1, 0))","v":0}]
[null,null,null,null,null,null,null,null,null,null,null,null,null,null,null,null,null,null,null,null,null,null,null,{"$f":"IF(COUNTA(Tabela1[#This Row]) > 0, IF(Tabela1[[#This Row],[TIPO CARTÃO]]  = \"0-SEM CARTÃO\",IF(COUNTA(Tabela1[#This Row]) = 22, 0, 1),IF(COUNTA(Tabela1[#This Row]) = 18, 0, 1)), 0)","v":0},{"$f":"IF(X368 = 1, 0, IF(COUNTA(Tabela1[#This Row]) > 0, 1, 0))","v":0}]
[null,null,null,null,null,null,null,null,null,null,null,null,null,null,null,null,null,null,null,null,null,null,null,{"$f":"IF(COUNTA(Tabela1[#This Row]) > 0, IF(Tabela1[[#This Row],[TIPO CARTÃO]]  = \"0-SEM CARTÃO\",IF(COUNTA(Tabela1[#This Row]) = 22, 0, 1),IF(COUNTA(Tabela1[#This Row]) = 18, 0, 1)), 0)","v":0},{"$f":"IF(X369 = 1, 0, IF(COUNTA(Tabela1[#This Row]) > 0, 1, 0))","v":0}]
[null,null,null,null,null,null,null,null,null,null,null,null,null,null,null,null,null,null,null,null,null,null,null,{"$f":"IF(COUNTA(Tabela1[#This Row]) > 0, IF(Tabela1[[#This Row],[TIPO CARTÃO]]  = \"0-SEM CARTÃO\",IF(COUNTA(Tabela1[#This Row]) = 22, 0, 1),IF(COUNTA(Tabela1[#This Row]) = 18, 0, 1)), 0)","v":0},{"$f":"IF(X370 = 1, 0, IF(COUNTA(Tabela1[#This Row]) > 0, 1, 0))","v":0}]
[null,null,null,null,null,null,null,null,null,null,null,null,null,null,null,null,null,null,null,null,null,null,null,{"$f":"IF(COUNTA(Tabela1[#This Row]) > 0, IF(Tabela1[[#This Row],[TIPO CARTÃO]]  = \"0-SEM CARTÃO\",IF(COUNTA(Tabela1[#This Row]) = 22, 0, 1),IF(COUNTA(Tabela1[#This Row]) = 18, 0, 1)), 0)","v":0},{"$f":"IF(X371 = 1, 0, IF(COUNTA(Tabela1[#This Row]) > 0, 1, 0))","v":0}]
[null,null,null,null,null,null,null,null,null,null,null,null,null,null,null,null,null,null,null,null,null,null,null,{"$f":"IF(COUNTA(Tabela1[#This Row]) > 0, IF(Tabela1[[#This Row],[TIPO CARTÃO]]  = \"0-SEM CARTÃO\",IF(COUNTA(Tabela1[#This Row]) = 22, 0, 1),IF(COUNTA(Tabela1[#This Row]) = 18, 0, 1)), 0)","v":0},{"$f":"IF(X372 = 1, 0, IF(COUNTA(Tabela1[#This Row]) > 0, 1, 0))","v":0}]
[null,null,null,null,null,null,null,null,null,null,null,null,null,null,null,null,null,null,null,null,null,null,null,{"$f":"IF(COUNTA(Tabela1[#This Row]) > 0, IF(Tabela1[[#This Row],[TIPO CARTÃO]]  = \"0-SEM CARTÃO\",IF(COUNTA(Tabela1[#This Row]) = 22, 0, 1),IF(COUNTA(Tabela1[#This Row]) = 18, 0, 1)), 0)","v":0},{"$f":"IF(X373 = 1, 0, IF(COUNTA(Tabela1[#This Row]) > 0, 1, 0))","v":0}]
[null,null,null,null,null,null,null,null,null,null,null,null,null,null,null,null,null,null,null,null,null,null,null,{"$f":"IF(COUNTA(Tabela1[#This Row]) > 0, IF(Tabela1[[#This Row],[TIPO CARTÃO]]  = \"0-SEM CARTÃO\",IF(COUNTA(Tabela1[#This Row]) = 22, 0, 1),IF(COUNTA(Tabela1[#This Row]) = 18, 0, 1)), 0)","v":0},{"$f":"IF(X374 = 1, 0, IF(COUNTA(Tabela1[#This Row]) > 0, 1, 0))","v":0}]
[null,null,null,null,null,null,null,null,null,null,null,null,null,null,null,null,null,null,null,null,null,null,null,{"$f":"IF(COUNTA(Tabela1[#This Row]) > 0, IF(Tabela1[[#This Row],[TIPO CARTÃO]]  = \"0-SEM CARTÃO\",IF(COUNTA(Tabela1[#This Row]) = 22, 0, 1),IF(COUNTA(Tabela1[#This Row]) = 18, 0, 1)), 0)","v":0},{"$f":"IF(X375 = 1, 0, IF(COUNTA(Tabela1[#This Row]) > 0, 1, 0))","v":0}]
[null,null,null,null,null,null,null,null,null,null,null,null,null,null,null,null,null,null,null,null,null,null,null,{"$f":"IF(COUNTA(Tabela1[#This Row]) > 0, IF(Tabela1[[#This Row],[TIPO CARTÃO]]  = \"0-SEM CARTÃO\",IF(COUNTA(Tabela1[#This Row]) = 22, 0, 1),IF(COUNTA(Tabela1[#This Row]) = 18, 0, 1)), 0)","v":0},{"$f":"IF(X376 = 1, 0, IF(COUNTA(Tabela1[#This Row]) > 0, 1, 0))","v":0}]
[null,null,null,null,null,null,null,null,null,null,null,null,null,null,null,null,null,null,null,null,null,null,null,{"$f":"IF(COUNTA(Tabela1[#This Row]) > 0, IF(Tabela1[[#This Row],[TIPO CARTÃO]]  = \"0-SEM CARTÃO\",IF(COUNTA(Tabela1[#This Row]) = 22, 0, 1),IF(COUNTA(Tabela1[#This Row]) = 18, 0, 1)), 0)","v":0},{"$f":"IF(X377 = 1, 0, IF(COUNTA(Tabela1[#This Row]) > 0, 1, 0))","v":0}]
[null,null,null,null,null,null,null,null,null,null,null,null,null,null,null,null,null,null,null,null,null,null,null,{"$f":"IF(COUNTA(Tabela1[#This Row]) > 0, IF(Tabela1[[#This Row],[TIPO CARTÃO]]  = \"0-SEM CARTÃO\",IF(COUNTA(Tabela1[#This Row]) = 22, 0, 1),IF(COUNTA(Tabela1[#This Row]) = 18, 0, 1)), 0)","v":0},{"$f":"IF(X378 = 1, 0, IF(COUNTA(Tabela1[#This Row]) > 0, 1, 0))","v":0}]
[null,null,null,null,null,null,null,null,null,null,null,null,null,null,null,null,null,null,null,null,null,null,null,{"$f":"IF(COUNTA(Tabela1[#This Row]) > 0, IF(Tabela1[[#This Row],[TIPO CARTÃO]]  = \"0-SEM CARTÃO\",IF(COUNTA(Tabela1[#This Row]) = 22, 0, 1),IF(COUNTA(Tabela1[#This Row]) = 18, 0, 1)), 0)","v":0},{"$f":"IF(X379 = 1, 0, IF(COUNTA(Tabela1[#This Row]) > 0, 1, 0))","v":0}]
[null,null,null,null,null,null,null,null,null,null,null,null,null,null,null,null,null,null,null,null,null,null,null,{"$f":"IF(COUNTA(Tabela1[#This Row]) > 0, IF(Tabela1[[#This Row],[TIPO CARTÃO]]  = \"0-SEM CARTÃO\",IF(COUNTA(Tabela1[#This Row]) = 22, 0, 1),IF(COUNTA(Tabela1[#This Row]) = 18, 0, 1)), 0)","v":0},{"$f":"IF(X380 = 1, 0, IF(COUNTA(Tabela1[#This Row]) > 0, 1, 0))","v":0}]
[null,null,null,null,null,null,null,null,null,null,null,null,null,null,null,null,null,null,null,null,null,null,null,{"$f":"IF(COUNTA(Tabela1[#This Row]) > 0, IF(Tabela1[[#This Row],[TIPO CARTÃO]]  = \"0-SEM CARTÃO\",IF(COUNTA(Tabela1[#This Row]) = 22, 0, 1),IF(COUNTA(Tabela1[#This Row]) = 18, 0, 1)), 0)","v":0},{"$f":"IF(X381 = 1, 0, IF(COUNTA(Tabela1[#This Row]) > 0, 1, 0))","v":0}]
[null,null,null,null,null,null,null,null,null,null,null,null,null,null,null,null,null,null,null,null,null,null,null,{"$f":"IF(COUNTA(Tabela1[#This Row]) > 0, IF(Tabela1[[#This Row],[TIPO CARTÃO]]  = \"0-SEM CARTÃO\",IF(COUNTA(Tabela1[#This Row]) = 22, 0, 1),IF(COUNTA(Tabela1[#This Row]) = 18, 0, 1)), 0)","v":0},{"$f":"IF(X382 = 1, 0, IF(COUNTA(Tabela1[#This Row]) > 0, 1, 0))","v":0}]
[null,null,null,null,null,null,null,null,null,null,null,null,null,null,null,null,null,null,null,null,null,null,null,{"$f":"IF(COUNTA(Tabela1[#This Row]) > 0, IF(Tabela1[[#This Row],[TIPO CARTÃO]]  = \"0-SEM CARTÃO\",IF(COUNTA(Tabela1[#This Row]) = 22, 0, 1),IF(COUNTA(Tabela1[#This Row]) = 18, 0, 1)), 0)","v":0},{"$f":"IF(X383 = 1, 0, IF(COUNTA(Tabela1[#This Row]) > 0, 1, 0))","v":0}]
[null,null,null,null,null,null,null,null,null,null,null,null,null,null,null,null,null,null,null,null,null,null,null,{"$f":"IF(COUNTA(Tabela1[#This Row]) > 0, IF(Tabela1[[#This Row],[TIPO CARTÃO]]  = \"0-SEM CARTÃO\",IF(COUNTA(Tabela1[#This Row]) = 22, 0, 1),IF(COUNTA(Tabela1[#This Row]) = 18, 0, 1)), 0)","v":0},{"$f":"IF(X384 = 1, 0, IF(COUNTA(Tabela1[#This Row]) > 0, 1, 0))","v":0}]
[null,null,null,null,null,null,null,null,null,null,null,null,null,null,null,null,null,null,null,null,null,null,null,{"$f":"IF(COUNTA(Tabela1[#This Row]) > 0, IF(Tabela1[[#This Row],[TIPO CARTÃO]]  = \"0-SEM CARTÃO\",IF(COUNTA(Tabela1[#This Row]) = 22, 0, 1),IF(COUNTA(Tabela1[#This Row]) = 18, 0, 1)), 0)","v":0},{"$f":"IF(X385 = 1, 0, IF(COUNTA(Tabela1[#This Row]) > 0, 1, 0))","v":0}]
[null,null,null,null,null,null,null,null,null,null,null,null,null,null,null,null,null,null,null,null,null,null,null,{"$f":"IF(COUNTA(Tabela1[#This Row]) > 0, IF(Tabela1[[#This Row],[TIPO CARTÃO]]  = \"0-SEM CARTÃO\",IF(COUNTA(Tabela1[#This Row]) = 22, 0, 1),IF(COUNTA(Tabela1[#This Row]) = 18, 0, 1)), 0)","v":0},{"$f":"IF(X386 = 1, 0, IF(COUNTA(Tabela1[#This Row]) > 0, 1, 0))","v":0}]
[null,null,null,null,null,null,null,null,null,null,null,null,null,null,null,null,null,null,null,null,null,null,null,{"$f":"IF(COUNTA(Tabela1[#This Row]) > 0, IF(Tabela1[[#This Row],[TIPO CARTÃO]]  = \"0-SEM CARTÃO\",IF(COUNTA(Tabela1[#This Row]) = 22, 0, 1),IF(COUNTA(Tabela1[#This Row]) = 18, 0, 1)), 0)","v":0},{"$f":"IF(X387 = 1, 0, IF(COUNTA(Tabela1[#This Row]) > 0, 1, 0))","v":0}]
[null,null,null,null,null,null,null,null,null,null,null,null,null,null,null,null,null,null,null,null,null,null,null,{"$f":"IF(COUNTA(Tabela1[#This Row]) > 0, IF(Tabela1[[#This Row],[TIPO CARTÃO]]  = \"0-SEM CARTÃO\",IF(COUNTA(Tabela1[#This Row]) = 22, 0, 1),IF(COUNTA(Tabela1[#This Row]) = 18, 0, 1)), 0)","v":0},{"$f":"IF(X388 = 1, 0, IF(COUNTA(Tabela1[#This Row]) > 0, 1, 0))","v":0}]
[null,null,null,null,null,null,null,null,null,null,null,null,null,null,null,null,null,null,null,null,null,null,null,{"$f":"IF(COUNTA(Tabela1[#This Row]) > 0, IF(Tabela1[[#This Row],[TIPO CARTÃO]]  = \"0-SEM CARTÃO\",IF(COUNTA(Tabela1[#This Row]) = 22, 0, 1),IF(COUNTA(Tabela1[#This Row]) = 18, 0, 1)), 0)","v":0},{"$f":"IF(X389 = 1, 0, IF(COUNTA(Tabela1[#This Row]) > 0, 1, 0))","v":0}]
[null,null,null,null,null,null,null,null,null,null,null,null,null,null,null,null,null,null,null,null,null,null,null,{"$f":"IF(COUNTA(Tabela1[#This Row]) > 0, IF(Tabela1[[#This Row],[TIPO CARTÃO]]  = \"0-SEM CARTÃO\",IF(COUNTA(Tabela1[#This Row]) = 22, 0, 1),IF(COUNTA(Tabela1[#This Row]) = 18, 0, 1)), 0)","v":0},{"$f":"IF(X390 = 1, 0, IF(COUNTA(Tabela1[#This Row]) > 0, 1, 0))","v":0}]
[null,null,null,null,null,null,null,null,null,null,null,null,null,null,null,null,null,null,null,null,null,null,null,{"$f":"IF(COUNTA(Tabela1[#This Row]) > 0, IF(Tabela1[[#This Row],[TIPO CARTÃO]]  = \"0-SEM CARTÃO\",IF(COUNTA(Tabela1[#This Row]) = 22, 0, 1),IF(COUNTA(Tabela1[#This Row]) = 18, 0, 1)), 0)","v":0},{"$f":"IF(X391 = 1, 0, IF(COUNTA(Tabela1[#This Row]) > 0, 1, 0))","v":0}]
[null,null,null,null,null,null,null,null,null,null,null,null,null,null,null,null,null,null,null,null,null,null,null,{"$f":"IF(COUNTA(Tabela1[#This Row]) > 0, IF(Tabela1[[#This Row],[TIPO CARTÃO]]  = \"0-SEM CARTÃO\",IF(COUNTA(Tabela1[#This Row]) = 22, 0, 1),IF(COUNTA(Tabela1[#This Row]) = 18, 0, 1)), 0)","v":0},{"$f":"IF(X392 = 1, 0, IF(COUNTA(Tabela1[#This Row]) > 0, 1, 0))","v":0}]
[null,null,null,null,null,null,null,null,null,null,null,null,null,null,null,null,null,null,null,null,null,null,null,{"$f":"IF(COUNTA(Tabela1[#This Row]) > 0, IF(Tabela1[[#This Row],[TIPO CARTÃO]]  = \"0-SEM CARTÃO\",IF(COUNTA(Tabela1[#This Row]) = 22, 0, 1),IF(COUNTA(Tabela1[#This Row]) = 18, 0, 1)), 0)","v":0},{"$f":"IF(X393 = 1, 0, IF(COUNTA(Tabela1[#This Row]) > 0, 1, 0))","v":0}]
[null,null,null,null,null,null,null,null,null,null,null,null,null,null,null,null,null,null,null,null,null,null,null,{"$f":"IF(COUNTA(Tabela1[#This Row]) > 0, IF(Tabela1[[#This Row],[TIPO CARTÃO]]  = \"0-SEM CARTÃO\",IF(COUNTA(Tabela1[#This Row]) = 22, 0, 1),IF(COUNTA(Tabela1[#This Row]) = 18, 0, 1)), 0)","v":0},{"$f":"IF(X394 = 1, 0, IF(COUNTA(Tabela1[#This Row]) > 0, 1, 0))","v":0}]
[null,null,null,null,null,null,null,null,null,null,null,null,null,null,null,null,null,null,null,null,null,null,null,{"$f":"IF(COUNTA(Tabela1[#This Row]) > 0, IF(Tabela1[[#This Row],[TIPO CARTÃO]]  = \"0-SEM CARTÃO\",IF(COUNTA(Tabela1[#This Row]) = 22, 0, 1),IF(COUNTA(Tabela1[#This Row]) = 18, 0, 1)), 0)","v":0},{"$f":"IF(X395 = 1, 0, IF(COUNTA(Tabela1[#This Row]) > 0, 1, 0))","v":0}]
[null,null,null,null,null,null,null,null,null,null,null,null,null,null,null,null,null,null,null,null,null,null,null,{"$f":"IF(COUNTA(Tabela1[#This Row]) > 0, IF(Tabela1[[#This Row],[TIPO CARTÃO]]  = \"0-SEM CARTÃO\",IF(COUNTA(Tabela1[#This Row]) = 22, 0, 1),IF(COUNTA(Tabela1[#This Row]) = 18, 0, 1)), 0)","v":0},{"$f":"IF(X396 = 1, 0, IF(COUNTA(Tabela1[#This Row]) > 0, 1, 0))","v":0}]
[null,null,null,null,null,null,null,null,null,null,null,null,null,null,null,null,null,null,null,null,null,null,null,{"$f":"IF(COUNTA(Tabela1[#This Row]) > 0, IF(Tabela1[[#This Row],[TIPO CARTÃO]]  = \"0-SEM CARTÃO\",IF(COUNTA(Tabela1[#This Row]) = 22, 0, 1),IF(COUNTA(Tabela1[#This Row]) = 18, 0, 1)), 0)","v":0},{"$f":"IF(X397 = 1, 0, IF(COUNTA(Tabela1[#This Row]) > 0, 1, 0))","v":0}]
[null,null,null,null,null,null,null,null,null,null,null,null,null,null,null,null,null,null,null,null,null,null,null,{"$f":"IF(COUNTA(Tabela1[#This Row]) > 0, IF(Tabela1[[#This Row],[TIPO CARTÃO]]  = \"0-SEM CARTÃO\",IF(COUNTA(Tabela1[#This Row]) = 22, 0, 1),IF(COUNTA(Tabela1[#This Row]) = 18, 0, 1)), 0)","v":0},{"$f":"IF(X398 = 1, 0, IF(COUNTA(Tabela1[#This Row]) > 0, 1, 0))","v":0}]
[null,null,null,null,null,null,null,null,null,null,null,null,null,null,null,null,null,null,null,null,null,null,null,{"$f":"IF(COUNTA(Tabela1[#This Row]) > 0, IF(Tabela1[[#This Row],[TIPO CARTÃO]]  = \"0-SEM CARTÃO\",IF(COUNTA(Tabela1[#This Row]) = 22, 0, 1),IF(COUNTA(Tabela1[#This Row]) = 18, 0, 1)), 0)","v":0},{"$f":"IF(X399 = 1, 0, IF(COUNTA(Tabela1[#This Row]) > 0, 1, 0))","v":0}]
[null,null,null,null,null,null,null,null,null,null,null,null,null,null,null,null,null,null,null,null,null,null,null,{"$f":"IF(COUNTA(Tabela1[#This Row]) > 0, IF(Tabela1[[#This Row],[TIPO CARTÃO]]  = \"0-SEM CARTÃO\",IF(COUNTA(Tabela1[#This Row]) = 22, 0, 1),IF(COUNTA(Tabela1[#This Row]) = 18, 0, 1)), 0)","v":0},{"$f":"IF(X400 = 1, 0, IF(COUNTA(Tabela1[#This Row]) > 0, 1, 0))","v":0}]
[null,null,null,null,null,null,null,null,null,null,null,null,null,null,null,null,null,null,null,null,null,null,null,{"$f":"IF(COUNTA(Tabela1[#This Row]) > 0, IF(Tabela1[[#This Row],[TIPO CARTÃO]]  = \"0-SEM CARTÃO\",IF(COUNTA(Tabela1[#This Row]) = 22, 0, 1),IF(COUNTA(Tabela1[#This Row]) = 18, 0, 1)), 0)","v":0},{"$f":"IF(X401 = 1, 0, IF(COUNTA(Tabela1[#This Row]) > 0, 1, 0))","v":0}]
[null,null,null,null,null,null,null,null,null,null,null,null,null,null,null,null,null,null,null,null,null,null,null,{"$f":"IF(COUNTA(Tabela1[#This Row]) > 0, IF(Tabela1[[#This Row],[TIPO CARTÃO]]  = \"0-SEM CARTÃO\",IF(COUNTA(Tabela1[#This Row]) = 22, 0, 1),IF(COUNTA(Tabela1[#This Row]) = 18, 0, 1)), 0)","v":0},{"$f":"IF(X402 = 1, 0, IF(COUNTA(Tabela1[#This Row]) > 0, 1, 0))","v":0}]
[null,null,null,null,null,null,null,null,null,null,null,null,null,null,null,null,null,null,null,null,null,null,null,{"$f":"IF(COUNTA(Tabela1[#This Row]) > 0, IF(Tabela1[[#This Row],[TIPO CARTÃO]]  = \"0-SEM CARTÃO\",IF(COUNTA(Tabela1[#This Row]) = 22, 0, 1),IF(COUNTA(Tabela1[#This Row]) = 18, 0, 1)), 0)","v":0},{"$f":"IF(X403 = 1, 0, IF(COUNTA(Tabela1[#This Row]) > 0, 1, 0))","v":0}]
[null,null,null,null,null,null,null,null,null,null,null,null,null,null,null,null,null,null,null,null,null,null,null,{"$f":"IF(COUNTA(Tabela1[#This Row]) > 0, IF(Tabela1[[#This Row],[TIPO CARTÃO]]  = \"0-SEM CARTÃO\",IF(COUNTA(Tabela1[#This Row]) = 22, 0, 1),IF(COUNTA(Tabela1[#This Row]) = 18, 0, 1)), 0)","v":0},{"$f":"IF(X404 = 1, 0, IF(COUNTA(Tabela1[#This Row]) > 0, 1, 0))","v":0}]
[null,null,null,null,null,null,null,null,null,null,null,null,null,null,null,null,null,null,null,null,null,null,null,{"$f":"IF(COUNTA(Tabela1[#This Row]) > 0, IF(Tabela1[[#This Row],[TIPO CARTÃO]]  = \"0-SEM CARTÃO\",IF(COUNTA(Tabela1[#This Row]) = 22, 0, 1),IF(COUNTA(Tabela1[#This Row]) = 18, 0, 1)), 0)","v":0},{"$f":"IF(X405 = 1, 0, IF(COUNTA(Tabela1[#This Row]) > 0, 1, 0))","v":0}]
[null,null,null,null,null,null,null,null,null,null,null,null,null,null,null,null,null,null,null,null,null,null,null,{"$f":"IF(COUNTA(Tabela1[#This Row]) > 0, IF(Tabela1[[#This Row],[TIPO CARTÃO]]  = \"0-SEM CARTÃO\",IF(COUNTA(Tabela1[#This Row]) = 22, 0, 1),IF(COUNTA(Tabela1[#This Row]) = 18, 0, 1)), 0)","v":0},{"$f":"IF(X406 = 1, 0, IF(COUNTA(Tabela1[#This Row]) > 0, 1, 0))","v":0}]
[null,null,null,null,null,null,null,null,null,null,null,null,null,null,null,null,null,null,null,null,null,null,null,{"$f":"IF(COUNTA(Tabela1[#This Row]) > 0, IF(Tabela1[[#This Row],[TIPO CARTÃO]]  = \"0-SEM CARTÃO\",IF(COUNTA(Tabela1[#This Row]) = 22, 0, 1),IF(COUNTA(Tabela1[#This Row]) = 18, 0, 1)), 0)","v":0},{"$f":"IF(X407 = 1, 0, IF(COUNTA(Tabela1[#This Row]) > 0, 1, 0))","v":0}]
[null,null,null,null,null,null,null,null,null,null,null,null,null,null,null,null,null,null,null,null,null,null,null,{"$f":"IF(COUNTA(Tabela1[#This Row]) > 0, IF(Tabela1[[#This Row],[TIPO CARTÃO]]  = \"0-SEM CARTÃO\",IF(COUNTA(Tabela1[#This Row]) = 22, 0, 1),IF(COUNTA(Tabela1[#This Row]) = 18, 0, 1)), 0)","v":0},{"$f":"IF(X408 = 1, 0, IF(COUNTA(Tabela1[#This Row]) > 0, 1, 0))","v":0}]
[null,null,null,null,null,null,null,null,null,null,null,null,null,null,null,null,null,null,null,null,null,null,null,{"$f":"IF(COUNTA(Tabela1[#This Row]) > 0, IF(Tabela1[[#This Row],[TIPO CARTÃO]]  = \"0-SEM CARTÃO\",IF(COUNTA(Tabela1[#This Row]) = 22, 0, 1),IF(COUNTA(Tabela1[#This Row]) = 18, 0, 1)), 0)","v":0},{"$f":"IF(X409 = 1, 0, IF(COUNTA(Tabela1[#This Row]) > 0, 1, 0))","v":0}]
[null,null,null,null,null,null,null,null,null,null,null,null,null,null,null,null,null,null,null,null,null,null,null,{"$f":"IF(COUNTA(Tabela1[#This Row]) > 0, IF(Tabela1[[#This Row],[TIPO CARTÃO]]  = \"0-SEM CARTÃO\",IF(COUNTA(Tabela1[#This Row]) = 22, 0, 1),IF(COUNTA(Tabela1[#This Row]) = 18, 0, 1)), 0)","v":0},{"$f":"IF(X410 = 1, 0, IF(COUNTA(Tabela1[#This Row]) > 0, 1, 0))","v":0}]
[null,null,null,null,null,null,null,null,null,null,null,null,null,null,null,null,null,null,null,null,null,null,null,{"$f":"IF(COUNTA(Tabela1[#This Row]) > 0, IF(Tabela1[[#This Row],[TIPO CARTÃO]]  = \"0-SEM CARTÃO\",IF(COUNTA(Tabela1[#This Row]) = 22, 0, 1),IF(COUNTA(Tabela1[#This Row]) = 18, 0, 1)), 0)","v":0},{"$f":"IF(X411 = 1, 0, IF(COUNTA(Tabela1[#This Row]) > 0, 1, 0))","v":0}]
[null,null,null,null,null,null,null,null,null,null,null,null,null,null,null,null,null,null,null,null,null,null,null,{"$f":"IF(COUNTA(Tabela1[#This Row]) > 0, IF(Tabela1[[#This Row],[TIPO CARTÃO]]  = \"0-SEM CARTÃO\",IF(COUNTA(Tabela1[#This Row]) = 22, 0, 1),IF(COUNTA(Tabela1[#This Row]) = 18, 0, 1)), 0)","v":0},{"$f":"IF(X412 = 1, 0, IF(COUNTA(Tabela1[#This Row]) > 0, 1, 0))","v":0}]
[null,null,null,null,null,null,null,null,null,null,null,null,null,null,null,null,null,null,null,null,null,null,null,{"$f":"IF(COUNTA(Tabela1[#This Row]) > 0, IF(Tabela1[[#This Row],[TIPO CARTÃO]]  = \"0-SEM CARTÃO\",IF(COUNTA(Tabela1[#This Row]) = 22, 0, 1),IF(COUNTA(Tabela1[#This Row]) = 18, 0, 1)), 0)","v":0},{"$f":"IF(X413 = 1, 0, IF(COUNTA(Tabela1[#This Row]) > 0, 1, 0))","v":0}]
[null,null,null,null,null,null,null,null,null,null,null,null,null,null,null,null,null,null,null,null,null,null,null,{"$f":"IF(COUNTA(Tabela1[#This Row]) > 0, IF(Tabela1[[#This Row],[TIPO CARTÃO]]  = \"0-SEM CARTÃO\",IF(COUNTA(Tabela1[#This Row]) = 22, 0, 1),IF(COUNTA(Tabela1[#This Row]) = 18, 0, 1)), 0)","v":0},{"$f":"IF(X414 = 1, 0, IF(COUNTA(Tabela1[#This Row]) > 0, 1, 0))","v":0}]
[null,null,null,null,null,null,null,null,null,null,null,null,null,null,null,null,null,null,null,null,null,null,null,{"$f":"IF(COUNTA(Tabela1[#This Row]) > 0, IF(Tabela1[[#This Row],[TIPO CARTÃO]]  = \"0-SEM CARTÃO\",IF(COUNTA(Tabela1[#This Row]) = 22, 0, 1),IF(COUNTA(Tabela1[#This Row]) = 18, 0, 1)), 0)","v":0},{"$f":"IF(X415 = 1, 0, IF(COUNTA(Tabela1[#This Row]) > 0, 1, 0))","v":0}]
[null,null,null,null,null,null,null,null,null,null,null,null,null,null,null,null,null,null,null,null,null,null,null,{"$f":"IF(COUNTA(Tabela1[#This Row]) > 0, IF(Tabela1[[#This Row],[TIPO CARTÃO]]  = \"0-SEM CARTÃO\",IF(COUNTA(Tabela1[#This Row]) = 22, 0, 1),IF(COUNTA(Tabela1[#This Row]) = 18, 0, 1)), 0)","v":0},{"$f":"IF(X416 = 1, 0, IF(COUNTA(Tabela1[#This Row]) > 0, 1, 0))","v":0}]
[null,null,null,null,null,null,null,null,null,null,null,null,null,null,null,null,null,null,null,null,null,null,null,{"$f":"IF(COUNTA(Tabela1[#This Row]) > 0, IF(Tabela1[[#This Row],[TIPO CARTÃO]]  = \"0-SEM CARTÃO\",IF(COUNTA(Tabela1[#This Row]) = 22, 0, 1),IF(COUNTA(Tabela1[#This Row]) = 18, 0, 1)), 0)","v":0},{"$f":"IF(X417 = 1, 0, IF(COUNTA(Tabela1[#This Row]) > 0, 1, 0))","v":0}]
[null,null,null,null,null,null,null,null,null,null,null,null,null,null,null,null,null,null,null,null,null,null,null,{"$f":"IF(COUNTA(Tabela1[#This Row]) > 0, IF(Tabela1[[#This Row],[TIPO CARTÃO]]  = \"0-SEM CARTÃO\",IF(COUNTA(Tabela1[#This Row]) = 22, 0, 1),IF(COUNTA(Tabela1[#This Row]) = 18, 0, 1)), 0)","v":0},{"$f":"IF(X418 = 1, 0, IF(COUNTA(Tabela1[#This Row]) > 0, 1, 0))","v":0}]
[null,null,null,null,null,null,null,null,null,null,null,null,null,null,null,null,null,null,null,null,null,null,null,{"$f":"IF(COUNTA(Tabela1[#This Row]) > 0, IF(Tabela1[[#This Row],[TIPO CARTÃO]]  = \"0-SEM CARTÃO\",IF(COUNTA(Tabela1[#This Row]) = 22, 0, 1),IF(COUNTA(Tabela1[#This Row]) = 18, 0, 1)), 0)","v":0},{"$f":"IF(X419 = 1, 0, IF(COUNTA(Tabela1[#This Row]) > 0, 1, 0))","v":0}]
[null,null,null,null,null,null,null,null,null,null,null,null,null,null,null,null,null,null,null,null,null,null,null,{"$f":"IF(COUNTA(Tabela1[#This Row]) > 0, IF(Tabela1[[#This Row],[TIPO CARTÃO]]  = \"0-SEM CARTÃO\",IF(COUNTA(Tabela1[#This Row]) = 22, 0, 1),IF(COUNTA(Tabela1[#This Row]) = 18, 0, 1)), 0)","v":0},{"$f":"IF(X420 = 1, 0, IF(COUNTA(Tabela1[#This Row]) > 0, 1, 0))","v":0}]
[null,null,null,null,null,null,null,null,null,null,null,null,null,null,null,null,null,null,null,null,null,null,null,{"$f":"IF(COUNTA(Tabela1[#This Row]) > 0, IF(Tabela1[[#This Row],[TIPO CARTÃO]]  = \"0-SEM CARTÃO\",IF(COUNTA(Tabela1[#This Row]) = 22, 0, 1),IF(COUNTA(Tabela1[#This Row]) = 18, 0, 1)), 0)","v":0},{"$f":"IF(X421 = 1, 0, IF(COUNTA(Tabela1[#This Row]) > 0, 1, 0))","v":0}]
[null,null,null,null,null,null,null,null,null,null,null,null,null,null,null,null,null,null,null,null,null,null,null,{"$f":"IF(COUNTA(Tabela1[#This Row]) > 0, IF(Tabela1[[#This Row],[TIPO CARTÃO]]  = \"0-SEM CARTÃO\",IF(COUNTA(Tabela1[#This Row]) = 22, 0, 1),IF(COUNTA(Tabela1[#This Row]) = 18, 0, 1)), 0)","v":0},{"$f":"IF(X422 = 1, 0, IF(COUNTA(Tabela1[#This Row]) > 0, 1, 0))","v":0}]
[null,null,null,null,null,null,null,null,null,null,null,null,null,null,null,null,null,null,null,null,null,null,null,{"$f":"IF(COUNTA(Tabela1[#This Row]) > 0, IF(Tabela1[[#This Row],[TIPO CARTÃO]]  = \"0-SEM CARTÃO\",IF(COUNTA(Tabela1[#This Row]) = 22, 0, 1),IF(COUNTA(Tabela1[#This Row]) = 18, 0, 1)), 0)","v":0},{"$f":"IF(X423 = 1, 0, IF(COUNTA(Tabela1[#This Row]) > 0, 1, 0))","v":0}]
[null,null,null,null,null,null,null,null,null,null,null,null,null,null,null,null,null,null,null,null,null,null,null,{"$f":"IF(COUNTA(Tabela1[#This Row]) > 0, IF(Tabela1[[#This Row],[TIPO CARTÃO]]  = \"0-SEM CARTÃO\",IF(COUNTA(Tabela1[#This Row]) = 22, 0, 1),IF(COUNTA(Tabela1[#This Row]) = 18, 0, 1)), 0)","v":0},{"$f":"IF(X424 = 1, 0, IF(COUNTA(Tabela1[#This Row]) > 0, 1, 0))","v":0}]
[null,null,null,null,null,null,null,null,null,null,null,null,null,null,null,null,null,null,null,null,null,null,null,{"$f":"IF(COUNTA(Tabela1[#This Row]) > 0, IF(Tabela1[[#This Row],[TIPO CARTÃO]]  = \"0-SEM CARTÃO\",IF(COUNTA(Tabela1[#This Row]) = 22, 0, 1),IF(COUNTA(Tabela1[#This Row]) = 18, 0, 1)), 0)","v":0},{"$f":"IF(X425 = 1, 0, IF(COUNTA(Tabela1[#This Row]) > 0, 1, 0))","v":0}]
[null,null,null,null,null,null,null,null,null,null,null,null,null,null,null,null,null,null,null,null,null,null,null,{"$f":"IF(COUNTA(Tabela1[#This Row]) > 0, IF(Tabela1[[#This Row],[TIPO CARTÃO]]  = \"0-SEM CARTÃO\",IF(COUNTA(Tabela1[#This Row]) = 22, 0, 1),IF(COUNTA(Tabela1[#This Row]) = 18, 0, 1)), 0)","v":0},{"$f":"IF(X426 = 1, 0, IF(COUNTA(Tabela1[#This Row]) > 0, 1, 0))","v":0}]
[null,null,null,null,null,null,null,null,null,null,null,null,null,null,null,null,null,null,null,null,null,null,null,{"$f":"IF(COUNTA(Tabela1[#This Row]) > 0, IF(Tabela1[[#This Row],[TIPO CARTÃO]]  = \"0-SEM CARTÃO\",IF(COUNTA(Tabela1[#This Row]) = 22, 0, 1),IF(COUNTA(Tabela1[#This Row]) = 18, 0, 1)), 0)","v":0},{"$f":"IF(X427 = 1, 0, IF(COUNTA(Tabela1[#This Row]) > 0, 1, 0))","v":0}]
[null,null,null,null,null,null,null,null,null,null,null,null,null,null,null,null,null,null,null,null,null,null,null,{"$f":"IF(COUNTA(Tabela1[#This Row]) > 0, IF(Tabela1[[#This Row],[TIPO CARTÃO]]  = \"0-SEM CARTÃO\",IF(COUNTA(Tabela1[#This Row]) = 22, 0, 1),IF(COUNTA(Tabela1[#This Row]) = 18, 0, 1)), 0)","v":0},{"$f":"IF(X428 = 1, 0, IF(COUNTA(Tabela1[#This Row]) > 0, 1, 0))","v":0}]
[null,null,null,null,null,null,null,null,null,null,null,null,null,null,null,null,null,null,null,null,null,null,null,{"$f":"IF(COUNTA(Tabela1[#This Row]) > 0, IF(Tabela1[[#This Row],[TIPO CARTÃO]]  = \"0-SEM CARTÃO\",IF(COUNTA(Tabela1[#This Row]) = 22, 0, 1),IF(COUNTA(Tabela1[#This Row]) = 18, 0, 1)), 0)","v":0},{"$f":"IF(X429 = 1, 0, IF(COUNTA(Tabela1[#This Row]) > 0, 1, 0))","v":0}]
[null,null,null,null,null,null,null,null,null,null,null,null,null,null,null,null,null,null,null,null,null,null,null,{"$f":"IF(COUNTA(Tabela1[#This Row]) > 0, IF(Tabela1[[#This Row],[TIPO CARTÃO]]  = \"0-SEM CARTÃO\",IF(COUNTA(Tabela1[#This Row]) = 22, 0, 1),IF(COUNTA(Tabela1[#This Row]) = 18, 0, 1)), 0)","v":0},{"$f":"IF(X430 = 1, 0, IF(COUNTA(Tabela1[#This Row]) > 0, 1, 0))","v":0}]
[null,null,null,null,null,null,null,null,null,null,null,null,null,null,null,null,null,null,null,null,null,null,null,{"$f":"IF(COUNTA(Tabela1[#This Row]) > 0, IF(Tabela1[[#This Row],[TIPO CARTÃO]]  = \"0-SEM CARTÃO\",IF(COUNTA(Tabela1[#This Row]) = 22, 0, 1),IF(COUNTA(Tabela1[#This Row]) = 18, 0, 1)), 0)","v":0},{"$f":"IF(X431 = 1, 0, IF(COUNTA(Tabela1[#This Row]) > 0, 1, 0))","v":0}]
[null,null,null,null,null,null,null,null,null,null,null,null,null,null,null,null,null,null,null,null,null,null,null,{"$f":"IF(COUNTA(Tabela1[#This Row]) > 0, IF(Tabela1[[#This Row],[TIPO CARTÃO]]  = \"0-SEM CARTÃO\",IF(COUNTA(Tabela1[#This Row]) = 22, 0, 1),IF(COUNTA(Tabela1[#This Row]) = 18, 0, 1)), 0)","v":0},{"$f":"IF(X432 = 1, 0, IF(COUNTA(Tabela1[#This Row]) > 0, 1, 0))","v":0}]
[null,null,null,null,null,null,null,null,null,null,null,null,null,null,null,null,null,null,null,null,null,null,null,{"$f":"IF(COUNTA(Tabela1[#This Row]) > 0, IF(Tabela1[[#This Row],[TIPO CARTÃO]]  = \"0-SEM CARTÃO\",IF(COUNTA(Tabela1[#This Row]) = 22, 0, 1),IF(COUNTA(Tabela1[#This Row]) = 18, 0, 1)), 0)","v":0},{"$f":"IF(X433 = 1, 0, IF(COUNTA(Tabela1[#This Row]) > 0, 1, 0))","v":0}]
[null,null,null,null,null,null,null,null,null,null,null,null,null,null,null,null,null,null,null,null,null,null,null,{"$f":"IF(COUNTA(Tabela1[#This Row]) > 0, IF(Tabela1[[#This Row],[TIPO CARTÃO]]  = \"0-SEM CARTÃO\",IF(COUNTA(Tabela1[#This Row]) = 22, 0, 1),IF(COUNTA(Tabela1[#This Row]) = 18, 0, 1)), 0)","v":0},{"$f":"IF(X434 = 1, 0, IF(COUNTA(Tabela1[#This Row]) > 0, 1, 0))","v":0}]
[null,null,null,null,null,null,null,null,null,null,null,null,null,null,null,null,null,null,null,null,null,null,null,{"$f":"IF(COUNTA(Tabela1[#This Row]) > 0, IF(Tabela1[[#This Row],[TIPO CARTÃO]]  = \"0-SEM CARTÃO\",IF(COUNTA(Tabela1[#This Row]) = 22, 0, 1),IF(COUNTA(Tabela1[#This Row]) = 18, 0, 1)), 0)","v":0},{"$f":"IF(X435 = 1, 0, IF(COUNTA(Tabela1[#This Row]) > 0, 1, 0))","v":0}]
[null,null,null,null,null,null,null,null,null,null,null,null,null,null,null,null,null,null,null,null,null,null,null,{"$f":"IF(COUNTA(Tabela1[#This Row]) > 0, IF(Tabela1[[#This Row],[TIPO CARTÃO]]  = \"0-SEM CARTÃO\",IF(COUNTA(Tabela1[#This Row]) = 22, 0, 1),IF(COUNTA(Tabela1[#This Row]) = 18, 0, 1)), 0)","v":0},{"$f":"IF(X436 = 1, 0, IF(COUNTA(Tabela1[#This Row]) > 0, 1, 0))","v":0}]
[null,null,null,null,null,null,null,null,null,null,null,null,null,null,null,null,null,null,null,null,null,null,null,{"$f":"IF(COUNTA(Tabela1[#This Row]) > 0, IF(Tabela1[[#This Row],[TIPO CARTÃO]]  = \"0-SEM CARTÃO\",IF(COUNTA(Tabela1[#This Row]) = 22, 0, 1),IF(COUNTA(Tabela1[#This Row]) = 18, 0, 1)), 0)","v":0},{"$f":"IF(X437 = 1, 0, IF(COUNTA(Tabela1[#This Row]) > 0, 1, 0))","v":0}]
[null,null,null,null,null,null,null,null,null,null,null,null,null,null,null,null,null,null,null,null,null,null,null,{"$f":"IF(COUNTA(Tabela1[#This Row]) > 0, IF(Tabela1[[#This Row],[TIPO CARTÃO]]  = \"0-SEM CARTÃO\",IF(COUNTA(Tabela1[#This Row]) = 22, 0, 1),IF(COUNTA(Tabela1[#This Row]) = 18, 0, 1)), 0)","v":0},{"$f":"IF(X438 = 1, 0, IF(COUNTA(Tabela1[#This Row]) > 0, 1, 0))","v":0}]
[null,null,null,null,null,null,null,null,null,null,null,null,null,null,null,null,null,null,null,null,null,null,null,{"$f":"IF(COUNTA(Tabela1[#This Row]) > 0, IF(Tabela1[[#This Row],[TIPO CARTÃO]]  = \"0-SEM CARTÃO\",IF(COUNTA(Tabela1[#This Row]) = 22, 0, 1),IF(COUNTA(Tabela1[#This Row]) = 18, 0, 1)), 0)","v":0},{"$f":"IF(X439 = 1, 0, IF(COUNTA(Tabela1[#This Row]) > 0, 1, 0))","v":0}]
[null,null,null,null,null,null,null,null,null,null,null,null,null,null,null,null,null,null,null,null,null,null,null,{"$f":"IF(COUNTA(Tabela1[#This Row]) > 0, IF(Tabela1[[#This Row],[TIPO CARTÃO]]  = \"0-SEM CARTÃO\",IF(COUNTA(Tabela1[#This Row]) = 22, 0, 1),IF(COUNTA(Tabela1[#This Row]) = 18, 0, 1)), 0)","v":0},{"$f":"IF(X440 = 1, 0, IF(COUNTA(Tabela1[#This Row]) > 0, 1, 0))","v":0}]
[null,null,null,null,null,null,null,null,null,null,null,null,null,null,null,null,null,null,null,null,null,null,null,{"$f":"IF(COUNTA(Tabela1[#This Row]) > 0, IF(Tabela1[[#This Row],[TIPO CARTÃO]]  = \"0-SEM CARTÃO\",IF(COUNTA(Tabela1[#This Row]) = 22, 0, 1),IF(COUNTA(Tabela1[#This Row]) = 18, 0, 1)), 0)","v":0},{"$f":"IF(X441 = 1, 0, IF(COUNTA(Tabela1[#This Row]) > 0, 1, 0))","v":0}]
[null,null,null,null,null,null,null,null,null,null,null,null,null,null,null,null,null,null,null,null,null,null,null,{"$f":"IF(COUNTA(Tabela1[#This Row]) > 0, IF(Tabela1[[#This Row],[TIPO CARTÃO]]  = \"0-SEM CARTÃO\",IF(COUNTA(Tabela1[#This Row]) = 22, 0, 1),IF(COUNTA(Tabela1[#This Row]) = 18, 0, 1)), 0)","v":0},{"$f":"IF(X442 = 1, 0, IF(COUNTA(Tabela1[#This Row]) > 0, 1, 0))","v":0}]
[null,null,null,null,null,null,null,null,null,null,null,null,null,null,null,null,null,null,null,null,null,null,null,{"$f":"IF(COUNTA(Tabela1[#This Row]) > 0, IF(Tabela1[[#This Row],[TIPO CARTÃO]]  = \"0-SEM CARTÃO\",IF(COUNTA(Tabela1[#This Row]) = 22, 0, 1),IF(COUNTA(Tabela1[#This Row]) = 18, 0, 1)), 0)","v":0},{"$f":"IF(X443 = 1, 0, IF(COUNTA(Tabela1[#This Row]) > 0, 1, 0))","v":0}]
[null,null,null,null,null,null,null,null,null,null,null,null,null,null,null,null,null,null,null,null,null,null,null,{"$f":"IF(COUNTA(Tabela1[#This Row]) > 0, IF(Tabela1[[#This Row],[TIPO CARTÃO]]  = \"0-SEM CARTÃO\",IF(COUNTA(Tabela1[#This Row]) = 22, 0, 1),IF(COUNTA(Tabela1[#This Row]) = 18, 0, 1)), 0)","v":0},{"$f":"IF(X444 = 1, 0, IF(COUNTA(Tabela1[#This Row]) > 0, 1, 0))","v":0}]
[null,null,null,null,null,null,null,null,null,null,null,null,null,null,null,null,null,null,null,null,null,null,null,{"$f":"IF(COUNTA(Tabela1[#This Row]) > 0, IF(Tabela1[[#This Row],[TIPO CARTÃO]]  = \"0-SEM CARTÃO\",IF(COUNTA(Tabela1[#This Row]) = 22, 0, 1),IF(COUNTA(Tabela1[#This Row]) = 18, 0, 1)), 0)","v":0},{"$f":"IF(X445 = 1, 0, IF(COUNTA(Tabela1[#This Row]) > 0, 1, 0))","v":0}]
[null,null,null,null,null,null,null,null,null,null,null,null,null,null,null,null,null,null,null,null,null,null,null,{"$f":"IF(COUNTA(Tabela1[#This Row]) > 0, IF(Tabela1[[#This Row],[TIPO CARTÃO]]  = \"0-SEM CARTÃO\",IF(COUNTA(Tabela1[#This Row]) = 22, 0, 1),IF(COUNTA(Tabela1[#This Row]) = 18, 0, 1)), 0)","v":0},{"$f":"IF(X446 = 1, 0, IF(COUNTA(Tabela1[#This Row]) > 0, 1, 0))","v":0}]
[null,null,null,null,null,null,null,null,null,null,null,null,null,null,null,null,null,null,null,null,null,null,null,{"$f":"IF(COUNTA(Tabela1[#This Row]) > 0, IF(Tabela1[[#This Row],[TIPO CARTÃO]]  = \"0-SEM CARTÃO\",IF(COUNTA(Tabela1[#This Row]) = 22, 0, 1),IF(COUNTA(Tabela1[#This Row]) = 18, 0, 1)), 0)","v":0},{"$f":"IF(X447 = 1, 0, IF(COUNTA(Tabela1[#This Row]) > 0, 1, 0))","v":0}]
[null,null,null,null,null,null,null,null,null,null,null,null,null,null,null,null,null,null,null,null,null,null,null,{"$f":"IF(COUNTA(Tabela1[#This Row]) > 0, IF(Tabela1[[#This Row],[TIPO CARTÃO]]  = \"0-SEM CARTÃO\",IF(COUNTA(Tabela1[#This Row]) = 22, 0, 1),IF(COUNTA(Tabela1[#This Row]) = 18, 0, 1)), 0)","v":0},{"$f":"IF(X448 = 1, 0, IF(COUNTA(Tabela1[#This Row]) > 0, 1, 0))","v":0}]
[null,null,null,null,null,null,null,null,null,null,null,null,null,null,null,null,null,null,null,null,null,null,null,{"$f":"IF(COUNTA(Tabela1[#This Row]) > 0, IF(Tabela1[[#This Row],[TIPO CARTÃO]]  = \"0-SEM CARTÃO\",IF(COUNTA(Tabela1[#This Row]) = 22, 0, 1),IF(COUNTA(Tabela1[#This Row]) = 18, 0, 1)), 0)","v":0},{"$f":"IF(X449 = 1, 0, IF(COUNTA(Tabela1[#This Row]) > 0, 1, 0))","v":0}]
[null,null,null,null,null,null,null,null,null,null,null,null,null,null,null,null,null,null,null,null,null,null,null,{"$f":"IF(COUNTA(Tabela1[#This Row]) > 0, IF(Tabela1[[#This Row],[TIPO CARTÃO]]  = \"0-SEM CARTÃO\",IF(COUNTA(Tabela1[#This Row]) = 22, 0, 1),IF(COUNTA(Tabela1[#This Row]) = 18, 0, 1)), 0)","v":0},{"$f":"IF(X450 = 1, 0, IF(COUNTA(Tabela1[#This Row]) > 0, 1, 0))","v":0}]
[null,null,null,null,null,null,null,null,null,null,null,null,null,null,null,null,null,null,null,null,null,null,null,{"$f":"IF(COUNTA(Tabela1[#This Row]) > 0, IF(Tabela1[[#This Row],[TIPO CARTÃO]]  = \"0-SEM CARTÃO\",IF(COUNTA(Tabela1[#This Row]) = 22, 0, 1),IF(COUNTA(Tabela1[#This Row]) = 18, 0, 1)), 0)","v":0},{"$f":"IF(X451 = 1, 0, IF(COUNTA(Tabela1[#This Row]) > 0, 1, 0))","v":0}]
[null,null,null,null,null,null,null,null,null,null,null,null,null,null,null,null,null,null,null,null,null,null,null,{"$f":"IF(COUNTA(Tabela1[#This Row]) > 0, IF(Tabela1[[#This Row],[TIPO CARTÃO]]  = \"0-SEM CARTÃO\",IF(COUNTA(Tabela1[#This Row]) = 22, 0, 1),IF(COUNTA(Tabela1[#This Row]) = 18, 0, 1)), 0)","v":0},{"$f":"IF(X452 = 1, 0, IF(COUNTA(Tabela1[#This Row]) > 0, 1, 0))","v":0}]
[null,null,null,null,null,null,null,null,null,null,null,null,null,null,null,null,null,null,null,null,null,null,null,{"$f":"IF(COUNTA(Tabela1[#This Row]) > 0, IF(Tabela1[[#This Row],[TIPO CARTÃO]]  = \"0-SEM CARTÃO\",IF(COUNTA(Tabela1[#This Row]) = 22, 0, 1),IF(COUNTA(Tabela1[#This Row]) = 18, 0, 1)), 0)","v":0},{"$f":"IF(X453 = 1, 0, IF(COUNTA(Tabela1[#This Row]) > 0, 1, 0))","v":0}]
[null,null,null,null,null,null,null,null,null,null,null,null,null,null,null,null,null,null,null,null,null,null,null,{"$f":"IF(COUNTA(Tabela1[#This Row]) > 0, IF(Tabela1[[#This Row],[TIPO CARTÃO]]  = \"0-SEM CARTÃO\",IF(COUNTA(Tabela1[#This Row]) = 22, 0, 1),IF(COUNTA(Tabela1[#This Row]) = 18, 0, 1)), 0)","v":0},{"$f":"IF(X454 = 1, 0, IF(COUNTA(Tabela1[#This Row]) > 0, 1, 0))","v":0}]
[null,null,null,null,null,null,null,null,null,null,null,null,null,null,null,null,null,null,null,null,null,null,null,{"$f":"IF(COUNTA(Tabela1[#This Row]) > 0, IF(Tabela1[[#This Row],[TIPO CARTÃO]]  = \"0-SEM CARTÃO\",IF(COUNTA(Tabela1[#This Row]) = 22, 0, 1),IF(COUNTA(Tabela1[#This Row]) = 18, 0, 1)), 0)","v":0},{"$f":"IF(X455 = 1, 0, IF(COUNTA(Tabela1[#This Row]) > 0, 1, 0))","v":0}]
[null,null,null,null,null,null,null,null,null,null,null,null,null,null,null,null,null,null,null,null,null,null,null,{"$f":"IF(COUNTA(Tabela1[#This Row]) > 0, IF(Tabela1[[#This Row],[TIPO CARTÃO]]  = \"0-SEM CARTÃO\",IF(COUNTA(Tabela1[#This Row]) = 22, 0, 1),IF(COUNTA(Tabela1[#This Row]) = 18, 0, 1)), 0)","v":0},{"$f":"IF(X456 = 1, 0, IF(COUNTA(Tabela1[#This Row]) > 0, 1, 0))","v":0}]
[null,null,null,null,null,null,null,null,null,null,null,null,null,null,null,null,null,null,null,null,null,null,null,{"$f":"IF(COUNTA(Tabela1[#This Row]) > 0, IF(Tabela1[[#This Row],[TIPO CARTÃO]]  = \"0-SEM CARTÃO\",IF(COUNTA(Tabela1[#This Row]) = 22, 0, 1),IF(COUNTA(Tabela1[#This Row]) = 18, 0, 1)), 0)","v":0},{"$f":"IF(X457 = 1, 0, IF(COUNTA(Tabela1[#This Row]) > 0, 1, 0))","v":0}]
[null,null,null,null,null,null,null,null,null,null,null,null,null,null,null,null,null,null,null,null,null,null,null,{"$f":"IF(COUNTA(Tabela1[#This Row]) > 0, IF(Tabela1[[#This Row],[TIPO CARTÃO]]  = \"0-SEM CARTÃO\",IF(COUNTA(Tabela1[#This Row]) = 22, 0, 1),IF(COUNTA(Tabela1[#This Row]) = 18, 0, 1)), 0)","v":0},{"$f":"IF(X458 = 1, 0, IF(COUNTA(Tabela1[#This Row]) > 0, 1, 0))","v":0}]
[null,null,null,null,null,null,null,null,null,null,null,null,null,null,null,null,null,null,null,null,null,null,null,{"$f":"IF(COUNTA(Tabela1[#This Row]) > 0, IF(Tabela1[[#This Row],[TIPO CARTÃO]]  = \"0-SEM CARTÃO\",IF(COUNTA(Tabela1[#This Row]) = 22, 0, 1),IF(COUNTA(Tabela1[#This Row]) = 18, 0, 1)), 0)","v":0},{"$f":"IF(X459 = 1, 0, IF(COUNTA(Tabela1[#This Row]) > 0, 1, 0))","v":0}]
[null,null,null,null,null,null,null,null,null,null,null,null,null,null,null,null,null,null,null,null,null,null,null,{"$f":"IF(COUNTA(Tabela1[#This Row]) > 0, IF(Tabela1[[#This Row],[TIPO CARTÃO]]  = \"0-SEM CARTÃO\",IF(COUNTA(Tabela1[#This Row]) = 22, 0, 1),IF(COUNTA(Tabela1[#This Row]) = 18, 0, 1)), 0)","v":0},{"$f":"IF(X460 = 1, 0, IF(COUNTA(Tabela1[#This Row]) > 0, 1, 0))","v":0}]
[null,null,null,null,null,null,null,null,null,null,null,null,null,null,null,null,null,null,null,null,null,null,null,{"$f":"IF(COUNTA(Tabela1[#This Row]) > 0, IF(Tabela1[[#This Row],[TIPO CARTÃO]]  = \"0-SEM CARTÃO\",IF(COUNTA(Tabela1[#This Row]) = 22, 0, 1),IF(COUNTA(Tabela1[#This Row]) = 18, 0, 1)), 0)","v":0},{"$f":"IF(X461 = 1, 0, IF(COUNTA(Tabela1[#This Row]) > 0, 1, 0))","v":0}]
[null,null,null,null,null,null,null,null,null,null,null,null,null,null,null,null,null,null,null,null,null,null,null,{"$f":"IF(COUNTA(Tabela1[#This Row]) > 0, IF(Tabela1[[#This Row],[TIPO CARTÃO]]  = \"0-SEM CARTÃO\",IF(COUNTA(Tabela1[#This Row]) = 22, 0, 1),IF(COUNTA(Tabela1[#This Row]) = 18, 0, 1)), 0)","v":0},{"$f":"IF(X462 = 1, 0, IF(COUNTA(Tabela1[#This Row]) > 0, 1, 0))","v":0}]
[null,null,null,null,null,null,null,null,null,null,null,null,null,null,null,null,null,null,null,null,null,null,null,{"$f":"IF(COUNTA(Tabela1[#This Row]) > 0, IF(Tabela1[[#This Row],[TIPO CARTÃO]]  = \"0-SEM CARTÃO\",IF(COUNTA(Tabela1[#This Row]) = 22, 0, 1),IF(COUNTA(Tabela1[#This Row]) = 18, 0, 1)), 0)","v":0},{"$f":"IF(X463 = 1, 0, IF(COUNTA(Tabela1[#This Row]) > 0, 1, 0))","v":0}]
[null,null,null,null,null,null,null,null,null,null,null,null,null,null,null,null,null,null,null,null,null,null,null,{"$f":"IF(COUNTA(Tabela1[#This Row]) > 0, IF(Tabela1[[#This Row],[TIPO CARTÃO]]  = \"0-SEM CARTÃO\",IF(COUNTA(Tabela1[#This Row]) = 22, 0, 1),IF(COUNTA(Tabela1[#This Row]) = 18, 0, 1)), 0)","v":0},{"$f":"IF(X464 = 1, 0, IF(COUNTA(Tabela1[#This Row]) > 0, 1, 0))","v":0}]
[null,null,null,null,null,null,null,null,null,null,null,null,null,null,null,null,null,null,null,null,null,null,null,{"$f":"IF(COUNTA(Tabela1[#This Row]) > 0, IF(Tabela1[[#This Row],[TIPO CARTÃO]]  = \"0-SEM CARTÃO\",IF(COUNTA(Tabela1[#This Row]) = 22, 0, 1),IF(COUNTA(Tabela1[#This Row]) = 18, 0, 1)), 0)","v":0},{"$f":"IF(X465 = 1, 0, IF(COUNTA(Tabela1[#This Row]) > 0, 1, 0))","v":0}]
[null,null,null,null,null,null,null,null,null,null,null,null,null,null,null,null,null,null,null,null,null,null,null,{"$f":"IF(COUNTA(Tabela1[#This Row]) > 0, IF(Tabela1[[#This Row],[TIPO CARTÃO]]  = \"0-SEM CARTÃO\",IF(COUNTA(Tabela1[#This Row]) = 22, 0, 1),IF(COUNTA(Tabela1[#This Row]) = 18, 0, 1)), 0)","v":0},{"$f":"IF(X466 = 1, 0, IF(COUNTA(Tabela1[#This Row]) > 0, 1, 0))","v":0}]
[null,null,null,null,null,null,null,null,null,null,null,null,null,null,null,null,null,null,null,null,null,null,null,{"$f":"IF(COUNTA(Tabela1[#This Row]) > 0, IF(Tabela1[[#This Row],[TIPO CARTÃO]]  = \"0-SEM CARTÃO\",IF(COUNTA(Tabela1[#This Row]) = 22, 0, 1),IF(COUNTA(Tabela1[#This Row]) = 18, 0, 1)), 0)","v":0},{"$f":"IF(X467 = 1, 0, IF(COUNTA(Tabela1[#This Row]) > 0, 1, 0))","v":0}]
[null,null,null,null,null,null,null,null,null,null,null,null,null,null,null,null,null,null,null,null,null,null,null,{"$f":"IF(COUNTA(Tabela1[#This Row]) > 0, IF(Tabela1[[#This Row],[TIPO CARTÃO]]  = \"0-SEM CARTÃO\",IF(COUNTA(Tabela1[#This Row]) = 22, 0, 1),IF(COUNTA(Tabela1[#This Row]) = 18, 0, 1)), 0)","v":0},{"$f":"IF(X468 = 1, 0, IF(COUNTA(Tabela1[#This Row]) > 0, 1, 0))","v":0}]
[null,null,null,null,null,null,null,null,null,null,null,null,null,null,null,null,null,null,null,null,null,null,null,{"$f":"IF(COUNTA(Tabela1[#This Row]) > 0, IF(Tabela1[[#This Row],[TIPO CARTÃO]]  = \"0-SEM CARTÃO\",IF(COUNTA(Tabela1[#This Row]) = 22, 0, 1),IF(COUNTA(Tabela1[#This Row]) = 18, 0, 1)), 0)","v":0},{"$f":"IF(X469 = 1, 0, IF(COUNTA(Tabela1[#This Row]) > 0, 1, 0))","v":0}]
[null,null,null,null,null,null,null,null,null,null,null,null,null,null,null,null,null,null,null,null,null,null,null,{"$f":"IF(COUNTA(Tabela1[#This Row]) > 0, IF(Tabela1[[#This Row],[TIPO CARTÃO]]  = \"0-SEM CARTÃO\",IF(COUNTA(Tabela1[#This Row]) = 22, 0, 1),IF(COUNTA(Tabela1[#This Row]) = 18, 0, 1)), 0)","v":0},{"$f":"IF(X470 = 1, 0, IF(COUNTA(Tabela1[#This Row]) > 0, 1, 0))","v":0}]
[null,null,null,null,null,null,null,null,null,null,null,null,null,null,null,null,null,null,null,null,null,null,null,{"$f":"IF(COUNTA(Tabela1[#This Row]) > 0, IF(Tabela1[[#This Row],[TIPO CARTÃO]]  = \"0-SEM CARTÃO\",IF(COUNTA(Tabela1[#This Row]) = 22, 0, 1),IF(COUNTA(Tabela1[#This Row]) = 18, 0, 1)), 0)","v":0},{"$f":"IF(X471 = 1, 0, IF(COUNTA(Tabela1[#This Row]) > 0, 1, 0))","v":0}]
[null,null,null,null,null,null,null,null,null,null,null,null,null,null,null,null,null,null,null,null,null,null,null,{"$f":"IF(COUNTA(Tabela1[#This Row]) > 0, IF(Tabela1[[#This Row],[TIPO CARTÃO]]  = \"0-SEM CARTÃO\",IF(COUNTA(Tabela1[#This Row]) = 22, 0, 1),IF(COUNTA(Tabela1[#This Row]) = 18, 0, 1)), 0)","v":0},{"$f":"IF(X472 = 1, 0, IF(COUNTA(Tabela1[#This Row]) > 0, 1, 0))","v":0}]
[null,null,null,null,null,null,null,null,null,null,null,null,null,null,null,null,null,null,null,null,null,null,null,{"$f":"IF(COUNTA(Tabela1[#This Row]) > 0, IF(Tabela1[[#This Row],[TIPO CARTÃO]]  = \"0-SEM CARTÃO\",IF(COUNTA(Tabela1[#This Row]) = 22, 0, 1),IF(COUNTA(Tabela1[#This Row]) = 18, 0, 1)), 0)","v":0},{"$f":"IF(X473 = 1, 0, IF(COUNTA(Tabela1[#This Row]) > 0, 1, 0))","v":0}]
[null,null,null,null,null,null,null,null,null,null,null,null,null,null,null,null,null,null,null,null,null,null,null,{"$f":"IF(COUNTA(Tabela1[#This Row]) > 0, IF(Tabela1[[#This Row],[TIPO CARTÃO]]  = \"0-SEM CARTÃO\",IF(COUNTA(Tabela1[#This Row]) = 22, 0, 1),IF(COUNTA(Tabela1[#This Row]) = 18, 0, 1)), 0)","v":0},{"$f":"IF(X474 = 1, 0, IF(COUNTA(Tabela1[#This Row]) > 0, 1, 0))","v":0}]
[null,null,null,null,null,null,null,null,null,null,null,null,null,null,null,null,null,null,null,null,null,null,null,{"$f":"IF(COUNTA(Tabela1[#This Row]) > 0, IF(Tabela1[[#This Row],[TIPO CARTÃO]]  = \"0-SEM CARTÃO\",IF(COUNTA(Tabela1[#This Row]) = 22, 0, 1),IF(COUNTA(Tabela1[#This Row]) = 18, 0, 1)), 0)","v":0},{"$f":"IF(X475 = 1, 0, IF(COUNTA(Tabela1[#This Row]) > 0, 1, 0))","v":0}]
[null,null,null,null,null,null,null,null,null,null,null,null,null,null,null,null,null,null,null,null,null,null,null,{"$f":"IF(COUNTA(Tabela1[#This Row]) > 0, IF(Tabela1[[#This Row],[TIPO CARTÃO]]  = \"0-SEM CARTÃO\",IF(COUNTA(Tabela1[#This Row]) = 22, 0, 1),IF(COUNTA(Tabela1[#This Row]) = 18, 0, 1)), 0)","v":0},{"$f":"IF(X476 = 1, 0, IF(COUNTA(Tabela1[#This Row]) > 0, 1, 0))","v":0}]
[null,null,null,null,null,null,null,null,null,null,null,null,null,null,null,null,null,null,null,null,null,null,null,{"$f":"IF(COUNTA(Tabela1[#This Row]) > 0, IF(Tabela1[[#This Row],[TIPO CARTÃO]]  = \"0-SEM CARTÃO\",IF(COUNTA(Tabela1[#This Row]) = 22, 0, 1),IF(COUNTA(Tabela1[#This Row]) = 18, 0, 1)), 0)","v":0},{"$f":"IF(X477 = 1, 0, IF(COUNTA(Tabela1[#This Row]) > 0, 1, 0))","v":0}]
[null,null,null,null,null,null,null,null,null,null,null,null,null,null,null,null,null,null,null,null,null,null,null,{"$f":"IF(COUNTA(Tabela1[#This Row]) > 0, IF(Tabela1[[#This Row],[TIPO CARTÃO]]  = \"0-SEM CARTÃO\",IF(COUNTA(Tabela1[#This Row]) = 22, 0, 1),IF(COUNTA(Tabela1[#This Row]) = 18, 0, 1)), 0)","v":0},{"$f":"IF(X478 = 1, 0, IF(COUNTA(Tabela1[#This Row]) > 0, 1, 0))","v":0}]
[null,null,null,null,null,null,null,null,null,null,null,null,null,null,null,null,null,null,null,null,null,null,null,{"$f":"IF(COUNTA(Tabela1[#This Row]) > 0, IF(Tabela1[[#This Row],[TIPO CARTÃO]]  = \"0-SEM CARTÃO\",IF(COUNTA(Tabela1[#This Row]) = 22, 0, 1),IF(COUNTA(Tabela1[#This Row]) = 18, 0, 1)), 0)","v":0},{"$f":"IF(X479 = 1, 0, IF(COUNTA(Tabela1[#This Row]) > 0, 1, 0))","v":0}]
[null,null,null,null,null,null,null,null,null,null,null,null,null,null,null,null,null,null,null,null,null,null,null,{"$f":"IF(COUNTA(Tabela1[#This Row]) > 0, IF(Tabela1[[#This Row],[TIPO CARTÃO]]  = \"0-SEM CARTÃO\",IF(COUNTA(Tabela1[#This Row]) = 22, 0, 1),IF(COUNTA(Tabela1[#This Row]) = 18, 0, 1)), 0)","v":0},{"$f":"IF(X480 = 1, 0, IF(COUNTA(Tabela1[#This Row]) > 0, 1, 0))","v":0}]
[null,null,null,null,null,null,null,null,null,null,null,null,null,null,null,null,null,null,null,null,null,null,null,{"$f":"IF(COUNTA(Tabela1[#This Row]) > 0, IF(Tabela1[[#This Row],[TIPO CARTÃO]]  = \"0-SEM CARTÃO\",IF(COUNTA(Tabela1[#This Row]) = 22, 0, 1),IF(COUNTA(Tabela1[#This Row]) = 18, 0, 1)), 0)","v":0},{"$f":"IF(X481 = 1, 0, IF(COUNTA(Tabela1[#This Row]) > 0, 1, 0))","v":0}]
[null,null,null,null,null,null,null,null,null,null,null,null,null,null,null,null,null,null,null,null,null,null,null,{"$f":"IF(COUNTA(Tabela1[#This Row]) > 0, IF(Tabela1[[#This Row],[TIPO CARTÃO]]  = \"0-SEM CARTÃO\",IF(COUNTA(Tabela1[#This Row]) = 22, 0, 1),IF(COUNTA(Tabela1[#This Row]) = 18, 0, 1)), 0)","v":0},{"$f":"IF(X482 = 1, 0, IF(COUNTA(Tabela1[#This Row]) > 0, 1, 0))","v":0}]
[null,null,null,null,null,null,null,null,null,null,null,null,null,null,null,null,null,null,null,null,null,null,null,{"$f":"IF(COUNTA(Tabela1[#This Row]) > 0, IF(Tabela1[[#This Row],[TIPO CARTÃO]]  = \"0-SEM CARTÃO\",IF(COUNTA(Tabela1[#This Row]) = 22, 0, 1),IF(COUNTA(Tabela1[#This Row]) = 18, 0, 1)), 0)","v":0},{"$f":"IF(X483 = 1, 0, IF(COUNTA(Tabela1[#This Row]) > 0, 1, 0))","v":0}]
[null,null,null,null,null,null,null,null,null,null,null,null,null,null,null,null,null,null,null,null,null,null,null,{"$f":"IF(COUNTA(Tabela1[#This Row]) > 0, IF(Tabela1[[#This Row],[TIPO CARTÃO]]  = \"0-SEM CARTÃO\",IF(COUNTA(Tabela1[#This Row]) = 22, 0, 1),IF(COUNTA(Tabela1[#This Row]) = 18, 0, 1)), 0)","v":0},{"$f":"IF(X484 = 1, 0, IF(COUNTA(Tabela1[#This Row]) > 0, 1, 0))","v":0}]
[null,null,null,null,null,null,null,null,null,null,null,null,null,null,null,null,null,null,null,null,null,null,null,{"$f":"IF(COUNTA(Tabela1[#This Row]) > 0, IF(Tabela1[[#This Row],[TIPO CARTÃO]]  = \"0-SEM CARTÃO\",IF(COUNTA(Tabela1[#This Row]) = 22, 0, 1),IF(COUNTA(Tabela1[#This Row]) = 18, 0, 1)), 0)","v":0},{"$f":"IF(X485 = 1, 0, IF(COUNTA(Tabela1[#This Row]) > 0, 1, 0))","v":0}]
[null,null,null,null,null,null,null,null,null,null,null,null,null,null,null,null,null,null,null,null,null,null,null,{"$f":"IF(COUNTA(Tabela1[#This Row]) > 0, IF(Tabela1[[#This Row],[TIPO CARTÃO]]  = \"0-SEM CARTÃO\",IF(COUNTA(Tabela1[#This Row]) = 22, 0, 1),IF(COUNTA(Tabela1[#This Row]) = 18, 0, 1)), 0)","v":0},{"$f":"IF(X486 = 1, 0, IF(COUNTA(Tabela1[#This Row]) > 0, 1, 0))","v":0}]
[null,null,null,null,null,null,null,null,null,null,null,null,null,null,null,null,null,null,null,null,null,null,null,{"$f":"IF(COUNTA(Tabela1[#This Row]) > 0, IF(Tabela1[[#This Row],[TIPO CARTÃO]]  = \"0-SEM CARTÃO\",IF(COUNTA(Tabela1[#This Row]) = 22, 0, 1),IF(COUNTA(Tabela1[#This Row]) = 18, 0, 1)), 0)","v":0},{"$f":"IF(X487 = 1, 0, IF(COUNTA(Tabela1[#This Row]) > 0, 1, 0))","v":0}]
[null,null,null,null,null,null,null,null,null,null,null,null,null,null,null,null,null,null,null,null,null,null,null,{"$f":"IF(COUNTA(Tabela1[#This Row]) > 0, IF(Tabela1[[#This Row],[TIPO CARTÃO]]  = \"0-SEM CARTÃO\",IF(COUNTA(Tabela1[#This Row]) = 22, 0, 1),IF(COUNTA(Tabela1[#This Row]) = 18, 0, 1)), 0)","v":0},{"$f":"IF(X488 = 1, 0, IF(COUNTA(Tabela1[#This Row]) > 0, 1, 0))","v":0}]
[null,null,null,null,null,null,null,null,null,null,null,null,null,null,null,null,null,null,null,null,null,null,null,{"$f":"IF(COUNTA(Tabela1[#This Row]) > 0, IF(Tabela1[[#This Row],[TIPO CARTÃO]]  = \"0-SEM CARTÃO\",IF(COUNTA(Tabela1[#This Row]) = 22, 0, 1),IF(COUNTA(Tabela1[#This Row]) = 18, 0, 1)), 0)","v":0},{"$f":"IF(X489 = 1, 0, IF(COUNTA(Tabela1[#This Row]) > 0, 1, 0))","v":0}]
[null,null,null,null,null,null,null,null,null,null,null,null,null,null,null,null,null,null,null,null,null,null,null,{"$f":"IF(COUNTA(Tabela1[#This Row]) > 0, IF(Tabela1[[#This Row],[TIPO CARTÃO]]  = \"0-SEM CARTÃO\",IF(COUNTA(Tabela1[#This Row]) = 22, 0, 1),IF(COUNTA(Tabela1[#This Row]) = 18, 0, 1)), 0)","v":0},{"$f":"IF(X490 = 1, 0, IF(COUNTA(Tabela1[#This Row]) > 0, 1, 0))","v":0}]
[null,null,null,null,null,null,null,null,null,null,null,null,null,null,null,null,null,null,null,null,null,null,null,{"$f":"IF(COUNTA(Tabela1[#This Row]) > 0, IF(Tabela1[[#This Row],[TIPO CARTÃO]]  = \"0-SEM CARTÃO\",IF(COUNTA(Tabela1[#This Row]) = 22, 0, 1),IF(COUNTA(Tabela1[#This Row]) = 18, 0, 1)), 0)","v":0},{"$f":"IF(X491 = 1, 0, IF(COUNTA(Tabela1[#This Row]) > 0, 1, 0))","v":0}]
[null,null,null,null,null,null,null,null,null,null,null,null,null,null,null,null,null,null,null,null,null,null,null,{"$f":"IF(COUNTA(Tabela1[#This Row]) > 0, IF(Tabela1[[#This Row],[TIPO CARTÃO]]  = \"0-SEM CARTÃO\",IF(COUNTA(Tabela1[#This Row]) = 22, 0, 1),IF(COUNTA(Tabela1[#This Row]) = 18, 0, 1)), 0)","v":0},{"$f":"IF(X492 = 1, 0, IF(COUNTA(Tabela1[#This Row]) > 0, 1, 0))","v":0}]
[null,null,null,null,null,null,null,null,null,null,null,null,null,null,null,null,null,null,null,null,null,null,null,{"$f":"IF(COUNTA(Tabela1[#This Row]) > 0, IF(Tabela1[[#This Row],[TIPO CARTÃO]]  = \"0-SEM CARTÃO\",IF(COUNTA(Tabela1[#This Row]) = 22, 0, 1),IF(COUNTA(Tabela1[#This Row]) = 18, 0, 1)), 0)","v":0},{"$f":"IF(X493 = 1, 0, IF(COUNTA(Tabela1[#This Row]) > 0, 1, 0))","v":0}]
[null,null,null,null,null,null,null,null,null,null,null,null,null,null,null,null,null,null,null,null,null,null,null,{"$f":"IF(COUNTA(Tabela1[#This Row]) > 0, IF(Tabela1[[#This Row],[TIPO CARTÃO]]  = \"0-SEM CARTÃO\",IF(COUNTA(Tabela1[#This Row]) = 22, 0, 1),IF(COUNTA(Tabela1[#This Row]) = 18, 0, 1)), 0)","v":0},{"$f":"IF(X494 = 1, 0, IF(COUNTA(Tabela1[#This Row]) > 0, 1, 0))","v":0}]
[null,null,null,null,null,null,null,null,null,null,null,null,null,null,null,null,null,null,null,null,null,null,null,{"$f":"IF(COUNTA(Tabela1[#This Row]) > 0, IF(Tabela1[[#This Row],[TIPO CARTÃO]]  = \"0-SEM CARTÃO\",IF(COUNTA(Tabela1[#This Row]) = 22, 0, 1),IF(COUNTA(Tabela1[#This Row]) = 18, 0, 1)), 0)","v":0},{"$f":"IF(X495 = 1, 0, IF(COUNTA(Tabela1[#This Row]) > 0, 1, 0))","v":0}]
[null,null,null,null,null,null,null,null,null,null,null,null,null,null,null,null,null,null,null,null,null,null,null,{"$f":"IF(COUNTA(Tabela1[#This Row]) > 0, IF(Tabela1[[#This Row],[TIPO CARTÃO]]  = \"0-SEM CARTÃO\",IF(COUNTA(Tabela1[#This Row]) = 22, 0, 1),IF(COUNTA(Tabela1[#This Row]) = 18, 0, 1)), 0)","v":0},{"$f":"IF(X496 = 1, 0, IF(COUNTA(Tabela1[#This Row]) > 0, 1, 0))","v":0}]
[null,null,null,null,null,null,null,null,null,null,null,null,null,null,null,null,null,null,null,null,null,null,null,{"$f":"IF(COUNTA(Tabela1[#This Row]) > 0, IF(Tabela1[[#This Row],[TIPO CARTÃO]]  = \"0-SEM CARTÃO\",IF(COUNTA(Tabela1[#This Row]) = 22, 0, 1),IF(COUNTA(Tabela1[#This Row]) = 18, 0, 1)), 0)","v":0},{"$f":"IF(X497 = 1, 0, IF(COUNTA(Tabela1[#This Row]) > 0, 1, 0))","v":0}]
[null,null,null,null,null,null,null,null,null,null,null,null,null,null,null,null,null,null,null,null,null,null,null,{"$f":"IF(COUNTA(Tabela1[#This Row]) > 0, IF(Tabela1[[#This Row],[TIPO CARTÃO]]  = \"0-SEM CARTÃO\",IF(COUNTA(Tabela1[#This Row]) = 22, 0, 1),IF(COUNTA(Tabela1[#This Row]) = 18, 0, 1)), 0)","v":0},{"$f":"IF(X498 = 1, 0, IF(COUNTA(Tabela1[#This Row]) > 0, 1, 0))","v":0}]
[null,null,null,null,null,null,null,null,null,null,null,null,null,null,null,null,null,null,null,null,null,null,null,{"$f":"IF(COUNTA(Tabela1[#This Row]) > 0, IF(Tabela1[[#This Row],[TIPO CARTÃO]]  = \"0-SEM CARTÃO\",IF(COUNTA(Tabela1[#This Row]) = 22, 0, 1),IF(COUNTA(Tabela1[#This Row]) = 18, 0, 1)), 0)","v":0},{"$f":"IF(X499 = 1, 0, IF(COUNTA(Tabela1[#This Row]) > 0, 1, 0))","v":0}]
[null,null,null,null,null,null,null,null,null,null,null,null,null,null,null,null,null,null,null,null,null,null,null,{"$f":"IF(COUNTA(Tabela1[#This Row]) > 0, IF(Tabela1[[#This Row],[TIPO CARTÃO]]  = \"0-SEM CARTÃO\",IF(COUNTA(Tabela1[#This Row]) = 22, 0, 1),IF(COUNTA(Tabela1[#This Row]) = 18, 0, 1)), 0)","v":0},{"$f":"IF(X500 = 1, 0, IF(COUNTA(Tabela1[#This Row]) > 0, 1, 0))","v":0}]
[null,null,null,null,null,null,null,null,null,null,null,null,null,null,null,null,null,null,null,null,null,null,null,{"$f":"IF(COUNTA(Tabela1[#This Row]) > 0, IF(Tabela1[[#This Row],[TIPO CARTÃO]]  = \"0-SEM CARTÃO\",IF(COUNTA(Tabela1[#This Row]) = 22, 0, 1),IF(COUNTA(Tabela1[#This Row]) = 18, 0, 1)), 0)","v":0},{"$f":"IF(X501 = 1, 0, IF(COUNTA(Tabela1[#This Row]) > 0, 1, 0))","v":0}]
[null,null,null,null,null,null,null,null,null,null,null,null,null,null,null,null,null,null,null,null,null,null,null,{"$f":"IF(COUNTA(Tabela1[#This Row]) > 0, IF(Tabela1[[#This Row],[TIPO CARTÃO]]  = \"0-SEM CARTÃO\",IF(COUNTA(Tabela1[#This Row]) = 22, 0, 1),IF(COUNTA(Tabela1[#This Row]) = 18, 0, 1)), 0)","v":0},{"$f":"IF(X502 = 1, 0, IF(COUNTA(Tabela1[#This Row]) > 0, 1, 0))","v":0}]
[null,null,null,null,null,null,null,null,null,null,null,null,null,null,null,null,null,null,null,null,null,null,null,{"$f":"IF(COUNTA(Tabela1[#This Row]) > 0, IF(Tabela1[[#This Row],[TIPO CARTÃO]]  = \"0-SEM CARTÃO\",IF(COUNTA(Tabela1[#This Row]) = 22, 0, 1),IF(COUNTA(Tabela1[#This Row]) = 18, 0, 1)), 0)","v":0},{"$f":"IF(X503 = 1, 0, IF(COUNTA(Tabela1[#This Row]) > 0, 1, 0))","v":0}]
[null,null,null,null,null,null,null,null,null,null,null,null,null,null,null,null,null,null,null,null,null,null,null,{"$f":"IF(COUNTA(Tabela1[#This Row]) > 0, IF(Tabela1[[#This Row],[TIPO CARTÃO]]  = \"0-SEM CARTÃO\",IF(COUNTA(Tabela1[#This Row]) = 22, 0, 1),IF(COUNTA(Tabela1[#This Row]) = 18, 0, 1)), 0)","v":0},{"$f":"IF(X504 = 1, 0, IF(COUNTA(Tabela1[#This Row]) > 0, 1, 0))","v":0}]
[null,null,null,null,null,null,null,null,null,null,null,null,null,null,null,null,null,null,null,null,null,null,null,{"$f":"IF(COUNTA(Tabela1[#This Row]) > 0, IF(Tabela1[[#This Row],[TIPO CARTÃO]]  = \"0-SEM CARTÃO\",IF(COUNTA(Tabela1[#This Row]) = 22, 0, 1),IF(COUNTA(Tabela1[#This Row]) = 18, 0, 1)), 0)","v":0},{"$f":"IF(X505 = 1, 0, IF(COUNTA(Tabela1[#This Row]) > 0, 1, 0))","v":0}]
[null,null,null,null,null,null,null,null,null,null,null,null,null,null,null,null,null,null,null,null,null,null,null,{"$f":"IF(COUNTA(Tabela1[#This Row]) > 0, IF(Tabela1[[#This Row],[TIPO CARTÃO]]  = \"0-SEM CARTÃO\",IF(COUNTA(Tabela1[#This Row]) = 22, 0, 1),IF(COUNTA(Tabela1[#This Row]) = 18, 0, 1)), 0)","v":0},{"$f":"IF(X506 = 1, 0, IF(COUNTA(Tabela1[#This Row]) > 0, 1, 0))","v":0}]
[null,null,null,null,null,null,null,null,null,null,null,null,null,null,null,null,null,null,null,null,null,null,null,{"$f":"IF(COUNTA(Tabela1[#This Row]) > 0, IF(Tabela1[[#This Row],[TIPO CARTÃO]]  = \"0-SEM CARTÃO\",IF(COUNTA(Tabela1[#This Row]) = 22, 0, 1),IF(COUNTA(Tabela1[#This Row]) = 18, 0, 1)), 0)","v":0},{"$f":"IF(X507 = 1, 0, IF(COUNTA(Tabela1[#This Row]) > 0, 1, 0))","v":0}]
[null,null,null,null,null,null,null,null,null,null,null,null,null,null,null,null,null,null,null,null,null,null,null,{"$f":"IF(COUNTA(Tabela1[#This Row]) > 0, IF(Tabela1[[#This Row],[TIPO CARTÃO]]  = \"0-SEM CARTÃO\",IF(COUNTA(Tabela1[#This Row]) = 22, 0, 1),IF(COUNTA(Tabela1[#This Row]) = 18, 0, 1)), 0)","v":0},{"$f":"IF(X508 = 1, 0, IF(COUNTA(Tabela1[#This Row]) > 0, 1, 0))","v":0}]
[null,null,null,null,null,null,null,null,null,null,null,null,null,null,null,null,null,null,null,null,null,null,null,{"$f":"IF(COUNTA(Tabela1[#This Row]) > 0, IF(Tabela1[[#This Row],[TIPO CARTÃO]]  = \"0-SEM CARTÃO\",IF(COUNTA(Tabela1[#This Row]) = 22, 0, 1),IF(COUNTA(Tabela1[#This Row]) = 18, 0, 1)), 0)","v":0},{"$f":"IF(X509 = 1, 0, IF(COUNTA(Tabela1[#This Row]) > 0, 1, 0))","v":0}]
[null,null,null,null,null,null,null,null,null,null,null,null,null,null,null,null,null,null,null,null,null,null,null,{"$f":"IF(COUNTA(Tabela1[#This Row]) > 0, IF(Tabela1[[#This Row],[TIPO CARTÃO]]  = \"0-SEM CARTÃO\",IF(COUNTA(Tabela1[#This Row]) = 22, 0, 1),IF(COUNTA(Tabela1[#This Row]) = 18, 0, 1)), 0)","v":0},{"$f":"IF(X510 = 1, 0, IF(COUNTA(Tabela1[#This Row]) > 0, 1, 0))","v":0}]
[null,null,null,null,null,null,null,null,null,null,null,null,null,null,null,null,null,null,null,null,null,null,null,{"$f":"IF(COUNTA(Tabela1[#This Row]) > 0, IF(Tabela1[[#This Row],[TIPO CARTÃO]]  = \"0-SEM CARTÃO\",IF(COUNTA(Tabela1[#This Row]) = 22, 0, 1),IF(COUNTA(Tabela1[#This Row]) = 18, 0, 1)), 0)","v":0},{"$f":"IF(X511 = 1, 0, IF(COUNTA(Tabela1[#This Row]) > 0, 1, 0))","v":0}]
[null,null,null,null,null,null,null,null,null,null,null,null,null,null,null,null,null,null,null,null,null,null,null,{"$f":"IF(COUNTA(Tabela1[#This Row]) > 0, IF(Tabela1[[#This Row],[TIPO CARTÃO]]  = \"0-SEM CARTÃO\",IF(COUNTA(Tabela1[#This Row]) = 22, 0, 1),IF(COUNTA(Tabela1[#This Row]) = 18, 0, 1)), 0)","v":0},{"$f":"IF(X512 = 1, 0, IF(COUNTA(Tabela1[#This Row]) > 0, 1, 0))","v":0}]
[null,null,null,null,null,null,null,null,null,null,null,null,null,null,null,null,null,null,null,null,null,null,null,{"$f":"IF(COUNTA(Tabela1[#This Row]) > 0, IF(Tabela1[[#This Row],[TIPO CARTÃO]]  = \"0-SEM CARTÃO\",IF(COUNTA(Tabela1[#This Row]) = 22, 0, 1),IF(COUNTA(Tabela1[#This Row]) = 18, 0, 1)), 0)","v":0},{"$f":"IF(X513 = 1, 0, IF(COUNTA(Tabela1[#This Row]) > 0, 1, 0))","v":0}]
[null,null,null,null,null,null,null,null,null,null,null,null,null,null,null,null,null,null,null,null,null,null,null,{"$f":"IF(COUNTA(Tabela1[#This Row]) > 0, IF(Tabela1[[#This Row],[TIPO CARTÃO]]  = \"0-SEM CARTÃO\",IF(COUNTA(Tabela1[#This Row]) = 22, 0, 1),IF(COUNTA(Tabela1[#This Row]) = 18, 0, 1)), 0)","v":0},{"$f":"IF(X514 = 1, 0, IF(COUNTA(Tabela1[#This Row]) > 0, 1, 0))","v":0}]
[null,null,null,null,null,null,null,null,null,null,null,null,null,null,null,null,null,null,null,null,null,null,null,{"$f":"IF(COUNTA(Tabela1[#This Row]) > 0, IF(Tabela1[[#This Row],[TIPO CARTÃO]]  = \"0-SEM CARTÃO\",IF(COUNTA(Tabela1[#This Row]) = 22, 0, 1),IF(COUNTA(Tabela1[#This Row]) = 18, 0, 1)), 0)","v":0},{"$f":"IF(X515 = 1, 0, IF(COUNTA(Tabela1[#This Row]) > 0, 1, 0))","v":0}]
[null,null,null,null,null,null,null,null,null,null,null,null,null,null,null,null,null,null,null,null,null,null,null,{"$f":"IF(COUNTA(Tabela1[#This Row]) > 0, IF(Tabela1[[#This Row],[TIPO CARTÃO]]  = \"0-SEM CARTÃO\",IF(COUNTA(Tabela1[#This Row]) = 22, 0, 1),IF(COUNTA(Tabela1[#This Row]) = 18, 0, 1)), 0)","v":0},{"$f":"IF(X516 = 1, 0, IF(COUNTA(Tabela1[#This Row]) > 0, 1, 0))","v":0}]
[null,null,null,null,null,null,null,null,null,null,null,null,null,null,null,null,null,null,null,null,null,null,null,{"$f":"IF(COUNTA(Tabela1[#This Row]) > 0, IF(Tabela1[[#This Row],[TIPO CARTÃO]]  = \"0-SEM CARTÃO\",IF(COUNTA(Tabela1[#This Row]) = 22, 0, 1),IF(COUNTA(Tabela1[#This Row]) = 18, 0, 1)), 0)","v":0},{"$f":"IF(X517 = 1, 0, IF(COUNTA(Tabela1[#This Row]) > 0, 1, 0))","v":0}]
[null,null,null,null,null,null,null,null,null,null,null,null,null,null,null,null,null,null,null,null,null,null,null,{"$f":"IF(COUNTA(Tabela1[#This Row]) > 0, IF(Tabela1[[#This Row],[TIPO CARTÃO]]  = \"0-SEM CARTÃO\",IF(COUNTA(Tabela1[#This Row]) = 22, 0, 1),IF(COUNTA(Tabela1[#This Row]) = 18, 0, 1)), 0)","v":0},{"$f":"IF(X518 = 1, 0, IF(COUNTA(Tabela1[#This Row]) > 0, 1, 0))","v":0}]
[null,null,null,null,null,null,null,null,null,null,null,null,null,null,null,null,null,null,null,null,null,null,null,{"$f":"IF(COUNTA(Tabela1[#This Row]) > 0, IF(Tabela1[[#This Row],[TIPO CARTÃO]]  = \"0-SEM CARTÃO\",IF(COUNTA(Tabela1[#This Row]) = 22, 0, 1),IF(COUNTA(Tabela1[#This Row]) = 18, 0, 1)), 0)","v":0},{"$f":"IF(X519 = 1, 0, IF(COUNTA(Tabela1[#This Row]) > 0, 1, 0))","v":0}]
[null,null,null,null,null,null,null,null,null,null,null,null,null,null,null,null,null,null,null,null,null,null,null,{"$f":"IF(COUNTA(Tabela1[#This Row]) > 0, IF(Tabela1[[#This Row],[TIPO CARTÃO]]  = \"0-SEM CARTÃO\",IF(COUNTA(Tabela1[#This Row]) = 22, 0, 1),IF(COUNTA(Tabela1[#This Row]) = 18, 0, 1)), 0)","v":0},{"$f":"IF(X520 = 1, 0, IF(COUNTA(Tabela1[#This Row]) > 0, 1, 0))","v":0}]
[null,null,null,null,null,null,null,null,null,null,null,null,null,null,null,null,null,null,null,null,null,null,null,{"$f":"IF(COUNTA(Tabela1[#This Row]) > 0, IF(Tabela1[[#This Row],[TIPO CARTÃO]]  = \"0-SEM CARTÃO\",IF(COUNTA(Tabela1[#This Row]) = 22, 0, 1),IF(COUNTA(Tabela1[#This Row]) = 18, 0, 1)), 0)","v":0},{"$f":"IF(X521 = 1, 0, IF(COUNTA(Tabela1[#This Row]) > 0, 1, 0))","v":0}]
[null,null,null,null,null,null,null,null,null,null,null,null,null,null,null,null,null,null,null,null,null,null,null,{"$f":"IF(COUNTA(Tabela1[#This Row]) > 0, IF(Tabela1[[#This Row],[TIPO CARTÃO]]  = \"0-SEM CARTÃO\",IF(COUNTA(Tabela1[#This Row]) = 22, 0, 1),IF(COUNTA(Tabela1[#This Row]) = 18, 0, 1)), 0)","v":0},{"$f":"IF(X522 = 1, 0, IF(COUNTA(Tabela1[#This Row]) > 0, 1, 0))","v":0}]
[null,null,null,null,null,null,null,null,null,null,null,null,null,null,null,null,null,null,null,null,null,null,null,{"$f":"IF(COUNTA(Tabela1[#This Row]) > 0, IF(Tabela1[[#This Row],[TIPO CARTÃO]]  = \"0-SEM CARTÃO\",IF(COUNTA(Tabela1[#This Row]) = 22, 0, 1),IF(COUNTA(Tabela1[#This Row]) = 18, 0, 1)), 0)","v":0},{"$f":"IF(X523 = 1, 0, IF(COUNTA(Tabela1[#This Row]) > 0, 1, 0))","v":0}]
[null,null,null,null,null,null,null,null,null,null,null,null,null,null,null,null,null,null,null,null,null,null,null,{"$f":"IF(COUNTA(Tabela1[#This Row]) > 0, IF(Tabela1[[#This Row],[TIPO CARTÃO]]  = \"0-SEM CARTÃO\",IF(COUNTA(Tabela1[#This Row]) = 22, 0, 1),IF(COUNTA(Tabela1[#This Row]) = 18, 0, 1)), 0)","v":0},{"$f":"IF(X524 = 1, 0, IF(COUNTA(Tabela1[#This Row]) > 0, 1, 0))","v":0}]
[null,null,null,null,null,null,null,null,null,null,null,null,null,null,null,null,null,null,null,null,null,null,null,{"$f":"IF(COUNTA(Tabela1[#This Row]) > 0, IF(Tabela1[[#This Row],[TIPO CARTÃO]]  = \"0-SEM CARTÃO\",IF(COUNTA(Tabela1[#This Row]) = 22, 0, 1),IF(COUNTA(Tabela1[#This Row]) = 18, 0, 1)), 0)","v":0},{"$f":"IF(X525 = 1, 0, IF(COUNTA(Tabela1[#This Row]) > 0, 1, 0))","v":0}]
[null,null,null,null,null,null,null,null,null,null,null,null,null,null,null,null,null,null,null,null,null,null,null,{"$f":"IF(COUNTA(Tabela1[#This Row]) > 0, IF(Tabela1[[#This Row],[TIPO CARTÃO]]  = \"0-SEM CARTÃO\",IF(COUNTA(Tabela1[#This Row]) = 22, 0, 1),IF(COUNTA(Tabela1[#This Row]) = 18, 0, 1)), 0)","v":0},{"$f":"IF(X526 = 1, 0, IF(COUNTA(Tabela1[#This Row]) > 0, 1, 0))","v":0}]
[null,null,null,null,null,null,null,null,null,null,null,null,null,null,null,null,null,null,null,null,null,null,null,{"$f":"IF(COUNTA(Tabela1[#This Row]) > 0, IF(Tabela1[[#This Row],[TIPO CARTÃO]]  = \"0-SEM CARTÃO\",IF(COUNTA(Tabela1[#This Row]) = 22, 0, 1),IF(COUNTA(Tabela1[#This Row]) = 18, 0, 1)), 0)","v":0},{"$f":"IF(X527 = 1, 0, IF(COUNTA(Tabela1[#This Row]) > 0, 1, 0))","v":0}]
[null,null,null,null,null,null,null,null,null,null,null,null,null,null,null,null,null,null,null,null,null,null,null,{"$f":"IF(COUNTA(Tabela1[#This Row]) > 0, IF(Tabela1[[#This Row],[TIPO CARTÃO]]  = \"0-SEM CARTÃO\",IF(COUNTA(Tabela1[#This Row]) = 22, 0, 1),IF(COUNTA(Tabela1[#This Row]) = 18, 0, 1)), 0)","v":0},{"$f":"IF(X528 = 1, 0, IF(COUNTA(Tabela1[#This Row]) > 0, 1, 0))","v":0}]
[null,null,null,null,null,null,null,null,null,null,null,null,null,null,null,null,null,null,null,null,null,null,null,{"$f":"IF(COUNTA(Tabela1[#This Row]) > 0, IF(Tabela1[[#This Row],[TIPO CARTÃO]]  = \"0-SEM CARTÃO\",IF(COUNTA(Tabela1[#This Row]) = 22, 0, 1),IF(COUNTA(Tabela1[#This Row]) = 18, 0, 1)), 0)","v":0},{"$f":"IF(X529 = 1, 0, IF(COUNTA(Tabela1[#This Row]) > 0, 1, 0))","v":0}]
[null,null,null,null,null,null,null,null,null,null,null,null,null,null,null,null,null,null,null,null,null,null,null,{"$f":"IF(COUNTA(Tabela1[#This Row]) > 0, IF(Tabela1[[#This Row],[TIPO CARTÃO]]  = \"0-SEM CARTÃO\",IF(COUNTA(Tabela1[#This Row]) = 22, 0, 1),IF(COUNTA(Tabela1[#This Row]) = 18, 0, 1)), 0)","v":0},{"$f":"IF(X530 = 1, 0, IF(COUNTA(Tabela1[#This Row]) > 0, 1, 0))","v":0}]
[null,null,null,null,null,null,null,null,null,null,null,null,null,null,null,null,null,null,null,null,null,null,null,{"$f":"IF(COUNTA(Tabela1[#This Row]) > 0, IF(Tabela1[[#This Row],[TIPO CARTÃO]]  = \"0-SEM CARTÃO\",IF(COUNTA(Tabela1[#This Row]) = 22, 0, 1),IF(COUNTA(Tabela1[#This Row]) = 18, 0, 1)), 0)","v":0},{"$f":"IF(X531 = 1, 0, IF(COUNTA(Tabela1[#This Row]) > 0, 1, 0))","v":0}]
[null,null,null,null,null,null,null,null,null,null,null,null,null,null,null,null,null,null,null,null,null,null,null,{"$f":"IF(COUNTA(Tabela1[#This Row]) > 0, IF(Tabela1[[#This Row],[TIPO CARTÃO]]  = \"0-SEM CARTÃO\",IF(COUNTA(Tabela1[#This Row]) = 22, 0, 1),IF(COUNTA(Tabela1[#This Row]) = 18, 0, 1)), 0)","v":0},{"$f":"IF(X532 = 1, 0, IF(COUNTA(Tabela1[#This Row]) > 0, 1, 0))","v":0}]
[null,null,null,null,null,null,null,null,null,null,null,null,null,null,null,null,null,null,null,null,null,null,null,{"$f":"IF(COUNTA(Tabela1[#This Row]) > 0, IF(Tabela1[[#This Row],[TIPO CARTÃO]]  = \"0-SEM CARTÃO\",IF(COUNTA(Tabela1[#This Row]) = 22, 0, 1),IF(COUNTA(Tabela1[#This Row]) = 18, 0, 1)), 0)","v":0},{"$f":"IF(X533 = 1, 0, IF(COUNTA(Tabela1[#This Row]) > 0, 1, 0))","v":0}]
[null,null,null,null,null,null,null,null,null,null,null,null,null,null,null,null,null,null,null,null,null,null,null,{"$f":"IF(COUNTA(Tabela1[#This Row]) > 0, IF(Tabela1[[#This Row],[TIPO CARTÃO]]  = \"0-SEM CARTÃO\",IF(COUNTA(Tabela1[#This Row]) = 22, 0, 1),IF(COUNTA(Tabela1[#This Row]) = 18, 0, 1)), 0)","v":0},{"$f":"IF(X534 = 1, 0, IF(COUNTA(Tabela1[#This Row]) > 0, 1, 0))","v":0}]
[null,null,null,null,null,null,null,null,null,null,null,null,null,null,null,null,null,null,null,null,null,null,null,{"$f":"IF(COUNTA(Tabela1[#This Row]) > 0, IF(Tabela1[[#This Row],[TIPO CARTÃO]]  = \"0-SEM CARTÃO\",IF(COUNTA(Tabela1[#This Row]) = 22, 0, 1),IF(COUNTA(Tabela1[#This Row]) = 18, 0, 1)), 0)","v":0},{"$f":"IF(X535 = 1, 0, IF(COUNTA(Tabela1[#This Row]) > 0, 1, 0))","v":0}]
[null,null,null,null,null,null,null,null,null,null,null,null,null,null,null,null,null,null,null,null,null,null,null,{"$f":"IF(COUNTA(Tabela1[#This Row]) > 0, IF(Tabela1[[#This Row],[TIPO CARTÃO]]  = \"0-SEM CARTÃO\",IF(COUNTA(Tabela1[#This Row]) = 22, 0, 1),IF(COUNTA(Tabela1[#This Row]) = 18, 0, 1)), 0)","v":0},{"$f":"IF(X536 = 1, 0, IF(COUNTA(Tabela1[#This Row]) > 0, 1, 0))","v":0}]
[null,null,null,null,null,null,null,null,null,null,null,null,null,null,null,null,null,null,null,null,null,null,null,{"$f":"IF(COUNTA(Tabela1[#This Row]) > 0, IF(Tabela1[[#This Row],[TIPO CARTÃO]]  = \"0-SEM CARTÃO\",IF(COUNTA(Tabela1[#This Row]) = 22, 0, 1),IF(COUNTA(Tabela1[#This Row]) = 18, 0, 1)), 0)","v":0},{"$f":"IF(X537 = 1, 0, IF(COUNTA(Tabela1[#This Row]) > 0, 1, 0))","v":0}]
[null,null,null,null,null,null,null,null,null,null,null,null,null,null,null,null,null,null,null,null,null,null,null,{"$f":"IF(COUNTA(Tabela1[#This Row]) > 0, IF(Tabela1[[#This Row],[TIPO CARTÃO]]  = \"0-SEM CARTÃO\",IF(COUNTA(Tabela1[#This Row]) = 22, 0, 1),IF(COUNTA(Tabela1[#This Row]) = 18, 0, 1)), 0)","v":0},{"$f":"IF(X538 = 1, 0, IF(COUNTA(Tabela1[#This Row]) > 0, 1, 0))","v":0}]
[null,null,null,null,null,null,null,null,null,null,null,null,null,null,null,null,null,null,null,null,null,null,null,{"$f":"IF(COUNTA(Tabela1[#This Row]) > 0, IF(Tabela1[[#This Row],[TIPO CARTÃO]]  = \"0-SEM CARTÃO\",IF(COUNTA(Tabela1[#This Row]) = 22, 0, 1),IF(COUNTA(Tabela1[#This Row]) = 18, 0, 1)), 0)","v":0},{"$f":"IF(X539 = 1, 0, IF(COUNTA(Tabela1[#This Row]) > 0, 1, 0))","v":0}]
[null,null,null,null,null,null,null,null,null,null,null,null,null,null,null,null,null,null,null,null,null,null,null,{"$f":"IF(COUNTA(Tabela1[#This Row]) > 0, IF(Tabela1[[#This Row],[TIPO CARTÃO]]  = \"0-SEM CARTÃO\",IF(COUNTA(Tabela1[#This Row]) = 22, 0, 1),IF(COUNTA(Tabela1[#This Row]) = 18, 0, 1)), 0)","v":0},{"$f":"IF(X540 = 1, 0, IF(COUNTA(Tabela1[#This Row]) > 0, 1, 0))","v":0}]
[null,null,null,null,null,null,null,null,null,null,null,null,null,null,null,null,null,null,null,null,null,null,null,{"$f":"IF(COUNTA(Tabela1[#This Row]) > 0, IF(Tabela1[[#This Row],[TIPO CARTÃO]]  = \"0-SEM CARTÃO\",IF(COUNTA(Tabela1[#This Row]) = 22, 0, 1),IF(COUNTA(Tabela1[#This Row]) = 18, 0, 1)), 0)","v":0},{"$f":"IF(X541 = 1, 0, IF(COUNTA(Tabela1[#This Row]) > 0, 1, 0))","v":0}]
[null,null,null,null,null,null,null,null,null,null,null,null,null,null,null,null,null,null,null,null,null,null,null,{"$f":"IF(COUNTA(Tabela1[#This Row]) > 0, IF(Tabela1[[#This Row],[TIPO CARTÃO]]  = \"0-SEM CARTÃO\",IF(COUNTA(Tabela1[#This Row]) = 22, 0, 1),IF(COUNTA(Tabela1[#This Row]) = 18, 0, 1)), 0)","v":0},{"$f":"IF(X542 = 1, 0, IF(COUNTA(Tabela1[#This Row]) > 0, 1, 0))","v":0}]
[null,null,null,null,null,null,null,null,null,null,null,null,null,null,null,null,null,null,null,null,null,null,null,{"$f":"IF(COUNTA(Tabela1[#This Row]) > 0, IF(Tabela1[[#This Row],[TIPO CARTÃO]]  = \"0-SEM CARTÃO\",IF(COUNTA(Tabela1[#This Row]) = 22, 0, 1),IF(COUNTA(Tabela1[#This Row]) = 18, 0, 1)), 0)","v":0},{"$f":"IF(X543 = 1, 0, IF(COUNTA(Tabela1[#This Row]) > 0, 1, 0))","v":0}]
[null,null,null,null,null,null,null,null,null,null,null,null,null,null,null,null,null,null,null,null,null,null,null,{"$f":"IF(COUNTA(Tabela1[#This Row]) > 0, IF(Tabela1[[#This Row],[TIPO CARTÃO]]  = \"0-SEM CARTÃO\",IF(COUNTA(Tabela1[#This Row]) = 22, 0, 1),IF(COUNTA(Tabela1[#This Row]) = 18, 0, 1)), 0)","v":0},{"$f":"IF(X544 = 1, 0, IF(COUNTA(Tabela1[#This Row]) > 0, 1, 0))","v":0}]
[null,null,null,null,null,null,null,null,null,null,null,null,null,null,null,null,null,null,null,null,null,null,null,{"$f":"IF(COUNTA(Tabela1[#This Row]) > 0, IF(Tabela1[[#This Row],[TIPO CARTÃO]]  = \"0-SEM CARTÃO\",IF(COUNTA(Tabela1[#This Row]) = 22, 0, 1),IF(COUNTA(Tabela1[#This Row]) = 18, 0, 1)), 0)","v":0},{"$f":"IF(X545 = 1, 0, IF(COUNTA(Tabela1[#This Row]) > 0, 1, 0))","v":0}]
[null,null,null,null,null,null,null,null,null,null,null,null,null,null,null,null,null,null,null,null,null,null,null,{"$f":"IF(COUNTA(Tabela1[#This Row]) > 0, IF(Tabela1[[#This Row],[TIPO CARTÃO]]  = \"0-SEM CARTÃO\",IF(COUNTA(Tabela1[#This Row]) = 22, 0, 1),IF(COUNTA(Tabela1[#This Row]) = 18, 0, 1)), 0)","v":0},{"$f":"IF(X546 = 1, 0, IF(COUNTA(Tabela1[#This Row]) > 0, 1, 0))","v":0}]
[null,null,null,null,null,null,null,null,null,null,null,null,null,null,null,null,null,null,null,null,null,null,null,{"$f":"IF(COUNTA(Tabela1[#This Row]) > 0, IF(Tabela1[[#This Row],[TIPO CARTÃO]]  = \"0-SEM CARTÃO\",IF(COUNTA(Tabela1[#This Row]) = 22, 0, 1),IF(COUNTA(Tabela1[#This Row]) = 18, 0, 1)), 0)","v":0},{"$f":"IF(X547 = 1, 0, IF(COUNTA(Tabela1[#This Row]) > 0, 1, 0))","v":0}]
[null,null,null,null,null,null,null,null,null,null,null,null,null,null,null,null,null,null,null,null,null,null,null,{"$f":"IF(COUNTA(Tabela1[#This Row]) > 0, IF(Tabela1[[#This Row],[TIPO CARTÃO]]  = \"0-SEM CARTÃO\",IF(COUNTA(Tabela1[#This Row]) = 22, 0, 1),IF(COUNTA(Tabela1[#This Row]) = 18, 0, 1)), 0)","v":0},{"$f":"IF(X548 = 1, 0, IF(COUNTA(Tabela1[#This Row]) > 0, 1, 0))","v":0}]
[null,null,null,null,null,null,null,null,null,null,null,null,null,null,null,null,null,null,null,null,null,null,null,{"$f":"IF(COUNTA(Tabela1[#This Row]) > 0, IF(Tabela1[[#This Row],[TIPO CARTÃO]]  = \"0-SEM CARTÃO\",IF(COUNTA(Tabela1[#This Row]) = 22, 0, 1),IF(COUNTA(Tabela1[#This Row]) = 18, 0, 1)), 0)","v":0},{"$f":"IF(X549 = 1, 0, IF(COUNTA(Tabela1[#This Row]) > 0, 1, 0))","v":0}]
[null,null,null,null,null,null,null,null,null,null,null,null,null,null,null,null,null,null,null,null,null,null,null,{"$f":"IF(COUNTA(Tabela1[#This Row]) > 0, IF(Tabela1[[#This Row],[TIPO CARTÃO]]  = \"0-SEM CARTÃO\",IF(COUNTA(Tabela1[#This Row]) = 22, 0, 1),IF(COUNTA(Tabela1[#This Row]) = 18, 0, 1)), 0)","v":0},{"$f":"IF(X550 = 1, 0, IF(COUNTA(Tabela1[#This Row]) > 0, 1, 0))","v":0}]
[null,null,null,null,null,null,null,null,null,null,null,null,null,null,null,null,null,null,null,null,null,null,null,{"$f":"IF(COUNTA(Tabela1[#This Row]) > 0, IF(Tabela1[[#This Row],[TIPO CARTÃO]]  = \"0-SEM CARTÃO\",IF(COUNTA(Tabela1[#This Row]) = 22, 0, 1),IF(COUNTA(Tabela1[#This Row]) = 18, 0, 1)), 0)","v":0},{"$f":"IF(X551 = 1, 0, IF(COUNTA(Tabela1[#This Row]) > 0, 1, 0))","v":0}]
[null,null,null,null,null,null,null,null,null,null,null,null,null,null,null,null,null,null,null,null,null,null,null,{"$f":"IF(COUNTA(Tabela1[#This Row]) > 0, IF(Tabela1[[#This Row],[TIPO CARTÃO]]  = \"0-SEM CARTÃO\",IF(COUNTA(Tabela1[#This Row]) = 22, 0, 1),IF(COUNTA(Tabela1[#This Row]) = 18, 0, 1)), 0)","v":0},{"$f":"IF(X552 = 1, 0, IF(COUNTA(Tabela1[#This Row]) > 0, 1, 0))","v":0}]
[null,null,null,null,null,null,null,null,null,null,null,null,null,null,null,null,null,null,null,null,null,null,null,{"$f":"IF(COUNTA(Tabela1[#This Row]) > 0, IF(Tabela1[[#This Row],[TIPO CARTÃO]]  = \"0-SEM CARTÃO\",IF(COUNTA(Tabela1[#This Row]) = 22, 0, 1),IF(COUNTA(Tabela1[#This Row]) = 18, 0, 1)), 0)","v":0},{"$f":"IF(X553 = 1, 0, IF(COUNTA(Tabela1[#This Row]) > 0, 1, 0))","v":0}]
[null,null,null,null,null,null,null,null,null,null,null,null,null,null,null,null,null,null,null,null,null,null,null,{"$f":"IF(COUNTA(Tabela1[#This Row]) > 0, IF(Tabela1[[#This Row],[TIPO CARTÃO]]  = \"0-SEM CARTÃO\",IF(COUNTA(Tabela1[#This Row]) = 22, 0, 1),IF(COUNTA(Tabela1[#This Row]) = 18, 0, 1)), 0)","v":0},{"$f":"IF(X554 = 1, 0, IF(COUNTA(Tabela1[#This Row]) > 0, 1, 0))","v":0}]
[null,null,null,null,null,null,null,null,null,null,null,null,null,null,null,null,null,null,null,null,null,null,null,{"$f":"IF(COUNTA(Tabela1[#This Row]) > 0, IF(Tabela1[[#This Row],[TIPO CARTÃO]]  = \"0-SEM CARTÃO\",IF(COUNTA(Tabela1[#This Row]) = 22, 0, 1),IF(COUNTA(Tabela1[#This Row]) = 18, 0, 1)), 0)","v":0},{"$f":"IF(X555 = 1, 0, IF(COUNTA(Tabela1[#This Row]) > 0, 1, 0))","v":0}]
[null,null,null,null,null,null,null,null,null,null,null,null,null,null,null,null,null,null,null,null,null,null,null,{"$f":"IF(COUNTA(Tabela1[#This Row]) > 0, IF(Tabela1[[#This Row],[TIPO CARTÃO]]  = \"0-SEM CARTÃO\",IF(COUNTA(Tabela1[#This Row]) = 22, 0, 1),IF(COUNTA(Tabela1[#This Row]) = 18, 0, 1)), 0)","v":0},{"$f":"IF(X556 = 1, 0, IF(COUNTA(Tabela1[#This Row]) > 0, 1, 0))","v":0}]
[null,null,null,null,null,null,null,null,null,null,null,null,null,null,null,null,null,null,null,null,null,null,null,{"$f":"IF(COUNTA(Tabela1[#This Row]) > 0, IF(Tabela1[[#This Row],[TIPO CARTÃO]]  = \"0-SEM CARTÃO\",IF(COUNTA(Tabela1[#This Row]) = 22, 0, 1),IF(COUNTA(Tabela1[#This Row]) = 18, 0, 1)), 0)","v":0},{"$f":"IF(X557 = 1, 0, IF(COUNTA(Tabela1[#This Row]) > 0, 1, 0))","v":0}]
[null,null,null,null,null,null,null,null,null,null,null,null,null,null,null,null,null,null,null,null,null,null,null,{"$f":"IF(COUNTA(Tabela1[#This Row]) > 0, IF(Tabela1[[#This Row],[TIPO CARTÃO]]  = \"0-SEM CARTÃO\",IF(COUNTA(Tabela1[#This Row]) = 22, 0, 1),IF(COUNTA(Tabela1[#This Row]) = 18, 0, 1)), 0)","v":0},{"$f":"IF(X558 = 1, 0, IF(COUNTA(Tabela1[#This Row]) > 0, 1, 0))","v":0}]
[null,null,null,null,null,null,null,null,null,null,null,null,null,null,null,null,null,null,null,null,null,null,null,{"$f":"IF(COUNTA(Tabela1[#This Row]) > 0, IF(Tabela1[[#This Row],[TIPO CARTÃO]]  = \"0-SEM CARTÃO\",IF(COUNTA(Tabela1[#This Row]) = 22, 0, 1),IF(COUNTA(Tabela1[#This Row]) = 18, 0, 1)), 0)","v":0},{"$f":"IF(X559 = 1, 0, IF(COUNTA(Tabela1[#This Row]) > 0, 1, 0))","v":0}]
[null,null,null,null,null,null,null,null,null,null,null,null,null,null,null,null,null,null,null,null,null,null,null,{"$f":"IF(COUNTA(Tabela1[#This Row]) > 0, IF(Tabela1[[#This Row],[TIPO CARTÃO]]  = \"0-SEM CARTÃO\",IF(COUNTA(Tabela1[#This Row]) = 22, 0, 1),IF(COUNTA(Tabela1[#This Row]) = 18, 0, 1)), 0)","v":0},{"$f":"IF(X560 = 1, 0, IF(COUNTA(Tabela1[#This Row]) > 0, 1, 0))","v":0}]
[null,null,null,null,null,null,null,null,null,null,null,null,null,null,null,null,null,null,null,null,null,null,null,{"$f":"IF(COUNTA(Tabela1[#This Row]) > 0, IF(Tabela1[[#This Row],[TIPO CARTÃO]]  = \"0-SEM CARTÃO\",IF(COUNTA(Tabela1[#This Row]) = 22, 0, 1),IF(COUNTA(Tabela1[#This Row]) = 18, 0, 1)), 0)","v":0},{"$f":"IF(X561 = 1, 0, IF(COUNTA(Tabela1[#This Row]) > 0, 1, 0))","v":0}]
[null,null,null,null,null,null,null,null,null,null,null,null,null,null,null,null,null,null,null,null,null,null,null,{"$f":"IF(COUNTA(Tabela1[#This Row]) > 0, IF(Tabela1[[#This Row],[TIPO CARTÃO]]  = \"0-SEM CARTÃO\",IF(COUNTA(Tabela1[#This Row]) = 22, 0, 1),IF(COUNTA(Tabela1[#This Row]) = 18, 0, 1)), 0)","v":0},{"$f":"IF(X562 = 1, 0, IF(COUNTA(Tabela1[#This Row]) > 0, 1, 0))","v":0}]
[null,null,null,null,null,null,null,null,null,null,null,null,null,null,null,null,null,null,null,null,null,null,null,{"$f":"IF(COUNTA(Tabela1[#This Row]) > 0, IF(Tabela1[[#This Row],[TIPO CARTÃO]]  = \"0-SEM CARTÃO\",IF(COUNTA(Tabela1[#This Row]) = 22, 0, 1),IF(COUNTA(Tabela1[#This Row]) = 18, 0, 1)), 0)","v":0},{"$f":"IF(X563 = 1, 0, IF(COUNTA(Tabela1[#This Row]) > 0, 1, 0))","v":0}]
[null,null,null,null,null,null,null,null,null,null,null,null,null,null,null,null,null,null,null,null,null,null,null,{"$f":"IF(COUNTA(Tabela1[#This Row]) > 0, IF(Tabela1[[#This Row],[TIPO CARTÃO]]  = \"0-SEM CARTÃO\",IF(COUNTA(Tabela1[#This Row]) = 22, 0, 1),IF(COUNTA(Tabela1[#This Row]) = 18, 0, 1)), 0)","v":0},{"$f":"IF(X564 = 1, 0, IF(COUNTA(Tabela1[#This Row]) > 0, 1, 0))","v":0}]
[null,null,null,null,null,null,null,null,null,null,null,null,null,null,null,null,null,null,null,null,null,null,null,{"$f":"IF(COUNTA(Tabela1[#This Row]) > 0, IF(Tabela1[[#This Row],[TIPO CARTÃO]]  = \"0-SEM CARTÃO\",IF(COUNTA(Tabela1[#This Row]) = 22, 0, 1),IF(COUNTA(Tabela1[#This Row]) = 18, 0, 1)), 0)","v":0},{"$f":"IF(X565 = 1, 0, IF(COUNTA(Tabela1[#This Row]) > 0, 1, 0))","v":0}]
[null,null,null,null,null,null,null,null,null,null,null,null,null,null,null,null,null,null,null,null,null,null,null,{"$f":"IF(COUNTA(Tabela1[#This Row]) > 0, IF(Tabela1[[#This Row],[TIPO CARTÃO]]  = \"0-SEM CARTÃO\",IF(COUNTA(Tabela1[#This Row]) = 22, 0, 1),IF(COUNTA(Tabela1[#This Row]) = 18, 0, 1)), 0)","v":0},{"$f":"IF(X566 = 1, 0, IF(COUNTA(Tabela1[#This Row]) > 0, 1, 0))","v":0}]
[null,null,null,null,null,null,null,null,null,null,null,null,null,null,null,null,null,null,null,null,null,null,null,{"$f":"IF(COUNTA(Tabela1[#This Row]) > 0, IF(Tabela1[[#This Row],[TIPO CARTÃO]]  = \"0-SEM CARTÃO\",IF(COUNTA(Tabela1[#This Row]) = 22, 0, 1),IF(COUNTA(Tabela1[#This Row]) = 18, 0, 1)), 0)","v":0},{"$f":"IF(X567 = 1, 0, IF(COUNTA(Tabela1[#This Row]) > 0, 1, 0))","v":0}]
[null,null,null,null,null,null,null,null,null,null,null,null,null,null,null,null,null,null,null,null,null,null,null,{"$f":"IF(COUNTA(Tabela1[#This Row]) > 0, IF(Tabela1[[#This Row],[TIPO CARTÃO]]  = \"0-SEM CARTÃO\",IF(COUNTA(Tabela1[#This Row]) = 22, 0, 1),IF(COUNTA(Tabela1[#This Row]) = 18, 0, 1)), 0)","v":0},{"$f":"IF(X568 = 1, 0, IF(COUNTA(Tabela1[#This Row]) > 0, 1, 0))","v":0}]
[null,null,null,null,null,null,null,null,null,null,null,null,null,null,null,null,null,null,null,null,null,null,null,{"$f":"IF(COUNTA(Tabela1[#This Row]) > 0, IF(Tabela1[[#This Row],[TIPO CARTÃO]]  = \"0-SEM CARTÃO\",IF(COUNTA(Tabela1[#This Row]) = 22, 0, 1),IF(COUNTA(Tabela1[#This Row]) = 18, 0, 1)), 0)","v":0},{"$f":"IF(X569 = 1, 0, IF(COUNTA(Tabela1[#This Row]) > 0, 1, 0))","v":0}]
[null,null,null,null,null,null,null,null,null,null,null,null,null,null,null,null,null,null,null,null,null,null,null,{"$f":"IF(COUNTA(Tabela1[#This Row]) > 0, IF(Tabela1[[#This Row],[TIPO CARTÃO]]  = \"0-SEM CARTÃO\",IF(COUNTA(Tabela1[#This Row]) = 22, 0, 1),IF(COUNTA(Tabela1[#This Row]) = 18, 0, 1)), 0)","v":0},{"$f":"IF(X570 = 1, 0, IF(COUNTA(Tabela1[#This Row]) > 0, 1, 0))","v":0}]
[null,null,null,null,null,null,null,null,null,null,null,null,null,null,null,null,null,null,null,null,null,null,null,{"$f":"IF(COUNTA(Tabela1[#This Row]) > 0, IF(Tabela1[[#This Row],[TIPO CARTÃO]]  = \"0-SEM CARTÃO\",IF(COUNTA(Tabela1[#This Row]) = 22, 0, 1),IF(COUNTA(Tabela1[#This Row]) = 18, 0, 1)), 0)","v":0},{"$f":"IF(X571 = 1, 0, IF(COUNTA(Tabela1[#This Row]) > 0, 1, 0))","v":0}]
[null,null,null,null,null,null,null,null,null,null,null,null,null,null,null,null,null,null,null,null,null,null,null,{"$f":"IF(COUNTA(Tabela1[#This Row]) > 0, IF(Tabela1[[#This Row],[TIPO CARTÃO]]  = \"0-SEM CARTÃO\",IF(COUNTA(Tabela1[#This Row]) = 22, 0, 1),IF(COUNTA(Tabela1[#This Row]) = 18, 0, 1)), 0)","v":0},{"$f":"IF(X572 = 1, 0, IF(COUNTA(Tabela1[#This Row]) > 0, 1, 0))","v":0}]
[null,null,null,null,null,null,null,null,null,null,null,null,null,null,null,null,null,null,null,null,null,null,null,{"$f":"IF(COUNTA(Tabela1[#This Row]) > 0, IF(Tabela1[[#This Row],[TIPO CARTÃO]]  = \"0-SEM CARTÃO\",IF(COUNTA(Tabela1[#This Row]) = 22, 0, 1),IF(COUNTA(Tabela1[#This Row]) = 18, 0, 1)), 0)","v":0},{"$f":"IF(X573 = 1, 0, IF(COUNTA(Tabela1[#This Row]) > 0, 1, 0))","v":0}]
[null,null,null,null,null,null,null,null,null,null,null,null,null,null,null,null,null,null,null,null,null,null,null,{"$f":"IF(COUNTA(Tabela1[#This Row]) > 0, IF(Tabela1[[#This Row],[TIPO CARTÃO]]  = \"0-SEM CARTÃO\",IF(COUNTA(Tabela1[#This Row]) = 22, 0, 1),IF(COUNTA(Tabela1[#This Row]) = 18, 0, 1)), 0)","v":0},{"$f":"IF(X574 = 1, 0, IF(COUNTA(Tabela1[#This Row]) > 0, 1, 0))","v":0}]
[null,null,null,null,null,null,null,null,null,null,null,null,null,null,null,null,null,null,null,null,null,null,null,{"$f":"IF(COUNTA(Tabela1[#This Row]) > 0, IF(Tabela1[[#This Row],[TIPO CARTÃO]]  = \"0-SEM CARTÃO\",IF(COUNTA(Tabela1[#This Row]) = 22, 0, 1),IF(COUNTA(Tabela1[#This Row]) = 18, 0, 1)), 0)","v":0},{"$f":"IF(X575 = 1, 0, IF(COUNTA(Tabela1[#This Row]) > 0, 1, 0))","v":0}]
[null,null,null,null,null,null,null,null,null,null,null,null,null,null,null,null,null,null,null,null,null,null,null,{"$f":"IF(COUNTA(Tabela1[#This Row]) > 0, IF(Tabela1[[#This Row],[TIPO CARTÃO]]  = \"0-SEM CARTÃO\",IF(COUNTA(Tabela1[#This Row]) = 22, 0, 1),IF(COUNTA(Tabela1[#This Row]) = 18, 0, 1)), 0)","v":0},{"$f":"IF(X576 = 1, 0, IF(COUNTA(Tabela1[#This Row]) > 0, 1, 0))","v":0}]
[null,null,null,null,null,null,null,null,null,null,null,null,null,null,null,null,null,null,null,null,null,null,null,{"$f":"IF(COUNTA(Tabela1[#This Row]) > 0, IF(Tabela1[[#This Row],[TIPO CARTÃO]]  = \"0-SEM CARTÃO\",IF(COUNTA(Tabela1[#This Row]) = 22, 0, 1),IF(COUNTA(Tabela1[#This Row]) = 18, 0, 1)), 0)","v":0},{"$f":"IF(X577 = 1, 0, IF(COUNTA(Tabela1[#This Row]) > 0, 1, 0))","v":0}]
[null,null,null,null,null,null,null,null,null,null,null,null,null,null,null,null,null,null,null,null,null,null,null,{"$f":"IF(COUNTA(Tabela1[#This Row]) > 0, IF(Tabela1[[#This Row],[TIPO CARTÃO]]  = \"0-SEM CARTÃO\",IF(COUNTA(Tabela1[#This Row]) = 22, 0, 1),IF(COUNTA(Tabela1[#This Row]) = 18, 0, 1)), 0)","v":0},{"$f":"IF(X578 = 1, 0, IF(COUNTA(Tabela1[#This Row]) > 0, 1, 0))","v":0}]
[null,null,null,null,null,null,null,null,null,null,null,null,null,null,null,null,null,null,null,null,null,null,null,{"$f":"IF(COUNTA(Tabela1[#This Row]) > 0, IF(Tabela1[[#This Row],[TIPO CARTÃO]]  = \"0-SEM CARTÃO\",IF(COUNTA(Tabela1[#This Row]) = 22, 0, 1),IF(COUNTA(Tabela1[#This Row]) = 18, 0, 1)), 0)","v":0},{"$f":"IF(X579 = 1, 0, IF(COUNTA(Tabela1[#This Row]) > 0, 1, 0))","v":0}]
[null,null,null,null,null,null,null,null,null,null,null,null,null,null,null,null,null,null,null,null,null,null,null,{"$f":"IF(COUNTA(Tabela1[#This Row]) > 0, IF(Tabela1[[#This Row],[TIPO CARTÃO]]  = \"0-SEM CARTÃO\",IF(COUNTA(Tabela1[#This Row]) = 22, 0, 1),IF(COUNTA(Tabela1[#This Row]) = 18, 0, 1)), 0)","v":0},{"$f":"IF(X580 = 1, 0, IF(COUNTA(Tabela1[#This Row]) > 0, 1, 0))","v":0}]
[null,null,null,null,null,null,null,null,null,null,null,null,null,null,null,null,null,null,null,null,null,null,null,{"$f":"IF(COUNTA(Tabela1[#This Row]) > 0, IF(Tabela1[[#This Row],[TIPO CARTÃO]]  = \"0-SEM CARTÃO\",IF(COUNTA(Tabela1[#This Row]) = 22, 0, 1),IF(COUNTA(Tabela1[#This Row]) = 18, 0, 1)), 0)","v":0},{"$f":"IF(X581 = 1, 0, IF(COUNTA(Tabela1[#This Row]) > 0, 1, 0))","v":0}]
[null,null,null,null,null,null,null,null,null,null,null,null,null,null,null,null,null,null,null,null,null,null,null,{"$f":"IF(COUNTA(Tabela1[#This Row]) > 0, IF(Tabela1[[#This Row],[TIPO CARTÃO]]  = \"0-SEM CARTÃO\",IF(COUNTA(Tabela1[#This Row]) = 22, 0, 1),IF(COUNTA(Tabela1[#This Row]) = 18, 0, 1)), 0)","v":0},{"$f":"IF(X582 = 1, 0, IF(COUNTA(Tabela1[#This Row]) > 0, 1, 0))","v":0}]
[null,null,null,null,null,null,null,null,null,null,null,null,null,null,null,null,null,null,null,null,null,null,null,{"$f":"IF(COUNTA(Tabela1[#This Row]) > 0, IF(Tabela1[[#This Row],[TIPO CARTÃO]]  = \"0-SEM CARTÃO\",IF(COUNTA(Tabela1[#This Row]) = 22, 0, 1),IF(COUNTA(Tabela1[#This Row]) = 18, 0, 1)), 0)","v":0},{"$f":"IF(X583 = 1, 0, IF(COUNTA(Tabela1[#This Row]) > 0, 1, 0))","v":0}]
[null,null,null,null,null,null,null,null,null,null,null,null,null,null,null,null,null,null,null,null,null,null,null,{"$f":"IF(COUNTA(Tabela1[#This Row]) > 0, IF(Tabela1[[#This Row],[TIPO CARTÃO]]  = \"0-SEM CARTÃO\",IF(COUNTA(Tabela1[#This Row]) = 22, 0, 1),IF(COUNTA(Tabela1[#This Row]) = 18, 0, 1)), 0)","v":0},{"$f":"IF(X584 = 1, 0, IF(COUNTA(Tabela1[#This Row]) > 0, 1, 0))","v":0}]
[null,null,null,null,null,null,null,null,null,null,null,null,null,null,null,null,null,null,null,null,null,null,null,{"$f":"IF(COUNTA(Tabela1[#This Row]) > 0, IF(Tabela1[[#This Row],[TIPO CARTÃO]]  = \"0-SEM CARTÃO\",IF(COUNTA(Tabela1[#This Row]) = 22, 0, 1),IF(COUNTA(Tabela1[#This Row]) = 18, 0, 1)), 0)","v":0},{"$f":"IF(X585 = 1, 0, IF(COUNTA(Tabela1[#This Row]) > 0, 1, 0))","v":0}]
[null,null,null,null,null,null,null,null,null,null,null,null,null,null,null,null,null,null,null,null,null,null,null,{"$f":"IF(COUNTA(Tabela1[#This Row]) > 0, IF(Tabela1[[#This Row],[TIPO CARTÃO]]  = \"0-SEM CARTÃO\",IF(COUNTA(Tabela1[#This Row]) = 22, 0, 1),IF(COUNTA(Tabela1[#This Row]) = 18, 0, 1)), 0)","v":0},{"$f":"IF(X586 = 1, 0, IF(COUNTA(Tabela1[#This Row]) > 0, 1, 0))","v":0}]
[null,null,null,null,null,null,null,null,null,null,null,null,null,null,null,null,null,null,null,null,null,null,null,{"$f":"IF(COUNTA(Tabela1[#This Row]) > 0, IF(Tabela1[[#This Row],[TIPO CARTÃO]]  = \"0-SEM CARTÃO\",IF(COUNTA(Tabela1[#This Row]) = 22, 0, 1),IF(COUNTA(Tabela1[#This Row]) = 18, 0, 1)), 0)","v":0},{"$f":"IF(X587 = 1, 0, IF(COUNTA(Tabela1[#This Row]) > 0, 1, 0))","v":0}]
[null,null,null,null,null,null,null,null,null,null,null,null,null,null,null,null,null,null,null,null,null,null,null,{"$f":"IF(COUNTA(Tabela1[#This Row]) > 0, IF(Tabela1[[#This Row],[TIPO CARTÃO]]  = \"0-SEM CARTÃO\",IF(COUNTA(Tabela1[#This Row]) = 22, 0, 1),IF(COUNTA(Tabela1[#This Row]) = 18, 0, 1)), 0)","v":0},{"$f":"IF(X588 = 1, 0, IF(COUNTA(Tabela1[#This Row]) > 0, 1, 0))","v":0}]
[null,null,null,null,null,null,null,null,null,null,null,null,null,null,null,null,null,null,null,null,null,null,null,{"$f":"IF(COUNTA(Tabela1[#This Row]) > 0, IF(Tabela1[[#This Row],[TIPO CARTÃO]]  = \"0-SEM CARTÃO\",IF(COUNTA(Tabela1[#This Row]) = 22, 0, 1),IF(COUNTA(Tabela1[#This Row]) = 18, 0, 1)), 0)","v":0},{"$f":"IF(X589 = 1, 0, IF(COUNTA(Tabela1[#This Row]) > 0, 1, 0))","v":0}]
[null,null,null,null,null,null,null,null,null,null,null,null,null,null,null,null,null,null,null,null,null,null,null,{"$f":"IF(COUNTA(Tabela1[#This Row]) > 0, IF(Tabela1[[#This Row],[TIPO CARTÃO]]  = \"0-SEM CARTÃO\",IF(COUNTA(Tabela1[#This Row]) = 22, 0, 1),IF(COUNTA(Tabela1[#This Row]) = 18, 0, 1)), 0)","v":0},{"$f":"IF(X590 = 1, 0, IF(COUNTA(Tabela1[#This Row]) > 0, 1, 0))","v":0}]
[null,null,null,null,null,null,null,null,null,null,null,null,null,null,null,null,null,null,null,null,null,null,null,{"$f":"IF(COUNTA(Tabela1[#This Row]) > 0, IF(Tabela1[[#This Row],[TIPO CARTÃO]]  = \"0-SEM CARTÃO\",IF(COUNTA(Tabela1[#This Row]) = 22, 0, 1),IF(COUNTA(Tabela1[#This Row]) = 18, 0, 1)), 0)","v":0},{"$f":"IF(X591 = 1, 0, IF(COUNTA(Tabela1[#This Row]) > 0, 1, 0))","v":0}]
[null,null,null,null,null,null,null,null,null,null,null,null,null,null,null,null,null,null,null,null,null,null,null,{"$f":"IF(COUNTA(Tabela1[#This Row]) > 0, IF(Tabela1[[#This Row],[TIPO CARTÃO]]  = \"0-SEM CARTÃO\",IF(COUNTA(Tabela1[#This Row]) = 22, 0, 1),IF(COUNTA(Tabela1[#This Row]) = 18, 0, 1)), 0)","v":0},{"$f":"IF(X592 = 1, 0, IF(COUNTA(Tabela1[#This Row]) > 0, 1, 0))","v":0}]
[null,null,null,null,null,null,null,null,null,null,null,null,null,null,null,null,null,null,null,null,null,null,null,{"$f":"IF(COUNTA(Tabela1[#This Row]) > 0, IF(Tabela1[[#This Row],[TIPO CARTÃO]]  = \"0-SEM CARTÃO\",IF(COUNTA(Tabela1[#This Row]) = 22, 0, 1),IF(COUNTA(Tabela1[#This Row]) = 18, 0, 1)), 0)","v":0},{"$f":"IF(X593 = 1, 0, IF(COUNTA(Tabela1[#This Row]) > 0, 1, 0))","v":0}]
[null,null,null,null,null,null,null,null,null,null,null,null,null,null,null,null,null,null,null,null,null,null,null,{"$f":"IF(COUNTA(Tabela1[#This Row]) > 0, IF(Tabela1[[#This Row],[TIPO CARTÃO]]  = \"0-SEM CARTÃO\",IF(COUNTA(Tabela1[#This Row]) = 22, 0, 1),IF(COUNTA(Tabela1[#This Row]) = 18, 0, 1)), 0)","v":0},{"$f":"IF(X594 = 1, 0, IF(COUNTA(Tabela1[#This Row]) > 0, 1, 0))","v":0}]
[null,null,null,null,null,null,null,null,null,null,null,null,null,null,null,null,null,null,null,null,null,null,null,{"$f":"IF(COUNTA(Tabela1[#This Row]) > 0, IF(Tabela1[[#This Row],[TIPO CARTÃO]]  = \"0-SEM CARTÃO\",IF(COUNTA(Tabela1[#This Row]) = 22, 0, 1),IF(COUNTA(Tabela1[#This Row]) = 18, 0, 1)), 0)","v":0},{"$f":"IF(X595 = 1, 0, IF(COUNTA(Tabela1[#This Row]) > 0, 1, 0))","v":0}]
[null,null,null,null,null,null,null,null,null,null,null,null,null,null,null,null,null,null,null,null,null,null,null,{"$f":"IF(COUNTA(Tabela1[#This Row]) > 0, IF(Tabela1[[#This Row],[TIPO CARTÃO]]  = \"0-SEM CARTÃO\",IF(COUNTA(Tabela1[#This Row]) = 22, 0, 1),IF(COUNTA(Tabela1[#This Row]) = 18, 0, 1)), 0)","v":0},{"$f":"IF(X596 = 1, 0, IF(COUNTA(Tabela1[#This Row]) > 0, 1, 0))","v":0}]
[null,null,null,null,null,null,null,null,null,null,null,null,null,null,null,null,null,null,null,null,null,null,null,{"$f":"IF(COUNTA(Tabela1[#This Row]) > 0, IF(Tabela1[[#This Row],[TIPO CARTÃO]]  = \"0-SEM CARTÃO\",IF(COUNTA(Tabela1[#This Row]) = 22, 0, 1),IF(COUNTA(Tabela1[#This Row]) = 18, 0, 1)), 0)","v":0},{"$f":"IF(X597 = 1, 0, IF(COUNTA(Tabela1[#This Row]) > 0, 1, 0))","v":0}]
[null,null,null,null,null,null,null,null,null,null,null,null,null,null,null,null,null,null,null,null,null,null,null,{"$f":"IF(COUNTA(Tabela1[#This Row]) > 0, IF(Tabela1[[#This Row],[TIPO CARTÃO]]  = \"0-SEM CARTÃO\",IF(COUNTA(Tabela1[#This Row]) = 22, 0, 1),IF(COUNTA(Tabela1[#This Row]) = 18, 0, 1)), 0)","v":0},{"$f":"IF(X598 = 1, 0, IF(COUNTA(Tabela1[#This Row]) > 0, 1, 0))","v":0}]
[null,null,null,null,null,null,null,null,null,null,null,null,null,null,null,null,null,null,null,null,null,null,null,{"$f":"IF(COUNTA(Tabela1[#This Row]) > 0, IF(Tabela1[[#This Row],[TIPO CARTÃO]]  = \"0-SEM CARTÃO\",IF(COUNTA(Tabela1[#This Row]) = 22, 0, 1),IF(COUNTA(Tabela1[#This Row]) = 18, 0, 1)), 0)","v":0},{"$f":"IF(X599 = 1, 0, IF(COUNTA(Tabela1[#This Row]) > 0, 1, 0))","v":0}]
[null,null,null,null,null,null,null,null,null,null,null,null,null,null,null,null,null,null,null,null,null,null,null,{"$f":"IF(COUNTA(Tabela1[#This Row]) > 0, IF(Tabela1[[#This Row],[TIPO CARTÃO]]  = \"0-SEM CARTÃO\",IF(COUNTA(Tabela1[#This Row]) = 22, 0, 1),IF(COUNTA(Tabela1[#This Row]) = 18, 0, 1)), 0)","v":0},{"$f":"IF(X600 = 1, 0, IF(COUNTA(Tabela1[#This Row]) > 0, 1, 0))","v":0}]
[null,null,null,null,null,null,null,null,null,null,null,null,null,null,null,null,null,null,null,null,null,null,null,{"$f":"IF(COUNTA(Tabela1[#This Row]) > 0, IF(Tabela1[[#This Row],[TIPO CARTÃO]]  = \"0-SEM CARTÃO\",IF(COUNTA(Tabela1[#This Row]) = 22, 0, 1),IF(COUNTA(Tabela1[#This Row]) = 18, 0, 1)), 0)","v":0},{"$f":"IF(X601 = 1, 0, IF(COUNTA(Tabela1[#This Row]) > 0, 1, 0))","v":0}]
[null,null,null,null,null,null,null,null,null,null,null,null,null,null,null,null,null,null,null,null,null,null,null,{"$f":"IF(COUNTA(Tabela1[#This Row]) > 0, IF(Tabela1[[#This Row],[TIPO CARTÃO]]  = \"0-SEM CARTÃO\",IF(COUNTA(Tabela1[#This Row]) = 22, 0, 1),IF(COUNTA(Tabela1[#This Row]) = 18, 0, 1)), 0)","v":0},{"$f":"IF(X602 = 1, 0, IF(COUNTA(Tabela1[#This Row]) > 0, 1, 0))","v":0}]
[null,null,null,null,null,null,null,null,null,null,null,null,null,null,null,null,null,null,null,null,null,null,null,{"$f":"IF(COUNTA(Tabela1[#This Row]) > 0, IF(Tabela1[[#This Row],[TIPO CARTÃO]]  = \"0-SEM CARTÃO\",IF(COUNTA(Tabela1[#This Row]) = 22, 0, 1),IF(COUNTA(Tabela1[#This Row]) = 18, 0, 1)), 0)","v":0},{"$f":"IF(X603 = 1, 0, IF(COUNTA(Tabela1[#This Row]) > 0, 1, 0))","v":0}]
[null,null,null,null,null,null,null,null,null,null,null,null,null,null,null,null,null,null,null,null,null,null,null,{"$f":"IF(COUNTA(Tabela1[#This Row]) > 0, IF(Tabela1[[#This Row],[TIPO CARTÃO]]  = \"0-SEM CARTÃO\",IF(COUNTA(Tabela1[#This Row]) = 22, 0, 1),IF(COUNTA(Tabela1[#This Row]) = 18, 0, 1)), 0)","v":0},{"$f":"IF(X604 = 1, 0, IF(COUNTA(Tabela1[#This Row]) > 0, 1, 0))","v":0}]
[null,null,null,null,null,null,null,null,null,null,null,null,null,null,null,null,null,null,null,null,null,null,null,{"$f":"IF(COUNTA(Tabela1[#This Row]) > 0, IF(Tabela1[[#This Row],[TIPO CARTÃO]]  = \"0-SEM CARTÃO\",IF(COUNTA(Tabela1[#This Row]) = 22, 0, 1),IF(COUNTA(Tabela1[#This Row]) = 18, 0, 1)), 0)","v":0},{"$f":"IF(X605 = 1, 0, IF(COUNTA(Tabela1[#This Row]) > 0, 1, 0))","v":0}]
[null,null,null,null,null,null,null,null,null,null,null,null,null,null,null,null,null,null,null,null,null,null,null,{"$f":"IF(COUNTA(Tabela1[#This Row]) > 0, IF(Tabela1[[#This Row],[TIPO CARTÃO]]  = \"0-SEM CARTÃO\",IF(COUNTA(Tabela1[#This Row]) = 22, 0, 1),IF(COUNTA(Tabela1[#This Row]) = 18, 0, 1)), 0)","v":0},{"$f":"IF(X606 = 1, 0, IF(COUNTA(Tabela1[#This Row]) > 0, 1, 0))","v":0}]
[null,null,null,null,null,null,null,null,null,null,null,null,null,null,null,null,null,null,null,null,null,null,null,{"$f":"IF(COUNTA(Tabela1[#This Row]) > 0, IF(Tabela1[[#This Row],[TIPO CARTÃO]]  = \"0-SEM CARTÃO\",IF(COUNTA(Tabela1[#This Row]) = 22, 0, 1),IF(COUNTA(Tabela1[#This Row]) = 18, 0, 1)), 0)","v":0},{"$f":"IF(X607 = 1, 0, IF(COUNTA(Tabela1[#This Row]) > 0, 1, 0))","v":0}]
[null,null,null,null,null,null,null,null,null,null,null,null,null,null,null,null,null,null,null,null,null,null,null,{"$f":"IF(COUNTA(Tabela1[#This Row]) > 0, IF(Tabela1[[#This Row],[TIPO CARTÃO]]  = \"0-SEM CARTÃO\",IF(COUNTA(Tabela1[#This Row]) = 22, 0, 1),IF(COUNTA(Tabela1[#This Row]) = 18, 0, 1)), 0)","v":0},{"$f":"IF(X608 = 1, 0, IF(COUNTA(Tabela1[#This Row]) > 0, 1, 0))","v":0}]
[null,null,null,null,null,null,null,null,null,null,null,null,null,null,null,null,null,null,null,null,null,null,null,{"$f":"IF(COUNTA(Tabela1[#This Row]) > 0, IF(Tabela1[[#This Row],[TIPO CARTÃO]]  = \"0-SEM CARTÃO\",IF(COUNTA(Tabela1[#This Row]) = 22, 0, 1),IF(COUNTA(Tabela1[#This Row]) = 18, 0, 1)), 0)","v":0},{"$f":"IF(X609 = 1, 0, IF(COUNTA(Tabela1[#This Row]) > 0, 1, 0))","v":0}]
[null,null,null,null,null,null,null,null,null,null,null,null,null,null,null,null,null,null,null,null,null,null,null,{"$f":"IF(COUNTA(Tabela1[#This Row]) > 0, IF(Tabela1[[#This Row],[TIPO CARTÃO]]  = \"0-SEM CARTÃO\",IF(COUNTA(Tabela1[#This Row]) = 22, 0, 1),IF(COUNTA(Tabela1[#This Row]) = 18, 0, 1)), 0)","v":0},{"$f":"IF(X610 = 1, 0, IF(COUNTA(Tabela1[#This Row]) > 0, 1, 0))","v":0}]
[null,null,null,null,null,null,null,null,null,null,null,null,null,null,null,null,null,null,null,null,null,null,null,{"$f":"IF(COUNTA(Tabela1[#This Row]) > 0, IF(Tabela1[[#This Row],[TIPO CARTÃO]]  = \"0-SEM CARTÃO\",IF(COUNTA(Tabela1[#This Row]) = 22, 0, 1),IF(COUNTA(Tabela1[#This Row]) = 18, 0, 1)), 0)","v":0},{"$f":"IF(X611 = 1, 0, IF(COUNTA(Tabela1[#This Row]) > 0, 1, 0))","v":0}]
[null,null,null,null,null,null,null,null,null,null,null,null,null,null,null,null,null,null,null,null,null,null,null,{"$f":"IF(COUNTA(Tabela1[#This Row]) > 0, IF(Tabela1[[#This Row],[TIPO CARTÃO]]  = \"0-SEM CARTÃO\",IF(COUNTA(Tabela1[#This Row]) = 22, 0, 1),IF(COUNTA(Tabela1[#This Row]) = 18, 0, 1)), 0)","v":0},{"$f":"IF(X612 = 1, 0, IF(COUNTA(Tabela1[#This Row]) > 0, 1, 0))","v":0}]
[null,null,null,null,null,null,null,null,null,null,null,null,null,null,null,null,null,null,null,null,null,null,null,{"$f":"IF(COUNTA(Tabela1[#This Row]) > 0, IF(Tabela1[[#This Row],[TIPO CARTÃO]]  = \"0-SEM CARTÃO\",IF(COUNTA(Tabela1[#This Row]) = 22, 0, 1),IF(COUNTA(Tabela1[#This Row]) = 18, 0, 1)), 0)","v":0},{"$f":"IF(X613 = 1, 0, IF(COUNTA(Tabela1[#This Row]) > 0, 1, 0))","v":0}]
[null,null,null,null,null,null,null,null,null,null,null,null,null,null,null,null,null,null,null,null,null,null,null,{"$f":"IF(COUNTA(Tabela1[#This Row]) > 0, IF(Tabela1[[#This Row],[TIPO CARTÃO]]  = \"0-SEM CARTÃO\",IF(COUNTA(Tabela1[#This Row]) = 22, 0, 1),IF(COUNTA(Tabela1[#This Row]) = 18, 0, 1)), 0)","v":0},{"$f":"IF(X614 = 1, 0, IF(COUNTA(Tabela1[#This Row]) > 0, 1, 0))","v":0}]
[null,null,null,null,null,null,null,null,null,null,null,null,null,null,null,null,null,null,null,null,null,null,null,{"$f":"IF(COUNTA(Tabela1[#This Row]) > 0, IF(Tabela1[[#This Row],[TIPO CARTÃO]]  = \"0-SEM CARTÃO\",IF(COUNTA(Tabela1[#This Row]) = 22, 0, 1),IF(COUNTA(Tabela1[#This Row]) = 18, 0, 1)), 0)","v":0},{"$f":"IF(X615 = 1, 0, IF(COUNTA(Tabela1[#This Row]) > 0, 1, 0))","v":0}]
[null,null,null,null,null,null,null,null,null,null,null,null,null,null,null,null,null,null,null,null,null,null,null,{"$f":"IF(COUNTA(Tabela1[#This Row]) > 0, IF(Tabela1[[#This Row],[TIPO CARTÃO]]  = \"0-SEM CARTÃO\",IF(COUNTA(Tabela1[#This Row]) = 22, 0, 1),IF(COUNTA(Tabela1[#This Row]) = 18, 0, 1)), 0)","v":0},{"$f":"IF(X616 = 1, 0, IF(COUNTA(Tabela1[#This Row]) > 0, 1, 0))","v":0}]
[null,null,null,null,null,null,null,null,null,null,null,null,null,null,null,null,null,null,null,null,null,null,null,{"$f":"IF(COUNTA(Tabela1[#This Row]) > 0, IF(Tabela1[[#This Row],[TIPO CARTÃO]]  = \"0-SEM CARTÃO\",IF(COUNTA(Tabela1[#This Row]) = 22, 0, 1),IF(COUNTA(Tabela1[#This Row]) = 18, 0, 1)), 0)","v":0},{"$f":"IF(X617 = 1, 0, IF(COUNTA(Tabela1[#This Row]) > 0, 1, 0))","v":0}]
[null,null,null,null,null,null,null,null,null,null,null,null,null,null,null,null,null,null,null,null,null,null,null,{"$f":"IF(COUNTA(Tabela1[#This Row]) > 0, IF(Tabela1[[#This Row],[TIPO CARTÃO]]  = \"0-SEM CARTÃO\",IF(COUNTA(Tabela1[#This Row]) = 22, 0, 1),IF(COUNTA(Tabela1[#This Row]) = 18, 0, 1)), 0)","v":0},{"$f":"IF(X618 = 1, 0, IF(COUNTA(Tabela1[#This Row]) > 0, 1, 0))","v":0}]
[null,null,null,null,null,null,null,null,null,null,null,null,null,null,null,null,null,null,null,null,null,null,null,{"$f":"IF(COUNTA(Tabela1[#This Row]) > 0, IF(Tabela1[[#This Row],[TIPO CARTÃO]]  = \"0-SEM CARTÃO\",IF(COUNTA(Tabela1[#This Row]) = 22, 0, 1),IF(COUNTA(Tabela1[#This Row]) = 18, 0, 1)), 0)","v":0},{"$f":"IF(X619 = 1, 0, IF(COUNTA(Tabela1[#This Row]) > 0, 1, 0))","v":0}]
[null,null,null,null,null,null,null,null,null,null,null,null,null,null,null,null,null,null,null,null,null,null,null,{"$f":"IF(COUNTA(Tabela1[#This Row]) > 0, IF(Tabela1[[#This Row],[TIPO CARTÃO]]  = \"0-SEM CARTÃO\",IF(COUNTA(Tabela1[#This Row]) = 22, 0, 1),IF(COUNTA(Tabela1[#This Row]) = 18, 0, 1)), 0)","v":0},{"$f":"IF(X620 = 1, 0, IF(COUNTA(Tabela1[#This Row]) > 0, 1, 0))","v":0}]
[null,null,null,null,null,null,null,null,null,null,null,null,null,null,null,null,null,null,null,null,null,null,null,{"$f":"IF(COUNTA(Tabela1[#This Row]) > 0, IF(Tabela1[[#This Row],[TIPO CARTÃO]]  = \"0-SEM CARTÃO\",IF(COUNTA(Tabela1[#This Row]) = 22, 0, 1),IF(COUNTA(Tabela1[#This Row]) = 18, 0, 1)), 0)","v":0},{"$f":"IF(X621 = 1, 0, IF(COUNTA(Tabela1[#This Row]) > 0, 1, 0))","v":0}]
[null,null,null,null,null,null,null,null,null,null,null,null,null,null,null,null,null,null,null,null,null,null,null,{"$f":"IF(COUNTA(Tabela1[#This Row]) > 0, IF(Tabela1[[#This Row],[TIPO CARTÃO]]  = \"0-SEM CARTÃO\",IF(COUNTA(Tabela1[#This Row]) = 22, 0, 1),IF(COUNTA(Tabela1[#This Row]) = 18, 0, 1)), 0)","v":0},{"$f":"IF(X622 = 1, 0, IF(COUNTA(Tabela1[#This Row]) > 0, 1, 0))","v":0}]
[null,null,null,null,null,null,null,null,null,null,null,null,null,null,null,null,null,null,null,null,null,null,null,{"$f":"IF(COUNTA(Tabela1[#This Row]) > 0, IF(Tabela1[[#This Row],[TIPO CARTÃO]]  = \"0-SEM CARTÃO\",IF(COUNTA(Tabela1[#This Row]) = 22, 0, 1),IF(COUNTA(Tabela1[#This Row]) = 18, 0, 1)), 0)","v":0},{"$f":"IF(X623 = 1, 0, IF(COUNTA(Tabela1[#This Row]) > 0, 1, 0))","v":0}]
[null,null,null,null,null,null,null,null,null,null,null,null,null,null,null,null,null,null,null,null,null,null,null,{"$f":"IF(COUNTA(Tabela1[#This Row]) > 0, IF(Tabela1[[#This Row],[TIPO CARTÃO]]  = \"0-SEM CARTÃO\",IF(COUNTA(Tabela1[#This Row]) = 22, 0, 1),IF(COUNTA(Tabela1[#This Row]) = 18, 0, 1)), 0)","v":0},{"$f":"IF(X624 = 1, 0, IF(COUNTA(Tabela1[#This Row]) > 0, 1, 0))","v":0}]
[null,null,null,null,null,null,null,null,null,null,null,null,null,null,null,null,null,null,null,null,null,null,null,{"$f":"IF(COUNTA(Tabela1[#This Row]) > 0, IF(Tabela1[[#This Row],[TIPO CARTÃO]]  = \"0-SEM CARTÃO\",IF(COUNTA(Tabela1[#This Row]) = 22, 0, 1),IF(COUNTA(Tabela1[#This Row]) = 18, 0, 1)), 0)","v":0},{"$f":"IF(X625 = 1, 0, IF(COUNTA(Tabela1[#This Row]) > 0, 1, 0))","v":0}]
[null,null,null,null,null,null,null,null,null,null,null,null,null,null,null,null,null,null,null,null,null,null,null,{"$f":"IF(COUNTA(Tabela1[#This Row]) > 0, IF(Tabela1[[#This Row],[TIPO CARTÃO]]  = \"0-SEM CARTÃO\",IF(COUNTA(Tabela1[#This Row]) = 22, 0, 1),IF(COUNTA(Tabela1[#This Row]) = 18, 0, 1)), 0)","v":0},{"$f":"IF(X626 = 1, 0, IF(COUNTA(Tabela1[#This Row]) > 0, 1, 0))","v":0}]
[null,null,null,null,null,null,null,null,null,null,null,null,null,null,null,null,null,null,null,null,null,null,null,{"$f":"IF(COUNTA(Tabela1[#This Row]) > 0, IF(Tabela1[[#This Row],[TIPO CARTÃO]]  = \"0-SEM CARTÃO\",IF(COUNTA(Tabela1[#This Row]) = 22, 0, 1),IF(COUNTA(Tabela1[#This Row]) = 18, 0, 1)), 0)","v":0},{"$f":"IF(X627 = 1, 0, IF(COUNTA(Tabela1[#This Row]) > 0, 1, 0))","v":0}]
[null,null,null,null,null,null,null,null,null,null,null,null,null,null,null,null,null,null,null,null,null,null,null,{"$f":"IF(COUNTA(Tabela1[#This Row]) > 0, IF(Tabela1[[#This Row],[TIPO CARTÃO]]  = \"0-SEM CARTÃO\",IF(COUNTA(Tabela1[#This Row]) = 22, 0, 1),IF(COUNTA(Tabela1[#This Row]) = 18, 0, 1)), 0)","v":0},{"$f":"IF(X628 = 1, 0, IF(COUNTA(Tabela1[#This Row]) > 0, 1, 0))","v":0}]
[null,null,null,null,null,null,null,null,null,null,null,null,null,null,null,null,null,null,null,null,null,null,null,{"$f":"IF(COUNTA(Tabela1[#This Row]) > 0, IF(Tabela1[[#This Row],[TIPO CARTÃO]]  = \"0-SEM CARTÃO\",IF(COUNTA(Tabela1[#This Row]) = 22, 0, 1),IF(COUNTA(Tabela1[#This Row]) = 18, 0, 1)), 0)","v":0},{"$f":"IF(X629 = 1, 0, IF(COUNTA(Tabela1[#This Row]) > 0, 1, 0))","v":0}]
[null,null,null,null,null,null,null,null,null,null,null,null,null,null,null,null,null,null,null,null,null,null,null,{"$f":"IF(COUNTA(Tabela1[#This Row]) > 0, IF(Tabela1[[#This Row],[TIPO CARTÃO]]  = \"0-SEM CARTÃO\",IF(COUNTA(Tabela1[#This Row]) = 22, 0, 1),IF(COUNTA(Tabela1[#This Row]) = 18, 0, 1)), 0)","v":0},{"$f":"IF(X630 = 1, 0, IF(COUNTA(Tabela1[#This Row]) > 0, 1, 0))","v":0}]
[null,null,null,null,null,null,null,null,null,null,null,null,null,null,null,null,null,null,null,null,null,null,null,{"$f":"IF(COUNTA(Tabela1[#This Row]) > 0, IF(Tabela1[[#This Row],[TIPO CARTÃO]]  = \"0-SEM CARTÃO\",IF(COUNTA(Tabela1[#This Row]) = 22, 0, 1),IF(COUNTA(Tabela1[#This Row]) = 18, 0, 1)), 0)","v":0},{"$f":"IF(X631 = 1, 0, IF(COUNTA(Tabela1[#This Row]) > 0, 1, 0))","v":0}]
[null,null,null,null,null,null,null,null,null,null,null,null,null,null,null,null,null,null,null,null,null,null,null,{"$f":"IF(COUNTA(Tabela1[#This Row]) > 0, IF(Tabela1[[#This Row],[TIPO CARTÃO]]  = \"0-SEM CARTÃO\",IF(COUNTA(Tabela1[#This Row]) = 22, 0, 1),IF(COUNTA(Tabela1[#This Row]) = 18, 0, 1)), 0)","v":0},{"$f":"IF(X632 = 1, 0, IF(COUNTA(Tabela1[#This Row]) > 0, 1, 0))","v":0}]
[null,null,null,null,null,null,null,null,null,null,null,null,null,null,null,null,null,null,null,null,null,null,null,{"$f":"IF(COUNTA(Tabela1[#This Row]) > 0, IF(Tabela1[[#This Row],[TIPO CARTÃO]]  = \"0-SEM CARTÃO\",IF(COUNTA(Tabela1[#This Row]) = 22, 0, 1),IF(COUNTA(Tabela1[#This Row]) = 18, 0, 1)), 0)","v":0},{"$f":"IF(X633 = 1, 0, IF(COUNTA(Tabela1[#This Row]) > 0, 1, 0))","v":0}]
[null,null,null,null,null,null,null,null,null,null,null,null,null,null,null,null,null,null,null,null,null,null,null,{"$f":"IF(COUNTA(Tabela1[#This Row]) > 0, IF(Tabela1[[#This Row],[TIPO CARTÃO]]  = \"0-SEM CARTÃO\",IF(COUNTA(Tabela1[#This Row]) = 22, 0, 1),IF(COUNTA(Tabela1[#This Row]) = 18, 0, 1)), 0)","v":0},{"$f":"IF(X634 = 1, 0, IF(COUNTA(Tabela1[#This Row]) > 0, 1, 0))","v":0}]
[null,null,null,null,null,null,null,null,null,null,null,null,null,null,null,null,null,null,null,null,null,null,null,{"$f":"IF(COUNTA(Tabela1[#This Row]) > 0, IF(Tabela1[[#This Row],[TIPO CARTÃO]]  = \"0-SEM CARTÃO\",IF(COUNTA(Tabela1[#This Row]) = 22, 0, 1),IF(COUNTA(Tabela1[#This Row]) = 18, 0, 1)), 0)","v":0},{"$f":"IF(X635 = 1, 0, IF(COUNTA(Tabela1[#This Row]) > 0, 1, 0))","v":0}]
[null,null,null,null,null,null,null,null,null,null,null,null,null,null,null,null,null,null,null,null,null,null,null,{"$f":"IF(COUNTA(Tabela1[#This Row]) > 0, IF(Tabela1[[#This Row],[TIPO CARTÃO]]  = \"0-SEM CARTÃO\",IF(COUNTA(Tabela1[#This Row]) = 22, 0, 1),IF(COUNTA(Tabela1[#This Row]) = 18, 0, 1)), 0)","v":0},{"$f":"IF(X636 = 1, 0, IF(COUNTA(Tabela1[#This Row]) > 0, 1, 0))","v":0}]
[null,null,null,null,null,null,null,null,null,null,null,null,null,null,null,null,null,null,null,null,null,null,null,{"$f":"IF(COUNTA(Tabela1[#This Row]) > 0, IF(Tabela1[[#This Row],[TIPO CARTÃO]]  = \"0-SEM CARTÃO\",IF(COUNTA(Tabela1[#This Row]) = 22, 0, 1),IF(COUNTA(Tabela1[#This Row]) = 18, 0, 1)), 0)","v":0},{"$f":"IF(X637 = 1, 0, IF(COUNTA(Tabela1[#This Row]) > 0, 1, 0))","v":0}]
[null,null,null,null,null,null,null,null,null,null,null,null,null,null,null,null,null,null,null,null,null,null,null,{"$f":"IF(COUNTA(Tabela1[#This Row]) > 0, IF(Tabela1[[#This Row],[TIPO CARTÃO]]  = \"0-SEM CARTÃO\",IF(COUNTA(Tabela1[#This Row]) = 22, 0, 1),IF(COUNTA(Tabela1[#This Row]) = 18, 0, 1)), 0)","v":0},{"$f":"IF(X638 = 1, 0, IF(COUNTA(Tabela1[#This Row]) > 0, 1, 0))","v":0}]
[null,null,null,null,null,null,null,null,null,null,null,null,null,null,null,null,null,null,null,null,null,null,null,{"$f":"IF(COUNTA(Tabela1[#This Row]) > 0, IF(Tabela1[[#This Row],[TIPO CARTÃO]]  = \"0-SEM CARTÃO\",IF(COUNTA(Tabela1[#This Row]) = 22, 0, 1),IF(COUNTA(Tabela1[#This Row]) = 18, 0, 1)), 0)","v":0},{"$f":"IF(X639 = 1, 0, IF(COUNTA(Tabela1[#This Row]) > 0, 1, 0))","v":0}]
[null,null,null,null,null,null,null,null,null,null,null,null,null,null,null,null,null,null,null,null,null,null,null,{"$f":"IF(COUNTA(Tabela1[#This Row]) > 0, IF(Tabela1[[#This Row],[TIPO CARTÃO]]  = \"0-SEM CARTÃO\",IF(COUNTA(Tabela1[#This Row]) = 22, 0, 1),IF(COUNTA(Tabela1[#This Row]) = 18, 0, 1)), 0)","v":0},{"$f":"IF(X640 = 1, 0, IF(COUNTA(Tabela1[#This Row]) > 0, 1, 0))","v":0}]
[null,null,null,null,null,null,null,null,null,null,null,null,null,null,null,null,null,null,null,null,null,null,null,{"$f":"IF(COUNTA(Tabela1[#This Row]) > 0, IF(Tabela1[[#This Row],[TIPO CARTÃO]]  = \"0-SEM CARTÃO\",IF(COUNTA(Tabela1[#This Row]) = 22, 0, 1),IF(COUNTA(Tabela1[#This Row]) = 18, 0, 1)), 0)","v":0},{"$f":"IF(X641 = 1, 0, IF(COUNTA(Tabela1[#This Row]) > 0, 1, 0))","v":0}]
[null,null,null,null,null,null,null,null,null,null,null,null,null,null,null,null,null,null,null,null,null,null,null,{"$f":"IF(COUNTA(Tabela1[#This Row]) > 0, IF(Tabela1[[#This Row],[TIPO CARTÃO]]  = \"0-SEM CARTÃO\",IF(COUNTA(Tabela1[#This Row]) = 22, 0, 1),IF(COUNTA(Tabela1[#This Row]) = 18, 0, 1)), 0)","v":0},{"$f":"IF(X642 = 1, 0, IF(COUNTA(Tabela1[#This Row]) > 0, 1, 0))","v":0}]
[null,null,null,null,null,null,null,null,null,null,null,null,null,null,null,null,null,null,null,null,null,null,null,{"$f":"IF(COUNTA(Tabela1[#This Row]) > 0, IF(Tabela1[[#This Row],[TIPO CARTÃO]]  = \"0-SEM CARTÃO\",IF(COUNTA(Tabela1[#This Row]) = 22, 0, 1),IF(COUNTA(Tabela1[#This Row]) = 18, 0, 1)), 0)","v":0},{"$f":"IF(X643 = 1, 0, IF(COUNTA(Tabela1[#This Row]) > 0, 1, 0))","v":0}]
[null,null,null,null,null,null,null,null,null,null,null,null,null,null,null,null,null,null,null,null,null,null,null,{"$f":"IF(COUNTA(Tabela1[#This Row]) > 0, IF(Tabela1[[#This Row],[TIPO CARTÃO]]  = \"0-SEM CARTÃO\",IF(COUNTA(Tabela1[#This Row]) = 22, 0, 1),IF(COUNTA(Tabela1[#This Row]) = 18, 0, 1)), 0)","v":0},{"$f":"IF(X644 = 1, 0, IF(COUNTA(Tabela1[#This Row]) > 0, 1, 0))","v":0}]
[null,null,null,null,null,null,null,null,null,null,null,null,null,null,null,null,null,null,null,null,null,null,null,{"$f":"IF(COUNTA(Tabela1[#This Row]) > 0, IF(Tabela1[[#This Row],[TIPO CARTÃO]]  = \"0-SEM CARTÃO\",IF(COUNTA(Tabela1[#This Row]) = 22, 0, 1),IF(COUNTA(Tabela1[#This Row]) = 18, 0, 1)), 0)","v":0},{"$f":"IF(X645 = 1, 0, IF(COUNTA(Tabela1[#This Row]) > 0, 1, 0))","v":0}]
[null,null,null,null,null,null,null,null,null,null,null,null,null,null,null,null,null,null,null,null,null,null,null,{"$f":"IF(COUNTA(Tabela1[#This Row]) > 0, IF(Tabela1[[#This Row],[TIPO CARTÃO]]  = \"0-SEM CARTÃO\",IF(COUNTA(Tabela1[#This Row]) = 22, 0, 1),IF(COUNTA(Tabela1[#This Row]) = 18, 0, 1)), 0)","v":0},{"$f":"IF(X646 = 1, 0, IF(COUNTA(Tabela1[#This Row]) > 0, 1, 0))","v":0}]
[null,null,null,null,null,null,null,null,null,null,null,null,null,null,null,null,null,null,null,null,null,null,null,{"$f":"IF(COUNTA(Tabela1[#This Row]) > 0, IF(Tabela1[[#This Row],[TIPO CARTÃO]]  = \"0-SEM CARTÃO\",IF(COUNTA(Tabela1[#This Row]) = 22, 0, 1),IF(COUNTA(Tabela1[#This Row]) = 18, 0, 1)), 0)","v":0},{"$f":"IF(X647 = 1, 0, IF(COUNTA(Tabela1[#This Row]) > 0, 1, 0))","v":0}]
[null,null,null,null,null,null,null,null,null,null,null,null,null,null,null,null,null,null,null,null,null,null,null,{"$f":"IF(COUNTA(Tabela1[#This Row]) > 0, IF(Tabela1[[#This Row],[TIPO CARTÃO]]  = \"0-SEM CARTÃO\",IF(COUNTA(Tabela1[#This Row]) = 22, 0, 1),IF(COUNTA(Tabela1[#This Row]) = 18, 0, 1)), 0)","v":0},{"$f":"IF(X648 = 1, 0, IF(COUNTA(Tabela1[#This Row]) > 0, 1, 0))","v":0}]
[null,null,null,null,null,null,null,null,null,null,null,null,null,null,null,null,null,null,null,null,null,null,null,{"$f":"IF(COUNTA(Tabela1[#This Row]) > 0, IF(Tabela1[[#This Row],[TIPO CARTÃO]]  = \"0-SEM CARTÃO\",IF(COUNTA(Tabela1[#This Row]) = 22, 0, 1),IF(COUNTA(Tabela1[#This Row]) = 18, 0, 1)), 0)","v":0},{"$f":"IF(X649 = 1, 0, IF(COUNTA(Tabela1[#This Row]) > 0, 1, 0))","v":0}]
[null,null,null,null,null,null,null,null,null,null,null,null,null,null,null,null,null,null,null,null,null,null,null,{"$f":"IF(COUNTA(Tabela1[#This Row]) > 0, IF(Tabela1[[#This Row],[TIPO CARTÃO]]  = \"0-SEM CARTÃO\",IF(COUNTA(Tabela1[#This Row]) = 22, 0, 1),IF(COUNTA(Tabela1[#This Row]) = 18, 0, 1)), 0)","v":0},{"$f":"IF(X650 = 1, 0, IF(COUNTA(Tabela1[#This Row]) > 0, 1, 0))","v":0}]
[null,null,null,null,null,null,null,null,null,null,null,null,null,null,null,null,null,null,null,null,null,null,null,{"$f":"IF(COUNTA(Tabela1[#This Row]) > 0, IF(Tabela1[[#This Row],[TIPO CARTÃO]]  = \"0-SEM CARTÃO\",IF(COUNTA(Tabela1[#This Row]) = 22, 0, 1),IF(COUNTA(Tabela1[#This Row]) = 18, 0, 1)), 0)","v":0},{"$f":"IF(X651 = 1, 0, IF(COUNTA(Tabela1[#This Row]) > 0, 1, 0))","v":0}]
[null,null,null,null,null,null,null,null,null,null,null,null,null,null,null,null,null,null,null,null,null,null,null,{"$f":"IF(COUNTA(Tabela1[#This Row]) > 0, IF(Tabela1[[#This Row],[TIPO CARTÃO]]  = \"0-SEM CARTÃO\",IF(COUNTA(Tabela1[#This Row]) = 22, 0, 1),IF(COUNTA(Tabela1[#This Row]) = 18, 0, 1)), 0)","v":0},{"$f":"IF(X652 = 1, 0, IF(COUNTA(Tabela1[#This Row]) > 0, 1, 0))","v":0}]
[null,null,null,null,null,null,null,null,null,null,null,null,null,null,null,null,null,null,null,null,null,null,null,{"$f":"IF(COUNTA(Tabela1[#This Row]) > 0, IF(Tabela1[[#This Row],[TIPO CARTÃO]]  = \"0-SEM CARTÃO\",IF(COUNTA(Tabela1[#This Row]) = 22, 0, 1),IF(COUNTA(Tabela1[#This Row]) = 18, 0, 1)), 0)","v":0},{"$f":"IF(X653 = 1, 0, IF(COUNTA(Tabela1[#This Row]) > 0, 1, 0))","v":0}]
[null,null,null,null,null,null,null,null,null,null,null,null,null,null,null,null,null,null,null,null,null,null,null,{"$f":"IF(COUNTA(Tabela1[#This Row]) > 0, IF(Tabela1[[#This Row],[TIPO CARTÃO]]  = \"0-SEM CARTÃO\",IF(COUNTA(Tabela1[#This Row]) = 22, 0, 1),IF(COUNTA(Tabela1[#This Row]) = 18, 0, 1)), 0)","v":0},{"$f":"IF(X654 = 1, 0, IF(COUNTA(Tabela1[#This Row]) > 0, 1, 0))","v":0}]
[null,null,null,null,null,null,null,null,null,null,null,null,null,null,null,null,null,null,null,null,null,null,null,{"$f":"IF(COUNTA(Tabela1[#This Row]) > 0, IF(Tabela1[[#This Row],[TIPO CARTÃO]]  = \"0-SEM CARTÃO\",IF(COUNTA(Tabela1[#This Row]) = 22, 0, 1),IF(COUNTA(Tabela1[#This Row]) = 18, 0, 1)), 0)","v":0},{"$f":"IF(X655 = 1, 0, IF(COUNTA(Tabela1[#This Row]) > 0, 1, 0))","v":0}]
[null,null,null,null,null,null,null,null,null,null,null,null,null,null,null,null,null,null,null,null,null,null,null,{"$f":"IF(COUNTA(Tabela1[#This Row]) > 0, IF(Tabela1[[#This Row],[TIPO CARTÃO]]  = \"0-SEM CARTÃO\",IF(COUNTA(Tabela1[#This Row]) = 22, 0, 1),IF(COUNTA(Tabela1[#This Row]) = 18, 0, 1)), 0)","v":0},{"$f":"IF(X656 = 1, 0, IF(COUNTA(Tabela1[#This Row]) > 0, 1, 0))","v":0}]
[null,null,null,null,null,null,null,null,null,null,null,null,null,null,null,null,null,null,null,null,null,null,null,{"$f":"IF(COUNTA(Tabela1[#This Row]) > 0, IF(Tabela1[[#This Row],[TIPO CARTÃO]]  = \"0-SEM CARTÃO\",IF(COUNTA(Tabela1[#This Row]) = 22, 0, 1),IF(COUNTA(Tabela1[#This Row]) = 18, 0, 1)), 0)","v":0},{"$f":"IF(X657 = 1, 0, IF(COUNTA(Tabela1[#This Row]) > 0, 1, 0))","v":0}]
[null,null,null,null,null,null,null,null,null,null,null,null,null,null,null,null,null,null,null,null,null,null,null,{"$f":"IF(COUNTA(Tabela1[#This Row]) > 0, IF(Tabela1[[#This Row],[TIPO CARTÃO]]  = \"0-SEM CARTÃO\",IF(COUNTA(Tabela1[#This Row]) = 22, 0, 1),IF(COUNTA(Tabela1[#This Row]) = 18, 0, 1)), 0)","v":0},{"$f":"IF(X658 = 1, 0, IF(COUNTA(Tabela1[#This Row]) > 0, 1, 0))","v":0}]
[null,null,null,null,null,null,null,null,null,null,null,null,null,null,null,null,null,null,null,null,null,null,null,{"$f":"IF(COUNTA(Tabela1[#This Row]) > 0, IF(Tabela1[[#This Row],[TIPO CARTÃO]]  = \"0-SEM CARTÃO\",IF(COUNTA(Tabela1[#This Row]) = 22, 0, 1),IF(COUNTA(Tabela1[#This Row]) = 18, 0, 1)), 0)","v":0},{"$f":"IF(X659 = 1, 0, IF(COUNTA(Tabela1[#This Row]) > 0, 1, 0))","v":0}]
[null,null,null,null,null,null,null,null,null,null,null,null,null,null,null,null,null,null,null,null,null,null,null,{"$f":"IF(COUNTA(Tabela1[#This Row]) > 0, IF(Tabela1[[#This Row],[TIPO CARTÃO]]  = \"0-SEM CARTÃO\",IF(COUNTA(Tabela1[#This Row]) = 22, 0, 1),IF(COUNTA(Tabela1[#This Row]) = 18, 0, 1)), 0)","v":0},{"$f":"IF(X660 = 1, 0, IF(COUNTA(Tabela1[#This Row]) > 0, 1, 0))","v":0}]
[null,null,null,null,null,null,null,null,null,null,null,null,null,null,null,null,null,null,null,null,null,null,null,{"$f":"IF(COUNTA(Tabela1[#This Row]) > 0, IF(Tabela1[[#This Row],[TIPO CARTÃO]]  = \"0-SEM CARTÃO\",IF(COUNTA(Tabela1[#This Row]) = 22, 0, 1),IF(COUNTA(Tabela1[#This Row]) = 18, 0, 1)), 0)","v":0},{"$f":"IF(X661 = 1, 0, IF(COUNTA(Tabela1[#This Row]) > 0, 1, 0))","v":0}]
[null,null,null,null,null,null,null,null,null,null,null,null,null,null,null,null,null,null,null,null,null,null,null,{"$f":"IF(COUNTA(Tabela1[#This Row]) > 0, IF(Tabela1[[#This Row],[TIPO CARTÃO]]  = \"0-SEM CARTÃO\",IF(COUNTA(Tabela1[#This Row]) = 22, 0, 1),IF(COUNTA(Tabela1[#This Row]) = 18, 0, 1)), 0)","v":0},{"$f":"IF(X662 = 1, 0, IF(COUNTA(Tabela1[#This Row]) > 0, 1, 0))","v":0}]
[null,null,null,null,null,null,null,null,null,null,null,null,null,null,null,null,null,null,null,null,null,null,null,{"$f":"IF(COUNTA(Tabela1[#This Row]) > 0, IF(Tabela1[[#This Row],[TIPO CARTÃO]]  = \"0-SEM CARTÃO\",IF(COUNTA(Tabela1[#This Row]) = 22, 0, 1),IF(COUNTA(Tabela1[#This Row]) = 18, 0, 1)), 0)","v":0},{"$f":"IF(X663 = 1, 0, IF(COUNTA(Tabela1[#This Row]) > 0, 1, 0))","v":0}]
[null,null,null,null,null,null,null,null,null,null,null,null,null,null,null,null,null,null,null,null,null,null,null,{"$f":"IF(COUNTA(Tabela1[#This Row]) > 0, IF(Tabela1[[#This Row],[TIPO CARTÃO]]  = \"0-SEM CARTÃO\",IF(COUNTA(Tabela1[#This Row]) = 22, 0, 1),IF(COUNTA(Tabela1[#This Row]) = 18, 0, 1)), 0)","v":0},{"$f":"IF(X664 = 1, 0, IF(COUNTA(Tabela1[#This Row]) > 0, 1, 0))","v":0}]
[null,null,null,null,null,null,null,null,null,null,null,null,null,null,null,null,null,null,null,null,null,null,null,{"$f":"IF(COUNTA(Tabela1[#This Row]) > 0, IF(Tabela1[[#This Row],[TIPO CARTÃO]]  = \"0-SEM CARTÃO\",IF(COUNTA(Tabela1[#This Row]) = 22, 0, 1),IF(COUNTA(Tabela1[#This Row]) = 18, 0, 1)), 0)","v":0},{"$f":"IF(X665 = 1, 0, IF(COUNTA(Tabela1[#This Row]) > 0, 1, 0))","v":0}]
[null,null,null,null,null,null,null,null,null,null,null,null,null,null,null,null,null,null,null,null,null,null,null,{"$f":"IF(COUNTA(Tabela1[#This Row]) > 0, IF(Tabela1[[#This Row],[TIPO CARTÃO]]  = \"0-SEM CARTÃO\",IF(COUNTA(Tabela1[#This Row]) = 22, 0, 1),IF(COUNTA(Tabela1[#This Row]) = 18, 0, 1)), 0)","v":0},{"$f":"IF(X666 = 1, 0, IF(COUNTA(Tabela1[#This Row]) > 0, 1, 0))","v":0}]
[null,null,null,null,null,null,null,null,null,null,null,null,null,null,null,null,null,null,null,null,null,null,null,{"$f":"IF(COUNTA(Tabela1[#This Row]) > 0, IF(Tabela1[[#This Row],[TIPO CARTÃO]]  = \"0-SEM CARTÃO\",IF(COUNTA(Tabela1[#This Row]) = 22, 0, 1),IF(COUNTA(Tabela1[#This Row]) = 18, 0, 1)), 0)","v":0},{"$f":"IF(X667 = 1, 0, IF(COUNTA(Tabela1[#This Row]) > 0, 1, 0))","v":0}]
[null,null,null,null,null,null,null,null,null,null,null,null,null,null,null,null,null,null,null,null,null,null,null,{"$f":"IF(COUNTA(Tabela1[#This Row]) > 0, IF(Tabela1[[#This Row],[TIPO CARTÃO]]  = \"0-SEM CARTÃO\",IF(COUNTA(Tabela1[#This Row]) = 22, 0, 1),IF(COUNTA(Tabela1[#This Row]) = 18, 0, 1)), 0)","v":0},{"$f":"IF(X668 = 1, 0, IF(COUNTA(Tabela1[#This Row]) > 0, 1, 0))","v":0}]
[null,null,null,null,null,null,null,null,null,null,null,null,null,null,null,null,null,null,null,null,null,null,null,{"$f":"IF(COUNTA(Tabela1[#This Row]) > 0, IF(Tabela1[[#This Row],[TIPO CARTÃO]]  = \"0-SEM CARTÃO\",IF(COUNTA(Tabela1[#This Row]) = 22, 0, 1),IF(COUNTA(Tabela1[#This Row]) = 18, 0, 1)), 0)","v":0},{"$f":"IF(X669 = 1, 0, IF(COUNTA(Tabela1[#This Row]) > 0, 1, 0))","v":0}]
[null,null,null,null,null,null,null,null,null,null,null,null,null,null,null,null,null,null,null,null,null,null,null,{"$f":"IF(COUNTA(Tabela1[#This Row]) > 0, IF(Tabela1[[#This Row],[TIPO CARTÃO]]  = \"0-SEM CARTÃO\",IF(COUNTA(Tabela1[#This Row]) = 22, 0, 1),IF(COUNTA(Tabela1[#This Row]) = 18, 0, 1)), 0)","v":0},{"$f":"IF(X670 = 1, 0, IF(COUNTA(Tabela1[#This Row]) > 0, 1, 0))","v":0}]
[null,null,null,null,null,null,null,null,null,null,null,null,null,null,null,null,null,null,null,null,null,null,null,{"$f":"IF(COUNTA(Tabela1[#This Row]) > 0, IF(Tabela1[[#This Row],[TIPO CARTÃO]]  = \"0-SEM CARTÃO\",IF(COUNTA(Tabela1[#This Row]) = 22, 0, 1),IF(COUNTA(Tabela1[#This Row]) = 18, 0, 1)), 0)","v":0},{"$f":"IF(X671 = 1, 0, IF(COUNTA(Tabela1[#This Row]) > 0, 1, 0))","v":0}]
[null,null,null,null,null,null,null,null,null,null,null,null,null,null,null,null,null,null,null,null,null,null,null,{"$f":"IF(COUNTA(Tabela1[#This Row]) > 0, IF(Tabela1[[#This Row],[TIPO CARTÃO]]  = \"0-SEM CARTÃO\",IF(COUNTA(Tabela1[#This Row]) = 22, 0, 1),IF(COUNTA(Tabela1[#This Row]) = 18, 0, 1)), 0)","v":0},{"$f":"IF(X672 = 1, 0, IF(COUNTA(Tabela1[#This Row]) > 0, 1, 0))","v":0}]
[null,null,null,null,null,null,null,null,null,null,null,null,null,null,null,null,null,null,null,null,null,null,null,{"$f":"IF(COUNTA(Tabela1[#This Row]) > 0, IF(Tabela1[[#This Row],[TIPO CARTÃO]]  = \"0-SEM CARTÃO\",IF(COUNTA(Tabela1[#This Row]) = 22, 0, 1),IF(COUNTA(Tabela1[#This Row]) = 18, 0, 1)), 0)","v":0},{"$f":"IF(X673 = 1, 0, IF(COUNTA(Tabela1[#This Row]) > 0, 1, 0))","v":0}]
[null,null,null,null,null,null,null,null,null,null,null,null,null,null,null,null,null,null,null,null,null,null,null,{"$f":"IF(COUNTA(Tabela1[#This Row]) > 0, IF(Tabela1[[#This Row],[TIPO CARTÃO]]  = \"0-SEM CARTÃO\",IF(COUNTA(Tabela1[#This Row]) = 22, 0, 1),IF(COUNTA(Tabela1[#This Row]) = 18, 0, 1)), 0)","v":0},{"$f":"IF(X674 = 1, 0, IF(COUNTA(Tabela1[#This Row]) > 0, 1, 0))","v":0}]
[null,null,null,null,null,null,null,null,null,null,null,null,null,null,null,null,null,null,null,null,null,null,null,{"$f":"IF(COUNTA(Tabela1[#This Row]) > 0, IF(Tabela1[[#This Row],[TIPO CARTÃO]]  = \"0-SEM CARTÃO\",IF(COUNTA(Tabela1[#This Row]) = 22, 0, 1),IF(COUNTA(Tabela1[#This Row]) = 18, 0, 1)), 0)","v":0},{"$f":"IF(X675 = 1, 0, IF(COUNTA(Tabela1[#This Row]) > 0, 1, 0))","v":0}]
[null,null,null,null,null,null,null,null,null,null,null,null,null,null,null,null,null,null,null,null,null,null,null,{"$f":"IF(COUNTA(Tabela1[#This Row]) > 0, IF(Tabela1[[#This Row],[TIPO CARTÃO]]  = \"0-SEM CARTÃO\",IF(COUNTA(Tabela1[#This Row]) = 22, 0, 1),IF(COUNTA(Tabela1[#This Row]) = 18, 0, 1)), 0)","v":0},{"$f":"IF(X676 = 1, 0, IF(COUNTA(Tabela1[#This Row]) > 0, 1, 0))","v":0}]
[null,null,null,null,null,null,null,null,null,null,null,null,null,null,null,null,null,null,null,null,null,null,null,{"$f":"IF(COUNTA(Tabela1[#This Row]) > 0, IF(Tabela1[[#This Row],[TIPO CARTÃO]]  = \"0-SEM CARTÃO\",IF(COUNTA(Tabela1[#This Row]) = 22, 0, 1),IF(COUNTA(Tabela1[#This Row]) = 18, 0, 1)), 0)","v":0},{"$f":"IF(X677 = 1, 0, IF(COUNTA(Tabela1[#This Row]) > 0, 1, 0))","v":0}]
[null,null,null,null,null,null,null,null,null,null,null,null,null,null,null,null,null,null,null,null,null,null,null,{"$f":"IF(COUNTA(Tabela1[#This Row]) > 0, IF(Tabela1[[#This Row],[TIPO CARTÃO]]  = \"0-SEM CARTÃO\",IF(COUNTA(Tabela1[#This Row]) = 22, 0, 1),IF(COUNTA(Tabela1[#This Row]) = 18, 0, 1)), 0)","v":0},{"$f":"IF(X678 = 1, 0, IF(COUNTA(Tabela1[#This Row]) > 0, 1, 0))","v":0}]
[null,null,null,null,null,null,null,null,null,null,null,null,null,null,null,null,null,null,null,null,null,null,null,{"$f":"IF(COUNTA(Tabela1[#This Row]) > 0, IF(Tabela1[[#This Row],[TIPO CARTÃO]]  = \"0-SEM CARTÃO\",IF(COUNTA(Tabela1[#This Row]) = 22, 0, 1),IF(COUNTA(Tabela1[#This Row]) = 18, 0, 1)), 0)","v":0},{"$f":"IF(X679 = 1, 0, IF(COUNTA(Tabela1[#This Row]) > 0, 1, 0))","v":0}]
[null,null,null,null,null,null,null,null,null,null,null,null,null,null,null,null,null,null,null,null,null,null,null,{"$f":"IF(COUNTA(Tabela1[#This Row]) > 0, IF(Tabela1[[#This Row],[TIPO CARTÃO]]  = \"0-SEM CARTÃO\",IF(COUNTA(Tabela1[#This Row]) = 22, 0, 1),IF(COUNTA(Tabela1[#This Row]) = 18, 0, 1)), 0)","v":0},{"$f":"IF(X680 = 1, 0, IF(COUNTA(Tabela1[#This Row]) > 0, 1, 0))","v":0}]
[null,null,null,null,null,null,null,null,null,null,null,null,null,null,null,null,null,null,null,null,null,null,null,{"$f":"IF(COUNTA(Tabela1[#This Row]) > 0, IF(Tabela1[[#This Row],[TIPO CARTÃO]]  = \"0-SEM CARTÃO\",IF(COUNTA(Tabela1[#This Row]) = 22, 0, 1),IF(COUNTA(Tabela1[#This Row]) = 18, 0, 1)), 0)","v":0},{"$f":"IF(X681 = 1, 0, IF(COUNTA(Tabela1[#This Row]) > 0, 1, 0))","v":0}]
[null,null,null,null,null,null,null,null,null,null,null,null,null,null,null,null,null,null,null,null,null,null,null,{"$f":"IF(COUNTA(Tabela1[#This Row]) > 0, IF(Tabela1[[#This Row],[TIPO CARTÃO]]  = \"0-SEM CARTÃO\",IF(COUNTA(Tabela1[#This Row]) = 22, 0, 1),IF(COUNTA(Tabela1[#This Row]) = 18, 0, 1)), 0)","v":0},{"$f":"IF(X682 = 1, 0, IF(COUNTA(Tabela1[#This Row]) > 0, 1, 0))","v":0}]
[null,null,null,null,null,null,null,null,null,null,null,null,null,null,null,null,null,null,null,null,null,null,null,{"$f":"IF(COUNTA(Tabela1[#This Row]) > 0, IF(Tabela1[[#This Row],[TIPO CARTÃO]]  = \"0-SEM CARTÃO\",IF(COUNTA(Tabela1[#This Row]) = 22, 0, 1),IF(COUNTA(Tabela1[#This Row]) = 18, 0, 1)), 0)","v":0},{"$f":"IF(X683 = 1, 0, IF(COUNTA(Tabela1[#This Row]) > 0, 1, 0))","v":0}]
[null,null,null,null,null,null,null,null,null,null,null,null,null,null,null,null,null,null,null,null,null,null,null,{"$f":"IF(COUNTA(Tabela1[#This Row]) > 0, IF(Tabela1[[#This Row],[TIPO CARTÃO]]  = \"0-SEM CARTÃO\",IF(COUNTA(Tabela1[#This Row]) = 22, 0, 1),IF(COUNTA(Tabela1[#This Row]) = 18, 0, 1)), 0)","v":0},{"$f":"IF(X684 = 1, 0, IF(COUNTA(Tabela1[#This Row]) > 0, 1, 0))","v":0}]
[null,null,null,null,null,null,null,null,null,null,null,null,null,null,null,null,null,null,null,null,null,null,null,{"$f":"IF(COUNTA(Tabela1[#This Row]) > 0, IF(Tabela1[[#This Row],[TIPO CARTÃO]]  = \"0-SEM CARTÃO\",IF(COUNTA(Tabela1[#This Row]) = 22, 0, 1),IF(COUNTA(Tabela1[#This Row]) = 18, 0, 1)), 0)","v":0},{"$f":"IF(X685 = 1, 0, IF(COUNTA(Tabela1[#This Row]) > 0, 1, 0))","v":0}]
[null,null,null,null,null,null,null,null,null,null,null,null,null,null,null,null,null,null,null,null,null,null,null,{"$f":"IF(COUNTA(Tabela1[#This Row]) > 0, IF(Tabela1[[#This Row],[TIPO CARTÃO]]  = \"0-SEM CARTÃO\",IF(COUNTA(Tabela1[#This Row]) = 22, 0, 1),IF(COUNTA(Tabela1[#This Row]) = 18, 0, 1)), 0)","v":0},{"$f":"IF(X686 = 1, 0, IF(COUNTA(Tabela1[#This Row]) > 0, 1, 0))","v":0}]
[null,null,null,null,null,null,null,null,null,null,null,null,null,null,null,null,null,null,null,null,null,null,null,{"$f":"IF(COUNTA(Tabela1[#This Row]) > 0, IF(Tabela1[[#This Row],[TIPO CARTÃO]]  = \"0-SEM CARTÃO\",IF(COUNTA(Tabela1[#This Row]) = 22, 0, 1),IF(COUNTA(Tabela1[#This Row]) = 18, 0, 1)), 0)","v":0},{"$f":"IF(X687 = 1, 0, IF(COUNTA(Tabela1[#This Row]) > 0, 1, 0))","v":0}]
[null,null,null,null,null,null,null,null,null,null,null,null,null,null,null,null,null,null,null,null,null,null,null,{"$f":"IF(COUNTA(Tabela1[#This Row]) > 0, IF(Tabela1[[#This Row],[TIPO CARTÃO]]  = \"0-SEM CARTÃO\",IF(COUNTA(Tabela1[#This Row]) = 22, 0, 1),IF(COUNTA(Tabela1[#This Row]) = 18, 0, 1)), 0)","v":0},{"$f":"IF(X688 = 1, 0, IF(COUNTA(Tabela1[#This Row]) > 0, 1, 0))","v":0}]
[null,null,null,null,null,null,null,null,null,null,null,null,null,null,null,null,null,null,null,null,null,null,null,{"$f":"IF(COUNTA(Tabela1[#This Row]) > 0, IF(Tabela1[[#This Row],[TIPO CARTÃO]]  = \"0-SEM CARTÃO\",IF(COUNTA(Tabela1[#This Row]) = 22, 0, 1),IF(COUNTA(Tabela1[#This Row]) = 18, 0, 1)), 0)","v":0},{"$f":"IF(X689 = 1, 0, IF(COUNTA(Tabela1[#This Row]) > 0, 1, 0))","v":0}]
[null,null,null,null,null,null,null,null,null,null,null,null,null,null,null,null,null,null,null,null,null,null,null,{"$f":"IF(COUNTA(Tabela1[#This Row]) > 0, IF(Tabela1[[#This Row],[TIPO CARTÃO]]  = \"0-SEM CARTÃO\",IF(COUNTA(Tabela1[#This Row]) = 22, 0, 1),IF(COUNTA(Tabela1[#This Row]) = 18, 0, 1)), 0)","v":0},{"$f":"IF(X690 = 1, 0, IF(COUNTA(Tabela1[#This Row]) > 0, 1, 0))","v":0}]
[null,null,null,null,null,null,null,null,null,null,null,null,null,null,null,null,null,null,null,null,null,null,null,{"$f":"IF(COUNTA(Tabela1[#This Row]) > 0, IF(Tabela1[[#This Row],[TIPO CARTÃO]]  = \"0-SEM CARTÃO\",IF(COUNTA(Tabela1[#This Row]) = 22, 0, 1),IF(COUNTA(Tabela1[#This Row]) = 18, 0, 1)), 0)","v":0},{"$f":"IF(X691 = 1, 0, IF(COUNTA(Tabela1[#This Row]) > 0, 1, 0))","v":0}]
[null,null,null,null,null,null,null,null,null,null,null,null,null,null,null,null,null,null,null,null,null,null,null,{"$f":"IF(COUNTA(Tabela1[#This Row]) > 0, IF(Tabela1[[#This Row],[TIPO CARTÃO]]  = \"0-SEM CARTÃO\",IF(COUNTA(Tabela1[#This Row]) = 22, 0, 1),IF(COUNTA(Tabela1[#This Row]) = 18, 0, 1)), 0)","v":0},{"$f":"IF(X692 = 1, 0, IF(COUNTA(Tabela1[#This Row]) > 0, 1, 0))","v":0}]
[null,null,null,null,null,null,null,null,null,null,null,null,null,null,null,null,null,null,null,null,null,null,null,{"$f":"IF(COUNTA(Tabela1[#This Row]) > 0, IF(Tabela1[[#This Row],[TIPO CARTÃO]]  = \"0-SEM CARTÃO\",IF(COUNTA(Tabela1[#This Row]) = 22, 0, 1),IF(COUNTA(Tabela1[#This Row]) = 18, 0, 1)), 0)","v":0},{"$f":"IF(X693 = 1, 0, IF(COUNTA(Tabela1[#This Row]) > 0, 1, 0))","v":0}]
[null,null,null,null,null,null,null,null,null,null,null,null,null,null,null,null,null,null,null,null,null,null,null,{"$f":"IF(COUNTA(Tabela1[#This Row]) > 0, IF(Tabela1[[#This Row],[TIPO CARTÃO]]  = \"0-SEM CARTÃO\",IF(COUNTA(Tabela1[#This Row]) = 22, 0, 1),IF(COUNTA(Tabela1[#This Row]) = 18, 0, 1)), 0)","v":0},{"$f":"IF(X694 = 1, 0, IF(COUNTA(Tabela1[#This Row]) > 0, 1, 0))","v":0}]
[null,null,null,null,null,null,null,null,null,null,null,null,null,null,null,null,null,null,null,null,null,null,null,{"$f":"IF(COUNTA(Tabela1[#This Row]) > 0, IF(Tabela1[[#This Row],[TIPO CARTÃO]]  = \"0-SEM CARTÃO\",IF(COUNTA(Tabela1[#This Row]) = 22, 0, 1),IF(COUNTA(Tabela1[#This Row]) = 18, 0, 1)), 0)","v":0},{"$f":"IF(X695 = 1, 0, IF(COUNTA(Tabela1[#This Row]) > 0, 1, 0))","v":0}]
[null,null,null,null,null,null,null,null,null,null,null,null,null,null,null,null,null,null,null,null,null,null,null,{"$f":"IF(COUNTA(Tabela1[#This Row]) > 0, IF(Tabela1[[#This Row],[TIPO CARTÃO]]  = \"0-SEM CARTÃO\",IF(COUNTA(Tabela1[#This Row]) = 22, 0, 1),IF(COUNTA(Tabela1[#This Row]) = 18, 0, 1)), 0)","v":0},{"$f":"IF(X696 = 1, 0, IF(COUNTA(Tabela1[#This Row]) > 0, 1, 0))","v":0}]
[null,null,null,null,null,null,null,null,null,null,null,null,null,null,null,null,null,null,null,null,null,null,null,{"$f":"IF(COUNTA(Tabela1[#This Row]) > 0, IF(Tabela1[[#This Row],[TIPO CARTÃO]]  = \"0-SEM CARTÃO\",IF(COUNTA(Tabela1[#This Row]) = 22, 0, 1),IF(COUNTA(Tabela1[#This Row]) = 18, 0, 1)), 0)","v":0},{"$f":"IF(X697 = 1, 0, IF(COUNTA(Tabela1[#This Row]) > 0, 1, 0))","v":0}]
[null,null,null,null,null,null,null,null,null,null,null,null,null,null,null,null,null,null,null,null,null,null,null,{"$f":"IF(COUNTA(Tabela1[#This Row]) > 0, IF(Tabela1[[#This Row],[TIPO CARTÃO]]  = \"0-SEM CARTÃO\",IF(COUNTA(Tabela1[#This Row]) = 22, 0, 1),IF(COUNTA(Tabela1[#This Row]) = 18, 0, 1)), 0)","v":0},{"$f":"IF(X698 = 1, 0, IF(COUNTA(Tabela1[#This Row]) > 0, 1, 0))","v":0}]
[null,null,null,null,null,null,null,null,null,null,null,null,null,null,null,null,null,null,null,null,null,null,null,{"$f":"IF(COUNTA(Tabela1[#This Row]) > 0, IF(Tabela1[[#This Row],[TIPO CARTÃO]]  = \"0-SEM CARTÃO\",IF(COUNTA(Tabela1[#This Row]) = 22, 0, 1),IF(COUNTA(Tabela1[#This Row]) = 18, 0, 1)), 0)","v":0},{"$f":"IF(X699 = 1, 0, IF(COUNTA(Tabela1[#This Row]) > 0, 1, 0))","v":0}]
[null,null,null,null,null,null,null,null,null,null,null,null,null,null,null,null,null,null,null,null,null,null,null,{"$f":"IF(COUNTA(Tabela1[#This Row]) > 0, IF(Tabela1[[#This Row],[TIPO CARTÃO]]  = \"0-SEM CARTÃO\",IF(COUNTA(Tabela1[#This Row]) = 22, 0, 1),IF(COUNTA(Tabela1[#This Row]) = 18, 0, 1)), 0)","v":0},{"$f":"IF(X700 = 1, 0, IF(COUNTA(Tabela1[#This Row]) > 0, 1, 0))","v":0}]
[null,null,null,null,null,null,null,null,null,null,null,null,null,null,null,null,null,null,null,null,null,null,null,{"$f":"IF(COUNTA(Tabela1[#This Row]) > 0, IF(Tabela1[[#This Row],[TIPO CARTÃO]]  = \"0-SEM CARTÃO\",IF(COUNTA(Tabela1[#This Row]) = 22, 0, 1),IF(COUNTA(Tabela1[#This Row]) = 18, 0, 1)), 0)","v":0},{"$f":"IF(X701 = 1, 0, IF(COUNTA(Tabela1[#This Row]) > 0, 1, 0))","v":0}]
[null,null,null,null,null,null,null,null,null,null,null,null,null,null,null,null,null,null,null,null,null,null,null,{"$f":"IF(COUNTA(Tabela1[#This Row]) > 0, IF(Tabela1[[#This Row],[TIPO CARTÃO]]  = \"0-SEM CARTÃO\",IF(COUNTA(Tabela1[#This Row]) = 22, 0, 1),IF(COUNTA(Tabela1[#This Row]) = 18, 0, 1)), 0)","v":0},{"$f":"IF(X702 = 1, 0, IF(COUNTA(Tabela1[#This Row]) > 0, 1, 0))","v":0}]
[null,null,null,null,null,null,null,null,null,null,null,null,null,null,null,null,null,null,null,null,null,null,null,{"$f":"IF(COUNTA(Tabela1[#This Row]) > 0, IF(Tabela1[[#This Row],[TIPO CARTÃO]]  = \"0-SEM CARTÃO\",IF(COUNTA(Tabela1[#This Row]) = 22, 0, 1),IF(COUNTA(Tabela1[#This Row]) = 18, 0, 1)), 0)","v":0},{"$f":"IF(X703 = 1, 0, IF(COUNTA(Tabela1[#This Row]) > 0, 1, 0))","v":0}]
[null,null,null,null,null,null,null,null,null,null,null,null,null,null,null,null,null,null,null,null,null,null,null,{"$f":"IF(COUNTA(Tabela1[#This Row]) > 0, IF(Tabela1[[#This Row],[TIPO CARTÃO]]  = \"0-SEM CARTÃO\",IF(COUNTA(Tabela1[#This Row]) = 22, 0, 1),IF(COUNTA(Tabela1[#This Row]) = 18, 0, 1)), 0)","v":0},{"$f":"IF(X704 = 1, 0, IF(COUNTA(Tabela1[#This Row]) > 0, 1, 0))","v":0}]
[null,null,null,null,null,null,null,null,null,null,null,null,null,null,null,null,null,null,null,null,null,null,null,{"$f":"IF(COUNTA(Tabela1[#This Row]) > 0, IF(Tabela1[[#This Row],[TIPO CARTÃO]]  = \"0-SEM CARTÃO\",IF(COUNTA(Tabela1[#This Row]) = 22, 0, 1),IF(COUNTA(Tabela1[#This Row]) = 18, 0, 1)), 0)","v":0},{"$f":"IF(X705 = 1, 0, IF(COUNTA(Tabela1[#This Row]) > 0, 1, 0))","v":0}]
[null,null,null,null,null,null,null,null,null,null,null,null,null,null,null,null,null,null,null,null,null,null,null,{"$f":"IF(COUNTA(Tabela1[#This Row]) > 0, IF(Tabela1[[#This Row],[TIPO CARTÃO]]  = \"0-SEM CARTÃO\",IF(COUNTA(Tabela1[#This Row]) = 22, 0, 1),IF(COUNTA(Tabela1[#This Row]) = 18, 0, 1)), 0)","v":0},{"$f":"IF(X706 = 1, 0, IF(COUNTA(Tabela1[#This Row]) > 0, 1, 0))","v":0}]
[null,null,null,null,null,null,null,null,null,null,null,null,null,null,null,null,null,null,null,null,null,null,null,{"$f":"IF(COUNTA(Tabela1[#This Row]) > 0, IF(Tabela1[[#This Row],[TIPO CARTÃO]]  = \"0-SEM CARTÃO\",IF(COUNTA(Tabela1[#This Row]) = 22, 0, 1),IF(COUNTA(Tabela1[#This Row]) = 18, 0, 1)), 0)","v":0},{"$f":"IF(X707 = 1, 0, IF(COUNTA(Tabela1[#This Row]) > 0, 1, 0))","v":0}]
[null,null,null,null,null,null,null,null,null,null,null,null,null,null,null,null,null,null,null,null,null,null,null,{"$f":"IF(COUNTA(Tabela1[#This Row]) > 0, IF(Tabela1[[#This Row],[TIPO CARTÃO]]  = \"0-SEM CARTÃO\",IF(COUNTA(Tabela1[#This Row]) = 22, 0, 1),IF(COUNTA(Tabela1[#This Row]) = 18, 0, 1)), 0)","v":0},{"$f":"IF(X708 = 1, 0, IF(COUNTA(Tabela1[#This Row]) > 0, 1, 0))","v":0}]
[null,null,null,null,null,null,null,null,null,null,null,null,null,null,null,null,null,null,null,null,null,null,null,{"$f":"IF(COUNTA(Tabela1[#This Row]) > 0, IF(Tabela1[[#This Row],[TIPO CARTÃO]]  = \"0-SEM CARTÃO\",IF(COUNTA(Tabela1[#This Row]) = 22, 0, 1),IF(COUNTA(Tabela1[#This Row]) = 18, 0, 1)), 0)","v":0},{"$f":"IF(X709 = 1, 0, IF(COUNTA(Tabela1[#This Row]) > 0, 1, 0))","v":0}]
[null,null,null,null,null,null,null,null,null,null,null,null,null,null,null,null,null,null,null,null,null,null,null,{"$f":"IF(COUNTA(Tabela1[#This Row]) > 0, IF(Tabela1[[#This Row],[TIPO CARTÃO]]  = \"0-SEM CARTÃO\",IF(COUNTA(Tabela1[#This Row]) = 22, 0, 1),IF(COUNTA(Tabela1[#This Row]) = 18, 0, 1)), 0)","v":0},{"$f":"IF(X710 = 1, 0, IF(COUNTA(Tabela1[#This Row]) > 0, 1, 0))","v":0}]
[null,null,null,null,null,null,null,null,null,null,null,null,null,null,null,null,null,null,null,null,null,null,null,{"$f":"IF(COUNTA(Tabela1[#This Row]) > 0, IF(Tabela1[[#This Row],[TIPO CARTÃO]]  = \"0-SEM CARTÃO\",IF(COUNTA(Tabela1[#This Row]) = 22, 0, 1),IF(COUNTA(Tabela1[#This Row]) = 18, 0, 1)), 0)","v":0},{"$f":"IF(X711 = 1, 0, IF(COUNTA(Tabela1[#This Row]) > 0, 1, 0))","v":0}]
[null,null,null,null,null,null,null,null,null,null,null,null,null,null,null,null,null,null,null,null,null,null,null,{"$f":"IF(COUNTA(Tabela1[#This Row]) > 0, IF(Tabela1[[#This Row],[TIPO CARTÃO]]  = \"0-SEM CARTÃO\",IF(COUNTA(Tabela1[#This Row]) = 22, 0, 1),IF(COUNTA(Tabela1[#This Row]) = 18, 0, 1)), 0)","v":0},{"$f":"IF(X712 = 1, 0, IF(COUNTA(Tabela1[#This Row]) > 0, 1, 0))","v":0}]
[null,null,null,null,null,null,null,null,null,null,null,null,null,null,null,null,null,null,null,null,null,null,null,{"$f":"IF(COUNTA(Tabela1[#This Row]) > 0, IF(Tabela1[[#This Row],[TIPO CARTÃO]]  = \"0-SEM CARTÃO\",IF(COUNTA(Tabela1[#This Row]) = 22, 0, 1),IF(COUNTA(Tabela1[#This Row]) = 18, 0, 1)), 0)","v":0},{"$f":"IF(X713 = 1, 0, IF(COUNTA(Tabela1[#This Row]) > 0, 1, 0))","v":0}]
[null,null,null,null,null,null,null,null,null,null,null,null,null,null,null,null,null,null,null,null,null,null,null,{"$f":"IF(COUNTA(Tabela1[#This Row]) > 0, IF(Tabela1[[#This Row],[TIPO CARTÃO]]  = \"0-SEM CARTÃO\",IF(COUNTA(Tabela1[#This Row]) = 22, 0, 1),IF(COUNTA(Tabela1[#This Row]) = 18, 0, 1)), 0)","v":0},{"$f":"IF(X714 = 1, 0, IF(COUNTA(Tabela1[#This Row]) > 0, 1, 0))","v":0}]
[null,null,null,null,null,null,null,null,null,null,null,null,null,null,null,null,null,null,null,null,null,null,null,{"$f":"IF(COUNTA(Tabela1[#This Row]) > 0, IF(Tabela1[[#This Row],[TIPO CARTÃO]]  = \"0-SEM CARTÃO\",IF(COUNTA(Tabela1[#This Row]) = 22, 0, 1),IF(COUNTA(Tabela1[#This Row]) = 18, 0, 1)), 0)","v":0},{"$f":"IF(X715 = 1, 0, IF(COUNTA(Tabela1[#This Row]) > 0, 1, 0))","v":0}]
[null,null,null,null,null,null,null,null,null,null,null,null,null,null,null,null,null,null,null,null,null,null,null,{"$f":"IF(COUNTA(Tabela1[#This Row]) > 0, IF(Tabela1[[#This Row],[TIPO CARTÃO]]  = \"0-SEM CARTÃO\",IF(COUNTA(Tabela1[#This Row]) = 22, 0, 1),IF(COUNTA(Tabela1[#This Row]) = 18, 0, 1)), 0)","v":0},{"$f":"IF(X716 = 1, 0, IF(COUNTA(Tabela1[#This Row]) > 0, 1, 0))","v":0}]
[null,null,null,null,null,null,null,null,null,null,null,null,null,null,null,null,null,null,null,null,null,null,null,{"$f":"IF(COUNTA(Tabela1[#This Row]) > 0, IF(Tabela1[[#This Row],[TIPO CARTÃO]]  = \"0-SEM CARTÃO\",IF(COUNTA(Tabela1[#This Row]) = 22, 0, 1),IF(COUNTA(Tabela1[#This Row]) = 18, 0, 1)), 0)","v":0},{"$f":"IF(X717 = 1, 0, IF(COUNTA(Tabela1[#This Row]) > 0, 1, 0))","v":0}]
[null,null,null,null,null,null,null,null,null,null,null,null,null,null,null,null,null,null,null,null,null,null,null,{"$f":"IF(COUNTA(Tabela1[#This Row]) > 0, IF(Tabela1[[#This Row],[TIPO CARTÃO]]  = \"0-SEM CARTÃO\",IF(COUNTA(Tabela1[#This Row]) = 22, 0, 1),IF(COUNTA(Tabela1[#This Row]) = 18, 0, 1)), 0)","v":0},{"$f":"IF(X718 = 1, 0, IF(COUNTA(Tabela1[#This Row]) > 0, 1, 0))","v":0}]
[null,null,null,null,null,null,null,null,null,null,null,null,null,null,null,null,null,null,null,null,null,null,null,{"$f":"IF(COUNTA(Tabela1[#This Row]) > 0, IF(Tabela1[[#This Row],[TIPO CARTÃO]]  = \"0-SEM CARTÃO\",IF(COUNTA(Tabela1[#This Row]) = 22, 0, 1),IF(COUNTA(Tabela1[#This Row]) = 18, 0, 1)), 0)","v":0},{"$f":"IF(X719 = 1, 0, IF(COUNTA(Tabela1[#This Row]) > 0, 1, 0))","v":0}]
[null,null,null,null,null,null,null,null,null,null,null,null,null,null,null,null,null,null,null,null,null,null,null,{"$f":"IF(COUNTA(Tabela1[#This Row]) > 0, IF(Tabela1[[#This Row],[TIPO CARTÃO]]  = \"0-SEM CARTÃO\",IF(COUNTA(Tabela1[#This Row]) = 22, 0, 1),IF(COUNTA(Tabela1[#This Row]) = 18, 0, 1)), 0)","v":0},{"$f":"IF(X720 = 1, 0, IF(COUNTA(Tabela1[#This Row]) > 0, 1, 0))","v":0}]
[null,null,null,null,null,null,null,null,null,null,null,null,null,null,null,null,null,null,null,null,null,null,null,{"$f":"IF(COUNTA(Tabela1[#This Row]) > 0, IF(Tabela1[[#This Row],[TIPO CARTÃO]]  = \"0-SEM CARTÃO\",IF(COUNTA(Tabela1[#This Row]) = 22, 0, 1),IF(COUNTA(Tabela1[#This Row]) = 18, 0, 1)), 0)","v":0},{"$f":"IF(X721 = 1, 0, IF(COUNTA(Tabela1[#This Row]) > 0, 1, 0))","v":0}]
[null,null,null,null,null,null,null,null,null,null,null,null,null,null,null,null,null,null,null,null,null,null,null,{"$f":"IF(COUNTA(Tabela1[#This Row]) > 0, IF(Tabela1[[#This Row],[TIPO CARTÃO]]  = \"0-SEM CARTÃO\",IF(COUNTA(Tabela1[#This Row]) = 22, 0, 1),IF(COUNTA(Tabela1[#This Row]) = 18, 0, 1)), 0)","v":0},{"$f":"IF(X722 = 1, 0, IF(COUNTA(Tabela1[#This Row]) > 0, 1, 0))","v":0}]
[null,null,null,null,null,null,null,null,null,null,null,null,null,null,null,null,null,null,null,null,null,null,null,{"$f":"IF(COUNTA(Tabela1[#This Row]) > 0, IF(Tabela1[[#This Row],[TIPO CARTÃO]]  = \"0-SEM CARTÃO\",IF(COUNTA(Tabela1[#This Row]) = 22, 0, 1),IF(COUNTA(Tabela1[#This Row]) = 18, 0, 1)), 0)","v":0},{"$f":"IF(X723 = 1, 0, IF(COUNTA(Tabela1[#This Row]) > 0, 1, 0))","v":0}]
[null,null,null,null,null,null,null,null,null,null,null,null,null,null,null,null,null,null,null,null,null,null,null,{"$f":"IF(COUNTA(Tabela1[#This Row]) > 0, IF(Tabela1[[#This Row],[TIPO CARTÃO]]  = \"0-SEM CARTÃO\",IF(COUNTA(Tabela1[#This Row]) = 22, 0, 1),IF(COUNTA(Tabela1[#This Row]) = 18, 0, 1)), 0)","v":0},{"$f":"IF(X724 = 1, 0, IF(COUNTA(Tabela1[#This Row]) > 0, 1, 0))","v":0}]
[null,null,null,null,null,null,null,null,null,null,null,null,null,null,null,null,null,null,null,null,null,null,null,{"$f":"IF(COUNTA(Tabela1[#This Row]) > 0, IF(Tabela1[[#This Row],[TIPO CARTÃO]]  = \"0-SEM CARTÃO\",IF(COUNTA(Tabela1[#This Row]) = 22, 0, 1),IF(COUNTA(Tabela1[#This Row]) = 18, 0, 1)), 0)","v":0},{"$f":"IF(X725 = 1, 0, IF(COUNTA(Tabela1[#This Row]) > 0, 1, 0))","v":0}]
[null,null,null,null,null,null,null,null,null,null,null,null,null,null,null,null,null,null,null,null,null,null,null,{"$f":"IF(COUNTA(Tabela1[#This Row]) > 0, IF(Tabela1[[#This Row],[TIPO CARTÃO]]  = \"0-SEM CARTÃO\",IF(COUNTA(Tabela1[#This Row]) = 22, 0, 1),IF(COUNTA(Tabela1[#This Row]) = 18, 0, 1)), 0)","v":0},{"$f":"IF(X726 = 1, 0, IF(COUNTA(Tabela1[#This Row]) > 0, 1, 0))","v":0}]
[null,null,null,null,null,null,null,null,null,null,null,null,null,null,null,null,null,null,null,null,null,null,null,{"$f":"IF(COUNTA(Tabela1[#This Row]) > 0, IF(Tabela1[[#This Row],[TIPO CARTÃO]]  = \"0-SEM CARTÃO\",IF(COUNTA(Tabela1[#This Row]) = 22, 0, 1),IF(COUNTA(Tabela1[#This Row]) = 18, 0, 1)), 0)","v":0},{"$f":"IF(X727 = 1, 0, IF(COUNTA(Tabela1[#This Row]) > 0, 1, 0))","v":0}]
[null,null,null,null,null,null,null,null,null,null,null,null,null,null,null,null,null,null,null,null,null,null,null,{"$f":"IF(COUNTA(Tabela1[#This Row]) > 0, IF(Tabela1[[#This Row],[TIPO CARTÃO]]  = \"0-SEM CARTÃO\",IF(COUNTA(Tabela1[#This Row]) = 22, 0, 1),IF(COUNTA(Tabela1[#This Row]) = 18, 0, 1)), 0)","v":0},{"$f":"IF(X728 = 1, 0, IF(COUNTA(Tabela1[#This Row]) > 0, 1, 0))","v":0}]
[null,null,null,null,null,null,null,null,null,null,null,null,null,null,null,null,null,null,null,null,null,null,null,{"$f":"IF(COUNTA(Tabela1[#This Row]) > 0, IF(Tabela1[[#This Row],[TIPO CARTÃO]]  = \"0-SEM CARTÃO\",IF(COUNTA(Tabela1[#This Row]) = 22, 0, 1),IF(COUNTA(Tabela1[#This Row]) = 18, 0, 1)), 0)","v":0},{"$f":"IF(X729 = 1, 0, IF(COUNTA(Tabela1[#This Row]) > 0, 1, 0))","v":0}]
[null,null,null,null,null,null,null,null,null,null,null,null,null,null,null,null,null,null,null,null,null,null,null,{"$f":"IF(COUNTA(Tabela1[#This Row]) > 0, IF(Tabela1[[#This Row],[TIPO CARTÃO]]  = \"0-SEM CARTÃO\",IF(COUNTA(Tabela1[#This Row]) = 22, 0, 1),IF(COUNTA(Tabela1[#This Row]) = 18, 0, 1)), 0)","v":0},{"$f":"IF(X730 = 1, 0, IF(COUNTA(Tabela1[#This Row]) > 0, 1, 0))","v":0}]
[null,null,null,null,null,null,null,null,null,null,null,null,null,null,null,null,null,null,null,null,null,null,null,{"$f":"IF(COUNTA(Tabela1[#This Row]) > 0, IF(Tabela1[[#This Row],[TIPO CARTÃO]]  = \"0-SEM CARTÃO\",IF(COUNTA(Tabela1[#This Row]) = 22, 0, 1),IF(COUNTA(Tabela1[#This Row]) = 18, 0, 1)), 0)","v":0},{"$f":"IF(X731 = 1, 0, IF(COUNTA(Tabela1[#This Row]) > 0, 1, 0))","v":0}]
[null,null,null,null,null,null,null,null,null,null,null,null,null,null,null,null,null,null,null,null,null,null,null,{"$f":"IF(COUNTA(Tabela1[#This Row]) > 0, IF(Tabela1[[#This Row],[TIPO CARTÃO]]  = \"0-SEM CARTÃO\",IF(COUNTA(Tabela1[#This Row]) = 22, 0, 1),IF(COUNTA(Tabela1[#This Row]) = 18, 0, 1)), 0)","v":0},{"$f":"IF(X732 = 1, 0, IF(COUNTA(Tabela1[#This Row]) > 0, 1, 0))","v":0}]
[null,null,null,null,null,null,null,null,null,null,null,null,null,null,null,null,null,null,null,null,null,null,null,{"$f":"IF(COUNTA(Tabela1[#This Row]) > 0, IF(Tabela1[[#This Row],[TIPO CARTÃO]]  = \"0-SEM CARTÃO\",IF(COUNTA(Tabela1[#This Row]) = 22, 0, 1),IF(COUNTA(Tabela1[#This Row]) = 18, 0, 1)), 0)","v":0},{"$f":"IF(X733 = 1, 0, IF(COUNTA(Tabela1[#This Row]) > 0, 1, 0))","v":0}]
[null,null,null,null,null,null,null,null,null,null,null,null,null,null,null,null,null,null,null,null,null,null,null,{"$f":"IF(COUNTA(Tabela1[#This Row]) > 0, IF(Tabela1[[#This Row],[TIPO CARTÃO]]  = \"0-SEM CARTÃO\",IF(COUNTA(Tabela1[#This Row]) = 22, 0, 1),IF(COUNTA(Tabela1[#This Row]) = 18, 0, 1)), 0)","v":0},{"$f":"IF(X734 = 1, 0, IF(COUNTA(Tabela1[#This Row]) > 0, 1, 0))","v":0}]
[null,null,null,null,null,null,null,null,null,null,null,null,null,null,null,null,null,null,null,null,null,null,null,{"$f":"IF(COUNTA(Tabela1[#This Row]) > 0, IF(Tabela1[[#This Row],[TIPO CARTÃO]]  = \"0-SEM CARTÃO\",IF(COUNTA(Tabela1[#This Row]) = 22, 0, 1),IF(COUNTA(Tabela1[#This Row]) = 18, 0, 1)), 0)","v":0},{"$f":"IF(X735 = 1, 0, IF(COUNTA(Tabela1[#This Row]) > 0, 1, 0))","v":0}]
[null,null,null,null,null,null,null,null,null,null,null,null,null,null,null,null,null,null,null,null,null,null,null,{"$f":"IF(COUNTA(Tabela1[#This Row]) > 0, IF(Tabela1[[#This Row],[TIPO CARTÃO]]  = \"0-SEM CARTÃO\",IF(COUNTA(Tabela1[#This Row]) = 22, 0, 1),IF(COUNTA(Tabela1[#This Row]) = 18, 0, 1)), 0)","v":0},{"$f":"IF(X736 = 1, 0, IF(COUNTA(Tabela1[#This Row]) > 0, 1, 0))","v":0}]
[null,null,null,null,null,null,null,null,null,null,null,null,null,null,null,null,null,null,null,null,null,null,null,{"$f":"IF(COUNTA(Tabela1[#This Row]) > 0, IF(Tabela1[[#This Row],[TIPO CARTÃO]]  = \"0-SEM CARTÃO\",IF(COUNTA(Tabela1[#This Row]) = 22, 0, 1),IF(COUNTA(Tabela1[#This Row]) = 18, 0, 1)), 0)","v":0},{"$f":"IF(X737 = 1, 0, IF(COUNTA(Tabela1[#This Row]) > 0, 1, 0))","v":0}]
[null,null,null,null,null,null,null,null,null,null,null,null,null,null,null,null,null,null,null,null,null,null,null,{"$f":"IF(COUNTA(Tabela1[#This Row]) > 0, IF(Tabela1[[#This Row],[TIPO CARTÃO]]  = \"0-SEM CARTÃO\",IF(COUNTA(Tabela1[#This Row]) = 22, 0, 1),IF(COUNTA(Tabela1[#This Row]) = 18, 0, 1)), 0)","v":0},{"$f":"IF(X738 = 1, 0, IF(COUNTA(Tabela1[#This Row]) > 0, 1, 0))","v":0}]
[null,null,null,null,null,null,null,null,null,null,null,null,null,null,null,null,null,null,null,null,null,null,null,{"$f":"IF(COUNTA(Tabela1[#This Row]) > 0, IF(Tabela1[[#This Row],[TIPO CARTÃO]]  = \"0-SEM CARTÃO\",IF(COUNTA(Tabela1[#This Row]) = 22, 0, 1),IF(COUNTA(Tabela1[#This Row]) = 18, 0, 1)), 0)","v":0},{"$f":"IF(X739 = 1, 0, IF(COUNTA(Tabela1[#This Row]) > 0, 1, 0))","v":0}]
[null,null,null,null,null,null,null,null,null,null,null,null,null,null,null,null,null,null,null,null,null,null,null,{"$f":"IF(COUNTA(Tabela1[#This Row]) > 0, IF(Tabela1[[#This Row],[TIPO CARTÃO]]  = \"0-SEM CARTÃO\",IF(COUNTA(Tabela1[#This Row]) = 22, 0, 1),IF(COUNTA(Tabela1[#This Row]) = 18, 0, 1)), 0)","v":0},{"$f":"IF(X740 = 1, 0, IF(COUNTA(Tabela1[#This Row]) > 0, 1, 0))","v":0}]
[null,null,null,null,null,null,null,null,null,null,null,null,null,null,null,null,null,null,null,null,null,null,null,{"$f":"IF(COUNTA(Tabela1[#This Row]) > 0, IF(Tabela1[[#This Row],[TIPO CARTÃO]]  = \"0-SEM CARTÃO\",IF(COUNTA(Tabela1[#This Row]) = 22, 0, 1),IF(COUNTA(Tabela1[#This Row]) = 18, 0, 1)), 0)","v":0},{"$f":"IF(X741 = 1, 0, IF(COUNTA(Tabela1[#This Row]) > 0, 1, 0))","v":0}]
[null,null,null,null,null,null,null,null,null,null,null,null,null,null,null,null,null,null,null,null,null,null,null,{"$f":"IF(COUNTA(Tabela1[#This Row]) > 0, IF(Tabela1[[#This Row],[TIPO CARTÃO]]  = \"0-SEM CARTÃO\",IF(COUNTA(Tabela1[#This Row]) = 22, 0, 1),IF(COUNTA(Tabela1[#This Row]) = 18, 0, 1)), 0)","v":0},{"$f":"IF(X742 = 1, 0, IF(COUNTA(Tabela1[#This Row]) > 0, 1, 0))","v":0}]
[null,null,null,null,null,null,null,null,null,null,null,null,null,null,null,null,null,null,null,null,null,null,null,{"$f":"IF(COUNTA(Tabela1[#This Row]) > 0, IF(Tabela1[[#This Row],[TIPO CARTÃO]]  = \"0-SEM CARTÃO\",IF(COUNTA(Tabela1[#This Row]) = 22, 0, 1),IF(COUNTA(Tabela1[#This Row]) = 18, 0, 1)), 0)","v":0},{"$f":"IF(X743 = 1, 0, IF(COUNTA(Tabela1[#This Row]) > 0, 1, 0))","v":0}]
[null,null,null,null,null,null,null,null,null,null,null,null,null,null,null,null,null,null,null,null,null,null,null,{"$f":"IF(COUNTA(Tabela1[#This Row]) > 0, IF(Tabela1[[#This Row],[TIPO CARTÃO]]  = \"0-SEM CARTÃO\",IF(COUNTA(Tabela1[#This Row]) = 22, 0, 1),IF(COUNTA(Tabela1[#This Row]) = 18, 0, 1)), 0)","v":0},{"$f":"IF(X744 = 1, 0, IF(COUNTA(Tabela1[#This Row]) > 0, 1, 0))","v":0}]
[null,null,null,null,null,null,null,null,null,null,null,null,null,null,null,null,null,null,null,null,null,null,null,{"$f":"IF(COUNTA(Tabela1[#This Row]) > 0, IF(Tabela1[[#This Row],[TIPO CARTÃO]]  = \"0-SEM CARTÃO\",IF(COUNTA(Tabela1[#This Row]) = 22, 0, 1),IF(COUNTA(Tabela1[#This Row]) = 18, 0, 1)), 0)","v":0},{"$f":"IF(X745 = 1, 0, IF(COUNTA(Tabela1[#This Row]) > 0, 1, 0))","v":0}]
[null,null,null,null,null,null,null,null,null,null,null,null,null,null,null,null,null,null,null,null,null,null,null,{"$f":"IF(COUNTA(Tabela1[#This Row]) > 0, IF(Tabela1[[#This Row],[TIPO CARTÃO]]  = \"0-SEM CARTÃO\",IF(COUNTA(Tabela1[#This Row]) = 22, 0, 1),IF(COUNTA(Tabela1[#This Row]) = 18, 0, 1)), 0)","v":0},{"$f":"IF(X746 = 1, 0, IF(COUNTA(Tabela1[#This Row]) > 0, 1, 0))","v":0}]
[null,null,null,null,null,null,null,null,null,null,null,null,null,null,null,null,null,null,null,null,null,null,null,{"$f":"IF(COUNTA(Tabela1[#This Row]) > 0, IF(Tabela1[[#This Row],[TIPO CARTÃO]]  = \"0-SEM CARTÃO\",IF(COUNTA(Tabela1[#This Row]) = 22, 0, 1),IF(COUNTA(Tabela1[#This Row]) = 18, 0, 1)), 0)","v":0},{"$f":"IF(X747 = 1, 0, IF(COUNTA(Tabela1[#This Row]) > 0, 1, 0))","v":0}]
[null,null,null,null,null,null,null,null,null,null,null,null,null,null,null,null,null,null,null,null,null,null,null,{"$f":"IF(COUNTA(Tabela1[#This Row]) > 0, IF(Tabela1[[#This Row],[TIPO CARTÃO]]  = \"0-SEM CARTÃO\",IF(COUNTA(Tabela1[#This Row]) = 22, 0, 1),IF(COUNTA(Tabela1[#This Row]) = 18, 0, 1)), 0)","v":0},{"$f":"IF(X748 = 1, 0, IF(COUNTA(Tabela1[#This Row]) > 0, 1, 0))","v":0}]
[null,null,null,null,null,null,null,null,null,null,null,null,null,null,null,null,null,null,null,null,null,null,null,{"$f":"IF(COUNTA(Tabela1[#This Row]) > 0, IF(Tabela1[[#This Row],[TIPO CARTÃO]]  = \"0-SEM CARTÃO\",IF(COUNTA(Tabela1[#This Row]) = 22, 0, 1),IF(COUNTA(Tabela1[#This Row]) = 18, 0, 1)), 0)","v":0},{"$f":"IF(X749 = 1, 0, IF(COUNTA(Tabela1[#This Row]) > 0, 1, 0))","v":0}]
[null,null,null,null,null,null,null,null,null,null,null,null,null,null,null,null,null,null,null,null,null,null,null,{"$f":"IF(COUNTA(Tabela1[#This Row]) > 0, IF(Tabela1[[#This Row],[TIPO CARTÃO]]  = \"0-SEM CARTÃO\",IF(COUNTA(Tabela1[#This Row]) = 22, 0, 1),IF(COUNTA(Tabela1[#This Row]) = 18, 0, 1)), 0)","v":0},{"$f":"IF(X750 = 1, 0, IF(COUNTA(Tabela1[#This Row]) > 0, 1, 0))","v":0}]
[null,null,null,null,null,null,null,null,null,null,null,null,null,null,null,null,null,null,null,null,null,null,null,{"$f":"IF(COUNTA(Tabela1[#This Row]) > 0, IF(Tabela1[[#This Row],[TIPO CARTÃO]]  = \"0-SEM CARTÃO\",IF(COUNTA(Tabela1[#This Row]) = 22, 0, 1),IF(COUNTA(Tabela1[#This Row]) = 18, 0, 1)), 0)","v":0},{"$f":"IF(X751 = 1, 0, IF(COUNTA(Tabela1[#This Row]) > 0, 1, 0))","v":0}]
[null,null,null,null,null,null,null,null,null,null,null,null,null,null,null,null,null,null,null,null,null,null,null,{"$f":"IF(COUNTA(Tabela1[#This Row]) > 0, IF(Tabela1[[#This Row],[TIPO CARTÃO]]  = \"0-SEM CARTÃO\",IF(COUNTA(Tabela1[#This Row]) = 22, 0, 1),IF(COUNTA(Tabela1[#This Row]) = 18, 0, 1)), 0)","v":0},{"$f":"IF(X752 = 1, 0, IF(COUNTA(Tabela1[#This Row]) > 0, 1, 0))","v":0}]
[null,null,null,null,null,null,null,null,null,null,null,null,null,null,null,null,null,null,null,null,null,null,null,{"$f":"IF(COUNTA(Tabela1[#This Row]) > 0, IF(Tabela1[[#This Row],[TIPO CARTÃO]]  = \"0-SEM CARTÃO\",IF(COUNTA(Tabela1[#This Row]) = 22, 0, 1),IF(COUNTA(Tabela1[#This Row]) = 18, 0, 1)), 0)","v":0},{"$f":"IF(X753 = 1, 0, IF(COUNTA(Tabela1[#This Row]) > 0, 1, 0))","v":0}]
[null,null,null,null,null,null,null,null,null,null,null,null,null,null,null,null,null,null,null,null,null,null,null,{"$f":"IF(COUNTA(Tabela1[#This Row]) > 0, IF(Tabela1[[#This Row],[TIPO CARTÃO]]  = \"0-SEM CARTÃO\",IF(COUNTA(Tabela1[#This Row]) = 22, 0, 1),IF(COUNTA(Tabela1[#This Row]) = 18, 0, 1)), 0)","v":0},{"$f":"IF(X754 = 1, 0, IF(COUNTA(Tabela1[#This Row]) > 0, 1, 0))","v":0}]
[null,null,null,null,null,null,null,null,null,null,null,null,null,null,null,null,null,null,null,null,null,null,null,{"$f":"IF(COUNTA(Tabela1[#This Row]) > 0, IF(Tabela1[[#This Row],[TIPO CARTÃO]]  = \"0-SEM CARTÃO\",IF(COUNTA(Tabela1[#This Row]) = 22, 0, 1),IF(COUNTA(Tabela1[#This Row]) = 18, 0, 1)), 0)","v":0},{"$f":"IF(X755 = 1, 0, IF(COUNTA(Tabela1[#This Row]) > 0, 1, 0))","v":0}]
[null,null,null,null,null,null,null,null,null,null,null,null,null,null,null,null,null,null,null,null,null,null,null,{"$f":"IF(COUNTA(Tabela1[#This Row]) > 0, IF(Tabela1[[#This Row],[TIPO CARTÃO]]  = \"0-SEM CARTÃO\",IF(COUNTA(Tabela1[#This Row]) = 22, 0, 1),IF(COUNTA(Tabela1[#This Row]) = 18, 0, 1)), 0)","v":0},{"$f":"IF(X756 = 1, 0, IF(COUNTA(Tabela1[#This Row]) > 0, 1, 0))","v":0}]
[null,null,null,null,null,null,null,null,null,null,null,null,null,null,null,null,null,null,null,null,null,null,null,{"$f":"IF(COUNTA(Tabela1[#This Row]) > 0, IF(Tabela1[[#This Row],[TIPO CARTÃO]]  = \"0-SEM CARTÃO\",IF(COUNTA(Tabela1[#This Row]) = 22, 0, 1),IF(COUNTA(Tabela1[#This Row]) = 18, 0, 1)), 0)","v":0},{"$f":"IF(X757 = 1, 0, IF(COUNTA(Tabela1[#This Row]) > 0, 1, 0))","v":0}]
[null,null,null,null,null,null,null,null,null,null,null,null,null,null,null,null,null,null,null,null,null,null,null,{"$f":"IF(COUNTA(Tabela1[#This Row]) > 0, IF(Tabela1[[#This Row],[TIPO CARTÃO]]  = \"0-SEM CARTÃO\",IF(COUNTA(Tabela1[#This Row]) = 22, 0, 1),IF(COUNTA(Tabela1[#This Row]) = 18, 0, 1)), 0)","v":0},{"$f":"IF(X758 = 1, 0, IF(COUNTA(Tabela1[#This Row]) > 0, 1, 0))","v":0}]
[null,null,null,null,null,null,null,null,null,null,null,null,null,null,null,null,null,null,null,null,null,null,null,{"$f":"IF(COUNTA(Tabela1[#This Row]) > 0, IF(Tabela1[[#This Row],[TIPO CARTÃO]]  = \"0-SEM CARTÃO\",IF(COUNTA(Tabela1[#This Row]) = 22, 0, 1),IF(COUNTA(Tabela1[#This Row]) = 18, 0, 1)), 0)","v":0},{"$f":"IF(X759 = 1, 0, IF(COUNTA(Tabela1[#This Row]) > 0, 1, 0))","v":0}]
[null,null,null,null,null,null,null,null,null,null,null,null,null,null,null,null,null,null,null,null,null,null,null,{"$f":"IF(COUNTA(Tabela1[#This Row]) > 0, IF(Tabela1[[#This Row],[TIPO CARTÃO]]  = \"0-SEM CARTÃO\",IF(COUNTA(Tabela1[#This Row]) = 22, 0, 1),IF(COUNTA(Tabela1[#This Row]) = 18, 0, 1)), 0)","v":0},{"$f":"IF(X760 = 1, 0, IF(COUNTA(Tabela1[#This Row]) > 0, 1, 0))","v":0}]
[null,null,null,null,null,null,null,null,null,null,null,null,null,null,null,null,null,null,null,null,null,null,null,{"$f":"IF(COUNTA(Tabela1[#This Row]) > 0, IF(Tabela1[[#This Row],[TIPO CARTÃO]]  = \"0-SEM CARTÃO\",IF(COUNTA(Tabela1[#This Row]) = 22, 0, 1),IF(COUNTA(Tabela1[#This Row]) = 18, 0, 1)), 0)","v":0},{"$f":"IF(X761 = 1, 0, IF(COUNTA(Tabela1[#This Row]) > 0, 1, 0))","v":0}]
[null,null,null,null,null,null,null,null,null,null,null,null,null,null,null,null,null,null,null,null,null,null,null,{"$f":"IF(COUNTA(Tabela1[#This Row]) > 0, IF(Tabela1[[#This Row],[TIPO CARTÃO]]  = \"0-SEM CARTÃO\",IF(COUNTA(Tabela1[#This Row]) = 22, 0, 1),IF(COUNTA(Tabela1[#This Row]) = 18, 0, 1)), 0)","v":0},{"$f":"IF(X762 = 1, 0, IF(COUNTA(Tabela1[#This Row]) > 0, 1, 0))","v":0}]
[null,null,null,null,null,null,null,null,null,null,null,null,null,null,null,null,null,null,null,null,null,null,null,{"$f":"IF(COUNTA(Tabela1[#This Row]) > 0, IF(Tabela1[[#This Row],[TIPO CARTÃO]]  = \"0-SEM CARTÃO\",IF(COUNTA(Tabela1[#This Row]) = 22, 0, 1),IF(COUNTA(Tabela1[#This Row]) = 18, 0, 1)), 0)","v":0},{"$f":"IF(X763 = 1, 0, IF(COUNTA(Tabela1[#This Row]) > 0, 1, 0))","v":0}]
[null,null,null,null,null,null,null,null,null,null,null,null,null,null,null,null,null,null,null,null,null,null,null,{"$f":"IF(COUNTA(Tabela1[#This Row]) > 0, IF(Tabela1[[#This Row],[TIPO CARTÃO]]  = \"0-SEM CARTÃO\",IF(COUNTA(Tabela1[#This Row]) = 22, 0, 1),IF(COUNTA(Tabela1[#This Row]) = 18, 0, 1)), 0)","v":0},{"$f":"IF(X764 = 1, 0, IF(COUNTA(Tabela1[#This Row]) > 0, 1, 0))","v":0}]
[null,null,null,null,null,null,null,null,null,null,null,null,null,null,null,null,null,null,null,null,null,null,null,{"$f":"IF(COUNTA(Tabela1[#This Row]) > 0, IF(Tabela1[[#This Row],[TIPO CARTÃO]]  = \"0-SEM CARTÃO\",IF(COUNTA(Tabela1[#This Row]) = 22, 0, 1),IF(COUNTA(Tabela1[#This Row]) = 18, 0, 1)), 0)","v":0},{"$f":"IF(X765 = 1, 0, IF(COUNTA(Tabela1[#This Row]) > 0, 1, 0))","v":0}]
[null,null,null,null,null,null,null,null,null,null,null,null,null,null,null,null,null,null,null,null,null,null,null,{"$f":"IF(COUNTA(Tabela1[#This Row]) > 0, IF(Tabela1[[#This Row],[TIPO CARTÃO]]  = \"0-SEM CARTÃO\",IF(COUNTA(Tabela1[#This Row]) = 22, 0, 1),IF(COUNTA(Tabela1[#This Row]) = 18, 0, 1)), 0)","v":0},{"$f":"IF(X766 = 1, 0, IF(COUNTA(Tabela1[#This Row]) > 0, 1, 0))","v":0}]
[null,null,null,null,null,null,null,null,null,null,null,null,null,null,null,null,null,null,null,null,null,null,null,{"$f":"IF(COUNTA(Tabela1[#This Row]) > 0, IF(Tabela1[[#This Row],[TIPO CARTÃO]]  = \"0-SEM CARTÃO\",IF(COUNTA(Tabela1[#This Row]) = 22, 0, 1),IF(COUNTA(Tabela1[#This Row]) = 18, 0, 1)), 0)","v":0},{"$f":"IF(X767 = 1, 0, IF(COUNTA(Tabela1[#This Row]) > 0, 1, 0))","v":0}]
[null,null,null,null,null,null,null,null,null,null,null,null,null,null,null,null,null,null,null,null,null,null,null,{"$f":"IF(COUNTA(Tabela1[#This Row]) > 0, IF(Tabela1[[#This Row],[TIPO CARTÃO]]  = \"0-SEM CARTÃO\",IF(COUNTA(Tabela1[#This Row]) = 22, 0, 1),IF(COUNTA(Tabela1[#This Row]) = 18, 0, 1)), 0)","v":0},{"$f":"IF(X768 = 1, 0, IF(COUNTA(Tabela1[#This Row]) > 0, 1, 0))","v":0}]
[null,null,null,null,null,null,null,null,null,null,null,null,null,null,null,null,null,null,null,null,null,null,null,{"$f":"IF(COUNTA(Tabela1[#This Row]) > 0, IF(Tabela1[[#This Row],[TIPO CARTÃO]]  = \"0-SEM CARTÃO\",IF(COUNTA(Tabela1[#This Row]) = 22, 0, 1),IF(COUNTA(Tabela1[#This Row]) = 18, 0, 1)), 0)","v":0},{"$f":"IF(X769 = 1, 0, IF(COUNTA(Tabela1[#This Row]) > 0, 1, 0))","v":0}]
[null,null,null,null,null,null,null,null,null,null,null,null,null,null,null,null,null,null,null,null,null,null,null,{"$f":"IF(COUNTA(Tabela1[#This Row]) > 0, IF(Tabela1[[#This Row],[TIPO CARTÃO]]  = \"0-SEM CARTÃO\",IF(COUNTA(Tabela1[#This Row]) = 22, 0, 1),IF(COUNTA(Tabela1[#This Row]) = 18, 0, 1)), 0)","v":0},{"$f":"IF(X770 = 1, 0, IF(COUNTA(Tabela1[#This Row]) > 0, 1, 0))","v":0}]
[null,null,null,null,null,null,null,null,null,null,null,null,null,null,null,null,null,null,null,null,null,null,null,{"$f":"IF(COUNTA(Tabela1[#This Row]) > 0, IF(Tabela1[[#This Row],[TIPO CARTÃO]]  = \"0-SEM CARTÃO\",IF(COUNTA(Tabela1[#This Row]) = 22, 0, 1),IF(COUNTA(Tabela1[#This Row]) = 18, 0, 1)), 0)","v":0},{"$f":"IF(X771 = 1, 0, IF(COUNTA(Tabela1[#This Row]) > 0, 1, 0))","v":0}]
[null,null,null,null,null,null,null,null,null,null,null,null,null,null,null,null,null,null,null,null,null,null,null,{"$f":"IF(COUNTA(Tabela1[#This Row]) > 0, IF(Tabela1[[#This Row],[TIPO CARTÃO]]  = \"0-SEM CARTÃO\",IF(COUNTA(Tabela1[#This Row]) = 22, 0, 1),IF(COUNTA(Tabela1[#This Row]) = 18, 0, 1)), 0)","v":0},{"$f":"IF(X772 = 1, 0, IF(COUNTA(Tabela1[#This Row]) > 0, 1, 0))","v":0}]
[null,null,null,null,null,null,null,null,null,null,null,null,null,null,null,null,null,null,null,null,null,null,null,{"$f":"IF(COUNTA(Tabela1[#This Row]) > 0, IF(Tabela1[[#This Row],[TIPO CARTÃO]]  = \"0-SEM CARTÃO\",IF(COUNTA(Tabela1[#This Row]) = 22, 0, 1),IF(COUNTA(Tabela1[#This Row]) = 18, 0, 1)), 0)","v":0},{"$f":"IF(X773 = 1, 0, IF(COUNTA(Tabela1[#This Row]) > 0, 1, 0))","v":0}]
[null,null,null,null,null,null,null,null,null,null,null,null,null,null,null,null,null,null,null,null,null,null,null,{"$f":"IF(COUNTA(Tabela1[#This Row]) > 0, IF(Tabela1[[#This Row],[TIPO CARTÃO]]  = \"0-SEM CARTÃO\",IF(COUNTA(Tabela1[#This Row]) = 22, 0, 1),IF(COUNTA(Tabela1[#This Row]) = 18, 0, 1)), 0)","v":0},{"$f":"IF(X774 = 1, 0, IF(COUNTA(Tabela1[#This Row]) > 0, 1, 0))","v":0}]
[null,null,null,null,null,null,null,null,null,null,null,null,null,null,null,null,null,null,null,null,null,null,null,{"$f":"IF(COUNTA(Tabela1[#This Row]) > 0, IF(Tabela1[[#This Row],[TIPO CARTÃO]]  = \"0-SEM CARTÃO\",IF(COUNTA(Tabela1[#This Row]) = 22, 0, 1),IF(COUNTA(Tabela1[#This Row]) = 18, 0, 1)), 0)","v":0},{"$f":"IF(X775 = 1, 0, IF(COUNTA(Tabela1[#This Row]) > 0, 1, 0))","v":0}]
[null,null,null,null,null,null,null,null,null,null,null,null,null,null,null,null,null,null,null,null,null,null,null,{"$f":"IF(COUNTA(Tabela1[#This Row]) > 0, IF(Tabela1[[#This Row],[TIPO CARTÃO]]  = \"0-SEM CARTÃO\",IF(COUNTA(Tabela1[#This Row]) = 22, 0, 1),IF(COUNTA(Tabela1[#This Row]) = 18, 0, 1)), 0)","v":0},{"$f":"IF(X776 = 1, 0, IF(COUNTA(Tabela1[#This Row]) > 0, 1, 0))","v":0}]
[null,null,null,null,null,null,null,null,null,null,null,null,null,null,null,null,null,null,null,null,null,null,null,{"$f":"IF(COUNTA(Tabela1[#This Row]) > 0, IF(Tabela1[[#This Row],[TIPO CARTÃO]]  = \"0-SEM CARTÃO\",IF(COUNTA(Tabela1[#This Row]) = 22, 0, 1),IF(COUNTA(Tabela1[#This Row]) = 18, 0, 1)), 0)","v":0},{"$f":"IF(X777 = 1, 0, IF(COUNTA(Tabela1[#This Row]) > 0, 1, 0))","v":0}]
[null,null,null,null,null,null,null,null,null,null,null,null,null,null,null,null,null,null,null,null,null,null,null,{"$f":"IF(COUNTA(Tabela1[#This Row]) > 0, IF(Tabela1[[#This Row],[TIPO CARTÃO]]  = \"0-SEM CARTÃO\",IF(COUNTA(Tabela1[#This Row]) = 22, 0, 1),IF(COUNTA(Tabela1[#This Row]) = 18, 0, 1)), 0)","v":0},{"$f":"IF(X778 = 1, 0, IF(COUNTA(Tabela1[#This Row]) > 0, 1, 0))","v":0}]
[null,null,null,null,null,null,null,null,null,null,null,null,null,null,null,null,null,null,null,null,null,null,null,{"$f":"IF(COUNTA(Tabela1[#This Row]) > 0, IF(Tabela1[[#This Row],[TIPO CARTÃO]]  = \"0-SEM CARTÃO\",IF(COUNTA(Tabela1[#This Row]) = 22, 0, 1),IF(COUNTA(Tabela1[#This Row]) = 18, 0, 1)), 0)","v":0},{"$f":"IF(X779 = 1, 0, IF(COUNTA(Tabela1[#This Row]) > 0, 1, 0))","v":0}]
[null,null,null,null,null,null,null,null,null,null,null,null,null,null,null,null,null,null,null,null,null,null,null,{"$f":"IF(COUNTA(Tabela1[#This Row]) > 0, IF(Tabela1[[#This Row],[TIPO CARTÃO]]  = \"0-SEM CARTÃO\",IF(COUNTA(Tabela1[#This Row]) = 22, 0, 1),IF(COUNTA(Tabela1[#This Row]) = 18, 0, 1)), 0)","v":0},{"$f":"IF(X780 = 1, 0, IF(COUNTA(Tabela1[#This Row]) > 0, 1, 0))","v":0}]
[null,null,null,null,null,null,null,null,null,null,null,null,null,null,null,null,null,null,null,null,null,null,null,{"$f":"IF(COUNTA(Tabela1[#This Row]) > 0, IF(Tabela1[[#This Row],[TIPO CARTÃO]]  = \"0-SEM CARTÃO\",IF(COUNTA(Tabela1[#This Row]) = 22, 0, 1),IF(COUNTA(Tabela1[#This Row]) = 18, 0, 1)), 0)","v":0},{"$f":"IF(X781 = 1, 0, IF(COUNTA(Tabela1[#This Row]) > 0, 1, 0))","v":0}]
[null,null,null,null,null,null,null,null,null,null,null,null,null,null,null,null,null,null,null,null,null,null,null,{"$f":"IF(COUNTA(Tabela1[#This Row]) > 0, IF(Tabela1[[#This Row],[TIPO CARTÃO]]  = \"0-SEM CARTÃO\",IF(COUNTA(Tabela1[#This Row]) = 22, 0, 1),IF(COUNTA(Tabela1[#This Row]) = 18, 0, 1)), 0)","v":0},{"$f":"IF(X782 = 1, 0, IF(COUNTA(Tabela1[#This Row]) > 0, 1, 0))","v":0}]
[null,null,null,null,null,null,null,null,null,null,null,null,null,null,null,null,null,null,null,null,null,null,null,{"$f":"IF(COUNTA(Tabela1[#This Row]) > 0, IF(Tabela1[[#This Row],[TIPO CARTÃO]]  = \"0-SEM CARTÃO\",IF(COUNTA(Tabela1[#This Row]) = 22, 0, 1),IF(COUNTA(Tabela1[#This Row]) = 18, 0, 1)), 0)","v":0},{"$f":"IF(X783 = 1, 0, IF(COUNTA(Tabela1[#This Row]) > 0, 1, 0))","v":0}]
[null,null,null,null,null,null,null,null,null,null,null,null,null,null,null,null,null,null,null,null,null,null,null,{"$f":"IF(COUNTA(Tabela1[#This Row]) > 0, IF(Tabela1[[#This Row],[TIPO CARTÃO]]  = \"0-SEM CARTÃO\",IF(COUNTA(Tabela1[#This Row]) = 22, 0, 1),IF(COUNTA(Tabela1[#This Row]) = 18, 0, 1)), 0)","v":0},{"$f":"IF(X784 = 1, 0, IF(COUNTA(Tabela1[#This Row]) > 0, 1, 0))","v":0}]
[null,null,null,null,null,null,null,null,null,null,null,null,null,null,null,null,null,null,null,null,null,null,null,{"$f":"IF(COUNTA(Tabela1[#This Row]) > 0, IF(Tabela1[[#This Row],[TIPO CARTÃO]]  = \"0-SEM CARTÃO\",IF(COUNTA(Tabela1[#This Row]) = 22, 0, 1),IF(COUNTA(Tabela1[#This Row]) = 18, 0, 1)), 0)","v":0},{"$f":"IF(X785 = 1, 0, IF(COUNTA(Tabela1[#This Row]) > 0, 1, 0))","v":0}]
[null,null,null,null,null,null,null,null,null,null,null,null,null,null,null,null,null,null,null,null,null,null,null,{"$f":"IF(COUNTA(Tabela1[#This Row]) > 0, IF(Tabela1[[#This Row],[TIPO CARTÃO]]  = \"0-SEM CARTÃO\",IF(COUNTA(Tabela1[#This Row]) = 22, 0, 1),IF(COUNTA(Tabela1[#This Row]) = 18, 0, 1)), 0)","v":0},{"$f":"IF(X786 = 1, 0, IF(COUNTA(Tabela1[#This Row]) > 0, 1, 0))","v":0}]
[null,null,null,null,null,null,null,null,null,null,null,null,null,null,null,null,null,null,null,null,null,null,null,{"$f":"IF(COUNTA(Tabela1[#This Row]) > 0, IF(Tabela1[[#This Row],[TIPO CARTÃO]]  = \"0-SEM CARTÃO\",IF(COUNTA(Tabela1[#This Row]) = 22, 0, 1),IF(COUNTA(Tabela1[#This Row]) = 18, 0, 1)), 0)","v":0},{"$f":"IF(X787 = 1, 0, IF(COUNTA(Tabela1[#This Row]) > 0, 1, 0))","v":0}]
[null,null,null,null,null,null,null,null,null,null,null,null,null,null,null,null,null,null,null,null,null,null,null,{"$f":"IF(COUNTA(Tabela1[#This Row]) > 0, IF(Tabela1[[#This Row],[TIPO CARTÃO]]  = \"0-SEM CARTÃO\",IF(COUNTA(Tabela1[#This Row]) = 22, 0, 1),IF(COUNTA(Tabela1[#This Row]) = 18, 0, 1)), 0)","v":0},{"$f":"IF(X788 = 1, 0, IF(COUNTA(Tabela1[#This Row]) > 0, 1, 0))","v":0}]
[null,null,null,null,null,null,null,null,null,null,null,null,null,null,null,null,null,null,null,null,null,null,null,{"$f":"IF(COUNTA(Tabela1[#This Row]) > 0, IF(Tabela1[[#This Row],[TIPO CARTÃO]]  = \"0-SEM CARTÃO\",IF(COUNTA(Tabela1[#This Row]) = 22, 0, 1),IF(COUNTA(Tabela1[#This Row]) = 18, 0, 1)), 0)","v":0},{"$f":"IF(X789 = 1, 0, IF(COUNTA(Tabela1[#This Row]) > 0, 1, 0))","v":0}]
[null,null,null,null,null,null,null,null,null,null,null,null,null,null,null,null,null,null,null,null,null,null,null,{"$f":"IF(COUNTA(Tabela1[#This Row]) > 0, IF(Tabela1[[#This Row],[TIPO CARTÃO]]  = \"0-SEM CARTÃO\",IF(COUNTA(Tabela1[#This Row]) = 22, 0, 1),IF(COUNTA(Tabela1[#This Row]) = 18, 0, 1)), 0)","v":0},{"$f":"IF(X790 = 1, 0, IF(COUNTA(Tabela1[#This Row]) > 0, 1, 0))","v":0}]
[null,null,null,null,null,null,null,null,null,null,null,null,null,null,null,null,null,null,null,null,null,null,null,{"$f":"IF(COUNTA(Tabela1[#This Row]) > 0, IF(Tabela1[[#This Row],[TIPO CARTÃO]]  = \"0-SEM CARTÃO\",IF(COUNTA(Tabela1[#This Row]) = 22, 0, 1),IF(COUNTA(Tabela1[#This Row]) = 18, 0, 1)), 0)","v":0},{"$f":"IF(X791 = 1, 0, IF(COUNTA(Tabela1[#This Row]) > 0, 1, 0))","v":0}]
[null,null,null,null,null,null,null,null,null,null,null,null,null,null,null,null,null,null,null,null,null,null,null,{"$f":"IF(COUNTA(Tabela1[#This Row]) > 0, IF(Tabela1[[#This Row],[TIPO CARTÃO]]  = \"0-SEM CARTÃO\",IF(COUNTA(Tabela1[#This Row]) = 22, 0, 1),IF(COUNTA(Tabela1[#This Row]) = 18, 0, 1)), 0)","v":0},{"$f":"IF(X792 = 1, 0, IF(COUNTA(Tabela1[#This Row]) > 0, 1, 0))","v":0}]
[null,null,null,null,null,null,null,null,null,null,null,null,null,null,null,null,null,null,null,null,null,null,null,{"$f":"IF(COUNTA(Tabela1[#This Row]) > 0, IF(Tabela1[[#This Row],[TIPO CARTÃO]]  = \"0-SEM CARTÃO\",IF(COUNTA(Tabela1[#This Row]) = 22, 0, 1),IF(COUNTA(Tabela1[#This Row]) = 18, 0, 1)), 0)","v":0},{"$f":"IF(X793 = 1, 0, IF(COUNTA(Tabela1[#This Row]) > 0, 1, 0))","v":0}]
[null,null,null,null,null,null,null,null,null,null,null,null,null,null,null,null,null,null,null,null,null,null,null,{"$f":"IF(COUNTA(Tabela1[#This Row]) > 0, IF(Tabela1[[#This Row],[TIPO CARTÃO]]  = \"0-SEM CARTÃO\",IF(COUNTA(Tabela1[#This Row]) = 22, 0, 1),IF(COUNTA(Tabela1[#This Row]) = 18, 0, 1)), 0)","v":0},{"$f":"IF(X794 = 1, 0, IF(COUNTA(Tabela1[#This Row]) > 0, 1, 0))","v":0}]
[null,null,null,null,null,null,null,null,null,null,null,null,null,null,null,null,null,null,null,null,null,null,null,{"$f":"IF(COUNTA(Tabela1[#This Row]) > 0, IF(Tabela1[[#This Row],[TIPO CARTÃO]]  = \"0-SEM CARTÃO\",IF(COUNTA(Tabela1[#This Row]) = 22, 0, 1),IF(COUNTA(Tabela1[#This Row]) = 18, 0, 1)), 0)","v":0},{"$f":"IF(X795 = 1, 0, IF(COUNTA(Tabela1[#This Row]) > 0, 1, 0))","v":0}]
[null,null,null,null,null,null,null,null,null,null,null,null,null,null,null,null,null,null,null,null,null,null,null,{"$f":"IF(COUNTA(Tabela1[#This Row]) > 0, IF(Tabela1[[#This Row],[TIPO CARTÃO]]  = \"0-SEM CARTÃO\",IF(COUNTA(Tabela1[#This Row]) = 22, 0, 1),IF(COUNTA(Tabela1[#This Row]) = 18, 0, 1)), 0)","v":0},{"$f":"IF(X796 = 1, 0, IF(COUNTA(Tabela1[#This Row]) > 0, 1, 0))","v":0}]
[null,null,null,null,null,null,null,null,null,null,null,null,null,null,null,null,null,null,null,null,null,null,null,{"$f":"IF(COUNTA(Tabela1[#This Row]) > 0, IF(Tabela1[[#This Row],[TIPO CARTÃO]]  = \"0-SEM CARTÃO\",IF(COUNTA(Tabela1[#This Row]) = 22, 0, 1),IF(COUNTA(Tabela1[#This Row]) = 18, 0, 1)), 0)","v":0},{"$f":"IF(X797 = 1, 0, IF(COUNTA(Tabela1[#This Row]) > 0, 1, 0))","v":0}]
[null,null,null,null,null,null,null,null,null,null,null,null,null,null,null,null,null,null,null,null,null,null,null,{"$f":"IF(COUNTA(Tabela1[#This Row]) > 0, IF(Tabela1[[#This Row],[TIPO CARTÃO]]  = \"0-SEM CARTÃO\",IF(COUNTA(Tabela1[#This Row]) = 22, 0, 1),IF(COUNTA(Tabela1[#This Row]) = 18, 0, 1)), 0)","v":0},{"$f":"IF(X798 = 1, 0, IF(COUNTA(Tabela1[#This Row]) > 0, 1, 0))","v":0}]
[null,null,null,null,null,null,null,null,null,null,null,null,null,null,null,null,null,null,null,null,null,null,null,{"$f":"IF(COUNTA(Tabela1[#This Row]) > 0, IF(Tabela1[[#This Row],[TIPO CARTÃO]]  = \"0-SEM CARTÃO\",IF(COUNTA(Tabela1[#This Row]) = 22, 0, 1),IF(COUNTA(Tabela1[#This Row]) = 18, 0, 1)), 0)","v":0},{"$f":"IF(X799 = 1, 0, IF(COUNTA(Tabela1[#This Row]) > 0, 1, 0))","v":0}]
[null,null,null,null,null,null,null,null,null,null,null,null,null,null,null,null,null,null,null,null,null,null,null,{"$f":"IF(COUNTA(Tabela1[#This Row]) > 0, IF(Tabela1[[#This Row],[TIPO CARTÃO]]  = \"0-SEM CARTÃO\",IF(COUNTA(Tabela1[#This Row]) = 22, 0, 1),IF(COUNTA(Tabela1[#This Row]) = 18, 0, 1)), 0)","v":0},{"$f":"IF(X800 = 1, 0, IF(COUNTA(Tabela1[#This Row]) > 0, 1, 0))","v":0}]
[null,null,null,null,null,null,null,null,null,null,null,null,null,null,null,null,null,null,null,null,null,null,null,{"$f":"IF(COUNTA(Tabela1[#This Row]) > 0, IF(Tabela1[[#This Row],[TIPO CARTÃO]]  = \"0-SEM CARTÃO\",IF(COUNTA(Tabela1[#This Row]) = 22, 0, 1),IF(COUNTA(Tabela1[#This Row]) = 18, 0, 1)), 0)","v":0},{"$f":"IF(X801 = 1, 0, IF(COUNTA(Tabela1[#This Row]) > 0, 1, 0))","v":0}]
[null,null,null,null,null,null,null,null,null,null,null,null,null,null,null,null,null,null,null,null,null,null,null,{"$f":"IF(COUNTA(Tabela1[#This Row]) > 0, IF(Tabela1[[#This Row],[TIPO CARTÃO]]  = \"0-SEM CARTÃO\",IF(COUNTA(Tabela1[#This Row]) = 22, 0, 1),IF(COUNTA(Tabela1[#This Row]) = 18, 0, 1)), 0)","v":0},{"$f":"IF(X802 = 1, 0, IF(COUNTA(Tabela1[#This Row]) > 0, 1, 0))","v":0}]
[null,null,null,null,null,null,null,null,null,null,null,null,null,null,null,null,null,null,null,null,null,null,null,{"$f":"IF(COUNTA(Tabela1[#This Row]) > 0, IF(Tabela1[[#This Row],[TIPO CARTÃO]]  = \"0-SEM CARTÃO\",IF(COUNTA(Tabela1[#This Row]) = 22, 0, 1),IF(COUNTA(Tabela1[#This Row]) = 18, 0, 1)), 0)","v":0},{"$f":"IF(X803 = 1, 0, IF(COUNTA(Tabela1[#This Row]) > 0, 1, 0))","v":0}]
[null,null,null,null,null,null,null,null,null,null,null,null,null,null,null,null,null,null,null,null,null,null,null,{"$f":"IF(COUNTA(Tabela1[#This Row]) > 0, IF(Tabela1[[#This Row],[TIPO CARTÃO]]  = \"0-SEM CARTÃO\",IF(COUNTA(Tabela1[#This Row]) = 22, 0, 1),IF(COUNTA(Tabela1[#This Row]) = 18, 0, 1)), 0)","v":0},{"$f":"IF(X804 = 1, 0, IF(COUNTA(Tabela1[#This Row]) > 0, 1, 0))","v":0}]
[null,null,null,null,null,null,null,null,null,null,null,null,null,null,null,null,null,null,null,null,null,null,null,{"$f":"IF(COUNTA(Tabela1[#This Row]) > 0, IF(Tabela1[[#This Row],[TIPO CARTÃO]]  = \"0-SEM CARTÃO\",IF(COUNTA(Tabela1[#This Row]) = 22, 0, 1),IF(COUNTA(Tabela1[#This Row]) = 18, 0, 1)), 0)","v":0},{"$f":"IF(X805 = 1, 0, IF(COUNTA(Tabela1[#This Row]) > 0, 1, 0))","v":0}]
[null,null,null,null,null,null,null,null,null,null,null,null,null,null,null,null,null,null,null,null,null,null,null,{"$f":"IF(COUNTA(Tabela1[#This Row]) > 0, IF(Tabela1[[#This Row],[TIPO CARTÃO]]  = \"0-SEM CARTÃO\",IF(COUNTA(Tabela1[#This Row]) = 22, 0, 1),IF(COUNTA(Tabela1[#This Row]) = 18, 0, 1)), 0)","v":0},{"$f":"IF(X806 = 1, 0, IF(COUNTA(Tabela1[#This Row]) > 0, 1, 0))","v":0}]
[null,null,null,null,null,null,null,null,null,null,null,null,null,null,null,null,null,null,null,null,null,null,null,{"$f":"IF(COUNTA(Tabela1[#This Row]) > 0, IF(Tabela1[[#This Row],[TIPO CARTÃO]]  = \"0-SEM CARTÃO\",IF(COUNTA(Tabela1[#This Row]) = 22, 0, 1),IF(COUNTA(Tabela1[#This Row]) = 18, 0, 1)), 0)","v":0},{"$f":"IF(X807 = 1, 0, IF(COUNTA(Tabela1[#This Row]) > 0, 1, 0))","v":0}]
[null,null,null,null,null,null,null,null,null,null,null,null,null,null,null,null,null,null,null,null,null,null,null,{"$f":"IF(COUNTA(Tabela1[#This Row]) > 0, IF(Tabela1[[#This Row],[TIPO CARTÃO]]  = \"0-SEM CARTÃO\",IF(COUNTA(Tabela1[#This Row]) = 22, 0, 1),IF(COUNTA(Tabela1[#This Row]) = 18, 0, 1)), 0)","v":0},{"$f":"IF(X808 = 1, 0, IF(COUNTA(Tabela1[#This Row]) > 0, 1, 0))","v":0}]
[null,null,null,null,null,null,null,null,null,null,null,null,null,null,null,null,null,null,null,null,null,null,null,{"$f":"IF(COUNTA(Tabela1[#This Row]) > 0, IF(Tabela1[[#This Row],[TIPO CARTÃO]]  = \"0-SEM CARTÃO\",IF(COUNTA(Tabela1[#This Row]) = 22, 0, 1),IF(COUNTA(Tabela1[#This Row]) = 18, 0, 1)), 0)","v":0},{"$f":"IF(X809 = 1, 0, IF(COUNTA(Tabela1[#This Row]) > 0, 1, 0))","v":0}]
[null,null,null,null,null,null,null,null,null,null,null,null,null,null,null,null,null,null,null,null,null,null,null,{"$f":"IF(COUNTA(Tabela1[#This Row]) > 0, IF(Tabela1[[#This Row],[TIPO CARTÃO]]  = \"0-SEM CARTÃO\",IF(COUNTA(Tabela1[#This Row]) = 22, 0, 1),IF(COUNTA(Tabela1[#This Row]) = 18, 0, 1)), 0)","v":0},{"$f":"IF(X810 = 1, 0, IF(COUNTA(Tabela1[#This Row]) > 0, 1, 0))","v":0}]
[null,null,null,null,null,null,null,null,null,null,null,null,null,null,null,null,null,null,null,null,null,null,null,{"$f":"IF(COUNTA(Tabela1[#This Row]) > 0, IF(Tabela1[[#This Row],[TIPO CARTÃO]]  = \"0-SEM CARTÃO\",IF(COUNTA(Tabela1[#This Row]) = 22, 0, 1),IF(COUNTA(Tabela1[#This Row]) = 18, 0, 1)), 0)","v":0},{"$f":"IF(X811 = 1, 0, IF(COUNTA(Tabela1[#This Row]) > 0, 1, 0))","v":0}]
[null,null,null,null,null,null,null,null,null,null,null,null,null,null,null,null,null,null,null,null,null,null,null,{"$f":"IF(COUNTA(Tabela1[#This Row]) > 0, IF(Tabela1[[#This Row],[TIPO CARTÃO]]  = \"0-SEM CARTÃO\",IF(COUNTA(Tabela1[#This Row]) = 22, 0, 1),IF(COUNTA(Tabela1[#This Row]) = 18, 0, 1)), 0)","v":0},{"$f":"IF(X812 = 1, 0, IF(COUNTA(Tabela1[#This Row]) > 0, 1, 0))","v":0}]
[null,null,null,null,null,null,null,null,null,null,null,null,null,null,null,null,null,null,null,null,null,null,null,{"$f":"IF(COUNTA(Tabela1[#This Row]) > 0, IF(Tabela1[[#This Row],[TIPO CARTÃO]]  = \"0-SEM CARTÃO\",IF(COUNTA(Tabela1[#This Row]) = 22, 0, 1),IF(COUNTA(Tabela1[#This Row]) = 18, 0, 1)), 0)","v":0},{"$f":"IF(X813 = 1, 0, IF(COUNTA(Tabela1[#This Row]) > 0, 1, 0))","v":0}]
[null,null,null,null,null,null,null,null,null,null,null,null,null,null,null,null,null,null,null,null,null,null,null,{"$f":"IF(COUNTA(Tabela1[#This Row]) > 0, IF(Tabela1[[#This Row],[TIPO CARTÃO]]  = \"0-SEM CARTÃO\",IF(COUNTA(Tabela1[#This Row]) = 22, 0, 1),IF(COUNTA(Tabela1[#This Row]) = 18, 0, 1)), 0)","v":0},{"$f":"IF(X814 = 1, 0, IF(COUNTA(Tabela1[#This Row]) > 0, 1, 0))","v":0}]
[null,null,null,null,null,null,null,null,null,null,null,null,null,null,null,null,null,null,null,null,null,null,null,{"$f":"IF(COUNTA(Tabela1[#This Row]) > 0, IF(Tabela1[[#This Row],[TIPO CARTÃO]]  = \"0-SEM CARTÃO\",IF(COUNTA(Tabela1[#This Row]) = 22, 0, 1),IF(COUNTA(Tabela1[#This Row]) = 18, 0, 1)), 0)","v":0},{"$f":"IF(X815 = 1, 0, IF(COUNTA(Tabela1[#This Row]) > 0, 1, 0))","v":0}]
[null,null,null,null,null,null,null,null,null,null,null,null,null,null,null,null,null,null,null,null,null,null,null,{"$f":"IF(COUNTA(Tabela1[#This Row]) > 0, IF(Tabela1[[#This Row],[TIPO CARTÃO]]  = \"0-SEM CARTÃO\",IF(COUNTA(Tabela1[#This Row]) = 22, 0, 1),IF(COUNTA(Tabela1[#This Row]) = 18, 0, 1)), 0)","v":0},{"$f":"IF(X816 = 1, 0, IF(COUNTA(Tabela1[#This Row]) > 0, 1, 0))","v":0}]
[null,null,null,null,null,null,null,null,null,null,null,null,null,null,null,null,null,null,null,null,null,null,null,{"$f":"IF(COUNTA(Tabela1[#This Row]) > 0, IF(Tabela1[[#This Row],[TIPO CARTÃO]]  = \"0-SEM CARTÃO\",IF(COUNTA(Tabela1[#This Row]) = 22, 0, 1),IF(COUNTA(Tabela1[#This Row]) = 18, 0, 1)), 0)","v":0},{"$f":"IF(X817 = 1, 0, IF(COUNTA(Tabela1[#This Row]) > 0, 1, 0))","v":0}]
[null,null,null,null,null,null,null,null,null,null,null,null,null,null,null,null,null,null,null,null,null,null,null,{"$f":"IF(COUNTA(Tabela1[#This Row]) > 0, IF(Tabela1[[#This Row],[TIPO CARTÃO]]  = \"0-SEM CARTÃO\",IF(COUNTA(Tabela1[#This Row]) = 22, 0, 1),IF(COUNTA(Tabela1[#This Row]) = 18, 0, 1)), 0)","v":0},{"$f":"IF(X818 = 1, 0, IF(COUNTA(Tabela1[#This Row]) > 0, 1, 0))","v":0}]
[null,null,null,null,null,null,null,null,null,null,null,null,null,null,null,null,null,null,null,null,null,null,null,{"$f":"IF(COUNTA(Tabela1[#This Row]) > 0, IF(Tabela1[[#This Row],[TIPO CARTÃO]]  = \"0-SEM CARTÃO\",IF(COUNTA(Tabela1[#This Row]) = 22, 0, 1),IF(COUNTA(Tabela1[#This Row]) = 18, 0, 1)), 0)","v":0},{"$f":"IF(X819 = 1, 0, IF(COUNTA(Tabela1[#This Row]) > 0, 1, 0))","v":0}]
[null,null,null,null,null,null,null,null,null,null,null,null,null,null,null,null,null,null,null,null,null,null,null,{"$f":"IF(COUNTA(Tabela1[#This Row]) > 0, IF(Tabela1[[#This Row],[TIPO CARTÃO]]  = \"0-SEM CARTÃO\",IF(COUNTA(Tabela1[#This Row]) = 22, 0, 1),IF(COUNTA(Tabela1[#This Row]) = 18, 0, 1)), 0)","v":0},{"$f":"IF(X820 = 1, 0, IF(COUNTA(Tabela1[#This Row]) > 0, 1, 0))","v":0}]
[null,null,null,null,null,null,null,null,null,null,null,null,null,null,null,null,null,null,null,null,null,null,null,{"$f":"IF(COUNTA(Tabela1[#This Row]) > 0, IF(Tabela1[[#This Row],[TIPO CARTÃO]]  = \"0-SEM CARTÃO\",IF(COUNTA(Tabela1[#This Row]) = 22, 0, 1),IF(COUNTA(Tabela1[#This Row]) = 18, 0, 1)), 0)","v":0},{"$f":"IF(X821 = 1, 0, IF(COUNTA(Tabela1[#This Row]) > 0, 1, 0))","v":0}]
[null,null,null,null,null,null,null,null,null,null,null,null,null,null,null,null,null,null,null,null,null,null,null,{"$f":"IF(COUNTA(Tabela1[#This Row]) > 0, IF(Tabela1[[#This Row],[TIPO CARTÃO]]  = \"0-SEM CARTÃO\",IF(COUNTA(Tabela1[#This Row]) = 22, 0, 1),IF(COUNTA(Tabela1[#This Row]) = 18, 0, 1)), 0)","v":0},{"$f":"IF(X822 = 1, 0, IF(COUNTA(Tabela1[#This Row]) > 0, 1, 0))","v":0}]
[null,null,null,null,null,null,null,null,null,null,null,null,null,null,null,null,null,null,null,null,null,null,null,{"$f":"IF(COUNTA(Tabela1[#This Row]) > 0, IF(Tabela1[[#This Row],[TIPO CARTÃO]]  = \"0-SEM CARTÃO\",IF(COUNTA(Tabela1[#This Row]) = 22, 0, 1),IF(COUNTA(Tabela1[#This Row]) = 18, 0, 1)), 0)","v":0},{"$f":"IF(X823 = 1, 0, IF(COUNTA(Tabela1[#This Row]) > 0, 1, 0))","v":0}]
[null,null,null,null,null,null,null,null,null,null,null,null,null,null,null,null,null,null,null,null,null,null,null,{"$f":"IF(COUNTA(Tabela1[#This Row]) > 0, IF(Tabela1[[#This Row],[TIPO CARTÃO]]  = \"0-SEM CARTÃO\",IF(COUNTA(Tabela1[#This Row]) = 22, 0, 1),IF(COUNTA(Tabela1[#This Row]) = 18, 0, 1)), 0)","v":0},{"$f":"IF(X824 = 1, 0, IF(COUNTA(Tabela1[#This Row]) > 0, 1, 0))","v":0}]
[null,null,null,null,null,null,null,null,null,null,null,null,null,null,null,null,null,null,null,null,null,null,null,{"$f":"IF(COUNTA(Tabela1[#This Row]) > 0, IF(Tabela1[[#This Row],[TIPO CARTÃO]]  = \"0-SEM CARTÃO\",IF(COUNTA(Tabela1[#This Row]) = 22, 0, 1),IF(COUNTA(Tabela1[#This Row]) = 18, 0, 1)), 0)","v":0},{"$f":"IF(X825 = 1, 0, IF(COUNTA(Tabela1[#This Row]) > 0, 1, 0))","v":0}]
[null,null,null,null,null,null,null,null,null,null,null,null,null,null,null,null,null,null,null,null,null,null,null,{"$f":"IF(COUNTA(Tabela1[#This Row]) > 0, IF(Tabela1[[#This Row],[TIPO CARTÃO]]  = \"0-SEM CARTÃO\",IF(COUNTA(Tabela1[#This Row]) = 22, 0, 1),IF(COUNTA(Tabela1[#This Row]) = 18, 0, 1)), 0)","v":0},{"$f":"IF(X826 = 1, 0, IF(COUNTA(Tabela1[#This Row]) > 0, 1, 0))","v":0}]
[null,null,null,null,null,null,null,null,null,null,null,null,null,null,null,null,null,null,null,null,null,null,null,{"$f":"IF(COUNTA(Tabela1[#This Row]) > 0, IF(Tabela1[[#This Row],[TIPO CARTÃO]]  = \"0-SEM CARTÃO\",IF(COUNTA(Tabela1[#This Row]) = 22, 0, 1),IF(COUNTA(Tabela1[#This Row]) = 18, 0, 1)), 0)","v":0},{"$f":"IF(X827 = 1, 0, IF(COUNTA(Tabela1[#This Row]) > 0, 1, 0))","v":0}]
[null,null,null,null,null,null,null,null,null,null,null,null,null,null,null,null,null,null,null,null,null,null,null,{"$f":"IF(COUNTA(Tabela1[#This Row]) > 0, IF(Tabela1[[#This Row],[TIPO CARTÃO]]  = \"0-SEM CARTÃO\",IF(COUNTA(Tabela1[#This Row]) = 22, 0, 1),IF(COUNTA(Tabela1[#This Row]) = 18, 0, 1)), 0)","v":0},{"$f":"IF(X828 = 1, 0, IF(COUNTA(Tabela1[#This Row]) > 0, 1, 0))","v":0}]
[null,null,null,null,null,null,null,null,null,null,null,null,null,null,null,null,null,null,null,null,null,null,null,{"$f":"IF(COUNTA(Tabela1[#This Row]) > 0, IF(Tabela1[[#This Row],[TIPO CARTÃO]]  = \"0-SEM CARTÃO\",IF(COUNTA(Tabela1[#This Row]) = 22, 0, 1),IF(COUNTA(Tabela1[#This Row]) = 18, 0, 1)), 0)","v":0},{"$f":"IF(X829 = 1, 0, IF(COUNTA(Tabela1[#This Row]) > 0, 1, 0))","v":0}]
[null,null,null,null,null,null,null,null,null,null,null,null,null,null,null,null,null,null,null,null,null,null,null,{"$f":"IF(COUNTA(Tabela1[#This Row]) > 0, IF(Tabela1[[#This Row],[TIPO CARTÃO]]  = \"0-SEM CARTÃO\",IF(COUNTA(Tabela1[#This Row]) = 22, 0, 1),IF(COUNTA(Tabela1[#This Row]) = 18, 0, 1)), 0)","v":0},{"$f":"IF(X830 = 1, 0, IF(COUNTA(Tabela1[#This Row]) > 0, 1, 0))","v":0}]
[null,null,null,null,null,null,null,null,null,null,null,null,null,null,null,null,null,null,null,null,null,null,null,{"$f":"IF(COUNTA(Tabela1[#This Row]) > 0, IF(Tabela1[[#This Row],[TIPO CARTÃO]]  = \"0-SEM CARTÃO\",IF(COUNTA(Tabela1[#This Row]) = 22, 0, 1),IF(COUNTA(Tabela1[#This Row]) = 18, 0, 1)), 0)","v":0},{"$f":"IF(X831 = 1, 0, IF(COUNTA(Tabela1[#This Row]) > 0, 1, 0))","v":0}]
[null,null,null,null,null,null,null,null,null,null,null,null,null,null,null,null,null,null,null,null,null,null,null,{"$f":"IF(COUNTA(Tabela1[#This Row]) > 0, IF(Tabela1[[#This Row],[TIPO CARTÃO]]  = \"0-SEM CARTÃO\",IF(COUNTA(Tabela1[#This Row]) = 22, 0, 1),IF(COUNTA(Tabela1[#This Row]) = 18, 0, 1)), 0)","v":0},{"$f":"IF(X832 = 1, 0, IF(COUNTA(Tabela1[#This Row]) > 0, 1, 0))","v":0}]
[null,null,null,null,null,null,null,null,null,null,null,null,null,null,null,null,null,null,null,null,null,null,null,{"$f":"IF(COUNTA(Tabela1[#This Row]) > 0, IF(Tabela1[[#This Row],[TIPO CARTÃO]]  = \"0-SEM CARTÃO\",IF(COUNTA(Tabela1[#This Row]) = 22, 0, 1),IF(COUNTA(Tabela1[#This Row]) = 18, 0, 1)), 0)","v":0},{"$f":"IF(X833 = 1, 0, IF(COUNTA(Tabela1[#This Row]) > 0, 1, 0))","v":0}]
[null,null,null,null,null,null,null,null,null,null,null,null,null,null,null,null,null,null,null,null,null,null,null,{"$f":"IF(COUNTA(Tabela1[#This Row]) > 0, IF(Tabela1[[#This Row],[TIPO CARTÃO]]  = \"0-SEM CARTÃO\",IF(COUNTA(Tabela1[#This Row]) = 22, 0, 1),IF(COUNTA(Tabela1[#This Row]) = 18, 0, 1)), 0)","v":0},{"$f":"IF(X834 = 1, 0, IF(COUNTA(Tabela1[#This Row]) > 0, 1, 0))","v":0}]
[null,null,null,null,null,null,null,null,null,null,null,null,null,null,null,null,null,null,null,null,null,null,null,{"$f":"IF(COUNTA(Tabela1[#This Row]) > 0, IF(Tabela1[[#This Row],[TIPO CARTÃO]]  = \"0-SEM CARTÃO\",IF(COUNTA(Tabela1[#This Row]) = 22, 0, 1),IF(COUNTA(Tabela1[#This Row]) = 18, 0, 1)), 0)","v":0},{"$f":"IF(X835 = 1, 0, IF(COUNTA(Tabela1[#This Row]) > 0, 1, 0))","v":0}]
[null,null,null,null,null,null,null,null,null,null,null,null,null,null,null,null,null,null,null,null,null,null,null,{"$f":"IF(COUNTA(Tabela1[#This Row]) > 0, IF(Tabela1[[#This Row],[TIPO CARTÃO]]  = \"0-SEM CARTÃO\",IF(COUNTA(Tabela1[#This Row]) = 22, 0, 1),IF(COUNTA(Tabela1[#This Row]) = 18, 0, 1)), 0)","v":0},{"$f":"IF(X836 = 1, 0, IF(COUNTA(Tabela1[#This Row]) > 0, 1, 0))","v":0}]
[null,null,null,null,null,null,null,null,null,null,null,null,null,null,null,null,null,null,null,null,null,null,null,{"$f":"IF(COUNTA(Tabela1[#This Row]) > 0, IF(Tabela1[[#This Row],[TIPO CARTÃO]]  = \"0-SEM CARTÃO\",IF(COUNTA(Tabela1[#This Row]) = 22, 0, 1),IF(COUNTA(Tabela1[#This Row]) = 18, 0, 1)), 0)","v":0},{"$f":"IF(X837 = 1, 0, IF(COUNTA(Tabela1[#This Row]) > 0, 1, 0))","v":0}]
[null,null,null,null,null,null,null,null,null,null,null,null,null,null,null,null,null,null,null,null,null,null,null,{"$f":"IF(COUNTA(Tabela1[#This Row]) > 0, IF(Tabela1[[#This Row],[TIPO CARTÃO]]  = \"0-SEM CARTÃO\",IF(COUNTA(Tabela1[#This Row]) = 22, 0, 1),IF(COUNTA(Tabela1[#This Row]) = 18, 0, 1)), 0)","v":0},{"$f":"IF(X838 = 1, 0, IF(COUNTA(Tabela1[#This Row]) > 0, 1, 0))","v":0}]
[null,null,null,null,null,null,null,null,null,null,null,null,null,null,null,null,null,null,null,null,null,null,null,{"$f":"IF(COUNTA(Tabela1[#This Row]) > 0, IF(Tabela1[[#This Row],[TIPO CARTÃO]]  = \"0-SEM CARTÃO\",IF(COUNTA(Tabela1[#This Row]) = 22, 0, 1),IF(COUNTA(Tabela1[#This Row]) = 18, 0, 1)), 0)","v":0},{"$f":"IF(X839 = 1, 0, IF(COUNTA(Tabela1[#This Row]) > 0, 1, 0))","v":0}]
[null,null,null,null,null,null,null,null,null,null,null,null,null,null,null,null,null,null,null,null,null,null,null,{"$f":"IF(COUNTA(Tabela1[#This Row]) > 0, IF(Tabela1[[#This Row],[TIPO CARTÃO]]  = \"0-SEM CARTÃO\",IF(COUNTA(Tabela1[#This Row]) = 22, 0, 1),IF(COUNTA(Tabela1[#This Row]) = 18, 0, 1)), 0)","v":0},{"$f":"IF(X840 = 1, 0, IF(COUNTA(Tabela1[#This Row]) > 0, 1, 0))","v":0}]
[null,null,null,null,null,null,null,null,null,null,null,null,null,null,null,null,null,null,null,null,null,null,null,{"$f":"IF(COUNTA(Tabela1[#This Row]) > 0, IF(Tabela1[[#This Row],[TIPO CARTÃO]]  = \"0-SEM CARTÃO\",IF(COUNTA(Tabela1[#This Row]) = 22, 0, 1),IF(COUNTA(Tabela1[#This Row]) = 18, 0, 1)), 0)","v":0},{"$f":"IF(X841 = 1, 0, IF(COUNTA(Tabela1[#This Row]) > 0, 1, 0))","v":0}]
[null,null,null,null,null,null,null,null,null,null,null,null,null,null,null,null,null,null,null,null,null,null,null,{"$f":"IF(COUNTA(Tabela1[#This Row]) > 0, IF(Tabela1[[#This Row],[TIPO CARTÃO]]  = \"0-SEM CARTÃO\",IF(COUNTA(Tabela1[#This Row]) = 22, 0, 1),IF(COUNTA(Tabela1[#This Row]) = 18, 0, 1)), 0)","v":0},{"$f":"IF(X842 = 1, 0, IF(COUNTA(Tabela1[#This Row]) > 0, 1, 0))","v":0}]
[null,null,null,null,null,null,null,null,null,null,null,null,null,null,null,null,null,null,null,null,null,null,null,{"$f":"IF(COUNTA(Tabela1[#This Row]) > 0, IF(Tabela1[[#This Row],[TIPO CARTÃO]]  = \"0-SEM CARTÃO\",IF(COUNTA(Tabela1[#This Row]) = 22, 0, 1),IF(COUNTA(Tabela1[#This Row]) = 18, 0, 1)), 0)","v":0},{"$f":"IF(X843 = 1, 0, IF(COUNTA(Tabela1[#This Row]) > 0, 1, 0))","v":0}]
[null,null,null,null,null,null,null,null,null,null,null,null,null,null,null,null,null,null,null,null,null,null,null,{"$f":"IF(COUNTA(Tabela1[#This Row]) > 0, IF(Tabela1[[#This Row],[TIPO CARTÃO]]  = \"0-SEM CARTÃO\",IF(COUNTA(Tabela1[#This Row]) = 22, 0, 1),IF(COUNTA(Tabela1[#This Row]) = 18, 0, 1)), 0)","v":0},{"$f":"IF(X844 = 1, 0, IF(COUNTA(Tabela1[#This Row]) > 0, 1, 0))","v":0}]
[null,null,null,null,null,null,null,null,null,null,null,null,null,null,null,null,null,null,null,null,null,null,null,{"$f":"IF(COUNTA(Tabela1[#This Row]) > 0, IF(Tabela1[[#This Row],[TIPO CARTÃO]]  = \"0-SEM CARTÃO\",IF(COUNTA(Tabela1[#This Row]) = 22, 0, 1),IF(COUNTA(Tabela1[#This Row]) = 18, 0, 1)), 0)","v":0},{"$f":"IF(X845 = 1, 0, IF(COUNTA(Tabela1[#This Row]) > 0, 1, 0))","v":0}]
[null,null,null,null,null,null,null,null,null,null,null,null,null,null,null,null,null,null,null,null,null,null,null,{"$f":"IF(COUNTA(Tabela1[#This Row]) > 0, IF(Tabela1[[#This Row],[TIPO CARTÃO]]  = \"0-SEM CARTÃO\",IF(COUNTA(Tabela1[#This Row]) = 22, 0, 1),IF(COUNTA(Tabela1[#This Row]) = 18, 0, 1)), 0)","v":0},{"$f":"IF(X846 = 1, 0, IF(COUNTA(Tabela1[#This Row]) > 0, 1, 0))","v":0}]
[null,null,null,null,null,null,null,null,null,null,null,null,null,null,null,null,null,null,null,null,null,null,null,{"$f":"IF(COUNTA(Tabela1[#This Row]) > 0, IF(Tabela1[[#This Row],[TIPO CARTÃO]]  = \"0-SEM CARTÃO\",IF(COUNTA(Tabela1[#This Row]) = 22, 0, 1),IF(COUNTA(Tabela1[#This Row]) = 18, 0, 1)), 0)","v":0},{"$f":"IF(X847 = 1, 0, IF(COUNTA(Tabela1[#This Row]) > 0, 1, 0))","v":0}]
[null,null,null,null,null,null,null,null,null,null,null,null,null,null,null,null,null,null,null,null,null,null,null,{"$f":"IF(COUNTA(Tabela1[#This Row]) > 0, IF(Tabela1[[#This Row],[TIPO CARTÃO]]  = \"0-SEM CARTÃO\",IF(COUNTA(Tabela1[#This Row]) = 22, 0, 1),IF(COUNTA(Tabela1[#This Row]) = 18, 0, 1)), 0)","v":0},{"$f":"IF(X848 = 1, 0, IF(COUNTA(Tabela1[#This Row]) > 0, 1, 0))","v":0}]
[null,null,null,null,null,null,null,null,null,null,null,null,null,null,null,null,null,null,null,null,null,null,null,{"$f":"IF(COUNTA(Tabela1[#This Row]) > 0, IF(Tabela1[[#This Row],[TIPO CARTÃO]]  = \"0-SEM CARTÃO\",IF(COUNTA(Tabela1[#This Row]) = 22, 0, 1),IF(COUNTA(Tabela1[#This Row]) = 18, 0, 1)), 0)","v":0},{"$f":"IF(X849 = 1, 0, IF(COUNTA(Tabela1[#This Row]) > 0, 1, 0))","v":0}]
[null,null,null,null,null,null,null,null,null,null,null,null,null,null,null,null,null,null,null,null,null,null,null,{"$f":"IF(COUNTA(Tabela1[#This Row]) > 0, IF(Tabela1[[#This Row],[TIPO CARTÃO]]  = \"0-SEM CARTÃO\",IF(COUNTA(Tabela1[#This Row]) = 22, 0, 1),IF(COUNTA(Tabela1[#This Row]) = 18, 0, 1)), 0)","v":0},{"$f":"IF(X850 = 1, 0, IF(COUNTA(Tabela1[#This Row]) > 0, 1, 0))","v":0}]
[null,null,null,null,null,null,null,null,null,null,null,null,null,null,null,null,null,null,null,null,null,null,null,{"$f":"IF(COUNTA(Tabela1[#This Row]) > 0, IF(Tabela1[[#This Row],[TIPO CARTÃO]]  = \"0-SEM CARTÃO\",IF(COUNTA(Tabela1[#This Row]) = 22, 0, 1),IF(COUNTA(Tabela1[#This Row]) = 18, 0, 1)), 0)","v":0},{"$f":"IF(X851 = 1, 0, IF(COUNTA(Tabela1[#This Row]) > 0, 1, 0))","v":0}]
[null,null,null,null,null,null,null,null,null,null,null,null,null,null,null,null,null,null,null,null,null,null,null,{"$f":"IF(COUNTA(Tabela1[#This Row]) > 0, IF(Tabela1[[#This Row],[TIPO CARTÃO]]  = \"0-SEM CARTÃO\",IF(COUNTA(Tabela1[#This Row]) = 22, 0, 1),IF(COUNTA(Tabela1[#This Row]) = 18, 0, 1)), 0)","v":0},{"$f":"IF(X852 = 1, 0, IF(COUNTA(Tabela1[#This Row]) > 0, 1, 0))","v":0}]
[null,null,null,null,null,null,null,null,null,null,null,null,null,null,null,null,null,null,null,null,null,null,null,{"$f":"IF(COUNTA(Tabela1[#This Row]) > 0, IF(Tabela1[[#This Row],[TIPO CARTÃO]]  = \"0-SEM CARTÃO\",IF(COUNTA(Tabela1[#This Row]) = 22, 0, 1),IF(COUNTA(Tabela1[#This Row]) = 18, 0, 1)), 0)","v":0},{"$f":"IF(X853 = 1, 0, IF(COUNTA(Tabela1[#This Row]) > 0, 1, 0))","v":0}]
[null,null,null,null,null,null,null,null,null,null,null,null,null,null,null,null,null,null,null,null,null,null,null,{"$f":"IF(COUNTA(Tabela1[#This Row]) > 0, IF(Tabela1[[#This Row],[TIPO CARTÃO]]  = \"0-SEM CARTÃO\",IF(COUNTA(Tabela1[#This Row]) = 22, 0, 1),IF(COUNTA(Tabela1[#This Row]) = 18, 0, 1)), 0)","v":0},{"$f":"IF(X854 = 1, 0, IF(COUNTA(Tabela1[#This Row]) > 0, 1, 0))","v":0}]
[null,null,null,null,null,null,null,null,null,null,null,null,null,null,null,null,null,null,null,null,null,null,null,{"$f":"IF(COUNTA(Tabela1[#This Row]) > 0, IF(Tabela1[[#This Row],[TIPO CARTÃO]]  = \"0-SEM CARTÃO\",IF(COUNTA(Tabela1[#This Row]) = 22, 0, 1),IF(COUNTA(Tabela1[#This Row]) = 18, 0, 1)), 0)","v":0},{"$f":"IF(X855 = 1, 0, IF(COUNTA(Tabela1[#This Row]) > 0, 1, 0))","v":0}]
[null,null,null,null,null,null,null,null,null,null,null,null,null,null,null,null,null,null,null,null,null,null,null,{"$f":"IF(COUNTA(Tabela1[#This Row]) > 0, IF(Tabela1[[#This Row],[TIPO CARTÃO]]  = \"0-SEM CARTÃO\",IF(COUNTA(Tabela1[#This Row]) = 22, 0, 1),IF(COUNTA(Tabela1[#This Row]) = 18, 0, 1)), 0)","v":0},{"$f":"IF(X856 = 1, 0, IF(COUNTA(Tabela1[#This Row]) > 0, 1, 0))","v":0}]
[null,null,null,null,null,null,null,null,null,null,null,null,null,null,null,null,null,null,null,null,null,null,null,{"$f":"IF(COUNTA(Tabela1[#This Row]) > 0, IF(Tabela1[[#This Row],[TIPO CARTÃO]]  = \"0-SEM CARTÃO\",IF(COUNTA(Tabela1[#This Row]) = 22, 0, 1),IF(COUNTA(Tabela1[#This Row]) = 18, 0, 1)), 0)","v":0},{"$f":"IF(X857 = 1, 0, IF(COUNTA(Tabela1[#This Row]) > 0, 1, 0))","v":0}]
[null,null,null,null,null,null,null,null,null,null,null,null,null,null,null,null,null,null,null,null,null,null,null,{"$f":"IF(COUNTA(Tabela1[#This Row]) > 0, IF(Tabela1[[#This Row],[TIPO CARTÃO]]  = \"0-SEM CARTÃO\",IF(COUNTA(Tabela1[#This Row]) = 22, 0, 1),IF(COUNTA(Tabela1[#This Row]) = 18, 0, 1)), 0)","v":0},{"$f":"IF(X858 = 1, 0, IF(COUNTA(Tabela1[#This Row]) > 0, 1, 0))","v":0}]
[null,null,null,null,null,null,null,null,null,null,null,null,null,null,null,null,null,null,null,null,null,null,null,{"$f":"IF(COUNTA(Tabela1[#This Row]) > 0, IF(Tabela1[[#This Row],[TIPO CARTÃO]]  = \"0-SEM CARTÃO\",IF(COUNTA(Tabela1[#This Row]) = 22, 0, 1),IF(COUNTA(Tabela1[#This Row]) = 18, 0, 1)), 0)","v":0},{"$f":"IF(X859 = 1, 0, IF(COUNTA(Tabela1[#This Row]) > 0, 1, 0))","v":0}]
[null,null,null,null,null,null,null,null,null,null,null,null,null,null,null,null,null,null,null,null,null,null,null,{"$f":"IF(COUNTA(Tabela1[#This Row]) > 0, IF(Tabela1[[#This Row],[TIPO CARTÃO]]  = \"0-SEM CARTÃO\",IF(COUNTA(Tabela1[#This Row]) = 22, 0, 1),IF(COUNTA(Tabela1[#This Row]) = 18, 0, 1)), 0)","v":0},{"$f":"IF(X860 = 1, 0, IF(COUNTA(Tabela1[#This Row]) > 0, 1, 0))","v":0}]
[null,null,null,null,null,null,null,null,null,null,null,null,null,null,null,null,null,null,null,null,null,null,null,{"$f":"IF(COUNTA(Tabela1[#This Row]) > 0, IF(Tabela1[[#This Row],[TIPO CARTÃO]]  = \"0-SEM CARTÃO\",IF(COUNTA(Tabela1[#This Row]) = 22, 0, 1),IF(COUNTA(Tabela1[#This Row]) = 18, 0, 1)), 0)","v":0},{"$f":"IF(X861 = 1, 0, IF(COUNTA(Tabela1[#This Row]) > 0, 1, 0))","v":0}]
[null,null,null,null,null,null,null,null,null,null,null,null,null,null,null,null,null,null,null,null,null,null,null,{"$f":"IF(COUNTA(Tabela1[#This Row]) > 0, IF(Tabela1[[#This Row],[TIPO CARTÃO]]  = \"0-SEM CARTÃO\",IF(COUNTA(Tabela1[#This Row]) = 22, 0, 1),IF(COUNTA(Tabela1[#This Row]) = 18, 0, 1)), 0)","v":0},{"$f":"IF(X862 = 1, 0, IF(COUNTA(Tabela1[#This Row]) > 0, 1, 0))","v":0}]
[null,null,null,null,null,null,null,null,null,null,null,null,null,null,null,null,null,null,null,null,null,null,null,{"$f":"IF(COUNTA(Tabela1[#This Row]) > 0, IF(Tabela1[[#This Row],[TIPO CARTÃO]]  = \"0-SEM CARTÃO\",IF(COUNTA(Tabela1[#This Row]) = 22, 0, 1),IF(COUNTA(Tabela1[#This Row]) = 18, 0, 1)), 0)","v":0},{"$f":"IF(X863 = 1, 0, IF(COUNTA(Tabela1[#This Row]) > 0, 1, 0))","v":0}]
[null,null,null,null,null,null,null,null,null,null,null,null,null,null,null,null,null,null,null,null,null,null,null,{"$f":"IF(COUNTA(Tabela1[#This Row]) > 0, IF(Tabela1[[#This Row],[TIPO CARTÃO]]  = \"0-SEM CARTÃO\",IF(COUNTA(Tabela1[#This Row]) = 22, 0, 1),IF(COUNTA(Tabela1[#This Row]) = 18, 0, 1)), 0)","v":0},{"$f":"IF(X864 = 1, 0, IF(COUNTA(Tabela1[#This Row]) > 0, 1, 0))","v":0}]
[null,null,null,null,null,null,null,null,null,null,null,null,null,null,null,null,null,null,null,null,null,null,null,{"$f":"IF(COUNTA(Tabela1[#This Row]) > 0, IF(Tabela1[[#This Row],[TIPO CARTÃO]]  = \"0-SEM CARTÃO\",IF(COUNTA(Tabela1[#This Row]) = 22, 0, 1),IF(COUNTA(Tabela1[#This Row]) = 18, 0, 1)), 0)","v":0},{"$f":"IF(X865 = 1, 0, IF(COUNTA(Tabela1[#This Row]) > 0, 1, 0))","v":0}]
[null,null,null,null,null,null,null,null,null,null,null,null,null,null,null,null,null,null,null,null,null,null,null,{"$f":"IF(COUNTA(Tabela1[#This Row]) > 0, IF(Tabela1[[#This Row],[TIPO CARTÃO]]  = \"0-SEM CARTÃO\",IF(COUNTA(Tabela1[#This Row]) = 22, 0, 1),IF(COUNTA(Tabela1[#This Row]) = 18, 0, 1)), 0)","v":0},{"$f":"IF(X866 = 1, 0, IF(COUNTA(Tabela1[#This Row]) > 0, 1, 0))","v":0}]
[null,null,null,null,null,null,null,null,null,null,null,null,null,null,null,null,null,null,null,null,null,null,null,{"$f":"IF(COUNTA(Tabela1[#This Row]) > 0, IF(Tabela1[[#This Row],[TIPO CARTÃO]]  = \"0-SEM CARTÃO\",IF(COUNTA(Tabela1[#This Row]) = 22, 0, 1),IF(COUNTA(Tabela1[#This Row]) = 18, 0, 1)), 0)","v":0},{"$f":"IF(X867 = 1, 0, IF(COUNTA(Tabela1[#This Row]) > 0, 1, 0))","v":0}]
[null,null,null,null,null,null,null,null,null,null,null,null,null,null,null,null,null,null,null,null,null,null,null,{"$f":"IF(COUNTA(Tabela1[#This Row]) > 0, IF(Tabela1[[#This Row],[TIPO CARTÃO]]  = \"0-SEM CARTÃO\",IF(COUNTA(Tabela1[#This Row]) = 22, 0, 1),IF(COUNTA(Tabela1[#This Row]) = 18, 0, 1)), 0)","v":0},{"$f":"IF(X868 = 1, 0, IF(COUNTA(Tabela1[#This Row]) > 0, 1, 0))","v":0}]
[null,null,null,null,null,null,null,null,null,null,null,null,null,null,null,null,null,null,null,null,null,null,null,{"$f":"IF(COUNTA(Tabela1[#This Row]) > 0, IF(Tabela1[[#This Row],[TIPO CARTÃO]]  = \"0-SEM CARTÃO\",IF(COUNTA(Tabela1[#This Row]) = 22, 0, 1),IF(COUNTA(Tabela1[#This Row]) = 18, 0, 1)), 0)","v":0},{"$f":"IF(X869 = 1, 0, IF(COUNTA(Tabela1[#This Row]) > 0, 1, 0))","v":0}]
[null,null,null,null,null,null,null,null,null,null,null,null,null,null,null,null,null,null,null,null,null,null,null,{"$f":"IF(COUNTA(Tabela1[#This Row]) > 0, IF(Tabela1[[#This Row],[TIPO CARTÃO]]  = \"0-SEM CARTÃO\",IF(COUNTA(Tabela1[#This Row]) = 22, 0, 1),IF(COUNTA(Tabela1[#This Row]) = 18, 0, 1)), 0)","v":0},{"$f":"IF(X870 = 1, 0, IF(COUNTA(Tabela1[#This Row]) > 0, 1, 0))","v":0}]
[null,null,null,null,null,null,null,null,null,null,null,null,null,null,null,null,null,null,null,null,null,null,null,{"$f":"IF(COUNTA(Tabela1[#This Row]) > 0, IF(Tabela1[[#This Row],[TIPO CARTÃO]]  = \"0-SEM CARTÃO\",IF(COUNTA(Tabela1[#This Row]) = 22, 0, 1),IF(COUNTA(Tabela1[#This Row]) = 18, 0, 1)), 0)","v":0},{"$f":"IF(X871 = 1, 0, IF(COUNTA(Tabela1[#This Row]) > 0, 1, 0))","v":0}]
[null,null,null,null,null,null,null,null,null,null,null,null,null,null,null,null,null,null,null,null,null,null,null,{"$f":"IF(COUNTA(Tabela1[#This Row]) > 0, IF(Tabela1[[#This Row],[TIPO CARTÃO]]  = \"0-SEM CARTÃO\",IF(COUNTA(Tabela1[#This Row]) = 22, 0, 1),IF(COUNTA(Tabela1[#This Row]) = 18, 0, 1)), 0)","v":0},{"$f":"IF(X872 = 1, 0, IF(COUNTA(Tabela1[#This Row]) > 0, 1, 0))","v":0}]
[null,null,null,null,null,null,null,null,null,null,null,null,null,null,null,null,null,null,null,null,null,null,null,{"$f":"IF(COUNTA(Tabela1[#This Row]) > 0, IF(Tabela1[[#This Row],[TIPO CARTÃO]]  = \"0-SEM CARTÃO\",IF(COUNTA(Tabela1[#This Row]) = 22, 0, 1),IF(COUNTA(Tabela1[#This Row]) = 18, 0, 1)), 0)","v":0},{"$f":"IF(X873 = 1, 0, IF(COUNTA(Tabela1[#This Row]) > 0, 1, 0))","v":0}]
[null,null,null,null,null,null,null,null,null,null,null,null,null,null,null,null,null,null,null,null,null,null,null,{"$f":"IF(COUNTA(Tabela1[#This Row]) > 0, IF(Tabela1[[#This Row],[TIPO CARTÃO]]  = \"0-SEM CARTÃO\",IF(COUNTA(Tabela1[#This Row]) = 22, 0, 1),IF(COUNTA(Tabela1[#This Row]) = 18, 0, 1)), 0)","v":0},{"$f":"IF(X874 = 1, 0, IF(COUNTA(Tabela1[#This Row]) > 0, 1, 0))","v":0}]
[null,null,null,null,null,null,null,null,null,null,null,null,null,null,null,null,null,null,null,null,null,null,null,{"$f":"IF(COUNTA(Tabela1[#This Row]) > 0, IF(Tabela1[[#This Row],[TIPO CARTÃO]]  = \"0-SEM CARTÃO\",IF(COUNTA(Tabela1[#This Row]) = 22, 0, 1),IF(COUNTA(Tabela1[#This Row]) = 18, 0, 1)), 0)","v":0},{"$f":"IF(X875 = 1, 0, IF(COUNTA(Tabela1[#This Row]) > 0, 1, 0))","v":0}]
[null,null,null,null,null,null,null,null,null,null,null,null,null,null,null,null,null,null,null,null,null,null,null,{"$f":"IF(COUNTA(Tabela1[#This Row]) > 0, IF(Tabela1[[#This Row],[TIPO CARTÃO]]  = \"0-SEM CARTÃO\",IF(COUNTA(Tabela1[#This Row]) = 22, 0, 1),IF(COUNTA(Tabela1[#This Row]) = 18, 0, 1)), 0)","v":0},{"$f":"IF(X876 = 1, 0, IF(COUNTA(Tabela1[#This Row]) > 0, 1, 0))","v":0}]
[null,null,null,null,null,null,null,null,null,null,null,null,null,null,null,null,null,null,null,null,null,null,null,{"$f":"IF(COUNTA(Tabela1[#This Row]) > 0, IF(Tabela1[[#This Row],[TIPO CARTÃO]]  = \"0-SEM CARTÃO\",IF(COUNTA(Tabela1[#This Row]) = 22, 0, 1),IF(COUNTA(Tabela1[#This Row]) = 18, 0, 1)), 0)","v":0},{"$f":"IF(X877 = 1, 0, IF(COUNTA(Tabela1[#This Row]) > 0, 1, 0))","v":0}]
[null,null,null,null,null,null,null,null,null,null,null,null,null,null,null,null,null,null,null,null,null,null,null,{"$f":"IF(COUNTA(Tabela1[#This Row]) > 0, IF(Tabela1[[#This Row],[TIPO CARTÃO]]  = \"0-SEM CARTÃO\",IF(COUNTA(Tabela1[#This Row]) = 22, 0, 1),IF(COUNTA(Tabela1[#This Row]) = 18, 0, 1)), 0)","v":0},{"$f":"IF(X878 = 1, 0, IF(COUNTA(Tabela1[#This Row]) > 0, 1, 0))","v":0}]
[null,null,null,null,null,null,null,null,null,null,null,null,null,null,null,null,null,null,null,null,null,null,null,{"$f":"IF(COUNTA(Tabela1[#This Row]) > 0, IF(Tabela1[[#This Row],[TIPO CARTÃO]]  = \"0-SEM CARTÃO\",IF(COUNTA(Tabela1[#This Row]) = 22, 0, 1),IF(COUNTA(Tabela1[#This Row]) = 18, 0, 1)), 0)","v":0},{"$f":"IF(X879 = 1, 0, IF(COUNTA(Tabela1[#This Row]) > 0, 1, 0))","v":0}]
[null,null,null,null,null,null,null,null,null,null,null,null,null,null,null,null,null,null,null,null,null,null,null,{"$f":"IF(COUNTA(Tabela1[#This Row]) > 0, IF(Tabela1[[#This Row],[TIPO CARTÃO]]  = \"0-SEM CARTÃO\",IF(COUNTA(Tabela1[#This Row]) = 22, 0, 1),IF(COUNTA(Tabela1[#This Row]) = 18, 0, 1)), 0)","v":0},{"$f":"IF(X880 = 1, 0, IF(COUNTA(Tabela1[#This Row]) > 0, 1, 0))","v":0}]
[null,null,null,null,null,null,null,null,null,null,null,null,null,null,null,null,null,null,null,null,null,null,null,{"$f":"IF(COUNTA(Tabela1[#This Row]) > 0, IF(Tabela1[[#This Row],[TIPO CARTÃO]]  = \"0-SEM CARTÃO\",IF(COUNTA(Tabela1[#This Row]) = 22, 0, 1),IF(COUNTA(Tabela1[#This Row]) = 18, 0, 1)), 0)","v":0},{"$f":"IF(X881 = 1, 0, IF(COUNTA(Tabela1[#This Row]) > 0, 1, 0))","v":0}]
[null,null,null,null,null,null,null,null,null,null,null,null,null,null,null,null,null,null,null,null,null,null,null,{"$f":"IF(COUNTA(Tabela1[#This Row]) > 0, IF(Tabela1[[#This Row],[TIPO CARTÃO]]  = \"0-SEM CARTÃO\",IF(COUNTA(Tabela1[#This Row]) = 22, 0, 1),IF(COUNTA(Tabela1[#This Row]) = 18, 0, 1)), 0)","v":0},{"$f":"IF(X882 = 1, 0, IF(COUNTA(Tabela1[#This Row]) > 0, 1, 0))","v":0}]
[null,null,null,null,null,null,null,null,null,null,null,null,null,null,null,null,null,null,null,null,null,null,null,{"$f":"IF(COUNTA(Tabela1[#This Row]) > 0, IF(Tabela1[[#This Row],[TIPO CARTÃO]]  = \"0-SEM CARTÃO\",IF(COUNTA(Tabela1[#This Row]) = 22, 0, 1),IF(COUNTA(Tabela1[#This Row]) = 18, 0, 1)), 0)","v":0},{"$f":"IF(X883 = 1, 0, IF(COUNTA(Tabela1[#This Row]) > 0, 1, 0))","v":0}]
[null,null,null,null,null,null,null,null,null,null,null,null,null,null,null,null,null,null,null,null,null,null,null,{"$f":"IF(COUNTA(Tabela1[#This Row]) > 0, IF(Tabela1[[#This Row],[TIPO CARTÃO]]  = \"0-SEM CARTÃO\",IF(COUNTA(Tabela1[#This Row]) = 22, 0, 1),IF(COUNTA(Tabela1[#This Row]) = 18, 0, 1)), 0)","v":0},{"$f":"IF(X884 = 1, 0, IF(COUNTA(Tabela1[#This Row]) > 0, 1, 0))","v":0}]
[null,null,null,null,null,null,null,null,null,null,null,null,null,null,null,null,null,null,null,null,null,null,null,{"$f":"IF(COUNTA(Tabela1[#This Row]) > 0, IF(Tabela1[[#This Row],[TIPO CARTÃO]]  = \"0-SEM CARTÃO\",IF(COUNTA(Tabela1[#This Row]) = 22, 0, 1),IF(COUNTA(Tabela1[#This Row]) = 18, 0, 1)), 0)","v":0},{"$f":"IF(X885 = 1, 0, IF(COUNTA(Tabela1[#This Row]) > 0, 1, 0))","v":0}]
[null,null,null,null,null,null,null,null,null,null,null,null,null,null,null,null,null,null,null,null,null,null,null,{"$f":"IF(COUNTA(Tabela1[#This Row]) > 0, IF(Tabela1[[#This Row],[TIPO CARTÃO]]  = \"0-SEM CARTÃO\",IF(COUNTA(Tabela1[#This Row]) = 22, 0, 1),IF(COUNTA(Tabela1[#This Row]) = 18, 0, 1)), 0)","v":0},{"$f":"IF(X886 = 1, 0, IF(COUNTA(Tabela1[#This Row]) > 0, 1, 0))","v":0}]
[null,null,null,null,null,null,null,null,null,null,null,null,null,null,null,null,null,null,null,null,null,null,null,{"$f":"IF(COUNTA(Tabela1[#This Row]) > 0, IF(Tabela1[[#This Row],[TIPO CARTÃO]]  = \"0-SEM CARTÃO\",IF(COUNTA(Tabela1[#This Row]) = 22, 0, 1),IF(COUNTA(Tabela1[#This Row]) = 18, 0, 1)), 0)","v":0},{"$f":"IF(X887 = 1, 0, IF(COUNTA(Tabela1[#This Row]) > 0, 1, 0))","v":0}]
[null,null,null,null,null,null,null,null,null,null,null,null,null,null,null,null,null,null,null,null,null,null,null,{"$f":"IF(COUNTA(Tabela1[#This Row]) > 0, IF(Tabela1[[#This Row],[TIPO CARTÃO]]  = \"0-SEM CARTÃO\",IF(COUNTA(Tabela1[#This Row]) = 22, 0, 1),IF(COUNTA(Tabela1[#This Row]) = 18, 0, 1)), 0)","v":0},{"$f":"IF(X888 = 1, 0, IF(COUNTA(Tabela1[#This Row]) > 0, 1, 0))","v":0}]
[null,null,null,null,null,null,null,null,null,null,null,null,null,null,null,null,null,null,null,null,null,null,null,{"$f":"IF(COUNTA(Tabela1[#This Row]) > 0, IF(Tabela1[[#This Row],[TIPO CARTÃO]]  = \"0-SEM CARTÃO\",IF(COUNTA(Tabela1[#This Row]) = 22, 0, 1),IF(COUNTA(Tabela1[#This Row]) = 18, 0, 1)), 0)","v":0},{"$f":"IF(X889 = 1, 0, IF(COUNTA(Tabela1[#This Row]) > 0, 1, 0))","v":0}]
[null,null,null,null,null,null,null,null,null,null,null,null,null,null,null,null,null,null,null,null,null,null,null,{"$f":"IF(COUNTA(Tabela1[#This Row]) > 0, IF(Tabela1[[#This Row],[TIPO CARTÃO]]  = \"0-SEM CARTÃO\",IF(COUNTA(Tabela1[#This Row]) = 22, 0, 1),IF(COUNTA(Tabela1[#This Row]) = 18, 0, 1)), 0)","v":0},{"$f":"IF(X890 = 1, 0, IF(COUNTA(Tabela1[#This Row]) > 0, 1, 0))","v":0}]
[null,null,null,null,null,null,null,null,null,null,null,null,null,null,null,null,null,null,null,null,null,null,null,{"$f":"IF(COUNTA(Tabela1[#This Row]) > 0, IF(Tabela1[[#This Row],[TIPO CARTÃO]]  = \"0-SEM CARTÃO\",IF(COUNTA(Tabela1[#This Row]) = 22, 0, 1),IF(COUNTA(Tabela1[#This Row]) = 18, 0, 1)), 0)","v":0},{"$f":"IF(X891 = 1, 0, IF(COUNTA(Tabela1[#This Row]) > 0, 1, 0))","v":0}]
[null,null,null,null,null,null,null,null,null,null,null,null,null,null,null,null,null,null,null,null,null,null,null,{"$f":"IF(COUNTA(Tabela1[#This Row]) > 0, IF(Tabela1[[#This Row],[TIPO CARTÃO]]  = \"0-SEM CARTÃO\",IF(COUNTA(Tabela1[#This Row]) = 22, 0, 1),IF(COUNTA(Tabela1[#This Row]) = 18, 0, 1)), 0)","v":0},{"$f":"IF(X892 = 1, 0, IF(COUNTA(Tabela1[#This Row]) > 0, 1, 0))","v":0}]
[null,null,null,null,null,null,null,null,null,null,null,null,null,null,null,null,null,null,null,null,null,null,null,{"$f":"IF(COUNTA(Tabela1[#This Row]) > 0, IF(Tabela1[[#This Row],[TIPO CARTÃO]]  = \"0-SEM CARTÃO\",IF(COUNTA(Tabela1[#This Row]) = 22, 0, 1),IF(COUNTA(Tabela1[#This Row]) = 18, 0, 1)), 0)","v":0},{"$f":"IF(X893 = 1, 0, IF(COUNTA(Tabela1[#This Row]) > 0, 1, 0))","v":0}]
[null,null,null,null,null,null,null,null,null,null,null,null,null,null,null,null,null,null,null,null,null,null,null,{"$f":"IF(COUNTA(Tabela1[#This Row]) > 0, IF(Tabela1[[#This Row],[TIPO CARTÃO]]  = \"0-SEM CARTÃO\",IF(COUNTA(Tabela1[#This Row]) = 22, 0, 1),IF(COUNTA(Tabela1[#This Row]) = 18, 0, 1)), 0)","v":0},{"$f":"IF(X894 = 1, 0, IF(COUNTA(Tabela1[#This Row]) > 0, 1, 0))","v":0}]
[null,null,null,null,null,null,null,null,null,null,null,null,null,null,null,null,null,null,null,null,null,null,null,{"$f":"IF(COUNTA(Tabela1[#This Row]) > 0, IF(Tabela1[[#This Row],[TIPO CARTÃO]]  = \"0-SEM CARTÃO\",IF(COUNTA(Tabela1[#This Row]) = 22, 0, 1),IF(COUNTA(Tabela1[#This Row]) = 18, 0, 1)), 0)","v":0},{"$f":"IF(X895 = 1, 0, IF(COUNTA(Tabela1[#This Row]) > 0, 1, 0))","v":0}]
[null,null,null,null,null,null,null,null,null,null,null,null,null,null,null,null,null,null,null,null,null,null,null,{"$f":"IF(COUNTA(Tabela1[#This Row]) > 0, IF(Tabela1[[#This Row],[TIPO CARTÃO]]  = \"0-SEM CARTÃO\",IF(COUNTA(Tabela1[#This Row]) = 22, 0, 1),IF(COUNTA(Tabela1[#This Row]) = 18, 0, 1)), 0)","v":0},{"$f":"IF(X896 = 1, 0, IF(COUNTA(Tabela1[#This Row]) > 0, 1, 0))","v":0}]
[null,null,null,null,null,null,null,null,null,null,null,null,null,null,null,null,null,null,null,null,null,null,null,{"$f":"IF(COUNTA(Tabela1[#This Row]) > 0, IF(Tabela1[[#This Row],[TIPO CARTÃO]]  = \"0-SEM CARTÃO\",IF(COUNTA(Tabela1[#This Row]) = 22, 0, 1),IF(COUNTA(Tabela1[#This Row]) = 18, 0, 1)), 0)","v":0},{"$f":"IF(X897 = 1, 0, IF(COUNTA(Tabela1[#This Row]) > 0, 1, 0))","v":0}]
[null,null,null,null,null,null,null,null,null,null,null,null,null,null,null,null,null,null,null,null,null,null,null,{"$f":"IF(COUNTA(Tabela1[#This Row]) > 0, IF(Tabela1[[#This Row],[TIPO CARTÃO]]  = \"0-SEM CARTÃO\",IF(COUNTA(Tabela1[#This Row]) = 22, 0, 1),IF(COUNTA(Tabela1[#This Row]) = 18, 0, 1)), 0)","v":0},{"$f":"IF(X898 = 1, 0, IF(COUNTA(Tabela1[#This Row]) > 0, 1, 0))","v":0}]
[null,null,null,null,null,null,null,null,null,null,null,null,null,null,null,null,null,null,null,null,null,null,null,{"$f":"IF(COUNTA(Tabela1[#This Row]) > 0, IF(Tabela1[[#This Row],[TIPO CARTÃO]]  = \"0-SEM CARTÃO\",IF(COUNTA(Tabela1[#This Row]) = 22, 0, 1),IF(COUNTA(Tabela1[#This Row]) = 18, 0, 1)), 0)","v":0},{"$f":"IF(X899 = 1, 0, IF(COUNTA(Tabela1[#This Row]) > 0, 1, 0))","v":0}]
[null,null,null,null,null,null,null,null,null,null,null,null,null,null,null,null,null,null,null,null,null,null,null,{"$f":"IF(COUNTA(Tabela1[#This Row]) > 0, IF(Tabela1[[#This Row],[TIPO CARTÃO]]  = \"0-SEM CARTÃO\",IF(COUNTA(Tabela1[#This Row]) = 22, 0, 1),IF(COUNTA(Tabela1[#This Row]) = 18, 0, 1)), 0)","v":0},{"$f":"IF(X900 = 1, 0, IF(COUNTA(Tabela1[#This Row]) > 0, 1, 0))","v":0}]
[null,null,null,null,null,null,null,null,null,null,null,null,null,null,null,null,null,null,null,null,null,null,null,{"$f":"IF(COUNTA(Tabela1[#This Row]) > 0, IF(Tabela1[[#This Row],[TIPO CARTÃO]]  = \"0-SEM CARTÃO\",IF(COUNTA(Tabela1[#This Row]) = 22, 0, 1),IF(COUNTA(Tabela1[#This Row]) = 18, 0, 1)), 0)","v":0},{"$f":"IF(X901 = 1, 0, IF(COUNTA(Tabela1[#This Row]) > 0, 1, 0))","v":0}]
[null,null,null,null,null,null,null,null,null,null,null,null,null,null,null,null,null,null,null,null,null,null,null,{"$f":"IF(COUNTA(Tabela1[#This Row]) > 0, IF(Tabela1[[#This Row],[TIPO CARTÃO]]  = \"0-SEM CARTÃO\",IF(COUNTA(Tabela1[#This Row]) = 22, 0, 1),IF(COUNTA(Tabela1[#This Row]) = 18, 0, 1)), 0)","v":0},{"$f":"IF(X902 = 1, 0, IF(COUNTA(Tabela1[#This Row]) > 0, 1, 0))","v":0}]
[null,null,null,null,null,null,null,null,null,null,null,null,null,null,null,null,null,null,null,null,null,null,null,{"$f":"IF(COUNTA(Tabela1[#This Row]) > 0, IF(Tabela1[[#This Row],[TIPO CARTÃO]]  = \"0-SEM CARTÃO\",IF(COUNTA(Tabela1[#This Row]) = 22, 0, 1),IF(COUNTA(Tabela1[#This Row]) = 18, 0, 1)), 0)","v":0},{"$f":"IF(X903 = 1, 0, IF(COUNTA(Tabela1[#This Row]) > 0, 1, 0))","v":0}]
[null,null,null,null,null,null,null,null,null,null,null,null,null,null,null,null,null,null,null,null,null,null,null,{"$f":"IF(COUNTA(Tabela1[#This Row]) > 0, IF(Tabela1[[#This Row],[TIPO CARTÃO]]  = \"0-SEM CARTÃO\",IF(COUNTA(Tabela1[#This Row]) = 22, 0, 1),IF(COUNTA(Tabela1[#This Row]) = 18, 0, 1)), 0)","v":0},{"$f":"IF(X904 = 1, 0, IF(COUNTA(Tabela1[#This Row]) > 0, 1, 0))","v":0}]
[null,null,null,null,null,null,null,null,null,null,null,null,null,null,null,null,null,null,null,null,null,null,null,{"$f":"IF(COUNTA(Tabela1[#This Row]) > 0, IF(Tabela1[[#This Row],[TIPO CARTÃO]]  = \"0-SEM CARTÃO\",IF(COUNTA(Tabela1[#This Row]) = 22, 0, 1),IF(COUNTA(Tabela1[#This Row]) = 18, 0, 1)), 0)","v":0},{"$f":"IF(X905 = 1, 0, IF(COUNTA(Tabela1[#This Row]) > 0, 1, 0))","v":0}]
[null,null,null,null,null,null,null,null,null,null,null,null,null,null,null,null,null,null,null,null,null,null,null,{"$f":"IF(COUNTA(Tabela1[#This Row]) > 0, IF(Tabela1[[#This Row],[TIPO CARTÃO]]  = \"0-SEM CARTÃO\",IF(COUNTA(Tabela1[#This Row]) = 22, 0, 1),IF(COUNTA(Tabela1[#This Row]) = 18, 0, 1)), 0)","v":0},{"$f":"IF(X906 = 1, 0, IF(COUNTA(Tabela1[#This Row]) > 0, 1, 0))","v":0}]
[null,null,null,null,null,null,null,null,null,null,null,null,null,null,null,null,null,null,null,null,null,null,null,{"$f":"IF(COUNTA(Tabela1[#This Row]) > 0, IF(Tabela1[[#This Row],[TIPO CARTÃO]]  = \"0-SEM CARTÃO\",IF(COUNTA(Tabela1[#This Row]) = 22, 0, 1),IF(COUNTA(Tabela1[#This Row]) = 18, 0, 1)), 0)","v":0},{"$f":"IF(X907 = 1, 0, IF(COUNTA(Tabela1[#This Row]) > 0, 1, 0))","v":0}]
[null,null,null,null,null,null,null,null,null,null,null,null,null,null,null,null,null,null,null,null,null,null,null,{"$f":"IF(COUNTA(Tabela1[#This Row]) > 0, IF(Tabela1[[#This Row],[TIPO CARTÃO]]  = \"0-SEM CARTÃO\",IF(COUNTA(Tabela1[#This Row]) = 22, 0, 1),IF(COUNTA(Tabela1[#This Row]) = 18, 0, 1)), 0)","v":0},{"$f":"IF(X908 = 1, 0, IF(COUNTA(Tabela1[#This Row]) > 0, 1, 0))","v":0}]
[null,null,null,null,null,null,null,null,null,null,null,null,null,null,null,null,null,null,null,null,null,null,null,{"$f":"IF(COUNTA(Tabela1[#This Row]) > 0, IF(Tabela1[[#This Row],[TIPO CARTÃO]]  = \"0-SEM CARTÃO\",IF(COUNTA(Tabela1[#This Row]) = 22, 0, 1),IF(COUNTA(Tabela1[#This Row]) = 18, 0, 1)), 0)","v":0},{"$f":"IF(X909 = 1, 0, IF(COUNTA(Tabela1[#This Row]) > 0, 1, 0))","v":0}]
[null,null,null,null,null,null,null,null,null,null,null,null,null,null,null,null,null,null,null,null,null,null,null,{"$f":"IF(COUNTA(Tabela1[#This Row]) > 0, IF(Tabela1[[#This Row],[TIPO CARTÃO]]  = \"0-SEM CARTÃO\",IF(COUNTA(Tabela1[#This Row]) = 22, 0, 1),IF(COUNTA(Tabela1[#This Row]) = 18, 0, 1)), 0)","v":0},{"$f":"IF(X910 = 1, 0, IF(COUNTA(Tabela1[#This Row]) > 0, 1, 0))","v":0}]
[null,null,null,null,null,null,null,null,null,null,null,null,null,null,null,null,null,null,null,null,null,null,null,{"$f":"IF(COUNTA(Tabela1[#This Row]) > 0, IF(Tabela1[[#This Row],[TIPO CARTÃO]]  = \"0-SEM CARTÃO\",IF(COUNTA(Tabela1[#This Row]) = 22, 0, 1),IF(COUNTA(Tabela1[#This Row]) = 18, 0, 1)), 0)","v":0},{"$f":"IF(X911 = 1, 0, IF(COUNTA(Tabela1[#This Row]) > 0, 1, 0))","v":0}]
[null,null,null,null,null,null,null,null,null,null,null,null,null,null,null,null,null,null,null,null,null,null,null,{"$f":"IF(COUNTA(Tabela1[#This Row]) > 0, IF(Tabela1[[#This Row],[TIPO CARTÃO]]  = \"0-SEM CARTÃO\",IF(COUNTA(Tabela1[#This Row]) = 22, 0, 1),IF(COUNTA(Tabela1[#This Row]) = 18, 0, 1)), 0)","v":0},{"$f":"IF(X912 = 1, 0, IF(COUNTA(Tabela1[#This Row]) > 0, 1, 0))","v":0}]
[null,null,null,null,null,null,null,null,null,null,null,null,null,null,null,null,null,null,null,null,null,null,null,{"$f":"IF(COUNTA(Tabela1[#This Row]) > 0, IF(Tabela1[[#This Row],[TIPO CARTÃO]]  = \"0-SEM CARTÃO\",IF(COUNTA(Tabela1[#This Row]) = 22, 0, 1),IF(COUNTA(Tabela1[#This Row]) = 18, 0, 1)), 0)","v":0},{"$f":"IF(X913 = 1, 0, IF(COUNTA(Tabela1[#This Row]) > 0, 1, 0))","v":0}]
[null,null,null,null,null,null,null,null,null,null,null,null,null,null,null,null,null,null,null,null,null,null,null,{"$f":"IF(COUNTA(Tabela1[#This Row]) > 0, IF(Tabela1[[#This Row],[TIPO CARTÃO]]  = \"0-SEM CARTÃO\",IF(COUNTA(Tabela1[#This Row]) = 22, 0, 1),IF(COUNTA(Tabela1[#This Row]) = 18, 0, 1)), 0)","v":0},{"$f":"IF(X914 = 1, 0, IF(COUNTA(Tabela1[#This Row]) > 0, 1, 0))","v":0}]
[null,null,null,null,null,null,null,null,null,null,null,null,null,null,null,null,null,null,null,null,null,null,null,{"$f":"IF(COUNTA(Tabela1[#This Row]) > 0, IF(Tabela1[[#This Row],[TIPO CARTÃO]]  = \"0-SEM CARTÃO\",IF(COUNTA(Tabela1[#This Row]) = 22, 0, 1),IF(COUNTA(Tabela1[#This Row]) = 18, 0, 1)), 0)","v":0},{"$f":"IF(X915 = 1, 0, IF(COUNTA(Tabela1[#This Row]) > 0, 1, 0))","v":0}]
[null,null,null,null,null,null,null,null,null,null,null,null,null,null,null,null,null,null,null,null,null,null,null,{"$f":"IF(COUNTA(Tabela1[#This Row]) > 0, IF(Tabela1[[#This Row],[TIPO CARTÃO]]  = \"0-SEM CARTÃO\",IF(COUNTA(Tabela1[#This Row]) = 22, 0, 1),IF(COUNTA(Tabela1[#This Row]) = 18, 0, 1)), 0)","v":0},{"$f":"IF(X916 = 1, 0, IF(COUNTA(Tabela1[#This Row]) > 0, 1, 0))","v":0}]
[null,null,null,null,null,null,null,null,null,null,null,null,null,null,null,null,null,null,null,null,null,null,null,{"$f":"IF(COUNTA(Tabela1[#This Row]) > 0, IF(Tabela1[[#This Row],[TIPO CARTÃO]]  = \"0-SEM CARTÃO\",IF(COUNTA(Tabela1[#This Row]) = 22, 0, 1),IF(COUNTA(Tabela1[#This Row]) = 18, 0, 1)), 0)","v":0},{"$f":"IF(X917 = 1, 0, IF(COUNTA(Tabela1[#This Row]) > 0, 1, 0))","v":0}]
[null,null,null,null,null,null,null,null,null,null,null,null,null,null,null,null,null,null,null,null,null,null,null,{"$f":"IF(COUNTA(Tabela1[#This Row]) > 0, IF(Tabela1[[#This Row],[TIPO CARTÃO]]  = \"0-SEM CARTÃO\",IF(COUNTA(Tabela1[#This Row]) = 22, 0, 1),IF(COUNTA(Tabela1[#This Row]) = 18, 0, 1)), 0)","v":0},{"$f":"IF(X918 = 1, 0, IF(COUNTA(Tabela1[#This Row]) > 0, 1, 0))","v":0}]
[null,null,null,null,null,null,null,null,null,null,null,null,null,null,null,null,null,null,null,null,null,null,null,{"$f":"IF(COUNTA(Tabela1[#This Row]) > 0, IF(Tabela1[[#This Row],[TIPO CARTÃO]]  = \"0-SEM CARTÃO\",IF(COUNTA(Tabela1[#This Row]) = 22, 0, 1),IF(COUNTA(Tabela1[#This Row]) = 18, 0, 1)), 0)","v":0},{"$f":"IF(X919 = 1, 0, IF(COUNTA(Tabela1[#This Row]) > 0, 1, 0))","v":0}]
[null,null,null,null,null,null,null,null,null,null,null,null,null,null,null,null,null,null,null,null,null,null,null,{"$f":"IF(COUNTA(Tabela1[#This Row]) > 0, IF(Tabela1[[#This Row],[TIPO CARTÃO]]  = \"0-SEM CARTÃO\",IF(COUNTA(Tabela1[#This Row]) = 22, 0, 1),IF(COUNTA(Tabela1[#This Row]) = 18, 0, 1)), 0)","v":0},{"$f":"IF(X920 = 1, 0, IF(COUNTA(Tabela1[#This Row]) > 0, 1, 0))","v":0}]
[null,null,null,null,null,null,null,null,null,null,null,null,null,null,null,null,null,null,null,null,null,null,null,{"$f":"IF(COUNTA(Tabela1[#This Row]) > 0, IF(Tabela1[[#This Row],[TIPO CARTÃO]]  = \"0-SEM CARTÃO\",IF(COUNTA(Tabela1[#This Row]) = 22, 0, 1),IF(COUNTA(Tabela1[#This Row]) = 18, 0, 1)), 0)","v":0},{"$f":"IF(X921 = 1, 0, IF(COUNTA(Tabela1[#This Row]) > 0, 1, 0))","v":0}]
[null,null,null,null,null,null,null,null,null,null,null,null,null,null,null,null,null,null,null,null,null,null,null,{"$f":"IF(COUNTA(Tabela1[#This Row]) > 0, IF(Tabela1[[#This Row],[TIPO CARTÃO]]  = \"0-SEM CARTÃO\",IF(COUNTA(Tabela1[#This Row]) = 22, 0, 1),IF(COUNTA(Tabela1[#This Row]) = 18, 0, 1)), 0)","v":0},{"$f":"IF(X922 = 1, 0, IF(COUNTA(Tabela1[#This Row]) > 0, 1, 0))","v":0}]
[null,null,null,null,null,null,null,null,null,null,null,null,null,null,null,null,null,null,null,null,null,null,null,{"$f":"IF(COUNTA(Tabela1[#This Row]) > 0, IF(Tabela1[[#This Row],[TIPO CARTÃO]]  = \"0-SEM CARTÃO\",IF(COUNTA(Tabela1[#This Row]) = 22, 0, 1),IF(COUNTA(Tabela1[#This Row]) = 18, 0, 1)), 0)","v":0},{"$f":"IF(X923 = 1, 0, IF(COUNTA(Tabela1[#This Row]) > 0, 1, 0))","v":0}]
[null,null,null,null,null,null,null,null,null,null,null,null,null,null,null,null,null,null,null,null,null,null,null,{"$f":"IF(COUNTA(Tabela1[#This Row]) > 0, IF(Tabela1[[#This Row],[TIPO CARTÃO]]  = \"0-SEM CARTÃO\",IF(COUNTA(Tabela1[#This Row]) = 22, 0, 1),IF(COUNTA(Tabela1[#This Row]) = 18, 0, 1)), 0)","v":0},{"$f":"IF(X924 = 1, 0, IF(COUNTA(Tabela1[#This Row]) > 0, 1, 0))","v":0}]
[null,null,null,null,null,null,null,null,null,null,null,null,null,null,null,null,null,null,null,null,null,null,null,{"$f":"IF(COUNTA(Tabela1[#This Row]) > 0, IF(Tabela1[[#This Row],[TIPO CARTÃO]]  = \"0-SEM CARTÃO\",IF(COUNTA(Tabela1[#This Row]) = 22, 0, 1),IF(COUNTA(Tabela1[#This Row]) = 18, 0, 1)), 0)","v":0},{"$f":"IF(X925 = 1, 0, IF(COUNTA(Tabela1[#This Row]) > 0, 1, 0))","v":0}]
[null,null,null,null,null,null,null,null,null,null,null,null,null,null,null,null,null,null,null,null,null,null,null,{"$f":"IF(COUNTA(Tabela1[#This Row]) > 0, IF(Tabela1[[#This Row],[TIPO CARTÃO]]  = \"0-SEM CARTÃO\",IF(COUNTA(Tabela1[#This Row]) = 22, 0, 1),IF(COUNTA(Tabela1[#This Row]) = 18, 0, 1)), 0)","v":0},{"$f":"IF(X926 = 1, 0, IF(COUNTA(Tabela1[#This Row]) > 0, 1, 0))","v":0}]
[null,null,null,null,null,null,null,null,null,null,null,null,null,null,null,null,null,null,null,null,null,null,null,{"$f":"IF(COUNTA(Tabela1[#This Row]) > 0, IF(Tabela1[[#This Row],[TIPO CARTÃO]]  = \"0-SEM CARTÃO\",IF(COUNTA(Tabela1[#This Row]) = 22, 0, 1),IF(COUNTA(Tabela1[#This Row]) = 18, 0, 1)), 0)","v":0},{"$f":"IF(X927 = 1, 0, IF(COUNTA(Tabela1[#This Row]) > 0, 1, 0))","v":0}]
[null,null,null,null,null,null,null,null,null,null,null,null,null,null,null,null,null,null,null,null,null,null,null,{"$f":"IF(COUNTA(Tabela1[#This Row]) > 0, IF(Tabela1[[#This Row],[TIPO CARTÃO]]  = \"0-SEM CARTÃO\",IF(COUNTA(Tabela1[#This Row]) = 22, 0, 1),IF(COUNTA(Tabela1[#This Row]) = 18, 0, 1)), 0)","v":0},{"$f":"IF(X928 = 1, 0, IF(COUNTA(Tabela1[#This Row]) > 0, 1, 0))","v":0}]
[null,null,null,null,null,null,null,null,null,null,null,null,null,null,null,null,null,null,null,null,null,null,null,{"$f":"IF(COUNTA(Tabela1[#This Row]) > 0, IF(Tabela1[[#This Row],[TIPO CARTÃO]]  = \"0-SEM CARTÃO\",IF(COUNTA(Tabela1[#This Row]) = 22, 0, 1),IF(COUNTA(Tabela1[#This Row]) = 18, 0, 1)), 0)","v":0},{"$f":"IF(X929 = 1, 0, IF(COUNTA(Tabela1[#This Row]) > 0, 1, 0))","v":0}]
[null,null,null,null,null,null,null,null,null,null,null,null,null,null,null,null,null,null,null,null,null,null,null,{"$f":"IF(COUNTA(Tabela1[#This Row]) > 0, IF(Tabela1[[#This Row],[TIPO CARTÃO]]  = \"0-SEM CARTÃO\",IF(COUNTA(Tabela1[#This Row]) = 22, 0, 1),IF(COUNTA(Tabela1[#This Row]) = 18, 0, 1)), 0)","v":0},{"$f":"IF(X930 = 1, 0, IF(COUNTA(Tabela1[#This Row]) > 0, 1, 0))","v":0}]
[null,null,null,null,null,null,null,null,null,null,null,null,null,null,null,null,null,null,null,null,null,null,null,{"$f":"IF(COUNTA(Tabela1[#This Row]) > 0, IF(Tabela1[[#This Row],[TIPO CARTÃO]]  = \"0-SEM CARTÃO\",IF(COUNTA(Tabela1[#This Row]) = 22, 0, 1),IF(COUNTA(Tabela1[#This Row]) = 18, 0, 1)), 0)","v":0},{"$f":"IF(X931 = 1, 0, IF(COUNTA(Tabela1[#This Row]) > 0, 1, 0))","v":0}]
[null,null,null,null,null,null,null,null,null,null,null,null,null,null,null,null,null,null,null,null,null,null,null,{"$f":"IF(COUNTA(Tabela1[#This Row]) > 0, IF(Tabela1[[#This Row],[TIPO CARTÃO]]  = \"0-SEM CARTÃO\",IF(COUNTA(Tabela1[#This Row]) = 22, 0, 1),IF(COUNTA(Tabela1[#This Row]) = 18, 0, 1)), 0)","v":0},{"$f":"IF(X932 = 1, 0, IF(COUNTA(Tabela1[#This Row]) > 0, 1, 0))","v":0}]
[null,null,null,null,null,null,null,null,null,null,null,null,null,null,null,null,null,null,null,null,null,null,null,{"$f":"IF(COUNTA(Tabela1[#This Row]) > 0, IF(Tabela1[[#This Row],[TIPO CARTÃO]]  = \"0-SEM CARTÃO\",IF(COUNTA(Tabela1[#This Row]) = 22, 0, 1),IF(COUNTA(Tabela1[#This Row]) = 18, 0, 1)), 0)","v":0},{"$f":"IF(X933 = 1, 0, IF(COUNTA(Tabela1[#This Row]) > 0, 1, 0))","v":0}]
[null,null,null,null,null,null,null,null,null,null,null,null,null,null,null,null,null,null,null,null,null,null,null,{"$f":"IF(COUNTA(Tabela1[#This Row]) > 0, IF(Tabela1[[#This Row],[TIPO CARTÃO]]  = \"0-SEM CARTÃO\",IF(COUNTA(Tabela1[#This Row]) = 22, 0, 1),IF(COUNTA(Tabela1[#This Row]) = 18, 0, 1)), 0)","v":0},{"$f":"IF(X934 = 1, 0, IF(COUNTA(Tabela1[#This Row]) > 0, 1, 0))","v":0}]
[null,null,null,null,null,null,null,null,null,null,null,null,null,null,null,null,null,null,null,null,null,null,null,{"$f":"IF(COUNTA(Tabela1[#This Row]) > 0, IF(Tabela1[[#This Row],[TIPO CARTÃO]]  = \"0-SEM CARTÃO\",IF(COUNTA(Tabela1[#This Row]) = 22, 0, 1),IF(COUNTA(Tabela1[#This Row]) = 18, 0, 1)), 0)","v":0},{"$f":"IF(X935 = 1, 0, IF(COUNTA(Tabela1[#This Row]) > 0, 1, 0))","v":0}]
[null,null,null,null,null,null,null,null,null,null,null,null,null,null,null,null,null,null,null,null,null,null,null,{"$f":"IF(COUNTA(Tabela1[#This Row]) > 0, IF(Tabela1[[#This Row],[TIPO CARTÃO]]  = \"0-SEM CARTÃO\",IF(COUNTA(Tabela1[#This Row]) = 22, 0, 1),IF(COUNTA(Tabela1[#This Row]) = 18, 0, 1)), 0)","v":0},{"$f":"IF(X936 = 1, 0, IF(COUNTA(Tabela1[#This Row]) > 0, 1, 0))","v":0}]
[null,null,null,null,null,null,null,null,null,null,null,null,null,null,null,null,null,null,null,null,null,null,null,{"$f":"IF(COUNTA(Tabela1[#This Row]) > 0, IF(Tabela1[[#This Row],[TIPO CARTÃO]]  = \"0-SEM CARTÃO\",IF(COUNTA(Tabela1[#This Row]) = 22, 0, 1),IF(COUNTA(Tabela1[#This Row]) = 18, 0, 1)), 0)","v":0},{"$f":"IF(X937 = 1, 0, IF(COUNTA(Tabela1[#This Row]) > 0, 1, 0))","v":0}]
[null,null,null,null,null,null,null,null,null,null,null,null,null,null,null,null,null,null,null,null,null,null,null,{"$f":"IF(COUNTA(Tabela1[#This Row]) > 0, IF(Tabela1[[#This Row],[TIPO CARTÃO]]  = \"0-SEM CARTÃO\",IF(COUNTA(Tabela1[#This Row]) = 22, 0, 1),IF(COUNTA(Tabela1[#This Row]) = 18, 0, 1)), 0)","v":0},{"$f":"IF(X938 = 1, 0, IF(COUNTA(Tabela1[#This Row]) > 0, 1, 0))","v":0}]
[null,null,null,null,null,null,null,null,null,null,null,null,null,null,null,null,null,null,null,null,null,null,null,{"$f":"IF(COUNTA(Tabela1[#This Row]) > 0, IF(Tabela1[[#This Row],[TIPO CARTÃO]]  = \"0-SEM CARTÃO\",IF(COUNTA(Tabela1[#This Row]) = 22, 0, 1),IF(COUNTA(Tabela1[#This Row]) = 18, 0, 1)), 0)","v":0},{"$f":"IF(X939 = 1, 0, IF(COUNTA(Tabela1[#This Row]) > 0, 1, 0))","v":0}]
[null,null,null,null,null,null,null,null,null,null,null,null,null,null,null,null,null,null,null,null,null,null,null,{"$f":"IF(COUNTA(Tabela1[#This Row]) > 0, IF(Tabela1[[#This Row],[TIPO CARTÃO]]  = \"0-SEM CARTÃO\",IF(COUNTA(Tabela1[#This Row]) = 22, 0, 1),IF(COUNTA(Tabela1[#This Row]) = 18, 0, 1)), 0)","v":0},{"$f":"IF(X940 = 1, 0, IF(COUNTA(Tabela1[#This Row]) > 0, 1, 0))","v":0}]
[null,null,null,null,null,null,null,null,null,null,null,null,null,null,null,null,null,null,null,null,null,null,null,{"$f":"IF(COUNTA(Tabela1[#This Row]) > 0, IF(Tabela1[[#This Row],[TIPO CARTÃO]]  = \"0-SEM CARTÃO\",IF(COUNTA(Tabela1[#This Row]) = 22, 0, 1),IF(COUNTA(Tabela1[#This Row]) = 18, 0, 1)), 0)","v":0},{"$f":"IF(X941 = 1, 0, IF(COUNTA(Tabela1[#This Row]) > 0, 1, 0))","v":0}]
[null,null,null,null,null,null,null,null,null,null,null,null,null,null,null,null,null,null,null,null,null,null,null,{"$f":"IF(COUNTA(Tabela1[#This Row]) > 0, IF(Tabela1[[#This Row],[TIPO CARTÃO]]  = \"0-SEM CARTÃO\",IF(COUNTA(Tabela1[#This Row]) = 22, 0, 1),IF(COUNTA(Tabela1[#This Row]) = 18, 0, 1)), 0)","v":0},{"$f":"IF(X942 = 1, 0, IF(COUNTA(Tabela1[#This Row]) > 0, 1, 0))","v":0}]
[null,null,null,null,null,null,null,null,null,null,null,null,null,null,null,null,null,null,null,null,null,null,null,{"$f":"IF(COUNTA(Tabela1[#This Row]) > 0, IF(Tabela1[[#This Row],[TIPO CARTÃO]]  = \"0-SEM CARTÃO\",IF(COUNTA(Tabela1[#This Row]) = 22, 0, 1),IF(COUNTA(Tabela1[#This Row]) = 18, 0, 1)), 0)","v":0},{"$f":"IF(X943 = 1, 0, IF(COUNTA(Tabela1[#This Row]) > 0, 1, 0))","v":0}]
[null,null,null,null,null,null,null,null,null,null,null,null,null,null,null,null,null,null,null,null,null,null,null,{"$f":"IF(COUNTA(Tabela1[#This Row]) > 0, IF(Tabela1[[#This Row],[TIPO CARTÃO]]  = \"0-SEM CARTÃO\",IF(COUNTA(Tabela1[#This Row]) = 22, 0, 1),IF(COUNTA(Tabela1[#This Row]) = 18, 0, 1)), 0)","v":0},{"$f":"IF(X944 = 1, 0, IF(COUNTA(Tabela1[#This Row]) > 0, 1, 0))","v":0}]
[null,null,null,null,null,null,null,null,null,null,null,null,null,null,null,null,null,null,null,null,null,null,null,{"$f":"IF(COUNTA(Tabela1[#This Row]) > 0, IF(Tabela1[[#This Row],[TIPO CARTÃO]]  = \"0-SEM CARTÃO\",IF(COUNTA(Tabela1[#This Row]) = 22, 0, 1),IF(COUNTA(Tabela1[#This Row]) = 18, 0, 1)), 0)","v":0},{"$f":"IF(X945 = 1, 0, IF(COUNTA(Tabela1[#This Row]) > 0, 1, 0))","v":0}]
[null,null,null,null,null,null,null,null,null,null,null,null,null,null,null,null,null,null,null,null,null,null,null,{"$f":"IF(COUNTA(Tabela1[#This Row]) > 0, IF(Tabela1[[#This Row],[TIPO CARTÃO]]  = \"0-SEM CARTÃO\",IF(COUNTA(Tabela1[#This Row]) = 22, 0, 1),IF(COUNTA(Tabela1[#This Row]) = 18, 0, 1)), 0)","v":0},{"$f":"IF(X946 = 1, 0, IF(COUNTA(Tabela1[#This Row]) > 0, 1, 0))","v":0}]
[null,null,null,null,null,null,null,null,null,null,null,null,null,null,null,null,null,null,null,null,null,null,null,{"$f":"IF(COUNTA(Tabela1[#This Row]) > 0, IF(Tabela1[[#This Row],[TIPO CARTÃO]]  = \"0-SEM CARTÃO\",IF(COUNTA(Tabela1[#This Row]) = 22, 0, 1),IF(COUNTA(Tabela1[#This Row]) = 18, 0, 1)), 0)","v":0},{"$f":"IF(X947 = 1, 0, IF(COUNTA(Tabela1[#This Row]) > 0, 1, 0))","v":0}]
[null,null,null,null,null,null,null,null,null,null,null,null,null,null,null,null,null,null,null,null,null,null,null,{"$f":"IF(COUNTA(Tabela1[#This Row]) > 0, IF(Tabela1[[#This Row],[TIPO CARTÃO]]  = \"0-SEM CARTÃO\",IF(COUNTA(Tabela1[#This Row]) = 22, 0, 1),IF(COUNTA(Tabela1[#This Row]) = 18, 0, 1)), 0)","v":0},{"$f":"IF(X948 = 1, 0, IF(COUNTA(Tabela1[#This Row]) > 0, 1, 0))","v":0}]
[null,null,null,null,null,null,null,null,null,null,null,null,null,null,null,null,null,null,null,null,null,null,null,{"$f":"IF(COUNTA(Tabela1[#This Row]) > 0, IF(Tabela1[[#This Row],[TIPO CARTÃO]]  = \"0-SEM CARTÃO\",IF(COUNTA(Tabela1[#This Row]) = 22, 0, 1),IF(COUNTA(Tabela1[#This Row]) = 18, 0, 1)), 0)","v":0},{"$f":"IF(X949 = 1, 0, IF(COUNTA(Tabela1[#This Row]) > 0, 1, 0))","v":0}]
[null,null,null,null,null,null,null,null,null,null,null,null,null,null,null,null,null,null,null,null,null,null,null,{"$f":"IF(COUNTA(Tabela1[#This Row]) > 0, IF(Tabela1[[#This Row],[TIPO CARTÃO]]  = \"0-SEM CARTÃO\",IF(COUNTA(Tabela1[#This Row]) = 22, 0, 1),IF(COUNTA(Tabela1[#This Row]) = 18, 0, 1)), 0)","v":0},{"$f":"IF(X950 = 1, 0, IF(COUNTA(Tabela1[#This Row]) > 0, 1, 0))","v":0}]
[null,null,null,null,null,null,null,null,null,null,null,null,null,null,null,null,null,null,null,null,null,null,null,{"$f":"IF(COUNTA(Tabela1[#This Row]) > 0, IF(Tabela1[[#This Row],[TIPO CARTÃO]]  = \"0-SEM CARTÃO\",IF(COUNTA(Tabela1[#This Row]) = 22, 0, 1),IF(COUNTA(Tabela1[#This Row]) = 18, 0, 1)), 0)","v":0},{"$f":"IF(X951 = 1, 0, IF(COUNTA(Tabela1[#This Row]) > 0, 1, 0))","v":0}]
[null,null,null,null,null,null,null,null,null,null,null,null,null,null,null,null,null,null,null,null,null,null,null,{"$f":"IF(COUNTA(Tabela1[#This Row]) > 0, IF(Tabela1[[#This Row],[TIPO CARTÃO]]  = \"0-SEM CARTÃO\",IF(COUNTA(Tabela1[#This Row]) = 22, 0, 1),IF(COUNTA(Tabela1[#This Row]) = 18, 0, 1)), 0)","v":0},{"$f":"IF(X952 = 1, 0, IF(COUNTA(Tabela1[#This Row]) > 0, 1, 0))","v":0}]
[null,null,null,null,null,null,null,null,null,null,null,null,null,null,null,null,null,null,null,null,null,null,null,{"$f":"IF(COUNTA(Tabela1[#This Row]) > 0, IF(Tabela1[[#This Row],[TIPO CARTÃO]]  = \"0-SEM CARTÃO\",IF(COUNTA(Tabela1[#This Row]) = 22, 0, 1),IF(COUNTA(Tabela1[#This Row]) = 18, 0, 1)), 0)","v":0},{"$f":"IF(X953 = 1, 0, IF(COUNTA(Tabela1[#This Row]) > 0, 1, 0))","v":0}]
[null,null,null,null,null,null,null,null,null,null,null,null,null,null,null,null,null,null,null,null,null,null,null,{"$f":"IF(COUNTA(Tabela1[#This Row]) > 0, IF(Tabela1[[#This Row],[TIPO CARTÃO]]  = \"0-SEM CARTÃO\",IF(COUNTA(Tabela1[#This Row]) = 22, 0, 1),IF(COUNTA(Tabela1[#This Row]) = 18, 0, 1)), 0)","v":0},{"$f":"IF(X954 = 1, 0, IF(COUNTA(Tabela1[#This Row]) > 0, 1, 0))","v":0}]
[null,null,null,null,null,null,null,null,null,null,null,null,null,null,null,null,null,null,null,null,null,null,null,{"$f":"IF(COUNTA(Tabela1[#This Row]) > 0, IF(Tabela1[[#This Row],[TIPO CARTÃO]]  = \"0-SEM CARTÃO\",IF(COUNTA(Tabela1[#This Row]) = 22, 0, 1),IF(COUNTA(Tabela1[#This Row]) = 18, 0, 1)), 0)","v":0},{"$f":"IF(X955 = 1, 0, IF(COUNTA(Tabela1[#This Row]) > 0, 1, 0))","v":0}]
[null,null,null,null,null,null,null,null,null,null,null,null,null,null,null,null,null,null,null,null,null,null,null,{"$f":"IF(COUNTA(Tabela1[#This Row]) > 0, IF(Tabela1[[#This Row],[TIPO CARTÃO]]  = \"0-SEM CARTÃO\",IF(COUNTA(Tabela1[#This Row]) = 22, 0, 1),IF(COUNTA(Tabela1[#This Row]) = 18, 0, 1)), 0)","v":0},{"$f":"IF(X956 = 1, 0, IF(COUNTA(Tabela1[#This Row]) > 0, 1, 0))","v":0}]
[null,null,null,null,null,null,null,null,null,null,null,null,null,null,null,null,null,null,null,null,null,null,null,{"$f":"IF(COUNTA(Tabela1[#This Row]) > 0, IF(Tabela1[[#This Row],[TIPO CARTÃO]]  = \"0-SEM CARTÃO\",IF(COUNTA(Tabela1[#This Row]) = 22, 0, 1),IF(COUNTA(Tabela1[#This Row]) = 18, 0, 1)), 0)","v":0},{"$f":"IF(X957 = 1, 0, IF(COUNTA(Tabela1[#This Row]) > 0, 1, 0))","v":0}]
[null,null,null,null,null,null,null,null,null,null,null,null,null,null,null,null,null,null,null,null,null,null,null,{"$f":"IF(COUNTA(Tabela1[#This Row]) > 0, IF(Tabela1[[#This Row],[TIPO CARTÃO]]  = \"0-SEM CARTÃO\",IF(COUNTA(Tabela1[#This Row]) = 22, 0, 1),IF(COUNTA(Tabela1[#This Row]) = 18, 0, 1)), 0)","v":0},{"$f":"IF(X958 = 1, 0, IF(COUNTA(Tabela1[#This Row]) > 0, 1, 0))","v":0}]
[null,null,null,null,null,null,null,null,null,null,null,null,null,null,null,null,null,null,null,null,null,null,null,{"$f":"IF(COUNTA(Tabela1[#This Row]) > 0, IF(Tabela1[[#This Row],[TIPO CARTÃO]]  = \"0-SEM CARTÃO\",IF(COUNTA(Tabela1[#This Row]) = 22, 0, 1),IF(COUNTA(Tabela1[#This Row]) = 18, 0, 1)), 0)","v":0},{"$f":"IF(X959 = 1, 0, IF(COUNTA(Tabela1[#This Row]) > 0, 1, 0))","v":0}]
[null,null,null,null,null,null,null,null,null,null,null,null,null,null,null,null,null,null,null,null,null,null,null,{"$f":"IF(COUNTA(Tabela1[#This Row]) > 0, IF(Tabela1[[#This Row],[TIPO CARTÃO]]  = \"0-SEM CARTÃO\",IF(COUNTA(Tabela1[#This Row]) = 22, 0, 1),IF(COUNTA(Tabela1[#This Row]) = 18, 0, 1)), 0)","v":0},{"$f":"IF(X960 = 1, 0, IF(COUNTA(Tabela1[#This Row]) > 0, 1, 0))","v":0}]
[null,null,null,null,null,null,null,null,null,null,null,null,null,null,null,null,null,null,null,null,null,null,null,{"$f":"IF(COUNTA(Tabela1[#This Row]) > 0, IF(Tabela1[[#This Row],[TIPO CARTÃO]]  = \"0-SEM CARTÃO\",IF(COUNTA(Tabela1[#This Row]) = 22, 0, 1),IF(COUNTA(Tabela1[#This Row]) = 18, 0, 1)), 0)","v":0},{"$f":"IF(X961 = 1, 0, IF(COUNTA(Tabela1[#This Row]) > 0, 1, 0))","v":0}]
[null,null,null,null,null,null,null,null,null,null,null,null,null,null,null,null,null,null,null,null,null,null,null,{"$f":"IF(COUNTA(Tabela1[#This Row]) > 0, IF(Tabela1[[#This Row],[TIPO CARTÃO]]  = \"0-SEM CARTÃO\",IF(COUNTA(Tabela1[#This Row]) = 22, 0, 1),IF(COUNTA(Tabela1[#This Row]) = 18, 0, 1)), 0)","v":0},{"$f":"IF(X962 = 1, 0, IF(COUNTA(Tabela1[#This Row]) > 0, 1, 0))","v":0}]
[null,null,null,null,null,null,null,null,null,null,null,null,null,null,null,null,null,null,null,null,null,null,null,{"$f":"IF(COUNTA(Tabela1[#This Row]) > 0, IF(Tabela1[[#This Row],[TIPO CARTÃO]]  = \"0-SEM CARTÃO\",IF(COUNTA(Tabela1[#This Row]) = 22, 0, 1),IF(COUNTA(Tabela1[#This Row]) = 18, 0, 1)), 0)","v":0},{"$f":"IF(X963 = 1, 0, IF(COUNTA(Tabela1[#This Row]) > 0, 1, 0))","v":0}]
[null,null,null,null,null,null,null,null,null,null,null,null,null,null,null,null,null,null,null,null,null,null,null,{"$f":"IF(COUNTA(Tabela1[#This Row]) > 0, IF(Tabela1[[#This Row],[TIPO CARTÃO]]  = \"0-SEM CARTÃO\",IF(COUNTA(Tabela1[#This Row]) = 22, 0, 1),IF(COUNTA(Tabela1[#This Row]) = 18, 0, 1)), 0)","v":0},{"$f":"IF(X964 = 1, 0, IF(COUNTA(Tabela1[#This Row]) > 0, 1, 0))","v":0}]
[null,null,null,null,null,null,null,null,null,null,null,null,null,null,null,null,null,null,null,null,null,null,null,{"$f":"IF(COUNTA(Tabela1[#This Row]) > 0, IF(Tabela1[[#This Row],[TIPO CARTÃO]]  = \"0-SEM CARTÃO\",IF(COUNTA(Tabela1[#This Row]) = 22, 0, 1),IF(COUNTA(Tabela1[#This Row]) = 18, 0, 1)), 0)","v":0},{"$f":"IF(X965 = 1, 0, IF(COUNTA(Tabela1[#This Row]) > 0, 1, 0))","v":0}]
[null,null,null,null,null,null,null,null,null,null,null,null,null,null,null,null,null,null,null,null,null,null,null,{"$f":"IF(COUNTA(Tabela1[#This Row]) > 0, IF(Tabela1[[#This Row],[TIPO CARTÃO]]  = \"0-SEM CARTÃO\",IF(COUNTA(Tabela1[#This Row]) = 22, 0, 1),IF(COUNTA(Tabela1[#This Row]) = 18, 0, 1)), 0)","v":0},{"$f":"IF(X966 = 1, 0, IF(COUNTA(Tabela1[#This Row]) > 0, 1, 0))","v":0}]
[null,null,null,null,null,null,null,null,null,null,null,null,null,null,null,null,null,null,null,null,null,null,null,{"$f":"IF(COUNTA(Tabela1[#This Row]) > 0, IF(Tabela1[[#This Row],[TIPO CARTÃO]]  = \"0-SEM CARTÃO\",IF(COUNTA(Tabela1[#This Row]) = 22, 0, 1),IF(COUNTA(Tabela1[#This Row]) = 18, 0, 1)), 0)","v":0},{"$f":"IF(X967 = 1, 0, IF(COUNTA(Tabela1[#This Row]) > 0, 1, 0))","v":0}]
[null,null,null,null,null,null,null,null,null,null,null,null,null,null,null,null,null,null,null,null,null,null,null,{"$f":"IF(COUNTA(Tabela1[#This Row]) > 0, IF(Tabela1[[#This Row],[TIPO CARTÃO]]  = \"0-SEM CARTÃO\",IF(COUNTA(Tabela1[#This Row]) = 22, 0, 1),IF(COUNTA(Tabela1[#This Row]) = 18, 0, 1)), 0)","v":0},{"$f":"IF(X968 = 1, 0, IF(COUNTA(Tabela1[#This Row]) > 0, 1, 0))","v":0}]
[null,null,null,null,null,null,null,null,null,null,null,null,null,null,null,null,null,null,null,null,null,null,null,{"$f":"IF(COUNTA(Tabela1[#This Row]) > 0, IF(Tabela1[[#This Row],[TIPO CARTÃO]]  = \"0-SEM CARTÃO\",IF(COUNTA(Tabela1[#This Row]) = 22, 0, 1),IF(COUNTA(Tabela1[#This Row]) = 18, 0, 1)), 0)","v":0},{"$f":"IF(X969 = 1, 0, IF(COUNTA(Tabela1[#This Row]) > 0, 1, 0))","v":0}]
[null,null,null,null,null,null,null,null,null,null,null,null,null,null,null,null,null,null,null,null,null,null,null,{"$f":"IF(COUNTA(Tabela1[#This Row]) > 0, IF(Tabela1[[#This Row],[TIPO CARTÃO]]  = \"0-SEM CARTÃO\",IF(COUNTA(Tabela1[#This Row]) = 22, 0, 1),IF(COUNTA(Tabela1[#This Row]) = 18, 0, 1)), 0)","v":0},{"$f":"IF(X970 = 1, 0, IF(COUNTA(Tabela1[#This Row]) > 0, 1, 0))","v":0}]
[null,null,null,null,null,null,null,null,null,null,null,null,null,null,null,null,null,null,null,null,null,null,null,{"$f":"IF(COUNTA(Tabela1[#This Row]) > 0, IF(Tabela1[[#This Row],[TIPO CARTÃO]]  = \"0-SEM CARTÃO\",IF(COUNTA(Tabela1[#This Row]) = 22, 0, 1),IF(COUNTA(Tabela1[#This Row]) = 18, 0, 1)), 0)","v":0},{"$f":"IF(X971 = 1, 0, IF(COUNTA(Tabela1[#This Row]) > 0, 1, 0))","v":0}]
[null,null,null,null,null,null,null,null,null,null,null,null,null,null,null,null,null,null,null,null,null,null,null,{"$f":"IF(COUNTA(Tabela1[#This Row]) > 0, IF(Tabela1[[#This Row],[TIPO CARTÃO]]  = \"0-SEM CARTÃO\",IF(COUNTA(Tabela1[#This Row]) = 22, 0, 1),IF(COUNTA(Tabela1[#This Row]) = 18, 0, 1)), 0)","v":0},{"$f":"IF(X972 = 1, 0, IF(COUNTA(Tabela1[#This Row]) > 0, 1, 0))","v":0}]
[null,null,null,null,null,null,null,null,null,null,null,null,null,null,null,null,null,null,null,null,null,null,null,{"$f":"IF(COUNTA(Tabela1[#This Row]) > 0, IF(Tabela1[[#This Row],[TIPO CARTÃO]]  = \"0-SEM CARTÃO\",IF(COUNTA(Tabela1[#This Row]) = 22, 0, 1),IF(COUNTA(Tabela1[#This Row]) = 18, 0, 1)), 0)","v":0},{"$f":"IF(X973 = 1, 0, IF(COUNTA(Tabela1[#This Row]) > 0, 1, 0))","v":0}]
[null,null,null,null,null,null,null,null,null,null,null,null,null,null,null,null,null,null,null,null,null,null,null,{"$f":"IF(COUNTA(Tabela1[#This Row]) > 0, IF(Tabela1[[#This Row],[TIPO CARTÃO]]  = \"0-SEM CARTÃO\",IF(COUNTA(Tabela1[#This Row]) = 22, 0, 1),IF(COUNTA(Tabela1[#This Row]) = 18, 0, 1)), 0)","v":0},{"$f":"IF(X974 = 1, 0, IF(COUNTA(Tabela1[#This Row]) > 0, 1, 0))","v":0}]
[null,null,null,null,null,null,null,null,null,null,null,null,null,null,null,null,null,null,null,null,null,null,null,{"$f":"IF(COUNTA(Tabela1[#This Row]) > 0, IF(Tabela1[[#This Row],[TIPO CARTÃO]]  = \"0-SEM CARTÃO\",IF(COUNTA(Tabela1[#This Row]) = 22, 0, 1),IF(COUNTA(Tabela1[#This Row]) = 18, 0, 1)), 0)","v":0},{"$f":"IF(X975 = 1, 0, IF(COUNTA(Tabela1[#This Row]) > 0, 1, 0))","v":0}]
[null,null,null,null,null,null,null,null,null,null,null,null,null,null,null,null,null,null,null,null,null,null,null,{"$f":"IF(COUNTA(Tabela1[#This Row]) > 0, IF(Tabela1[[#This Row],[TIPO CARTÃO]]  = \"0-SEM CARTÃO\",IF(COUNTA(Tabela1[#This Row]) = 22, 0, 1),IF(COUNTA(Tabela1[#This Row]) = 18, 0, 1)), 0)","v":0},{"$f":"IF(X976 = 1, 0, IF(COUNTA(Tabela1[#This Row]) > 0, 1, 0))","v":0}]
[null,null,null,null,null,null,null,null,null,null,null,null,null,null,null,null,null,null,null,null,null,null,null,{"$f":"IF(COUNTA(Tabela1[#This Row]) > 0, IF(Tabela1[[#This Row],[TIPO CARTÃO]]  = \"0-SEM CARTÃO\",IF(COUNTA(Tabela1[#This Row]) = 22, 0, 1),IF(COUNTA(Tabela1[#This Row]) = 18, 0, 1)), 0)","v":0},{"$f":"IF(X977 = 1, 0, IF(COUNTA(Tabela1[#This Row]) > 0, 1, 0))","v":0}]
[null,null,null,null,null,null,null,null,null,null,null,null,null,null,null,null,null,null,null,null,null,null,null,{"$f":"IF(COUNTA(Tabela1[#This Row]) > 0, IF(Tabela1[[#This Row],[TIPO CARTÃO]]  = \"0-SEM CARTÃO\",IF(COUNTA(Tabela1[#This Row]) = 22, 0, 1),IF(COUNTA(Tabela1[#This Row]) = 18, 0, 1)), 0)","v":0},{"$f":"IF(X978 = 1, 0, IF(COUNTA(Tabela1[#This Row]) > 0, 1, 0))","v":0}]
[null,null,null,null,null,null,null,null,null,null,null,null,null,null,null,null,null,null,null,null,null,null,null,{"$f":"IF(COUNTA(Tabela1[#This Row]) > 0, IF(Tabela1[[#This Row],[TIPO CARTÃO]]  = \"0-SEM CARTÃO\",IF(COUNTA(Tabela1[#This Row]) = 22, 0, 1),IF(COUNTA(Tabela1[#This Row]) = 18, 0, 1)), 0)","v":0},{"$f":"IF(X979 = 1, 0, IF(COUNTA(Tabela1[#This Row]) > 0, 1, 0))","v":0}]
[null,null,null,null,null,null,null,null,null,null,null,null,null,null,null,null,null,null,null,null,null,null,null,{"$f":"IF(COUNTA(Tabela1[#This Row]) > 0, IF(Tabela1[[#This Row],[TIPO CARTÃO]]  = \"0-SEM CARTÃO\",IF(COUNTA(Tabela1[#This Row]) = 22, 0, 1),IF(COUNTA(Tabela1[#This Row]) = 18, 0, 1)), 0)","v":0},{"$f":"IF(X980 = 1, 0, IF(COUNTA(Tabela1[#This Row]) > 0, 1, 0))","v":0}]
[null,null,null,null,null,null,null,null,null,null,null,null,null,null,null,null,null,null,null,null,null,null,null,{"$f":"IF(COUNTA(Tabela1[#This Row]) > 0, IF(Tabela1[[#This Row],[TIPO CARTÃO]]  = \"0-SEM CARTÃO\",IF(COUNTA(Tabela1[#This Row]) = 22, 0, 1),IF(COUNTA(Tabela1[#This Row]) = 18, 0, 1)), 0)","v":0},{"$f":"IF(X981 = 1, 0, IF(COUNTA(Tabela1[#This Row]) > 0, 1, 0))","v":0}]
[null,null,null,null,null,null,null,null,null,null,null,null,null,null,null,null,null,null,null,null,null,null,null,{"$f":"IF(COUNTA(Tabela1[#This Row]) > 0, IF(Tabela1[[#This Row],[TIPO CARTÃO]]  = \"0-SEM CARTÃO\",IF(COUNTA(Tabela1[#This Row]) = 22, 0, 1),IF(COUNTA(Tabela1[#This Row]) = 18, 0, 1)), 0)","v":0},{"$f":"IF(X982 = 1, 0, IF(COUNTA(Tabela1[#This Row]) > 0, 1, 0))","v":0}]
[null,null,null,null,null,null,null,null,null,null,null,null,null,null,null,null,null,null,null,null,null,null,null,{"$f":"IF(COUNTA(Tabela1[#This Row]) > 0, IF(Tabela1[[#This Row],[TIPO CARTÃO]]  = \"0-SEM CARTÃO\",IF(COUNTA(Tabela1[#This Row]) = 22, 0, 1),IF(COUNTA(Tabela1[#This Row]) = 18, 0, 1)), 0)","v":0},{"$f":"IF(X983 = 1, 0, IF(COUNTA(Tabela1[#This Row]) > 0, 1, 0))","v":0}]
[null,null,null,null,null,null,null,null,null,null,null,null,null,null,null,null,null,null,null,null,null,null,null,{"$f":"IF(COUNTA(Tabela1[#This Row]) > 0, IF(Tabela1[[#This Row],[TIPO CARTÃO]]  = \"0-SEM CARTÃO\",IF(COUNTA(Tabela1[#This Row]) = 22, 0, 1),IF(COUNTA(Tabela1[#This Row]) = 18, 0, 1)), 0)","v":0},{"$f":"IF(X984 = 1, 0, IF(COUNTA(Tabela1[#This Row]) > 0, 1, 0))","v":0}]
[null,null,null,null,null,null,null,null,null,null,null,null,null,null,null,null,null,null,null,null,null,null,null,{"$f":"IF(COUNTA(Tabela1[#This Row]) > 0, IF(Tabela1[[#This Row],[TIPO CARTÃO]]  = \"0-SEM CARTÃO\",IF(COUNTA(Tabela1[#This Row]) = 22, 0, 1),IF(COUNTA(Tabela1[#This Row]) = 18, 0, 1)), 0)","v":0},{"$f":"IF(X985 = 1, 0, IF(COUNTA(Tabela1[#This Row]) > 0, 1, 0))","v":0}]
[null,null,null,null,null,null,null,null,null,null,null,null,null,null,null,null,null,null,null,null,null,null,null,{"$f":"IF(COUNTA(Tabela1[#This Row]) > 0, IF(Tabela1[[#This Row],[TIPO CARTÃO]]  = \"0-SEM CARTÃO\",IF(COUNTA(Tabela1[#This Row]) = 22, 0, 1),IF(COUNTA(Tabela1[#This Row]) = 18, 0, 1)), 0)","v":0},{"$f":"IF(X986 = 1, 0, IF(COUNTA(Tabela1[#This Row]) > 0, 1, 0))","v":0}]
[null,null,null,null,null,null,null,null,null,null,null,null,null,null,null,null,null,null,null,null,null,null,null,{"$f":"IF(COUNTA(Tabela1[#This Row]) > 0, IF(Tabela1[[#This Row],[TIPO CARTÃO]]  = \"0-SEM CARTÃO\",IF(COUNTA(Tabela1[#This Row]) = 22, 0, 1),IF(COUNTA(Tabela1[#This Row]) = 18, 0, 1)), 0)","v":0},{"$f":"IF(X987 = 1, 0, IF(COUNTA(Tabela1[#This Row]) > 0, 1, 0))","v":0}]
[null,null,null,null,null,null,null,null,null,null,null,null,null,null,null,null,null,null,null,null,null,null,null,{"$f":"IF(COUNTA(Tabela1[#This Row]) > 0, IF(Tabela1[[#This Row],[TIPO CARTÃO]]  = \"0-SEM CARTÃO\",IF(COUNTA(Tabela1[#This Row]) = 22, 0, 1),IF(COUNTA(Tabela1[#This Row]) = 18, 0, 1)), 0)","v":0},{"$f":"IF(X988 = 1, 0, IF(COUNTA(Tabela1[#This Row]) > 0, 1, 0))","v":0}]
[null,null,null,null,null,null,null,null,null,null,null,null,null,null,null,null,null,null,null,null,null,null,null,{"$f":"IF(COUNTA(Tabela1[#This Row]) > 0, IF(Tabela1[[#This Row],[TIPO CARTÃO]]  = \"0-SEM CARTÃO\",IF(COUNTA(Tabela1[#This Row]) = 22, 0, 1),IF(COUNTA(Tabela1[#This Row]) = 18, 0, 1)), 0)","v":0},{"$f":"IF(X989 = 1, 0, IF(COUNTA(Tabela1[#This Row]) > 0, 1, 0))","v":0}]
[null,null,null,null,null,null,null,null,null,null,null,null,null,null,null,null,null,null,null,null,null,null,null,{"$f":"IF(COUNTA(Tabela1[#This Row]) > 0, IF(Tabela1[[#This Row],[TIPO CARTÃO]]  = \"0-SEM CARTÃO\",IF(COUNTA(Tabela1[#This Row]) = 22, 0, 1),IF(COUNTA(Tabela1[#This Row]) = 18, 0, 1)), 0)","v":0},{"$f":"IF(X990 = 1, 0, IF(COUNTA(Tabela1[#This Row]) > 0, 1, 0))","v":0}]
[null,null,null,null,null,null,null,null,null,null,null,null,null,null,null,null,null,null,null,null,null,null,null,{"$f":"IF(COUNTA(Tabela1[#This Row]) > 0, IF(Tabela1[[#This Row],[TIPO CARTÃO]]  = \"0-SEM CARTÃO\",IF(COUNTA(Tabela1[#This Row]) = 22, 0, 1),IF(COUNTA(Tabela1[#This Row]) = 18, 0, 1)), 0)","v":0},{"$f":"IF(X991 = 1, 0, IF(COUNTA(Tabela1[#This Row]) > 0, 1, 0))","v":0}]
[null,null,null,null,null,null,null,null,null,null,null,null,null,null,null,null,null,null,null,null,null,null,null,{"$f":"IF(COUNTA(Tabela1[#This Row]) > 0, IF(Tabela1[[#This Row],[TIPO CARTÃO]]  = \"0-SEM CARTÃO\",IF(COUNTA(Tabela1[#This Row]) = 22, 0, 1),IF(COUNTA(Tabela1[#This Row]) = 18, 0, 1)), 0)","v":0},{"$f":"IF(X992 = 1, 0, IF(COUNTA(Tabela1[#This Row]) > 0, 1, 0))","v":0}]
[null,null,null,null,null,null,null,null,null,null,null,null,null,null,null,null,null,null,null,null,null,null,null,{"$f":"IF(COUNTA(Tabela1[#This Row]) > 0, IF(Tabela1[[#This Row],[TIPO CARTÃO]]  = \"0-SEM CARTÃO\",IF(COUNTA(Tabela1[#This Row]) = 22, 0, 1),IF(COUNTA(Tabela1[#This Row]) = 18, 0, 1)), 0)","v":0},{"$f":"IF(X993 = 1, 0, IF(COUNTA(Tabela1[#This Row]) > 0, 1, 0))","v":0}]
[null,null,null,null,null,null,null,null,null,null,null,null,null,null,null,null,null,null,null,null,null,null,null,{"$f":"IF(COUNTA(Tabela1[#This Row]) > 0, IF(Tabela1[[#This Row],[TIPO CARTÃO]]  = \"0-SEM CARTÃO\",IF(COUNTA(Tabela1[#This Row]) = 22, 0, 1),IF(COUNTA(Tabela1[#This Row]) = 18, 0, 1)), 0)","v":0},{"$f":"IF(X994 = 1, 0, IF(COUNTA(Tabela1[#This Row]) > 0, 1, 0))","v":0}]
[null,null,null,null,null,null,null,null,null,null,null,null,null,null,null,null,null,null,null,null,null,null,null,{"$f":"IF(COUNTA(Tabela1[#This Row]) > 0, IF(Tabela1[[#This Row],[TIPO CARTÃO]]  = \"0-SEM CARTÃO\",IF(COUNTA(Tabela1[#This Row]) = 22, 0, 1),IF(COUNTA(Tabela1[#This Row]) = 18, 0, 1)), 0)","v":0},{"$f":"IF(X995 = 1, 0, IF(COUNTA(Tabela1[#This Row]) > 0, 1, 0))","v":0}]
[null,null,null,null,null,null,null,null,null,null,null,null,null,null,null,null,null,null,null,null,null,null,null,{"$f":"IF(COUNTA(Tabela1[#This Row]) > 0, IF(Tabela1[[#This Row],[TIPO CARTÃO]]  = \"0-SEM CARTÃO\",IF(COUNTA(Tabela1[#This Row]) = 22, 0, 1),IF(COUNTA(Tabela1[#This Row]) = 18, 0, 1)), 0)","v":0},{"$f":"IF(X996 = 1, 0, IF(COUNTA(Tabela1[#This Row]) > 0, 1, 0))","v":0}]
[null,null,null,null,null,null,null,null,null,null,null,null,null,null,null,null,null,null,null,null,null,null,null,{"$f":"IF(COUNTA(Tabela1[#This Row]) > 0, IF(Tabela1[[#This Row],[TIPO CARTÃO]]  = \"0-SEM CARTÃO\",IF(COUNTA(Tabela1[#This Row]) = 22, 0, 1),IF(COUNTA(Tabela1[#This Row]) = 18, 0, 1)), 0)","v":0},{"$f":"IF(X997 = 1, 0, IF(COUNTA(Tabela1[#This Row]) > 0, 1, 0))","v":0}]
[null,null,null,null,null,null,null,null,null,null,null,null,null,null,null,null,null,null,null,null,null,null,null,{"$f":"IF(COUNTA(Tabela1[#This Row]) > 0, IF(Tabela1[[#This Row],[TIPO CARTÃO]]  = \"0-SEM CARTÃO\",IF(COUNTA(Tabela1[#This Row]) = 22, 0, 1),IF(COUNTA(Tabela1[#This Row]) = 18, 0, 1)), 0)","v":0},{"$f":"IF(X998 = 1, 0, IF(COUNTA(Tabela1[#This Row]) > 0, 1, 0))","v":0}]
[null,null,null,null,null,null,null,null,null,null,null,null,null,null,null,null,null,null,null,null,null,null,null,{"$f":"IF(COUNTA(Tabela1[#This Row]) > 0, IF(Tabela1[[#This Row],[TIPO CARTÃO]]  = \"0-SEM CARTÃO\",IF(COUNTA(Tabela1[#This Row]) = 22, 0, 1),IF(COUNTA(Tabela1[#This Row]) = 18, 0, 1)), 0)","v":0},{"$f":"IF(X999 = 1, 0, IF(COUNTA(Tabela1[#This Row]) > 0, 1, 0))","v":0}]
[null,null,null,null,null,null,null,null,null,null,null,null,null,null,null,null,null,null,null,null,null,null,null,{"$f":"IF(COUNTA(Tabela1[#This Row]) > 0, IF(Tabela1[[#This Row],[TIPO CARTÃO]]  = \"0-SEM CARTÃO\",IF(COUNTA(Tabela1[#This Row]) = 22, 0, 1),IF(COUNTA(Tabela1[#This Row]) = 18, 0, 1)), 0)","v":0},{"$f":"IF(X1000 = 1, 0, IF(COUNTA(Tabela1[#This Row]) > 0, 1, 0))","v":0}]
[null,null,null,null,null,null,null,null,null,null,null,null,null,null,null,null,null,null,null,null,null,null,null,{"$f":"IF(COUNTA(Tabela1[#This Row]) > 0, IF(Tabela1[[#This Row],[TIPO CARTÃO]]  = \"0-SEM CARTÃO\",IF(COUNTA(Tabela1[#This Row]) = 22, 0, 1),IF(COUNTA(Tabela1[#This Row]) = 18, 0, 1)), 0)","v":0},{"$f":"IF(X1001 = 1, 0, IF(COUNTA(Tabela1[#This Row]) > 0, 1, 0))","v":0}]

{"sheet":"LISTA","index":3,"n_rows":247,"n_cols":18,"rows_kept":247,"cut":false,"hidden":true,"merged":[]}
[{"$f":"\"----- SELECIONE -----\"","v":"----- SELECIONE -----"},null,null,"---",{"$f":"\"---SELECIONE---\"","v":"---SELECIONE---"},null,"08507038670",0,{"$f":"\"--SELECIONE--\"","v":"--SELECIONE--"},null,null,"DIA","MÊS","ANO",null,null,246,"Banco ABC Brasil S.A."]
["CARTEIRA DE IDENTIDADE",1,null,"MG","PARTICULAR",0,10687472695,1,"SÃO GOTARDO",null,null,1,1,{"$f":"YEAR(TODAY())","v":2023},1,"JANEIRO",75,"Banco ABN AMRO S.A."]
["REGISTRO ÚNICO DE IDENTIDADE CIVIL RIC",2,null,"AC","COMERCIAL",1,null,null,"GUARDA DOS FERREIROS",null,null,2,2,{"$f":"N2-1","v":2022},2,"FEVEREIRO",121,"Banco Agibank S.A."]
["CARTEIRA DE IDENTIDADE PROFISSIONAL",3,null,"AL","OUTROS",2,null,null,null,null,null,3,3,{"$f":"N3-1","v":2021},3,"MARÇO",25,"Banco Alfa S.A."]
["CARTEIRA DE IDENTIDADE MILITAR",4,null,"AM",null,null,null,null,null,null,null,4,4,2020,4,"ABRIL",65,"Banco Andbank (Brasil) S.A."]
["CARTEIRA NACIONAL DE HABILITAÇÃO CNH",5,null,"AP",null,null,null,null,null,null,null,5,5,2019,5,"MAIO",96,"Banco B3 S.A."]
["PASSAPORTE",6,null,"BA",null,null,null,null,null,null,null,6,6,2018,6,"JUNHO",24,"Banco BANDEPE S.A."]
["CARTEIRA DE TRABALHO E PREVIDÊNCIA SOCIAL - CTPS",7,null,"CE",null,null,null,null,null,null,null,7,7,2017,7,"JULHO",318,"Banco BMG S.A."]
["REGISTRO NACIONAL DE ESTRANGEIRO - RNE",8,null,"DF",null,null,null,null,null,null,null,8,8,2016,8,"AGOSTO",752,"Banco BNP Paribas Brasil S.A."]
["CERTIDÃO DE NASCIMENTO",9,null,"ES",null,null,null,null,null,null,null,9,9,2015,9,"SETEMBRO",107,"Banco BOCOM BBM S.A."]
["PROTOCOLO DE SOLICITAÇÃO DE RNE",10,null,"GO",null,null,null,null,null,null,null,10,10,2014,10,"OUTUBRO",63,"Banco Bradescard S.A."]
[null,null,null,"MA",null,null,null,null,null,null,null,11,11,2013,11,"NOVEMBRO",36,"Banco Bradesco BBI S.A."]
[null,null,null,"MG",null,null,null,null,null,null,null,12,12,2012,12,"DEZEMBRO",394,"Banco Bradesco Financiamentos S.A."]
[null,null,null,"MS",null,null,null,null,null,null,null,13,null,2011,null,null,237,"Banco Bradesco S.A."]
[null,null,null,"MT",null,null,null,null,null,null,null,14,null,2010,null,null,218,"Banco BS2 S.A."]
[null,null,null,"PA",null,null,null,null,null,null,null,15,null,2009,null,null,208,"Banco BTG Pactual S.A."]
[null,null,null,"PB",null,null,null,null,null,null,null,16,null,2008,null,null,626,"Banco C6 Consignado S.A."]
[null,null,null,"PE",null,null,null,null,null,null,null,17,null,2007,null,null,null,"Banco C6 S.A."]
[null,null,null,"PI",null,null,null,null,null,null,null,18,null,2006,null,null,473,"Banco Caixa Geral - Brasil S.A."]
[null,null,null,"PR",null,null,null,null,null,null,null,19,null,2005,null,null,40,"Banco Cargill S.A."]
[null,null,null,"RJ",null,null,null,null,null,null,null,20,null,2004,null,null,null,"Banco Caterpillar S.A."]
[null,null,null,"RN",null,null,null,null,null,null,null,21,null,2003,null,null,739,"Banco Cetelem S.A."]
[null,null,null,"RO",null,null,null,null,null,null,null,22,null,2002,null,null,233,"Banco Cifra S.A."]
[null,null,null,"RR",null,null,null,null,null,null,null,23,null,2001,null,null,745,"Banco Citibank S.A."]
[null,null,null,"RS",null,null,null,null,null,null,null,24,null,2000,null,null,null,"Banco CNH Industrial Capital S.A."]
[null,null,null,"SC",null,null,null,null,null,null,null,25,null,1999,null,null,756,"Banco Cooperativo do Brasil S.A. - BANCOOB"]
[null,null,null,"SE",null,null,null,null,null,null,null,26,null,1998,null,null,748,"Banco Cooperativo Sicredi S.A."]
[null,null,null,"SP",null,null,null,null,null,null,null,27,null,1997,null,null,222,"Banco Credit Agricole Brasil S.A."]
[null,null,null,"TO",null,null,null,null,null,null,null,28,null,1996,null,null,505,"Banco Credit Suisse (Brasil) S.A."]
[null,null,null,null,null,null,null,null,null,null,null,29,null,1995,null,null,null,"Banco CSF S.A."]
[null,null,null,null,null,null,null,null,null,null,null,30,null,1994,null,null,3,"Banco da Amazônia S.A."]
[null,null,null,null,null,null,null,null,null,null,null,31,null,1993,null,null,83,"Banco da China Brasil S.A."]
[null,null,null,null,null,null,null,null,null,null,null,null,null,1992,null,null,707,"Banco Daycoval S.A."]
[null,null,null,null,null,null,null,null,null,null,null,null,null,1991,null,null,null,"Banco de Lage Landen Brasil S.A."]
[null,null,null,null,null,null,null,null,null,null,null,null,null,1990,null,null,654,"Banco Digimais S.A."]
[null,null,null,null,null,null,null,null,null,null,null,null,null,1989,null,null,null,"Banco Digio S.A."]
[null,null,null,null,null,null,null,null,null,null,null,null,null,1988,null,null,1,"Banco do Brasil S.A."]
[null,null,null,null,null,null,null,null,null,null,null,null,null,1987,null,null,47,"Banco do Estado de Sergipe S.A."]
[null,null,null,null,null,null,null,null,null,null,null,null,null,1986,null,null,37,"Banco do Estado do Pará S.A."]
[null,null,null,null,null,null,null,null,null,null,null,null,null,1985,null,null,41,"Banco do Estado do Rio Grande do Sul S.A."]
[null,null,null,null,null,null,null,null,null,null,null,null,null,1984,null,null,4,"Banco do Nordeste do Brasil S.A."]
[null,null,null,null,null,null,null,null,null,null,null,null,null,1983,null,null,224,"Banco Fibra S.A."]
[null,null,null,null,null,null,null,null,null,null,null,null,null,1982,null,null,null,"Banco Fidis S.A."]
[null,null,null,null,null,null,null,null,null,null,null,null,null,1981,null,null,94,"Banco Finaxis S.A."]
[null,null,null,null,null,null,null,null,null,null,null,null,null,1980,null,null,null,"Banco Ford S.A."]
[null,null,null,null,null,null,null,null,null,null,null,null,null,1979,null,null,null,"Banco GM S.A."]
[null,null,null,null,null,null,null,null,null,null,null,null,null,1978,null,null,612,"Banco Guanabara S.A."]
[null,null,null,null,null,null,null,null,null,null,null,null,null,1977,null,null,null,"Banco IBM S.A."]
[null,null,null,null,null,null,null,null,null,null,null,null,null,1976,null,null,12,"Banco Inbursa S.A."]
[null,null,null,null,null,null,null,null,null,null,null,null,null,1975,null,null,604,"Banco Industrial do Brasil S.A."]
[null,null,null,null,null,null,null,null,null,null,null,null,null,1974,null,null,653,"Banco Indusval S.A."]
[null,null,null,null,null,null,null,null,null,null,null,null,null,1973,null,null,77,"Banco Inter S.A."]
[null,null,null,null,null,null,null,null,null,null,null,null,null,1972,null,null,249,"Banco Investcred Unibanco S.A."]
[null,null,null,null,null,null,null,null,null,null,null,null,null,1971,null,null,184,"Banco Itaú BBA S.A."]
[null,null,null,null,null,null,null,null,null,null,null,null,null,1970,null,null,29,"Banco Itaú Consignado S.A."]
[null,null,null,null,null,null,null,null,null,null,null,null,null,1969,null,null,null,"Banco Itaú Veículos S.A."]
[null,null,null,null,null,null,null,null,null,null,null,null,null,1968,null,null,479,"Banco ItauBank S.A"]
[null,null,null,null,null,null,null,null,null,null,null,null,null,1967,null,null,null,"Banco Itaucard S.A."]
[null,null,null,null,null,null,null,null,null,null,null,null,null,1966,null,null,null,"Banco Itauleasing S.A."]
[null,null,null,null,null,null,null,null,null,null,null,null,null,1965,null,null,376,"Banco J. P. Morgan S.A."]
[null,null,null,null,null,null,null,null,null,null,null,null,null,1964,null,null,74,"Banco J. Safra S.A."]
[null,null,null,null,null,null,null,null,null,null,null,null,null,1963,null,null,217,"Banco John Deere S.A."]
[null,null,null,null,null,null,null,null,null,null,null,null,null,1962,null,null,600,"Banco Luso Brasileiro S.A."]
[null,null,null,null,null,null,null,null,null,null,null,null,null,1961,null,null,243,"Banco Máxima S.A."]
[null,null,null,null,null,null,null,null,null,null,null,null,null,1960,null,null,389,"Banco Mercantil do Brasil S.A."]
[null,null,null,null,null,null,null,null,null,null,null,null,null,1959,null,null,370,"Banco Mizuho do Brasil S.A."]
[null,null,null,null,null,null,null,null,null,null,null,null,null,1958,null,null,746,"Banco Modal S.A."]
[null,null,null,null,null,null,null,null,null,null,null,null,null,{"$f":"N67-1","v":1957},null,null,456,"Banco MUFG Brasil S.A."]
[null,null,null,null,null,null,null,null,null,null,null,null,null,1956,null,null,169,"Banco Olé Bonsucesso Consignado S.A."]
[null,null,null,null,null,null,null,null,null,null,null,null,null,1955,null,null,212,"Banco Original S.A."]
[null,null,null,null,null,null,null,null,null,null,null,null,null,1954,null,null,623,"Banco PAN S.A."]
[null,null,null,null,null,null,null,null,null,null,null,null,null,1953,null,null,611,"Banco Paulista S.A."]
[null,null,null,null,null,null,null,null,null,null,null,null,null,1952,null,null,643,"Banco Pine S.A."]
[null,null,null,null,null,null,null,null,null,null,null,null,null,1951,null,null,747,"Banco Rabobank International Brasil S.A."]
[null,null,null,null,null,null,null,null,null,null,null,null,null,1950,null,null,null,"Banco RCI Brasil S.A."]
[null,null,null,null,null,null,null,null,null,null,null,null,null,1949,null,null,633,"Banco Rendimento S.A."]
[null,null,null,null,null,null,null,null,null,null,null,null,null,1948,null,null,120,"Banco Rodobens S.A."]
[null,null,null,null,null,null,null,null,null,null,null,null,null,1947,null,null,422,"Banco Safra S.A."]
[null,null,null,null,null,null,null,null,null,null,null,null,null,1946,null,null,33,"Banco Santander  (Brasil)  S.A."]
[null,null,null,null,null,null,null,null,null,null,null,null,null,1945,null,null,743,"Banco Semear S.A."]
[null,null,null,null,null,null,null,null,null,null,null,null,null,1944,null,null,276,"Banco Senff S.A."]
[null,null,null,null,null,null,null,null,null,null,null,null,null,1943,null,null,630,"Banco Smartbank S.A."]
[null,null,null,null,null,null,null,null,null,null,null,null,null,1942,null,null,366,"Banco Société Générale Brasil S.A."]
[null,null,null,null,null,null,null,null,null,null,null,null,null,1941,null,null,299,"Banco Sorocred S.A. - Banco Múltiplo (AFINZ)"]
[null,null,null,null,null,null,null,null,null,null,null,null,null,1940,null,null,464,"Banco Sumitomo Mitsui Brasileiro S.A."]
[null,null,null,null,null,null,null,null,null,null,null,null,null,1939,null,null,82,"Banco Topázio S.A."]
[null,null,null,null,null,null,null,null,null,null,null,null,null,1938,null,null,null,"Banco Toyota do Brasil S.A."]
[null,null,null,null,null,null,null,null,null,null,null,null,null,1937,null,null,634,"Banco Triângulo S.A."]
[null,null,null,null,null,null,null,null,null,null,null,null,null,1936,null,null,null,"Banco Volvo Brasil S.A."]
[null,null,null,null,null,null,null,null,null,null,null,null,null,1935,null,null,655,"Banco Votorantim S.A."]
[null,null,null,null,null,null,null,null,null,null,null,null,null,1934,null,null,610,"Banco VR S.A."]
[null,null,null,null,null,null,null,null,null,null,null,null,null,1933,null,null,119,"Banco Western Union do Brasil S.A."]
[null,null,null,null,null,null,null,null,null,null,null,null,null,1932,null,null,102,"Banco XP S.A."]
[null,null,null,null,null,null,null,null,null,null,null,null,null,1931,null,null,null,"Banco Yamaha Motor do Brasil S.A."]
[null,null,null,null,null,null,null,null,null,null,null,null,null,1930,null,null,21,"BANESTES S.A. Banco do Estado do Espírito Santo"]
[null,null,null,null,null,null,null,null,null,null,null,null,null,1929,null,null,755,"Bank of America Merrill Lynch Banco Múltiplo S.A."]
[null,null,null,null,null,null,null,null,null,null,null,null,null,1928,null,null,250,"BCV - Banco de Crédito e Varejo S.A."]
[null,null,null,null,null,null,null,null,null,null,null,null,null,1927,null,null,144,"BEXS Banco de Câmbio S.A."]
[null,null,null,null,null,null,null,null,null,null,null,null,null,1926,null,null,17,"BNY Mellon Banco S.A."]
[null,null,null,null,null,null,null,null,null,null,null,null,null,1925,null,null,70,"BRB - Banco de Brasília S.A."]
[null,null,null,null,null,null,null,null,null,null,null,null,null,1924,null,null,104,"Caixa Econômica Federal"]
[null,null,null,null,null,null,null,null,null,null,null,null,null,1923,null,null,320,"China Construction Bank (Brasil) Banco Múltiplo S.A."]
[null,null,null,null,null,null,null,null,null,null,null,null,null,1922,null,null,477,"Citibank N.A."]
[null,null,null,null,null,null,null,null,null,null,null,null,null,1921,null,null,487,"Deutsche Bank S.A. - Banco Alemão"]
[null,null,null,null,null,null,null,null,null,null,null,null,null,1920,null,null,62,"Hipercard Banco Múltiplo S.A."]
[null,null,null,null,null,null,null,null,null,null,null,null,null,1919,null,null,269,"HSBC Brasil S.A. - Banco de Investimento"]
[null,null,null,null,null,null,null,null,null,null,null,null,null,1918,null,null,492,"ING Bank N.V."]
[null,null,null,null,null,null,null,null,null,null,null,null,null,1917,null,null,341,"Itaú Unibanco S.A."]
[null,null,null,null,null,null,null,null,null,null,null,null,null,1916,null,null,488,"JPMorgan Chase Bank, National Association"]
[null,null,null,null,null,null,null,null,null,null,null,null,null,1915,null,null,399,"Kirton Bank S.A. - Banco Múltiplo"]
[null,null,null,null,null,null,null,null,null,null,null,null,null,1914,null,null,128,"MS Bank S.A. Banco de Câmbio"]
[null,null,null,null,null,null,null,null,null,null,null,null,null,1913,null,null,254,"Paraná Banco S.A."]
[null,null,null,null,null,null,null,null,null,null,null,null,null,1912,null,null,125,"Plural S.A. - Banco Múltiplo"]
[null,null,null,null,null,null,null,null,null,null,null,null,null,1911,null,null,null,"Scania Banco S.A."]
[null,null,null,null,null,null,null,null,null,null,null,null,null,1910,null,null,751,"Scotiabank Brasil S.A. Banco Múltiplo"]
[null,null,null,null,null,null,null,null,null,null,null,null,null,1909,null,null,95,"Travelex Banco de Câmbio S.A."]
[null,null,null,null,null,null,null,null,null,null,null,null,null,1908,null,null,129,"UBS Brasil Banco de Investimento S.A."]
[null,null,null,null,null,null,null,null,null,null,null,null,null,1907]
[null,null,null,null,null,null,null,null,null,null,null,null,null,1906]
[null,null,null,null,null,null,null,null,null,null,null,null,null,1905]
[null,null,null,null,null,null,null,null,null,null,null,null,null,1904]
[null,null,null,null,null,null,null,null,null,null,null,null,null,1903]
[null,null,null,null,null,null,null,null,null,null,null,null,null,1902]
[null,null,null,null,null,null,null,null,null,null,null,null,null,1901]
[null,null,null,null,null,null,null,null,null,null,null,null,null,1900]
[null,null,null,null,null,null,null,null,null,null,null,null,null,1899]
[null,null,null,null,null,null,null,null,null,null,null,null,null,1898]
[null,null,null,null,null,null,null,null,null,null,null,null,null,1897]
[null,null,null,null,null,null,null,null,null,null,null,null,null,1896]
[null,null,null,null,null,null,null,null,null,null,null,null,null,1895]
[null,null,null,null,null,null,null,null,null,null,null,null,null,1894]
[null,null,null,null,null,null,null,null,null,null,null,null,null,{"$f":"N131-1","v":1893}]
[null,null,null,null,null,null,null,null,null,null,null,null,null,1892]
[null,null,null,null,null,null,null,null,null,null,null,null,null,1891]
[null,null,null,null,null,null,null,null,null,null,null,null,null,1890]
[null,null,null,null,null,null,null,null,null,null,null,null,null,1889]
[null,null,null,null,null,null,null,null,null,null,null,null,null,1888]
[null,null,null,null,null,null,null,null,null,null,null,null,null,1887]
[null,null,null,null,null,null,null,null,null,null,null,null,null,1886]
[null,null,null,null,null,null,null,null,null,null,null,null,null,1885]
[null,null,null,null,null,null,null,null,null,null,null,null,null,1884]
[null,null,null,null,null,null,null,null,null,null,null,null,null,1883]
[null,null,null,null,null,null,null,null,null,null,null,null,null,1882]
[null,null,null,null,null,null,null,null,null,null,null,null,null,1881]
[null,null,null,null,null,null,null,null,null,null,null,null,null,1880]
[null,null,null,null,null,null,null,null,null,null,null,null,null,1879]
[null,null,null,null,null,null,null,null,null,null,null,null,null,1878]
[null,null,null,null,null,null,null,null,null,null,null,null,null,1877]
[null,null,null,null,null,null,null,null,null,null,null,null,null,1876]
[null,null,null,null,null,null,null,null,null,null,null,null,null,1875]
[null,null,null,null,null,null,null,null,null,null,null,null,null,1874]
[null,null,null,null,null,null,null,null,null,null,null,null,null,1873]
[null,null,null,null,null,null,null,null,null,null,null,null,null,1872]
[null,null,null,null,null,null,null,null,null,null,null,null,null,1871]
[null,null,null,null,null,null,null,null,null,null,null,null,null,1870]
[null,null,null,null,null,null,null,null,null,null,null,null,null,1869]
[null,null,null,null,null,null,null,null,null,null,null,null,null,1868]
[null,null,null,null,null,null,null,null,null,null,null,null,null,1867]
[null,null,null,null,null,null,null,null,null,null,null,null,null,1866]
[null,null,null,null,null,null,null,null,null,null,null,null,null,1865]
[null,null,null,null,null,null,null,null,null,null,null,null,null,1864]
[null,null,null,null,null,null,null,null,null,null,null,null,null,1863]
[null,null,null,null,null,null,null,null,null,null,null,null,null,1862]
[null,null,null,null,null,null,null,null,null,null,null,null,null,1861]
[null,null,null,null,null,null,null,null,null,null,null,null,null,1860]
[null,null,null,null,null,null,null,null,null,null,null,null,null,1859]
[null,null,null,null,null,null,null,null,null,null,null,null,null,1858]
[null,null,null,null,null,null,null,null,null,null,null,null,null,1857]
[null,null,null,null,null,null,null,null,null,null,null,null,null,1856]
[null,null,null,null,null,null,null,null,null,null,null,null,null,1855]
[null,null,null,null,null,null,null,null,null,null,null,null,null,1854]
[null,null,null,null,null,null,null,null,null,null,null,null,null,1853]
[null,null,null,null,null,null,null,null,null,null,null,null,null,1852]
[null,null,null,null,null,null,null,null,null,null,null,null,null,1851]
[null,null,null,null,null,null,null,null,null,null,null,null,null,1850]
[null,null,null,null,null,null,null,null,null,null,null,null,null,1849]
[null,null,null,null,null,null,null,null,null,null,null,null,null,1848]
[null,null,null,null,null,null,null,null,null,null,null,null,null,1847]
[null,null,null,null,null,null,null,null,null,null,null,null,null,1846]
[null,null,null,null,null,null,null,null,null,null,null,null,null,1845]
[null,null,null,null,null,null,null,null,null,null,null,null,null,1844]
[null,null,null,null,null,null,null,null,null,null,null,null,null,1843]
[null,null,null,null,null,null,null,null,null,null,null,null,null,1842]
[null,null,null,null,null,null,null,null,null,null,null,null,null,1841]
[null,null,null,null,null,null,null,null,null,null,null,null,null,1840]
[null,null,null,null,null,null,null,null,null,null,null,null,null,1839]
[null,null,null,null,null,null,null,null,null,null,null,null,null,1838]
[null,null,null,null,null,null,null,null,null,null,null,null,null,1837]
[null,null,null,null,null,null,null,null,null,null,null,null,null,1836]
[null,null,null,null,null,null,null,null,null,null,null,null,null,1835]
[null,null,null,null,null,null,null,null,null,null,null,null,null,1834]
[null,null,null,null,null,null,null,null,null,null,null,null,null,1833]
[null,null,null,null,null,null,null,null,null,null,null,null,null,1832]
[null,null,null,null,null,null,null,null,null,null,null,null,null,1831]
[null,null,null,null,null,null,null,null,null,null,null,null,null,1830]
[null,null,null,null,null,null,null,null,null,null,null,null,null,{"$f":"N195-1","v":1829}]
[null,null,null,null,null,null,null,null,null,null,null,null,null,1828]
[null,null,null,null,null,null,null,null,null,null,null,null,null,1827]
[null,null,null,null,null,null,null,null,null,null,null,null,null,1826]
[null,null,null,null,null,null,null,null,null,null,null,null,null,1825]
[null,null,null,null,null,null,null,null,null,null,null,null,null,1824]
[null,null,null,null,null,null,null,null,null,null,null,null,null,1823]
[null,null,null,null,null,null,null,null,null,null,null,null,null,1822]
[null,null,null,null,null,null,null,null,null,null,null,null,null,1821]
[null,null,null,null,null,null,null,null,null,null,null,null,null,1820]
[null,null,null,null,null,null,null,null,null,null,null,null,null,1819]
[null,null,null,null,null,null,null,null,null,null,null,null,null,1818]
[null,null,null,null,null,null,null,null,null,null,null,null,null,1817]
[null,null,null,null,null,null,null,null,null,null,null,null,null,1816]
[null,null,null,null,null,null,null,null,null,null,null,null,null,1815]
[null,null,null,null,null,null,null,null,null,null,null,null,null,1814]
[null,null,null,null,null,null,null,null,null,null,null,null,null,1813]
[null,null,null,null,null,null,null,null,null,null,null,null,null,1812]
[null,null,null,null,null,null,null,null,null,null,null,null,null,1811]
[null,null,null,null,null,null,null,null,null,null,null,null,null,1810]
[null,null,null,null,null,null,null,null,null,null,null,null,null,1809]
[null,null,null,null,null,null,null,null,null,null,null,null,null,1808]
[null,null,null,null,null,null,null,null,null,null,null,null,null,1807]
[null,null,null,null,null,null,null,null,null,null,null,null,null,1806]
[null,null,null,null,null,null,null,null,null,null,null,null,null,1805]
[null,null,null,null,null,null,null,null,null,null,null,null,null,1804]
[null,null,null,null,null,null,null,null,null,null,null,null,null,1803]
[null,null,null,null,null,null,null,null,null,null,null,null,null,1802]
[null,null,null,null,null,null,null,null,null,null,null,null,null,1801]
[null,null,null,null,null,null,null,null,null,null,null,null,null,1800]
[null,null,null,null,null,null,null,null,null,null,null,null,null,1799]
[null,null,null,null,null,null,null,null,null,null,null,null,null,1798]
[null,null,null,null,null,null,null,null,null,null,null,null,null,1797]
[null,null,null,null,null,null,null,null,null,null,null,null,null,1796]
[null,null,null,null,null,null,null,null,null,null,null,null,null,1795]
[null,null,null,null,null,null,null,null,null,null,null,null,null,1794]
[null,null,null,null,null,null,null,null,null,null,null,null,null,1793]
[null,null,null,null,null,null,null,null,null,null,null,null,null,1792]
[null,null,null,null,null,null,null,null,null,null,null,null,null,1791]
[null,null,null,null,null,null,null,null,null,null,null,null,null,1790]
[null,null,null,null,null,null,null,null,null,null,null,null,null,1789]
[null,null,null,null,null,null,null,null,null,null,null,null,null,1788]
[null,null,null,null,null,null,null,null,null,null,null,null,null,1787]
[null,null,null,null,null,null,null,null,null,null,null,null,null,1786]
[null,null,null,null,null,null,null,null,null,null,null,null,null,1785]
[null,null,null,null,null,null,null,null,null,null,null,null,null,1784]
[null,null,null,null,null,null,null,null,null,null,null,null,null,1783]
[null,null,null,null,null,null,null,null,null,null,null,null,null,1782]
[null,null,null,null,null,null,null,null,null,null,null,null,null,1781]
[null,null,null,null,null,null,null,null,null,null,null,null,null,1780]
[null,null,null,null,null,null,null,null,null,null,null,null,null,1779]
[null,null,null,null,null,null,null,null,null,null,null,null,null,1778]

{"sheet":"TERMO PORTABILIDADE","index":4,"n_rows":12121,"n_cols":41,"rows_kept":4500,"cut":true,"hidden":true,"merged":[[12118,1,12118,22],[12118,24,12118,45],[12119,1,12119,22],[12119,24,12119,45],[12120,1,12120,22],[12120,24,12120,45],[12108,24,12108,27],[12108,28,12108,33],[12111,1,12111,45],[12113,6,12113,7],[12113,8,12113,9],[12113,10,12113,14],[12113,15,12113,16],[12113,17,12113,19],[12106,1,12106,7],[12106,8,12106,22],[12106,24,12106,27],[12106,28,12106,32],[12106,34,12106,39],[12106,40,12106,45],[12100,1,12100,45],[12102,1,12102,22],[12102,24,12102,45],[12104,1,12104,12],[12104,13,12104,17],[12104,24,12104,26],[12104,27,12104,28],[12104,29,12104,45],[12090,1,12092,45],[12094,1,12094,45],[12096,1,12096,45],[12098,1,12098,2],[12098,3,12098,25],[12098,26,12098,35],[12098,36,12098,45],[12086,1,12086,22],[12086,24,12086,45],[12087,1,12087,22],[12087,24,12087,45],[12088,1,12088,22],[12088,24,12088,45],[12076,24,12076,27],[12076,28,12076,33],[12079,1,12079,45],[12081,6,12081,7],[12081,8,12081,9],[12081,10,12081,14],[12081,15,12081,16],[12081,17,12081,19],[12074,1,12074,7],[12074,8,12074,22],[12074,24,12074,27],[12074,28,12074,32],[12074,34,12074,39],[12074,40,12074,45],[12068,1,12068,45],[12070,1,12070,22],[12070,24,12070,45],[12072,1,12072,12],[12072,13,12072,17],[12072,24,12072,26],[12072,27,12072,28],[12072,29,12072,45],[12058,1,12060,45],[12062,1,12062,45],[12064,1,12064,45],[12066,1,12066,2],[12066,3,12066,25],[12066,26,12066,35],[12066,36,12066,45],[12053,1,12053,22],[12053,24,12053,45],[12054,1,12054,22],[12054,24,12054,45],[12055,1,12055,22],[12055,24,12055,45],[12043,24,12043,27],[12043,28,12043,33],[12046,1,12046,45],[12048,6,12048,7],[12048,8,12048,9],[12048,10,12048,14],[12048,15,12048,16],[12048,17,12048,19],[12041,1,12041,7],[12041,8,12041,22],[12041,24,12041,27],[12041,28,12041,32],[12041,34,12041,39],[12041,40,12041,45],[12035,1,12035,45],[12037,1,12037,22],[12037,24,12037,45],[12039,1,12039,12],[12039,13,12039,17],[12039,24,12039,26],[12039,27,12039,28],[12039,29,12039,45],[12025,1,12027,45],[12029,1,12029,45],[12031,1,12031,45],[12033,1,12033,2],[12033,3,12033,25],[12033,26,12033,35],[12033,36,12033,45],[12021,1,12021,22],[12021,24,12021,45],[12022,1,12022,22],[12022,24,12022,45],[12023,1,12023,22],[12023,24,12023,45],[12011,24,12011,27],[12011,28,12011,33],[12014,1,12014,45],[12016,6,12016,7],[12016,8,12016,9],[12016,10,12016,14],[12016,15,12016,16],[12016,17,12016,19],[12009,1,12009,7],[12009,8,12009,22],[12009,24,12009,27],[12009,28,12009,32],[12009,34,12009,39],[12009,40,12009,45],[12003,1,12003,45],[12005,1,12005,22],[12005,24,12005,45],[12007,1,12007,12],[12007,13,12007,17],[12007,24,12007,26],[12007,27,12007,28],[12007,29,12007,45],[11993,1,11995,45],[11997,1,11997,45],[11999,1,11999,45],[12001,1,12001,2],[12001,3,12001,25],[12001,26,12001,35],[12001,36,12001,45],[11988,1,11988,22],[11988,24,11988,45],[11989,1,11989,22],[11989,24,11989,45],[11990,1,11990,22],[11990,24,11990,45],[11978,24,11978,27],[11978,28,11978,33],[11981,1,11981,45],[11983,6,11983,7],[11983,8,11983,9],[11983,10,11983,14],[11983,15,11983,16],[11983,17,11983,19],[11976,1,11976,7],[11976,8,11976,22],[11976,24,11976,27],[11976,28,11976,32],[11976,34,11976,39],[11976,40,11976,45],[11970,1,11970,45],[11972,1,11972,22],[11972,24,11972,45],[11974,1,11974,12],[11974,13,11974,17],[11974,24,11974,26],[11974,27,11974,28],[11974,29,11974,45],[11960,1,11962,45],[11964,1,11964,45],[11966,1,11966,45],[11968,1,11968,2],[11968,3,11968,25],[11968,26,11968,35],[11968,36,11968,45],[11956,1,11956,22],[11956,24,11956,45],[11957,1,11957,22],[11957,24,11957,45],[11958,1,11958,22],[11958,24,11958,45],[11946,24,11946,27],[11946,28,11946,33],[11949,1,11949,45],[11951,6,11951,7],[11951,8,11951,9],[11951,10,11951,14],[11951,15,11951,16],[11951,17,11951,19],[11944,1,11944,7],[11944,8,11944,22],[11944,24,11944,27],[11944,28,11944,32],[11944,34,11944,39],[11944,40,11944,45],[11938,1,11938,45],[11940,1,11940,22],[11940,24,11940,45],[11942,1,11942,12],[11942,13,11942,17],[11942,24,11942,26],[11942,27,11942,28],[11942,29,11942,45],[11928,1,11930,45],[11932,1,11932,45],[11934,1,11934,45],[11936,1,11936,2],[11936,3,11936,25],[11936,26,11936,35],[11936,36,11936,45],[11923,1,11923,22],[11923,24,11923,45],[11924,1,11924,22],[11924,24,11924,45],[11925,1,11925,22],[11925,24,11925,45],[11913,24,11913,27],[11913,28,11913,33],[11916,1,11916,45],[11918,6,11918,7],[11918,8,11918,9],[11918,10,11918,14],[11918,15,11918,16],[11918,17,11918,19],[11911,1,11911,7],[11911,8,11911,22],[11911,24,11911,27],[11911,28,11911,32],[11911,34,11911,39],[11911,40,11911,45],[11905,1,11905,45],[11907,1,11907,22],[11907,24,11907,45],[11909,1,11909,12],[11909,13,11909,17],[11909,24,11909,26],[11909,27,11909,28],[11909,29,11909,45],[11895,1,11897,45],[11899,1,11899,45],[11901,1,11901,45],[11903,1,11903,2],[11903,3,11903,25],[11903,26,11903,35],[11903,36,11903,45],[11891,1,11891,22],[11891,24,11891,45],[11892,1,11892,22],[11892,24,11892,45],[11893,1,11893,22],[11893,24,11893,45],[11881,24,11881,27],[11881,28,11881,33],[11884,1,11884,45],[11886,6,11886,7],[11886,8,11886,9],[11886,10,11886,14],[11886,15,11886,16],[11886,17,11886,19],[11879,1,11879,7],[11879,8,11879,22],[11879,24,11879,27],[11879,28,11879,32],[11879,34,11879,39],[11879,40,11879,45],[11873,1,11873,45],[11875,1,11875,22],[11875,24,11875,45],[11877,1,11877,12],[11877,13,11877,17],[11877,24,11877,26],[11877,27,11877,28],[11877,29,11877,45],[11863,1,11865,45],[11867,1,11867,45],[11869,1,11869,45],[11871,1,11871,2],[11871,3,11871,25],[11871,26,11871,35],[11871,36,11871,45],[11858,1,11858,22],[11858,24,11858,45],[11859,1,11859,22],[11859,24,11859,45],[11860,1,11860,22],[11860,24,11860,45],[11848,24,11848,27],[11848,28,11848,33],[11851,1,11851,45],[11853,6,11853,7],[11853,8,11853,9],[11853,10,11853,14],[11853,15,11853,16],[11853,17,11853,19],[11846,1,11846,7],[11846,8,11846,22],[11846,24,11846,27],[11846,28,11846,32],[11846,34,11846,39],[11846,40,11846,45],[11840,1,11840,45],[11842,1,11842,22],[11842,24,11842,45],[11844,1,11844,12],[11844,13,11844,17],[11844,24,11844,26],[11844,27,11844,28],[11844,29,11844,45],[11830,1,11832,45],[11834,1,11834,45],[11836,1,11836,45],[11838,1,11838,2],[11838,3,11838,25],[11838,26,11838,35],[11838,36,11838,45],[11826,1,11826,22],[11826,24,11826,45],[11827,1,11827,22],[11827,24,11827,45],[11828,1,11828,22],[11828,24,11828,45],[11816,24,11816,27],[11816,28,11816,33],[11819,1,11819,45],[11821,6,11821,7],[11821,8,11821,9],[11821,10,11821,14],[11821,15,11821,16],[11821,17,11821,19],[11814,1,11814,7],[11814,8,11814,22],[11814,24,11814,27],[11814,28,11814,32],[11814,34,11814,39],[11814,40,11814,45],[11808,1,11808,45],[11810,1,11810,22],[11810,24,11810,45],[11812,1,11812,12],[11812,13,11812,17],[11812,24,11812,26],[11812,27,11812,28],[11812,29,11812,45],[11798,1,11800,45],[11802,1,11802,45],[11804,1,11804,45],[11806,1,11806,2],[11806,3,11806,25],[11806,26,11806,35],[11806,36,11806,45],[11793,1,11793,22],[11793,24,11793,45],[11794,1,11794,22],[11794,24,11794,45],[11795,1,11795,22],[11795,24,11795,45],[11783,24,11783,27],[11783,28,11783,33],[11786,1,11786,45],[11788,6,11788,7],[11788,8,11788,9],[11788,10,11788,14],[11788,15,11788,16],[11788,17,11788,19],[11781,1,11781,7],[11781,8,11781,22],[11781,24,11781,27],[11781,28,11781,32],[11781,34,11781,39],[11781,40,11781,45],[11775,1,11775,45],[11777,1,11777,22],[11777,24,11777,45],[11779,1,11779,12],[11779,13,11779,17],[11779,24,11779,26],[11779,27,11779,28],[11779,29,11779,45],[11765,1,11767,45],[11769,1,11769,45],[11771,1,11771,45],[11773,1,11773,2],[11773,3,11773,25],[11773,26,11773,35],[11773,36,11773,45],[11761,1,11761,22],[11761,24,11761,45],[11762,1,11762,22],[11762,24,11762,45],[11763,1,11763,22],[11763,24,11763,45],[11751,24,11751,27],[11751,28,11751,33],[11754,1,11754,45],[11756,6,11756,7],[11756,8,11756,9],[11756,10,11756,14],[11756,15,11756,16],[11756,17,11756,19],[11749,1,11749,7],[11749,8,11749,22],[11749,24,11749,27],[11749,28,11749,32],[11749,34,11749,39],[11749,40,11749,45],[11743,1,11743,45],[11745,1,11745,22],[11745,24,11745,45],[11747,1,11747,12],[11747,13,11747,17],[11747,24,11747,26],[11747,27,11747,28],[11747,29,11747,45],[11733,1,11735,45],[11737,1,11737,45],[11739,1,11739,45],[11741,1,11741,2],[11741,3,11741,25],[11741,26,11741,35],[11741,36,11741,45],[11728,1,11728,22],[11728,24,11728,45],[11729,1,11729,22],[11729,24,11729,45],[11730,1,11730,22],[11730,24,11730,45],[11718,24,11718,27],[11718,28,11718,33],[11721,1,11721,45],[11723,6,11723,7],[11723,8,11723,9],[11723,10,11723,14],[11723,15,11723,16],[11723,17,11723,19],[11716,1,11716,7],[11716,8,11716,22],[11716,24,11716,27],[11716,28,11716,32],[11716,34,11716,39],[11716,40,11716,45],[11710,1,11710,45],[11712,1,11712,22],[11712,24,11712,45],[11714,1,11714,12],[11714,13,11714,17],[11714,24,11714,26],[11714,27,11714,28],[11714,29,11714,45],[11700,1,11702,45],[11704,1,11704,45],[11706,1,11706,45],[11708,1,11708,2],[11708,3,11708,25],[11708,26,11708,35],[11708,36,11708,45],[11696,1,11696,22],[11696,24,11696,45],[11697,1,11697,22],[11697,24,11697,45],[11698,1,11698,22],[11698,24,11698,45],[11686,24,11686,27],[11686,28,11686,33],[11689,1,11689,45],[11691,6,11691,7],[11691,8,11691,9],[11691,10,11691,14],[11691,15,11691,16],[11691,17,11691,19],[11684,1,11684,7],[11684,8,11684,22],[11684,24,11684,27],[11684,28,11684,32],[11684,34,11684,39],[11684,40,11684,45],[11678,1,11678,45],[11680,1,11680,22],[11680,24,11680,45],[11682,1,11682,12],[11682,13,11682,17],[11682,24,11682,26],[11682,27,11682,28],[11682,29,11682,45],[11668,1,11670,45],[11672,1,11672,45],[11674,1,11674,45],[11676,1,11676,2],[11676,3,11676,25],[11676,26,11676,35],[11676,36,11676,45],[11663,1,11663,22],[11663,24,11663,45],[11664,1,11664,22],[11664,24,11664,45],[11665,1,11665,22],[11665,24,11665,45],[11653,24,11653,27],[11653,28,11653,33],[11656,1,11656,45],[11658,6,11658,7],[11658,8,11658,9],[11658,10,11658,14],[11658,15,11658,16],[11658,17,11658,19],[11651,1,11651,7],[11651,8,11651,22],[11651,24,11651,27],[11651,28,11651,32],[11651,34,11651,39],[11651,40,11651,45],[11645,1,11645,45],[11647,1,11647,22],[11647,24,11647,45],[11649,1,11649,12],[11649,13,11649,17],[11649,24,11649,26],[11649,27,11649,28],[11649,29,11649,45],[11635,1,11637,45],[11639,1,11639,45],[11641,1,11641,45],[11643,1,11643,2],[11643,3,11643,25],[11643,26,11643,35],[11643,36,11643,45],[11631,1,11631,22],[11631,24,11631,45],[11632,1,11632,22],[11632,24,11632,45],[11633,1,11633,22],[11633,24,11633,45],[11621,24,11621,27],[11621,28,11621,33],[11624,1,11624,45],[11626,6,11626,7],[11626,8,11626,9],[11626,10,11626,14],[11626,15,11626,16],[11626,17,11626,19],[11619,1,11619,7],[11619,8,11619,22],[11619,24,11619,27],[11619,28,11619,32],[11619,34,11619,39],[11619,40,11619,45],[11613,1,11613,45],[11615,1,11615,22],[11615,24,11615,45],[11617,1,11617,12],[11617,13,11617,17],[11617,24,11617,26],[11617,27,11617,28],[11617,29,11617,45],[11603,1,11605,45],[11607,1,11607,45],[11609,1,11609,45],[11611,1,11611,2],[11611,3,11611,25],[11611,26,11611,35],[11611,36,11611,45],[11598,1,11598,22],[11598,24,11598,45],[11599,1,11599,22],[11599,24,11599,45],[11600,1,11600,22],[11600,24,11600,45],[11588,24,11588,27],[11588,28,11588,33],[11591,1,11591,45],[11593,6,11593,7],[11593,8,11593,9],[11593,10,11593,14],[11593,15,11593,16],[11593,17,11593,19],[11586,1,11586,7],[11586,8,11586,22],[11586,24,11586,27],[11586,28,11586,32],[11586,34,11586,39],[11586,40,11586,45],[11580,1,11580,45],[11582,1,11582,22],[11582,24,11582,45],[11584,1,11584,12],[11584,13,11584,17],[11584,24,11584,26],[11584,27,11584,28],[11584,29,11584,45],[11570,1,11572,45],[11574,1,11574,45],[11576,1,11576,45],[11578,1,11578,2],[11578,3,11578,25],[11578,26,11578,35],[11578,36,11578,45],[11566,1,11566,22],[11566,24,11566,45],[11567,1,11567,22],[11567,24,11567,45],[11568,1,11568,22],[11568,24,11568,45],[11556,24,11556,27],[11556,28,11556,33],[11559,1,11559,45],[11561,6,11561,7],[11561,8,11561,9],[11561,10,11561,14],[11561,15,11561,16],[11561,17,11561,19],[11554,1,11554,7],[11554,8,11554,22],[11554,24,11554,27],[11554,28,11554,32],[11554,34,11554,39],[11554,40,11554,45],[11548,1,11548,45],[11550,1,11550,22],[11550,24,11550,45],[11552,1,11552,12],[11552,13,11552,17],[11552,24,11552,26],[11552,27,11552,28],[11552,29,11552,45],[11538,1,11540,45],[11542,1,11542,45],[11544,1,11544,45],[11546,1,11546,2],[11546,3,11546,25],[11546,26,11546,35],[11546,36,11546,45],[11533,1,11533,22],[11533,24,11533,45],[11534,1,11534,22],[11534,24,11534,45],[11535,1,11535,22],[11535,24,11535,45],[11523,24,11523,27],[11523,28,11523,33],[11526,1,11526,45],[11528,6,11528,7],[11528,8,11528,9],[11528,10,11528,14],[11528,15,11528,16],[11528,17,11528,19],[11521,1,11521,7],[11521,8,11521,22],[11521,24,11521,27],[11521,28,11521,32],[11521,34,11521,39],[11521,40,11521,45],[11515,1,11515,45],[11517,1,11517,22],[11517,24,11517,45],[11519,1,11519,12],[11519,13,11519,17],[11519,24,11519,26],[11519,27,11519,28],[11519,29,11519,45],[11505,1,11507,45],[11509,1,11509,45],[11511,1,11511,45],[11513,1,11513,2],[11513,3,11513,25],[11513,26,11513,35],[11513,36,11513,45],[11501,1,11501,22],[11501,24,11501,45],[11502,1,11502,22],[11502,24,11502,45],[11503,1,11503,22],[11503,24,11503,45],[11491,24,11491,27],[11491,28,11491,33],[11494,1,11494,45],[11496,6,11496,7],[11496,8,11496,9],[11496,10,11496,14],[11496,15,11496,16],[11496,17,11496,19],[11489,1,11489,7],[11489,8,11489,22],[11489,24,11489,27],[11489,28,11489,32],[11489,34,11489,39],[11489,40,11489,45],[11483,1,11483,45],[11485,1,11485,22],[11485,24,11485,45],[11487,1,11487,12],[11487,13,11487,17],[11487,24,11487,26],[11487,27,11487,28],[11487,29,11487,45],[11473,1,11475,45],[11477,1,11477,45],[11479,1,11479,45],[11481,1,11481,2],[11481,3,11481,25],[11481,26,11481,35],[11481,36,11481,45],[11468,1,11468,22],[11468,24,11468,45],[11469,1,11469,22],[11469,24,11469,45],[11470,1,11470,22],[11470,24,11470,45],[11458,24,11458,27],[11458,28,11458,33],[11461,1,11461,45],[11463,6,11463,7],[11463,8,11463,9],[11463,10,11463,14],[11463,15,11463,16],[11463,17,11463,19],[11456,1,11456,7],[11456,8,11456,22],[11456,24,11456,27],[11456,28,11456,32],[11456,34,11456,39],[11456,40,11456,45],[11450,1,11450,45],[11452,1,11452,22],[11452,24,11452,45],[11454,1,11454,12],[11454,13,11454,17],[11454,24,11454,26],[11454,27,11454,28],[11454,29,11454,45],[11440,1,11442,45],[11444,1,11444,45],[11446,1,11446,45],[11448,1,11448,2],[11448,3,11448,25],[11448,26,11448,35],[11448,36,11448,45],[11436,1,11436,22],[11436,24,11436,45],[11437,1,11437,22],[11437,24,11437,45],[11438,1,11438,22],[11438,24,11438,45],[11426,24,11426,27],[11426,28,11426,33],[11429,1,11429,45],[11431,6,11431,7],[11431,8,11431,9],[11431,10,11431,14],[11431,15,11431,16],[11431,17,11431,19],[11424,1,11424,7],[11424,8,11424,22],[11424,24,11424,27],[11424,28,11424,32],[11424,34,11424,39],[11424,40,11424,45],[11418,1,11418,45],[11420,1,11420,22],[11420,24,11420,45],[11422,1,11422,12],[11422,13,11422,17],[11422,24,11422,26],[11422,27,11422,28],[11422,29,11422,45],[11408,1,11410,45],[11412,1,11412,45],[11414,1,11414,45],[11416,1,11416,2],[11416,3,11416,25],[11416,26,11416,35],[11416,36,11416,45],[11403,1,11403,22],[11403,24,11403,45],[11404,1,11404,22],[11404,24,11404,45],[11405,1,11405,22],[11405,24,11405,45],[11393,24,11393,27],[11393,28,11393,33],[11396,1,11396,45],[11398,6,11398,7],[11398,8,11398,9],[11398,10,11398,14],[11398,15,11398,16],[11398,17,11398,19],[11391,1,11391,7],[11391,8,11391,22],[11391,24,11391,27],[11391,28,11391,32],[11391,34,11391,39],[11391,40,11391,45],[11385,1,11385,45],[11387,1,11387,22],[11387,24,11387,45],[11389,1,11389,12],[11389,13,11389,17],[11389,24,11389,26],[11389,27,11389,28],[11389,29,11389,45],[11375,1,11377,45],[11379,1,11379,45],[11381,1,11381,45],[11383,1,11383,2],[11383,3,11383,25],[11383,26,11383,35],[11383,36,11383,45],[11371,1,11371,22],[11371,24,11371,45],[11372,1,11372,22],[11372,24,11372,45],[11373,1,11373,22],[11373,24,11373,45],[11361,24,11361,27],[11361,28,11361,33],[11364,1,11364,45],[11366,6,11366,7],[11366,8,11366,9],[11366,10,11366,14],[11366,15,11366,16],[11366,17,11366,19],[11359,1,11359,7],[11359,8,11359,22],[11359,24,11359,27],[11359,28,11359,32],[11359,34,11359,39],[11359,40,11359,45],[11353,1,11353,45],[11355,1,11355,22],[11355,24,11355,45],[11357,1,11357,12],[11357,13,11357,17],[11357,24,11357,26],[11357,27,11357,28],[11357,29,11357,45],[11343,1,11345,45],[11347,1,11347,45],[11349,1,11349,45],[11351,1,11351,2],[11351,3,11351,25],[11351,26,11351,35],[11351,36,11351,45],[11338,1,11338,22],[11338,24,11338,45],[11339,1,11339,22],[11339,24,11339,45],[11340,1,11340,22],[11340,24,11340,45],[11328,24,11328,27],[11328,28,11328,33],[11331,1,11331,45],[11333,6,11333,7],[11333,8,11333,9],[11333,10,11333,14],[11333,15,11333,16],[11333,17,11333,19],[11326,1,11326,7],[11326,8,11326,22],[11326,24,11326,27],[11326,28,11326,32],[11326,34,11326,39],[11326,40,11326,45],[11320,1,11320,45],[11322,1,11322,22],[11322,24,11322,45],[11324,1,11324,12],[11324,13,11324,17],[11324,24,11324,26],[11324,27,11324,28],[11324,29,11324,45],[11310,1,11312,45],[11314,1,11314,45],[11316,1,11316,45],[11318,1,11318,2],[11318,3,11318,25],[11318,26,11318,35],[11318,36,11318,45],[11306,1,11306,22],[11306,24,11306,45],[11307,1,11307,22],[11307,24,11307,45],[11308,1,11308,22],[11308,24,11308,45],[11296,24,11296,27],[11296,28,11296,33],[11299,1,11299,45],[11301,6,11301,7],[11301,8,11301,9],[11301,10,11301,14],[11301,15,11301,16],[11301,17,11301,19],[11294,1,11294,7],[11294,8,11294,22],[11294,24,11294,27],[11294,28,11294,32],[11294,34,11294,39],[11294,40,11294,45],[11288,1,11288,45],[11290,1,11290,22],[11290,24,11290,45],[11292,1,11292,12],[11292,13,11292,17],[11292,24,11292,26],[11292,27,11292,28],[11292,29,11292,45],[11278,1,11280,45],[11282,1,11282,45],[11284,1,11284,45],[11286,1,11286,2],[11286,3,11286,25],[11286,26,11286,35],[11286,36,11286,45],[11273,1,11273,22],[11273,24,11273,45],[11274,1,11274,22],[11274,24,11274,45],[11275,1,11275,22],[11275,24,11275,45],[11263,24,11263,27],[11263,28,11263,33],[11266,1,11266,45],[11268,6,11268,7],[11268,8,11268,9],[11268,10,11268,14],[11268,15,11268,16],[11268,17,11268,19],[11261,1,11261,7],[11261,8,11261,22],[11261,24,11261,27],[11261,28,11261,32],[11261,34,11261,39],[11261,40,11261,45],[11255,1,11255,45],[11257,1,11257,22],[11257,24,11257,45],[11259,1,11259,12],[11259,13,11259,17],[11259,24,11259,26],[11259,27,11259,28],[11259,29,11259,45],[11245,1,11247,45],[11249,1,11249,45],[11251,1,11251,45],[11253,1,11253,2],[11253,3,11253,25],[11253,26,11253,35],[11253,36,11253,45],[11241,1,11241,22],[11241,24,11241,45],[11242,1,11242,22],[11242,24,11242,45],[11243,1,11243,22],[11243,24,11243,45],[11231,24,11231,27],[11231,28,11231,33],[11234,1,11234,45],[11236,6,11236,7],[11236,8,11236,9],[11236,10,11236,14],[11236,15,11236,16],[11236,17,11236,19],[11229,1,11229,7],[11229,8,11229,22],[11229,24,11229,27],[11229,28,11229,32],[11229,34,11229,39],[11229,40,11229,45],[11223,1,11223,45],[11225,1,11225,22],[11225,24,11225,45],[11227,1,11227,12],[11227,13,11227,17],[11227,24,11227,26],[11227,27,11227,28],[11227,29,11227,45],[11213,1,11215,45],[11217,1,11217,45],[11219,1,11219,45],[11221,1,11221,2],[11221,3,11221,25],[11221,26,11221,35],[11221,36,11221,45],[11208,1,11208,22],[11208,24,11208,45],[11209,1,11209,22],[11209,24,11209,45],[11210,1,11210,22],[11210,24,11210,45],[11198,24,11198,27],[11198,28,11198,33],[11201,1,11201,45],[11203,6,11203,7],[11203,8,11203,9],[11203,10,11203,14],[11203,15,11203,16],[11203,17,11203,19],[11196,1,11196,7],[11196,8,11196,22],[11196,24,11196,27],[11196,28,11196,32],[11196,34,11196,39],[11196,40,11196,45]],"bounds":{"rows_first":2000,"rows_last":500,"rows_between":2000,"halvings":0},"merged_total":13055,"flags":["merged_cut"]}
[]
[]
[]
[]
[1,"TERMO DE AUTORIZAÇÃO PARA TRANSFERÊNCIA DE RECURSOS\nResoluções BACEN 3.402/2006 e 3.424/2006"]
[]
[null,"À Cooperativa de Crédito Credisg LTDA - SICOOB CREDISG"]
[]
[null,"Eu, ",null,{"$f":"UPPER(INDEX(Tabela1[],A5,2))","v":""},null,null,null,null,null,null,null,null,null,null,null,null,null,null,null,null,null,null,null,null,null,null,"portador do CPF número",null,null,null,null,null,null,null,null,null,{"$f":"TEXT(INDEX(Tabela1[],A5,1),\"[<=9999]0000;[>=999999999999]00\\.000\\.000\\/0000-00;000\\.000\\.000-00\")","v":"0000"}]
[]
[null,"solicito a TRANSFERÊNCIA dos valores creditados em minha conta junto a essa instituição a título de salário, aposentadoria ou similares, para a conta descrita abaixo, na mesma do crédito, sem nenhum custo e em caráter permanente:"]
[]
[null,"CONTA ORIGEM",null,null,null,null,null,null,null,null,null,null,null,null,null,null,null,null,null,null,null,null,null,null,"CONTA DESTINO"]
[]
[null,"CONTA SALÁRIO (FUNCIONÁRIO):",null,null,null,null,null,null,null,null,null,null,null,null,null,null,null,null,null,null,null,null,null,null,"BANCO:",null,null,{"$f":"INDEX(Tabela1[],A5,20)","v":0},null,{"$f":"IFERROR(VLOOKUP(AB15,LISTA!Q:R,2,0),\"-\")","v":"-"}]
[]
[null,"FONTE PAGADORA:",null,null,null,null,null,null,{"$f":"UPPER('Abertura Conta Salário com port'!B1)","v":"INSIRA O NOME DA FONTE PAGADORA AQUI"},null,null,null,null,null,null,null,null,null,null,null,null,null,null,null,"AGÊNCIA:",null,null,null,{"$f":"INDEX(Tabela1[],A5,21)","v":0},null,null,null,null,null,"TIPO DE CONTA:",null,null,null,null,null,{"$f":"INDEX(Tabela1[],A5,19)","v":0}]
[]
[null,null,null,null,null,null,null,null,null,null,null,null,null,null,null,null,null,null,null,null,null,null,null,null,"NÚMERO:",null,null,null,{"$f":"INDEX(Tabela1[],A5,22)","v":0}]
[]
[]
[null,"Esta solicitação está de acordo com a Resolução BACEN 3.402/2006 e 3.424/2006, e sua revogação está condicionada a minha prévia e expressa manifestação."]
[]
[null,"São Gotardo, ",null,null,null,null,{"$f":"DAY(TODAY())","v":6},null,"de",null,{"$f":"VLOOKUP(MONTH(TODAY()),LISTA!O:P,2,0)","v":"ABRIL"},null,null,null,null,"de",null,{"$f":"YEAR(TODAY())","v":2023}]
[]
[]
[]
[]
[null,"________________________________________",null,null,null,null,null,null,null,null,null,null,null,null,null,null,null,null,null,null,null,null,null,null,"________________________________________"]
[null,{"$f":"UPPER(INDEX(Tabela1[],A5,2))","v":""},null,null,null,null,null,null,null,null,null,null,null,null,null,null,null,null,null,null,null,null,null,null,{"$f":"FONTE_PAGADORA","v":"INSIRA O NOME DA FONTE PAGADORA AQUI"}]
[null,{"$f":"\"Solicitante de Portabilidade\"","v":"Solicitante de Portabilidade"},null,null,null,null,null,null,null,null,null,null,null,null,null,null,null,null,null,null,null,null,null,null,"Responsável pelo preenchimento do Termo"]
[]
[]
[]
[]
[]
[]
[{"$f":"A5+1","v":2},"TERMO DE AUTORIZAÇÃO PARA TRANSFERÊNCIA DE RECURSOS\nResoluções BACEN 3.402/2006 e 3.424/2006"]
[]
[null,"À Cooperativa de Crédito Credisg LTDA - SICOOB CREDISG"]
[]
[null,"Eu, ",null,{"$f":"UPPER(INDEX(Tabela1[],A38,2))","v":""},null,null,null,null,null,null,null,null,null,null,null,null,null,null,null,null,null,null,null,null,null,null,"portador do CPF número",null,null,null,null,null,null,null,null,null,{"$f":"TEXT(INDEX(Tabela1[],A38,1),\"[<=9999]0000;[>=999999999999]00\\.000\\.000\\/0000-00;000\\.000\\.000-00\")","v":"0000"}]
[]
[null,"solicito a TRANSFERÊNCIA dos valores creditados em minha conta junto a essa instituição a título de salário, aposentadoria ou similares, para a conta descrita abaixo, na mesma do crédito, sem nenhum custo e em caráter permanente:"]
[]
[null,"CONTA ORIGEM",null,null,null,null,null,null,null,null,null,null,null,null,null,null,null,null,null,null,null,null,null,null,"CONTA DESTINO"]
[]
[null,"CONTA SALÁRIO (FUNCIONÁRIO):",null,null,null,null,null,null,null,null,null,null,null,null,null,null,null,null,null,null,null,null,null,null,"BANCO:",null,null,{"$f":"INDEX(Tabela1[],A38,20)","v":0},null,{"$f":"IFERROR(VLOOKUP(AB48,LISTA!Q:R,2,0),\"-\")","v":"-"}]
[]
[null,"FONTE PAGADORA:",null,null,null,null,null,null,{"$f":"FONTE_PAGADORA","v":"INSIRA O NOME DA FONTE PAGADORA AQUI"},null,null,null,null,null,null,null,null,null,null,null,null,null,null,null,"AGÊNCIA:",null,null,null,{"$f":"INDEX(Tabela1[],A38,21)","v":0},null,null,null,null,null,"TIPO DE CONTA:",null,null,null,null,null,{"$f":"INDEX(Tabela1[],A38,19)","v":0}]
[]
[null,null,null,null,null,null,null,null,null,null,null,null,null,null,null,null,null,null,null,null,null,null,null,null,"NÚMERO:",null,null,null,{"$f":"INDEX(Tabela1[],A38,22)","v":0}]
[]
[]
[null,"Esta solicitação está de acordo com a Resolução BACEN 3.402/2006 e 3.424/2006, e sua revogação está condicionada a minha prévia e expressa manifestação."]
[]
[null,"São Gotardo, ",null,null,null,null,{"$f":"DAY(TODAY())","v":6},null,"de",null,{"$f":"VLOOKUP(MONTH(TODAY()),LISTA!O:P,2,0)","v":"ABRIL"},null,null,null,null,"de",null,{"$f":"YEAR(TODAY())","v":2023}]
[]
[]
[]
[]
[null,"________________________________________",null,null,null,null,null,null,null,null,null,null,null,null,null,null,null,null,null,null,null,null,null,null,"________________________________________"]
[null,{"$f":"UPPER(INDEX(Tabela1[],A38,2))","v":""},null,null,null,null,null,null,null,null,null,null,null,null,null,null,null,null,null,null,null,null,null,null,{"$f":"FONTE_PAGADORA","v":"INSIRA O NOME DA FONTE PAGADORA AQUI"}]
[null,{"$f":"\"Solicitante de Portabilidade\"","v":"Solicitante de Portabilidade"},null,null,null,null,null,null,null,null,null,null,null,null,null,null,null,null,null,null,null,null,null,null,"Responsável pelo preenchimento do Termo"]
[]
[]
[]
[]
[]
[{"$f":"A38+1","v":3},"TERMO DE AUTORIZAÇÃO PARA TRANSFERÊNCIA DE RECURSOS\nResoluções BACEN 3.402/2006 e 3.424/2006"]
[]
[null,"À Cooperativa de Crédito Credisg LTDA - SICOOB CREDISG"]
[]
[null,"Eu, ",null,{"$f":"UPPER(INDEX(Tabela1[],A70,2))","v":""},null,null,null,null,null,null,null,null,null,null,null,null,null,null,null,null,null,null,null,null,null,null,"portador do CPF número",null,null,null,null,null,null,null,null,null,{"$f":"TEXT(INDEX(Tabela1[],A70,1),\"[<=9999]0000;[>=999999999999]00\\.000\\.000\\/0000-00;000\\.000\\.000-00\")","v":"0000"}]
[]
[null,"solicito a TRANSFERÊNCIA dos valores creditados em minha conta junto a essa instituição a título de salário, aposentadoria ou similares, para a conta descrita abaixo, na mesma do crédito, sem nenhum custo e em caráter permanente:"]
[]
[null,"CONTA ORIGEM",null,null,null,null,null,null,null,null,null,null,null,null,null,null,null,null,null,null,null,null,null,null,"CONTA DESTINO"]
[]
[null,"CONTA SALÁRIO (FUNCIONÁRIO):",null,null,null,null,null,null,null,null,null,null,null,null,null,null,null,null,null,null,null,null,null,null,"BANCO:",null,null,{"$f":"INDEX(Tabela1[],A70,20)","v":0},null,{"$f":"IFERROR(VLOOKUP(AB80,LISTA!Q:R,2,0),\"-\")","v":"-"}]
[]
[null,"FONTE PAGADORA:",null,null,null,null,null,null,{"$f":"FONTE_PAGADORA","v":"INSIRA O NOME DA FONTE PAGADORA AQUI"},null,null,null,null,null,null,null,null,null,null,null,null,null,null,null,"AGÊNCIA:",null,null,null,{"$f":"INDEX(Tabela1[],A70,21)","v":0},null,null,null,null,null,"TIPO DE CONTA:",null,null,null,null,null,{"$f":"INDEX(Tabela1[],A70,19)","v":0}]
[]
[null,null,null,null,null,null,null,null,null,null,null,null,null,null,null,null,null,null,null,null,null,null,null,null,"NÚMERO:",null,null,null,{"$f":"INDEX(Tabela1[],A70,22)","v":0}]
[]
[]
[null,"Esta solicitação está de acordo com a Resolução BACEN 3.402/2006 e 3.424/2006, e sua revogação está condicionada a minha prévia e expressa manifestação."]
[]
[null,"São Gotardo, ",null,null,null,null,{"$f":"DAY(TODAY())","v":6},null,"de",null,{"$f":"VLOOKUP(MONTH(TODAY()),LISTA!O:P,2,0)","v":"ABRIL"},null,null,null,null,"de",null,{"$f":"YEAR(TODAY())","v":2023}]
[]
[]
[]
[]
[null,"________________________________________",null,null,null,null,null,null,null,null,null,null,null,null,null,null,null,null,null,null,null,null,null,null,"________________________________________"]
[null,{"$f":"UPPER(INDEX(Tabela1[],A70,2))","v":""},null,null,null,null,null,null,null,null,null,null,null,null,null,null,null,null,null,null,null,null,null,null,{"$f":"FONTE_PAGADORA","v":"INSIRA O NOME DA FONTE PAGADORA AQUI"}]
[null,{"$f":"\"Solicitante de Portabilidade\"","v":"Solicitante de Portabilidade"},null,null,null,null,null,null,null,null,null,null,null,null,null,null,null,null,null,null,null,null,null,null,"Responsável pelo preenchimento do Termo"]
[]
[]
[]
[]
[]
[]
[{"$f":"A70+1","v":4},"TERMO DE AUTORIZAÇÃO PARA TRANSFERÊNCIA DE RECURSOS\nResoluções BACEN 3.402/2006 e 3.424/2006"]
[]
[null,"À Cooperativa de Crédito Credisg LTDA - SICOOB CREDISG"]
[]
[null,"Eu, ",null,{"$f":"UPPER(INDEX(Tabela1[],A103,2))","v":""},null,null,null,null,null,null,null,null,null,null,null,null,null,null,null,null,null,null,null,null,null,null,"portador do CPF número",null,null,null,null,null,null,null,null,null,{"$f":"TEXT(INDEX(Tabela1[],A103,1),\"[<=9999]0000;[>=999999999999]00\\.000\\.000\\/0000-00;000\\.000\\.000-00\")","v":"0000"}]
[]
[null,"solicito a TRANSFERÊNCIA dos valores creditados em minha conta junto a essa instituição a título de salário, aposentadoria ou similares, para a conta descrita abaixo, na mesma do crédito, sem nenhum custo e em caráter permanente:"]
[]
[null,"CONTA ORIGEM",null,null,null,null,null,null,null,null,null,null,null,null,null,null,null,null,null,null,null,null,null,null,"CONTA DESTINO"]
[]
[null,"CONTA SALÁRIO (FUNCIONÁRIO):",null,null,null,null,null,null,null,null,null,null,null,null,null,null,null,null,null,null,null,null,null,null,"BANCO:",null,null,{"$f":"INDEX(Tabela1[],A103,20)","v":0},null,{"$f":"IFERROR(VLOOKUP(AB113,LISTA!Q:R,2,0),\"-\")","v":"-"}]
[]
[null,"FONTE PAGADORA:",null,null,null,null,null,null,{"$f":"FONTE_PAGADORA","v":"INSIRA O NOME DA FONTE PAGADORA AQUI"},null,null,null,null,null,null,null,null,null,null,null,null,null,null,null,"AGÊNCIA:",null,null,null,{"$f":"INDEX(Tabela1[],A103,21)","v":0},null,null,null,null,null,"TIPO DE CONTA:",null,null,null,null,null,{"$f":"INDEX(Tabela1[],A103,19)","v":0}]
[]
[null,null,null,null,null,null,null,null,null,null,null,null,null,null,null,null,null,null,null,null,null,null,null,null,"NÚMERO:",null,null,null,{"$f":"INDEX(Tabela1[],A103,22)","v":0}]
[]
[]
[null,"Esta solicitação está de acordo com a Resolução BACEN 3.402/2006 e 3.424/2006, e sua revogação está condicionada a minha prévia e expressa manifestação."]
[]
[null,"São Gotardo, ",null,null,null,null,{"$f":"DAY(TODAY())","v":6},null,"de",null,{"$f":"VLOOKUP(MONTH(TODAY()),LISTA!O:P,2,0)","v":"ABRIL"},null,null,null,null,"de",null,{"$f":"YEAR(TODAY())","v":2023}]
[]
[]
[]
[]
[null,"________________________________________",null,null,null,null,null,null,null,null,null,null,null,null,null,null,null,null,null,null,null,null,null,null,"________________________________________"]
[null,{"$f":"UPPER(INDEX(Tabela1[],A103,2))","v":""},null,null,null,null,null,null,null,null,null,null,null,null,null,null,null,null,null,null,null,null,null,null,{"$f":"FONTE_PAGADORA","v":"INSIRA O NOME DA FONTE PAGADORA AQUI"}]
[null,{"$f":"\"Solicitante de Portabilidade\"","v":"Solicitante de Portabilidade"},null,null,null,null,null,null,null,null,null,null,null,null,null,null,null,null,null,null,null,null,null,null,"Responsável pelo preenchimento do Termo"]
[]
[]
[]
[]
[]
[{"$f":"A103+1","v":5},"TERMO DE AUTORIZAÇÃO PARA TRANSFERÊNCIA DE RECURSOS\nResoluções BACEN 3.402/2006 e 3.424/2006"]
[]
[null,"À Cooperativa de Crédito Credisg LTDA - SICOOB CREDISG"]
[]
[null,"Eu, ",null,{"$f":"UPPER(INDEX(Tabela1[],A135,2))","v":""},null,null,null,null,null,null,null,null,null,null,null,null,null,null,null,null,null,null,null,null,null,null,"portador do CPF número",null,null,null,null,null,null,null,null,null,{"$f":"TEXT(INDEX(Tabela1[],A135,1),\"[<=9999]0000;[>=999999999999]00\\.000\\.000\\/0000-00;000\\.000\\.000-00\")","v":"0000"}]
[]
[null,"solicito a TRANSFERÊNCIA dos valores creditados em minha conta junto a essa instituição a título de salário, aposentadoria ou similares, para a conta descrita abaixo, na mesma do crédito, sem nenhum custo e em caráter permanente:"]
[]
[null,"CONTA ORIGEM",null,null,null,null,null,null,null,null,null,null,null,null,null,null,null,null,null,null,null,null,null,null,"CONTA DESTINO"]
[]
[null,"CONTA SALÁRIO (FUNCIONÁRIO):",null,null,null,null,null,null,null,null,null,null,null,null,null,null,null,null,null,null,null,null,null,null,"BANCO:",null,null,{"$f":"INDEX(Tabela1[],A135,20)","v":0},null,{"$f":"IFERROR(VLOOKUP(AB145,LISTA!Q:R,2,0),\"-\")","v":"-"}]
[]
[null,"FONTE PAGADORA:",null,null,null,null,null,null,{"$f":"FONTE_PAGADORA","v":"INSIRA O NOME DA FONTE PAGADORA AQUI"},null,null,null,null,null,null,null,null,null,null,null,null,null,null,null,"AGÊNCIA:",null,null,null,{"$f":"INDEX(Tabela1[],A135,21)","v":0},null,null,null,null,null,"TIPO DE CONTA:",null,null,null,null,null,{"$f":"INDEX(Tabela1[],A135,19)","v":0}]
[]
[null,null,null,null,null,null,null,null,null,null,null,null,null,null,null,null,null,null,null,null,null,null,null,null,"NÚMERO:",null,null,null,{"$f":"INDEX(Tabela1[],A135,22)","v":0}]
[]
[]
[null,"Esta solicitação está de acordo com a Resolução BACEN 3.402/2006 e 3.424/2006, e sua revogação está condicionada a minha prévia e expressa manifestação."]
[]
[null,"São Gotardo, ",null,null,null,null,{"$f":"DAY(TODAY())","v":6},null,"de",null,{"$f":"VLOOKUP(MONTH(TODAY()),LISTA!O:P,2,0)","v":"ABRIL"},null,null,null,null,"de",null,{"$f":"YEAR(TODAY())","v":2023}]
[]
[]
[]
[]
[null,"________________________________________",null,null,null,null,null,null,null,null,null,null,null,null,null,null,null,null,null,null,null,null,null,null,"________________________________________"]
[null,{"$f":"UPPER(INDEX(Tabela1[],A135,2))","v":""},null,null,null,null,null,null,null,null,null,null,null,null,null,null,null,null,null,null,null,null,null,null,{"$f":"FONTE_PAGADORA","v":"INSIRA O NOME DA FONTE PAGADORA AQUI"}]
[null,{"$f":"\"Solicitante de Portabilidade\"","v":"Solicitante de Portabilidade"},null,null,null,null,null,null,null,null,null,null,null,null,null,null,null,null,null,null,null,null,null,null,"Responsável pelo preenchimento do Termo"]
[]
[]
[]
[]
[]
[]
[{"$f":"A135+1","v":6},"TERMO DE AUTORIZAÇÃO PARA TRANSFERÊNCIA DE RECURSOS\nResoluções BACEN 3.402/2006 e 3.424/2006"]
[]
[null,"À Cooperativa de Crédito Credisg LTDA - SICOOB CREDISG"]
[]
[null,"Eu, ",null,{"$f":"UPPER(INDEX(Tabela1[],A168,2))","v":""},null,null,null,null,null,null,null,null,null,null,null,null,null,null,null,null,null,null,null,null,null,null,"portador do CPF número",null,null,null,null,null,null,null,null,null,{"$f":"TEXT(INDEX(Tabela1[],A168,1),\"[<=9999]0000;[>=999999999999]00\\.000\\.000\\/0000-00;000\\.000\\.000-00\")","v":"0000"}]
[]
[null,"solicito a TRANSFERÊNCIA dos valores creditados em minha conta junto a essa instituição a título de salário, aposentadoria ou similares, para a conta descrita abaixo, na mesma do crédito, sem nenhum custo e em caráter permanente:"]
[]
[null,"CONTA ORIGEM",null,null,null,null,null,null,null,null,null,null,null,null,null,null,null,null,null,null,null,null,null,null,"CONTA DESTINO"]
[]
[null,"CONTA SALÁRIO (FUNCIONÁRIO):",null,null,null,null,null,null,null,null,null,null,null,null,null,null,null,null,null,null,null,null,null,null,"BANCO:",null,null,{"$f":"INDEX(Tabela1[],A168,20)","v":0},null,{"$f":"IFERROR(VLOOKUP(AB178,LISTA!Q:R,2,0),\"-\")","v":"-"}]
[]
[null,"FONTE PAGADORA:",null,null,null,null,null,null,{"$f":"FONTE_PAGADORA","v":"INSIRA O NOME DA FONTE PAGADORA AQUI"},null,null,null,null,null,null,null,null,null,null,null,null,null,null,null,"AGÊNCIA:",null,null,null,{"$f":"INDEX(Tabela1[],A168,21)","v":0},null,null,null,null,null,"TIPO DE CONTA:",null,null,null,null,null,{"$f":"INDEX(Tabela1[],A168,19)","v":0}]
[]
[null,null,null,null,null,null,null,null,null,null,null,null,null,null,null,null,null,null,null,null,null,null,null,null,"NÚMERO:",null,null,null,{"$f":"INDEX(Tabela1[],A168,22)","v":0}]
[]
[]
[null,"Esta solicitação está de acordo com a Resolução BACEN 3.402/2006 e 3.424/2006, e sua revogação está condicionada a minha prévia e expressa manifestação."]
[]
[null,"São Gotardo, ",null,null,null,null,{"$f":"DAY(TODAY())","v":6},null,"de",null,{"$f":"VLOOKUP(MONTH(TODAY()),LISTA!O:P,2,0)","v":"ABRIL"},null,null,null,null,"de",null,{"$f":"YEAR(TODAY())","v":2023}]
[]
[]
[]
[]
[null,"________________________________________",null,null,null,null,null,null,null,null,null,null,null,null,null,null,null,null,null,null,null,null,null,null,"________________________________________"]
[null,{"$f":"UPPER(INDEX(Tabela1[],A168,2))","v":""},null,null,null,null,null,null,null,null,null,null,null,null,null,null,null,null,null,null,null,null,null,null,{"$f":"FONTE_PAGADORA","v":"INSIRA O NOME DA FONTE PAGADORA AQUI"}]
[null,{"$f":"\"Solicitante de Portabilidade\"","v":"Solicitante de Portabilidade"},null,null,null,null,null,null,null,null,null,null,null,null,null,null,null,null,null,null,null,null,null,null,"Responsável pelo preenchimento do Termo"]
[]
[]
[]
[]
[]
[{"$f":"A168+1","v":7},"TERMO DE AUTORIZAÇÃO PARA TRANSFERÊNCIA DE RECURSOS\nResoluções BACEN 3.402/2006 e 3.424/2006"]
[]
[null,"À Cooperativa de Crédito Credisg LTDA - SICOOB CREDISG"]
[]
[null,"Eu, ",null,{"$f":"UPPER(INDEX(Tabela1[],A200,2))","v":""},null,null,null,null,null,null,null,null,null,null,null,null,null,null,null,null,null,null,null,null,null,null,"portador do CPF número",null,null,null,null,null,null,null,null,null,{"$f":"TEXT(INDEX(Tabela1[],A200,1),\"[<=9999]0000;[>=999999999999]00\\.000\\.000\\/0000-00;000\\.000\\.000-00\")","v":"0000"}]
[]
[null,"solicito a TRANSFERÊNCIA dos valores creditados em minha conta junto a essa instituição a título de salário, aposentadoria ou similares, para a conta descrita abaixo, na mesma do crédito, sem nenhum custo e em caráter permanente:"]
[]
[null,"CONTA ORIGEM",null,null,null,null,null,null,null,null,null,null,null,null,null,null,null,null,null,null,null,null,null,null,"CONTA DESTINO"]
[]
[null,"CONTA SALÁRIO (FUNCIONÁRIO):",null,null,null,null,null,null,null,null,null,null,null,null,null,null,null,null,null,null,null,null,null,null,"BANCO:",null,null,{"$f":"INDEX(Tabela1[],A200,20)","v":0},null,{"$f":"IFERROR(VLOOKUP(AB210,LISTA!Q:R,2,0),\"-\")","v":"-"}]
[]
[null,"FONTE PAGADORA:",null,null,null,null,null,null,{"$f":"FONTE_PAGADORA","v":"INSIRA O NOME DA FONTE PAGADORA AQUI"},null,null,null,null,null,null,null,null,null,null,null,null,null,null,null,"AGÊNCIA:",null,null,null,{"$f":"INDEX(Tabela1[],A200,21)","v":0},null,null,null,null,null,"TIPO DE CONTA:",null,null,null,null,null,{"$f":"INDEX(Tabela1[],A200,19)","v":0}]
[]
[null,null,null,null,null,null,null,null,null,null,null,null,null,null,null,null,null,null,null,null,null,null,null,null,"NÚMERO:",null,null,null,{"$f":"INDEX(Tabela1[],A200,22)","v":0}]
[]
[]
[null,"Esta solicitação está de acordo com a Resolução BACEN 3.402/2006 e 3.424/2006, e sua revogação está condicionada a minha prévia e expressa manifestação."]
[]
[null,"São Gotardo, ",null,null,null,null,{"$f":"DAY(TODAY())","v":6},null,"de",null,{"$f":"VLOOKUP(MONTH(TODAY()),LISTA!O:P,2,0)","v":"ABRIL"},null,null,null,null,"de",null,{"$f":"YEAR(TODAY())","v":2023}]
[]
[]
[]
[]
[null,"________________________________________",null,null,null,null,null,null,null,null,null,null,null,null,null,null,null,null,null,null,null,null,null,null,"________________________________________"]
[null,{"$f":"UPPER(INDEX(Tabela1[],A200,2))","v":""},null,null,null,null,null,null,null,null,null,null,null,null,null,null,null,null,null,null,null,null,null,null,{"$f":"FONTE_PAGADORA","v":"INSIRA O NOME DA FONTE PAGADORA AQUI"}]
[null,{"$f":"\"Solicitante de Portabilidade\"","v":"Solicitante de Portabilidade"},null,null,null,null,null,null,null,null,null,null,null,null,null,null,null,null,null,null,null,null,null,null,"Responsável pelo preenchimento do Termo"]
[]
[]
[]
[]
[]
[]
[{"$f":"A200+1","v":8},"TERMO DE AUTORIZAÇÃO PARA TRANSFERÊNCIA DE RECURSOS\nResoluções BACEN 3.402/2006 e 3.424/2006"]
[]
[null,"À Cooperativa de Crédito Credisg LTDA - SICOOB CREDISG"]
[]
[null,"Eu, ",null,{"$f":"UPPER(INDEX(Tabela1[],A233,2))","v":""},null,null,null,null,null,null,null,null,null,null,null,null,null,null,null,null,null,null,null,null,null,null,"portador do CPF número",null,null,null,null,null,null,null,null,null,{"$f":"TEXT(INDEX(Tabela1[],A233,1),\"[<=9999]0000;[>=999999999999]00\\.000\\.000\\/0000-00;000\\.000\\.000-00\")","v":"0000"}]
[]
[null,"solicito a TRANSFERÊNCIA dos valores creditados em minha conta junto a essa instituição a título de salário, aposentadoria ou similares, para a conta descrita abaixo, na mesma do crédito, sem nenhum custo e em caráter permanente:"]
[]
[null,"CONTA ORIGEM",null,null,null,null,null,null,null,null,null,null,null,null,null,null,null,null,null,null,null,null,null,null,"CONTA DESTINO"]
[]
[null,"CONTA SALÁRIO (FUNCIONÁRIO):",null,null,null,null,null,null,null,null,null,null,null,null,null,null,null,null,null,null,null,null,null,null,"BANCO:",null,null,{"$f":"INDEX(Tabela1[],A233,20)","v":0},null,{"$f":"IFERROR(VLOOKUP(AB243,LISTA!Q:R,2,0),\"-\")","v":"-"}]
[]
[null,"FONTE PAGADORA:",null,null,null,null,null,null,{"$f":"FONTE_PAGADORA","v":"INSIRA O NOME DA FONTE PAGADORA AQUI"},null,null,null,null,null,null,null,null,null,null,null,null,null,null,null,"AGÊNCIA:",null,null,null,{"$f":"INDEX(Tabela1[],A233,21)","v":0},null,null,null,null,null,"TIPO DE CONTA:",null,null,null,null,null,{"$f":"INDEX(Tabela1[],A233,19)","v":0}]
[]
[null,null,null,null,null,null,null,null,null,null,null,null,null,null,null,null,null,null,null,null,null,null,null,null,"NÚMERO:",null,null,null,{"$f":"INDEX(Tabela1[],A233,22)","v":0}]
[]
[]
[null,"Esta solicitação está de acordo com a Resolução BACEN 3.402/2006 e 3.424/2006, e sua revogação está condicionada a minha prévia e expressa manifestação."]
[]
[null,"São Gotardo, ",null,null,null,null,{"$f":"DAY(TODAY())","v":6},null,"de",null,{"$f":"VLOOKUP(MONTH(TODAY()),LISTA!O:P,2,0)","v":"ABRIL"},null,null,null,null,"de",null,{"$f":"YEAR(TODAY())","v":2023}]
[]
[]
[]
[]
[null,"________________________________________",null,null,null,null,null,null,null,null,null,null,null,null,null,null,null,null,null,null,null,null,null,null,"________________________________________"]
[null,{"$f":"UPPER(INDEX(Tabela1[],A233,2))","v":""},null,null,null,null,null,null,null,null,null,null,null,null,null,null,null,null,null,null,null,null,null,null,{"$f":"FONTE_PAGADORA","v":"INSIRA O NOME DA FONTE PAGADORA AQUI"}]
[null,{"$f":"\"Solicitante de Portabilidade\"","v":"Solicitante de Portabilidade"},null,null,null,null,null,null,null,null,null,null,null,null,null,null,null,null,null,null,null,null,null,null,"Responsável pelo preenchimento do Termo"]
[]
[]
[]
[]
[]
[{"$f":"A233+1","v":9},"TERMO DE AUTORIZAÇÃO PARA TRANSFERÊNCIA DE RECURSOS\nResoluções BACEN 3.402/2006 e 3.424/2006"]
[]
[null,"À Cooperativa de Crédito Credisg LTDA - SICOOB CREDISG"]
[]
[null,"Eu, ",null,{"$f":"UPPER(INDEX(Tabela1[],A265,2))","v":""},null,null,null,null,null,null,null,null,null,null,null,null,null,null,null,null,null,null,null,null,null,null,"portador do CPF número",null,null,null,null,null,null,null,null,null,{"$f":"TEXT(INDEX(Tabela1[],A265,1),\"[<=9999]0000;[>=999999999999]00\\.000\\.000\\/0000-00;000\\.000\\.000-00\")","v":"0000"}]
[]
[null,"solicito a TRANSFERÊNCIA dos valores creditados em minha conta junto a essa instituição a título de salário, aposentadoria ou similares, para a conta descrita abaixo, na mesma do crédito, sem nenhum custo e em caráter permanente:"]
[]
[null,"CONTA ORIGEM",null,null,null,null,null,null,null,null,null,null,null,null,null,null,null,null,null,null,null,null,null,null,"CONTA DESTINO"]
[]
[null,"CONTA SALÁRIO (FUNCIONÁRIO):",null,null,null,null,null,null,null,null,null,null,null,null,null,null,null,null,null,null,null,null,null,null,"BANCO:",null,null,{"$f":"INDEX(Tabela1[],A265,20)","v":0},null,{"$f":"IFERROR(VLOOKUP(AB275,LISTA!Q:R,2,0),\"-\")","v":"-"}]
[]
[null,"FONTE PAGADORA:",null,null,null,null,null,null,{"$f":"FONTE_PAGADORA","v":"INSIRA O NOME DA FONTE PAGADORA AQUI"},null,null,null,null,null,null,null,null,null,null,null,null,null,null,null,"AGÊNCIA:",null,null,null,{"$f":"INDEX(Tabela1[],A265,21)","v":0},null,null,null,null,null,"TIPO DE CONTA:",null,null,null,null,null,{"$f":"INDEX(Tabela1[],A265,19)","v":0}]
[]
[null,null,null,null,null,null,null,null,null,null,null,null,null,null,null,null,null,null,null,null,null,null,null,null,"NÚMERO:",null,null,null,{"$f":"INDEX(Tabela1[],A265,22)","v":0}]
[]
[]
[null,"Esta solicitação está de acordo com a Resolução BACEN 3.402/2006 e 3.424/2006, e sua revogação está condicionada a minha prévia e expressa manifestação."]
[]
[null,"São Gotardo, ",null,null,null,null,{"$f":"DAY(TODAY())","v":6},null,"de",null,{"$f":"VLOOKUP(MONTH(TODAY()),LISTA!O:P,2,0)","v":"ABRIL"},null,null,null,null,"de",null,{"$f":"YEAR(TODAY())","v":2023}]
[]
[]
[]
[]
[null,"________________________________________",null,null,null,null,null,null,null,null,null,null,null,null,null,null,null,null,null,null,null,null,null,null,"________________________________________"]
[null,{"$f":"UPPER(INDEX(Tabela1[],A265,2))","v":""},null,null,null,null,null,null,null,null,null,null,null,null,null,null,null,null,null,null,null,null,null,null,{"$f":"FONTE_PAGADORA","v":"INSIRA O NOME DA FONTE PAGADORA AQUI"}]
[null,{"$f":"\"Solicitante de Portabilidade\"","v":"Solicitante de Portabilidade"},null,null,null,null,null,null,null,null,null,null,null,null,null,null,null,null,null,null,null,null,null,null,"Responsável pelo preenchimento do Termo"]
[]
[]
[]
[]
[]
[]
[{"$f":"A265+1","v":10},"TERMO DE AUTORIZAÇÃO PARA TRANSFERÊNCIA DE RECURSOS\nResoluções BACEN 3.402/2006 e 3.424/2006"]
[]
[null,"À Cooperativa de Crédito Credisg LTDA - SICOOB CREDISG"]
[]
[null,"Eu, ",null,{"$f":"UPPER(INDEX(Tabela1[],A298,2))","v":""},null,null,null,null,null,null,null,null,null,null,null,null,null,null,null,null,null,null,null,null,null,null,"portador do CPF número",null,null,null,null,null,null,null,null,null,{"$f":"TEXT(INDEX(Tabela1[],A298,1),\"[<=9999]0000;[>=999999999999]00\\.000\\.000\\/0000-00;000\\.000\\.000-00\")","v":"0000"}]
[]
[null,"solicito a TRANSFERÊNCIA dos valores creditados em minha conta junto a essa instituição a título de salário, aposentadoria ou similares, para a conta descrita abaixo, na mesma do crédito, sem nenhum custo e em caráter permanente:"]
[]
[null,"CONTA ORIGEM",null,null,null,null,null,null,null,null,null,null,null,null,null,null,null,null,null,null,null,null,null,null,"CONTA DESTINO"]
[]
[null,"CONTA SALÁRIO (FUNCIONÁRIO):",null,null,null,null,null,null,null,null,null,null,null,null,null,null,null,null,null,null,null,null,null,null,"BANCO:",null,null,{"$f":"INDEX(Tabela1[],A298,20)","v":0},null,{"$f":"IFERROR(VLOOKUP(AB308,LISTA!Q:R,2,0),\"-\")","v":"-"}]
[]
[null,"FONTE PAGADORA:",null,null,null,null,null,null,{"$f":"FONTE_PAGADORA","v":"INSIRA O NOME DA FONTE PAGADORA AQUI"},null,null,null,null,null,null,null,null,null,null,null,null,null,null,null,"AGÊNCIA:",null,null,null,{"$f":"INDEX(Tabela1[],A298,21)","v":0},null,null,null,null,null,"TIPO DE CONTA:",null,null,null,null,null,{"$f":"INDEX(Tabela1[],A298,19)","v":0}]
[]
[null,null,null,null,null,null,null,null,null,null,null,null,null,null,null,null,null,null,null,null,null,null,null,null,"NÚMERO:",null,null,null,{"$f":"INDEX(Tabela1[],A298,22)","v":0}]
[]
[]
[null,"Esta solicitação está de acordo com a Resolução BACEN 3.402/2006 e 3.424/2006, e sua revogação está condicionada a minha prévia e expressa manifestação."]
[]
[null,"São Gotardo, ",null,null,null,null,{"$f":"DAY(TODAY())","v":6},null,"de",null,{"$f":"VLOOKUP(MONTH(TODAY()),LISTA!O:P,2,0)","v":"ABRIL"},null,null,null,null,"de",null,{"$f":"YEAR(TODAY())","v":2023}]
[]
[]
[]
[]
[null,"________________________________________",null,null,null,null,null,null,null,null,null,null,null,null,null,null,null,null,null,null,null,null,null,null,"________________________________________"]
[null,{"$f":"UPPER(INDEX(Tabela1[],A298,2))","v":""},null,null,null,null,null,null,null,null,null,null,null,null,null,null,null,null,null,null,null,null,null,null,{"$f":"FONTE_PAGADORA","v":"INSIRA O NOME DA FONTE PAGADORA AQUI"}]
[null,{"$f":"\"Solicitante de Portabilidade\"","v":"Solicitante de Portabilidade"},null,null,null,null,null,null,null,null,null,null,null,null,null,null,null,null,null,null,null,null,null,null,"Responsável pelo preenchimento do Termo"]
[]
[]
[]
[]
[]
[{"$f":"A298+1","v":11},"TERMO DE AUTORIZAÇÃO PARA TRANSFERÊNCIA DE RECURSOS\nResoluções BACEN 3.402/2006 e 3.424/2006"]
[]
[null,"À Cooperativa de Crédito Credisg LTDA - SICOOB CREDISG"]
[]
[null,"Eu, ",null,{"$f":"UPPER(INDEX(Tabela1[],A330,2))","v":""},null,null,null,null,null,null,null,null,null,null,null,null,null,null,null,null,null,null,null,null,null,null,"portador do CPF número",null,null,null,null,null,null,null,null,null,{"$f":"TEXT(INDEX(Tabela1[],A330,1),\"[<=9999]0000;[>=999999999999]00\\.000\\.000\\/0000-00;000\\.000\\.000-00\")","v":"0000"}]
[]
[null,"solicito a TRANSFERÊNCIA dos valores creditados em minha conta junto a essa instituição a título de salário, aposentadoria ou similares, para a conta descrita abaixo, na mesma do crédito, sem nenhum custo e em caráter permanente:"]
[]
[null,"CONTA ORIGEM",null,null,null,null,null,null,null,null,null,null,null,null,null,null,null,null,null,null,null,null,null,null,"CONTA DESTINO"]
[]
[null,"CONTA SALÁRIO (FUNCIONÁRIO):",null,null,null,null,null,null,null,null,null,null,null,null,null,null,null,null,null,null,null,null,null,null,"BANCO:",null,null,{"$f":"INDEX(Tabela1[],A330,20)","v":0},null,{"$f":"IFERROR(VLOOKUP(AB340,LISTA!Q:R,2,0),\"-\")","v":"-"}]
[]
[null,"FONTE PAGADORA:",null,null,null,null,null,null,{"$f":"FONTE_PAGADORA","v":"INSIRA O NOME DA FONTE PAGADORA AQUI"},null,null,null,null,null,null,null,null,null,null,null,null,null,null,null,"AGÊNCIA:",null,null,null,{"$f":"INDEX(Tabela1[],A330,21)","v":0},null,null,null,null,null,"TIPO DE CONTA:",null,null,null,null,null,{"$f":"INDEX(Tabela1[],A330,19)","v":0}]
[]
[null,null,null,null,null,null,null,null,null,null,null,null,null,null,null,null,null,null,null,null,null,null,null,null,"NÚMERO:",null,null,null,{"$f":"INDEX(Tabela1[],A330,22)","v":0}]
[]
[]
[null,"Esta solicitação está de acordo com a Resolução BACEN 3.402/2006 e 3.424/2006, e sua revogação está condicionada a minha prévia e expressa manifestação."]
[]
[null,"São Gotardo, ",null,null,null,null,{"$f":"DAY(TODAY())","v":6},null,"de",null,{"$f":"VLOOKUP(MONTH(TODAY()),LISTA!O:P,2,0)","v":"ABRIL"},null,null,null,null,"de",null,{"$f":"YEAR(TODAY())","v":2023}]
[]
[]
[]
[]
[null,"________________________________________",null,null,null,null,null,null,null,null,null,null,null,null,null,null,null,null,null,null,null,null,null,null,"________________________________________"]
[null,{"$f":"UPPER(INDEX(Tabela1[],A330,2))","v":""},null,null,null,null,null,null,null,null,null,null,null,null,null,null,null,null,null,null,null,null,null,null,{"$f":"FONTE_PAGADORA","v":"INSIRA O NOME DA FONTE PAGADORA AQUI"}]
[null,{"$f":"\"Solicitante de Portabilidade\"","v":"Solicitante de Portabilidade"},null,null,null,null,null,null,null,null,null,null,null,null,null,null,null,null,null,null,null,null,null,null,"Responsável pelo preenchimento do Termo"]
[]
[]
[]
[]
[]
[]
[{"$f":"A330+1","v":12},"TERMO DE AUTORIZAÇÃO PARA TRANSFERÊNCIA DE RECURSOS\nResoluções BACEN 3.402/2006 e 3.424/2006"]
[]
[null,"À Cooperativa de Crédito Credisg LTDA - SICOOB CREDISG"]
[]
[null,"Eu, ",null,{"$f":"UPPER(INDEX(Tabela1[],A363,2))","v":""},null,null,null,null,null,null,null,null,null,null,null,null,null,null,null,null,null,null,null,null,null,null,"portador do CPF número",null,null,null,null,null,null,null,null,null,{"$f":"TEXT(INDEX(Tabela1[],A363,1),\"[<=9999]0000;[>=999999999999]00\\.000\\.000\\/0000-00;000\\.000\\.000-00\")","v":"0000"}]
[]
[null,"solicito a TRANSFERÊNCIA dos valores creditados em minha conta junto a essa instituição a título de salário, aposentadoria ou similares, para a conta descrita abaixo, na mesma do crédito, sem nenhum custo e em caráter permanente:"]
[]
[null,"CONTA ORIGEM",null,null,null,null,null,null,null,null,null,null,null,null,null,null,null,null,null,null,null,null,null,null,"CONTA DESTINO"]
[]
[null,"CONTA SALÁRIO (FUNCIONÁRIO):",null,null,null,null,null,null,null,null,null,null,null,null,null,null,null,null,null,null,null,null,null,null,"BANCO:",null,null,{"$f":"INDEX(Tabela1[],A363,20)","v":0},null,{"$f":"IFERROR(VLOOKUP(AB373,LISTA!Q:R,2,0),\"-\")","v":"-"}]
[]
[null,"FONTE PAGADORA:",null,null,null,null,null,null,{"$f":"FONTE_PAGADORA","v":"INSIRA O NOME DA FONTE PAGADORA AQUI"},null,null,null,null,null,null,null,null,null,null,null,null,null,null,null,"AGÊNCIA:",null,null,null,{"$f":"INDEX(Tabela1[],A363,21)","v":0},null,null,null,null,null,"TIPO DE CONTA:",null,null,null,null,null,{"$f":"INDEX(Tabela1[],A363,19)","v":0}]
[]
[null,null,null,null,null,null,null,null,null,null,null,null,null,null,null,null,null,null,null,null,null,null,null,null,"NÚMERO:",null,null,null,{"$f":"INDEX(Tabela1[],A363,22)","v":0}]
[]
[]
[null,"Esta solicitação está de acordo com a Resolução BACEN 3.402/2006 e 3.424/2006, e sua revogação está condicionada a minha prévia e expressa manifestação."]
[]
[null,"São Gotardo, ",null,null,null,null,{"$f":"DAY(TODAY())","v":6},null,"de",null,{"$f":"VLOOKUP(MONTH(TODAY()),LISTA!O:P,2,0)","v":"ABRIL"},null,null,null,null,"de",null,{"$f":"YEAR(TODAY())","v":2023}]
[]
[]
[]
[]
[null,"________________________________________",null,null,null,null,null,null,null,null,null,null,null,null,null,null,null,null,null,null,null,null,null,null,"________________________________________"]
[null,{"$f":"UPPER(INDEX(Tabela1[],A363,2))","v":""},null,null,null,null,null,null,null,null,null,null,null,null,null,null,null,null,null,null,null,null,null,null,{"$f":"FONTE_PAGADORA","v":"INSIRA O NOME DA FONTE PAGADORA AQUI"}]
[null,{"$f":"\"Solicitante de Portabilidade\"","v":"Solicitante de Portabilidade"},null,null,null,null,null,null,null,null,null,null,null,null,null,null,null,null,null,null,null,null,null,null,"Responsável pelo preenchimento do Termo"]
[]
[]
[]
[]
[]
[{"$f":"A363+1","v":13},"TERMO DE AUTORIZAÇÃO PARA TRANSFERÊNCIA DE RECURSOS\nResoluções BACEN 3.402/2006 e 3.424/2006"]
[]
[null,"À Cooperativa de Crédito Credisg LTDA - SICOOB CREDISG"]
[]
[null,"Eu, ",null,{"$f":"UPPER(INDEX(Tabela1[],A395,2))","v":""},null,null,null,null,null,null,null,null,null,null,null,null,null,null,null,null,null,null,null,null,null,null,"portador do CPF número",null,null,null,null,null,null,null,null,null,{"$f":"TEXT(INDEX(Tabela1[],A395,1),\"[<=9999]0000;[>=999999999999]00\\.000\\.000\\/0000-00;000\\.000\\.000-00\")","v":"0000"}]
[]
[null,"solicito a TRANSFERÊNCIA dos valores creditados em minha conta junto a essa instituição a título de salário, aposentadoria ou similares, para a conta descrita abaixo, na mesma do crédito, sem nenhum custo e em caráter permanente:"]
[]
[null,"CONTA ORIGEM",null,null,null,null,null,null,null,null,null,null,null,null,null,null,null,null,null,null,null,null,null,null,"CONTA DESTINO"]
[]
[null,"CONTA SALÁRIO (FUNCIONÁRIO):",null,null,null,null,null,null,null,null,null,null,null,null,null,null,null,null,null,null,null,null,null,null,"BANCO:",null,null,{"$f":"INDEX(Tabela1[],A395,20)","v":0},null,{"$f":"IFERROR(VLOOKUP(AB405,LISTA!Q:R,2,0),\"-\")","v":"-"}]
[]
[null,"FONTE PAGADORA:",null,null,null,null,null,null,{"$f":"FONTE_PAGADORA","v":"INSIRA O NOME DA FONTE PAGADORA AQUI"},null,null,null,null,null,null,null,null,null,null,null,null,null,null,null,"AGÊNCIA:",null,null,null,{"$f":"INDEX(Tabela1[],A395,21)","v":0},null,null,null,null,null,"TIPO DE CONTA:",null,null,null,null,null,{"$f":"INDEX(Tabela1[],A395,19)","v":0}]
[]
[null,null,null,null,null,null,null,null,null,null,null,null,null,null,null,null,null,null,null,null,null,null,null,null,"NÚMERO:",null,null,null,{"$f":"INDEX(Tabela1[],A395,22)","v":0}]
[]
[]
[null,"Esta solicitação está de acordo com a Resolução BACEN 3.402/2006 e 3.424/2006, e sua revogação está condicionada a minha prévia e expressa manifestação."]
[]
[null,"São Gotardo, ",null,null,null,null,{"$f":"DAY(TODAY())","v":6},null,"de",null,{"$f":"VLOOKUP(MONTH(TODAY()),LISTA!O:P,2,0)","v":"ABRIL"},null,null,null,null,"de",null,{"$f":"YEAR(TODAY())","v":2023}]
[]
[]
[]
[]
[null,"________________________________________",null,null,null,null,null,null,null,null,null,null,null,null,null,null,null,null,null,null,null,null,null,null,"________________________________________"]
[null,{"$f":"UPPER(INDEX(Tabela1[],A395,2))","v":""},null,null,null,null,null,null,null,null,null,null,null,null,null,null,null,null,null,null,null,null,null,null,{"$f":"FONTE_PAGADORA","v":"INSIRA O NOME DA FONTE PAGADORA AQUI"}]
[null,{"$f":"\"Solicitante de Portabilidade\"","v":"Solicitante de Portabilidade"},null,null,null,null,null,null,null,null,null,null,null,null,null,null,null,null,null,null,null,null,null,null,"Responsável pelo preenchimento do Termo"]
[]
[]
[]
[]
[]
[]
[{"$f":"A395+1","v":14},"TERMO DE AUTORIZAÇÃO PARA TRANSFERÊNCIA DE RECURSOS\nResoluções BACEN 3.402/2006 e 3.424/2006"]
[]
[null,"À Cooperativa de Crédito Credisg LTDA - SICOOB CREDISG"]
[]
[null,"Eu, ",null,{"$f":"UPPER(INDEX(Tabela1[],A428,2))","v":""},null,null,null,null,null,null,null,null,null,null,null,null,null,null,null,null,null,null,null,null,null,null,"portador do CPF número",null,null,null,null,null,null,null,null,null,{"$f":"TEXT(INDEX(Tabela1[],A428,1),\"[<=9999]0000;[>=999999999999]00\\.000\\.000\\/0000-00;000\\.000\\.000-00\")","v":"0000"}]
[]
[null,"solicito a TRANSFERÊNCIA dos valores creditados em minha conta junto a essa instituição a título de salário, aposentadoria ou similares, para a conta descrita abaixo, na mesma do crédito, sem nenhum custo e em caráter permanente:"]
[]
[null,"CONTA ORIGEM",null,null,null,null,null,null,null,null,null,null,null,null,null,null,null,null,null,null,null,null,null,null,"CONTA DESTINO"]
[]
[null,"CONTA SALÁRIO (FUNCIONÁRIO):",null,null,null,null,null,null,null,null,null,null,null,null,null,null,null,null,null,null,null,null,null,null,"BANCO:",null,null,{"$f":"INDEX(Tabela1[],A428,20)","v":0},null,{"$f":"IFERROR(VLOOKUP(AB438,LISTA!Q:R,2,0),\"-\")","v":"-"}]
[]
[null,"FONTE PAGADORA:",null,null,null,null,null,null,{"$f":"FONTE_PAGADORA","v":"INSIRA O NOME DA FONTE PAGADORA AQUI"},null,null,null,null,null,null,null,null,null,null,null,null,null,null,null,"AGÊNCIA:",null,null,null,{"$f":"INDEX(Tabela1[],A428,21)","v":0},null,null,null,null,null,"TIPO DE CONTA:",null,null,null,null,null,{"$f":"INDEX(Tabela1[],A428,19)","v":0}]
[]
[null,null,null,null,null,null,null,null,null,null,null,null,null,null,null,null,null,null,null,null,null,null,null,null,"NÚMERO:",null,null,null,{"$f":"INDEX(Tabela1[],A428,22)","v":0}]
[]
[]
[null,"Esta solicitação está de acordo com a Resolução BACEN 3.402/2006 e 3.424/2006, e sua revogação está condicionada a minha prévia e expressa manifestação."]
[]
[null,"São Gotardo, ",null,null,null,null,{"$f":"DAY(TODAY())","v":6},null,"de",null,{"$f":"VLOOKUP(MONTH(TODAY()),LISTA!O:P,2,0)","v":"ABRIL"},null,null,null,null,"de",null,{"$f":"YEAR(TODAY())","v":2023}]
[]
[]
[]
[]
[null,"________________________________________",null,null,null,null,null,null,null,null,null,null,null,null,null,null,null,null,null,null,null,null,null,null,"________________________________________"]
[null,{"$f":"UPPER(INDEX(Tabela1[],A428,2))","v":""},null,null,null,null,null,null,null,null,null,null,null,null,null,null,null,null,null,null,null,null,null,null,{"$f":"FONTE_PAGADORA","v":"INSIRA O NOME DA FONTE PAGADORA AQUI"}]
[null,{"$f":"\"Solicitante de Portabilidade\"","v":"Solicitante de Portabilidade"},null,null,null,null,null,null,null,null,null,null,null,null,null,null,null,null,null,null,null,null,null,null,"Responsável pelo preenchimento do Termo"]
[]
[]
[]
[]
[]
[{"$f":"A428+1","v":15},"TERMO DE AUTORIZAÇÃO PARA TRANSFERÊNCIA DE RECURSOS\nResoluções BACEN 3.402/2006 e 3.424/2006"]
[]
[null,"À Cooperativa de Crédito Credisg LTDA - SICOOB CREDISG"]
[]
[null,"Eu, ",null,{"$f":"UPPER(INDEX(Tabela1[],A460,2))","v":""},null,null,null,null,null,null,null,null,null,null,null,null,null,null,null,null,null,null,null,null,null,null,"portador do CPF número",null,null,null,null,null,null,null,null,null,{"$f":"TEXT(INDEX(Tabela1[],A460,1),\"[<=9999]0000;[>=999999999999]00\\.000\\.000\\/0000-00;000\\.000\\.000-00\")","v":"0000"}]
[]
[null,"solicito a TRANSFERÊNCIA dos valores creditados em minha conta junto a essa instituição a título de salário, aposentadoria ou similares, para a conta descrita abaixo, na mesma do crédito, sem nenhum custo e em caráter permanente:"]
[]
[null,"CONTA ORIGEM",null,null,null,null,null,null,null,null,null,null,null,null,null,null,null,null,null,null,null,null,null,null,"CONTA DESTINO"]
[]
[null,"CONTA SALÁRIO (FUNCIONÁRIO):",null,null,null,null,null,null,null,null,null,null,null,null,null,null,null,null,null,null,null,null,null,null,"BANCO:",null,null,{"$f":"INDEX(Tabela1[],A460,20)","v":0},null,{"$f":"IFERROR(VLOOKUP(AB470,LISTA!Q:R,2,0),\"-\")","v":"-"}]
[]
[null,"FONTE PAGADORA:",null,null,null,null,null,null,{"$f":"FONTE_PAGADORA","v":"INSIRA O NOME DA FONTE PAGADORA AQUI"},null,null,null,null,null,null,null,null,null,null,null,null,null,null,null,"AGÊNCIA:",null,null,null,{"$f":"INDEX(Tabela1[],A460,21)","v":0},null,null,null,null,null,"TIPO DE CONTA:",null,null,null,null,null,{"$f":"INDEX(Tabela1[],A460,19)","v":0}]
[]
[null,null,null,null,null,null,null,null,null,null,null,null,null,null,null,null,null,null,null,null,null,null,null,null,"NÚMERO:",null,null,null,{"$f":"INDEX(Tabela1[],A460,22)","v":0}]
[]
[]
[null,"Esta solicitação está de acordo com a Resolução BACEN 3.402/2006 e 3.424/2006, e sua revogação está condicionada a minha prévia e expressa manifestação."]
[]
[null,"São Gotardo, ",null,null,null,null,{"$f":"DAY(TODAY())","v":6},null,"de",null,{"$f":"VLOOKUP(MONTH(TODAY()),LISTA!O:P,2,0)","v":"ABRIL"},null,null,null,null,"de",null,{"$f":"YEAR(TODAY())","v":2023}]
[]
[]
[]
[]
[null,"________________________________________",null,null,null,null,null,null,null,null,null,null,null,null,null,null,null,null,null,null,null,null,null,null,"________________________________________"]
[null,{"$f":"UPPER(INDEX(Tabela1[],A460,2))","v":""},null,null,null,null,null,null,null,null,null,null,null,null,null,null,null,null,null,null,null,null,null,null,{"$f":"FONTE_PAGADORA","v":"INSIRA O NOME DA FONTE PAGADORA AQUI"}]
[null,{"$f":"\"Solicitante de Portabilidade\"","v":"Solicitante de Portabilidade"},null,null,null,null,null,null,null,null,null,null,null,null,null,null,null,null,null,null,null,null,null,null,"Responsável pelo preenchimento do Termo"]
[]
[]
[]
[]
[]
[]
[{"$f":"A460+1","v":16},"TERMO DE AUTORIZAÇÃO PARA TRANSFERÊNCIA DE RECURSOS\nResoluções BACEN 3.402/2006 e 3.424/2006"]
[]
[null,"À Cooperativa de Crédito Credisg LTDA - SICOOB CREDISG"]
[]
[null,"Eu, ",null,{"$f":"UPPER(INDEX(Tabela1[],A493,2))","v":""},null,null,null,null,null,null,null,null,null,null,null,null,null,null,null,null,null,null,null,null,null,null,"portador do CPF número",null,null,null,null,null,null,null,null,null,{"$f":"TEXT(INDEX(Tabela1[],A493,1),\"[<=9999]0000;[>=999999999999]00\\.000\\.000\\/0000-00;000\\.000\\.000-00\")","v":"0000"}]
[]
[null,"solicito a TRANSFERÊNCIA dos valores creditados em minha conta junto a essa instituição a título de salário, aposentadoria ou similares, para a conta descrita abaixo, na mesma do crédito, sem nenhum custo e em caráter permanente:"]
[]
[null,"CONTA ORIGEM",null,null,null,null,null,null,null,null,null,null,null,null,null,null,null,null,null,null,null,null,null,null,"CONTA DESTINO"]
[]
[null,"CONTA SALÁRIO (FUNCIONÁRIO):",null,null,null,null,null,null,null,null,null,null,null,null,null,null,null,null,null,null,null,null,null,null,"BANCO:",null,null,{"$f":"INDEX(Tabela1[],A493,20)","v":0},null,{"$f":"IFERROR(VLOOKUP(AB503,LISTA!Q:R,2,0),\"-\")","v":"-"}]
[]
[null,"FONTE PAGADORA:",null,null,null,null,null,null,{"$f":"FONTE_PAGADORA","v":"INSIRA O NOME DA FONTE PAGADORA AQUI"},null,null,null,null,null,null,null,null,null,null,null,null,null,null,null,"AGÊNCIA:",null,null,null,{"$f":"INDEX(Tabela1[],A493,21)","v":0},null,null,null,null,null,"TIPO DE CONTA:",null,null,null,null,null,{"$f":"INDEX(Tabela1[],A493,19)","v":0}]
[]
[null,null,null,null,null,null,null,null,null,null,null,null,null,null,null,null,null,null,null,null,null,null,null,null,"NÚMERO:",null,null,null,{"$f":"INDEX(Tabela1[],A493,22)","v":0}]
[]
[]
[null,"Esta solicitação está de acordo com a Resolução BACEN 3.402/2006 e 3.424/2006, e sua revogação está condicionada a minha prévia e expressa manifestação."]
[]
[null,"São Gotardo, ",null,null,null,null,{"$f":"DAY(TODAY())","v":6},null,"de",null,{"$f":"VLOOKUP(MONTH(TODAY()),LISTA!O:P,2,0)","v":"ABRIL"},null,null,null,null,"de",null,{"$f":"YEAR(TODAY())","v":2023}]
[]
[]
[]
[]
[null,"________________________________________",null,null,null,null,null,null,null,null,null,null,null,null,null,null,null,null,null,null,null,null,null,null,"________________________________________"]
[null,{"$f":"UPPER(INDEX(Tabela1[],A493,2))","v":""},null,null,null,null,null,null,null,null,null,null,null,null,null,null,null,null,null,null,null,null,null,null,{"$f":"FONTE_PAGADORA","v":"INSIRA O NOME DA FONTE PAGADORA AQUI"}]
[null,{"$f":"\"Solicitante de Portabilidade\"","v":"Solicitante de Portabilidade"},null,null,null,null,null,null,null,null,null,null,null,null,null,null,null,null,null,null,null,null,null,null,"Responsável pelo preenchimento do Termo"]
[]
[]
[]
[]
[]
[{"$f":"A493+1","v":17},"TERMO DE AUTORIZAÇÃO PARA TRANSFERÊNCIA DE RECURSOS\nResoluções BACEN 3.402/2006 e 3.424/2006"]
[]
[null,"À Cooperativa de Crédito Credisg LTDA - SICOOB CREDISG"]
[]
[null,"Eu, ",null,{"$f":"UPPER(INDEX(Tabela1[],A525,2))","v":""},null,null,null,null,null,null,null,null,null,null,null,null,null,null,null,null,null,null,null,null,null,null,"portador do CPF número",null,null,null,null,null,null,null,null,null,{"$f":"TEXT(INDEX(Tabela1[],A525,1),\"[<=9999]0000;[>=999999999999]00\\.000\\.000\\/0000-00;000\\.000\\.000-00\")","v":"0000"}]
[]
[null,"solicito a TRANSFERÊNCIA dos valores creditados em minha conta junto a essa instituição a título de salário, aposentadoria ou similares, para a conta descrita abaixo, na mesma do crédito, sem nenhum custo e em caráter permanente:"]
[]
[null,"CONTA ORIGEM",null,null,null,null,null,null,null,null,null,null,null,null,null,null,null,null,null,null,null,null,null,null,"CONTA DESTINO"]
[]
[null,"CONTA SALÁRIO (FUNCIONÁRIO):",null,null,null,null,null,null,null,null,null,null,null,null,null,null,null,null,null,null,null,null,null,null,"BANCO:",null,null,{"$f":"INDEX(Tabela1[],A525,20)","v":0},null,{"$f":"IFERROR(VLOOKUP(AB535,LISTA!Q:R,2,0),\"-\")","v":"-"}]
[]
[null,"FONTE PAGADORA:",null,null,null,null,null,null,{"$f":"FONTE_PAGADORA","v":"INSIRA O NOME DA FONTE PAGADORA AQUI"},null,null,null,null,null,null,null,null,null,null,null,null,null,null,null,"AGÊNCIA:",null,null,null,{"$f":"INDEX(Tabela1[],A525,21)","v":0},null,null,null,null,null,"TIPO DE CONTA:",null,null,null,null,null,{"$f":"INDEX(Tabela1[],A525,19)","v":0}]
[]
[null,null,null,null,null,null,null,null,null,null,null,null,null,null,null,null,null,null,null,null,null,null,null,null,"NÚMERO:",null,null,null,{"$f":"INDEX(Tabela1[],A525,22)","v":0}]
[]
[]
[null,"Esta solicitação está de acordo com a Resolução BACEN 3.402/2006 e 3.424/2006, e sua revogação está condicionada a minha prévia e expressa manifestação."]
[]
[null,"São Gotardo, ",null,null,null,null,{"$f":"DAY(TODAY())","v":6},null,"de",null,{"$f":"VLOOKUP(MONTH(TODAY()),LISTA!O:P,2,0)","v":"ABRIL"},null,null,null,null,"de",null,{"$f":"YEAR(TODAY())","v":2023}]
[]
[]
[]
[]
[null,"________________________________________",null,null,null,null,null,null,null,null,null,null,null,null,null,null,null,null,null,null,null,null,null,null,"________________________________________"]
[null,{"$f":"UPPER(INDEX(Tabela1[],A525,2))","v":""},null,null,null,null,null,null,null,null,null,null,null,null,null,null,null,null,null,null,null,null,null,null,{"$f":"FONTE_PAGADORA","v":"INSIRA O NOME DA FONTE PAGADORA AQUI"}]
[null,{"$f":"\"Solicitante de Portabilidade\"","v":"Solicitante de Portabilidade"},null,null,null,null,null,null,null,null,null,null,null,null,null,null,null,null,null,null,null,null,null,null,"Responsável pelo preenchimento do Termo"]
[]
[]
[]
[]
[]
[]
[{"$f":"A525+1","v":18},"TERMO DE AUTORIZAÇÃO PARA TRANSFERÊNCIA DE RECURSOS\nResoluções BACEN 3.402/2006 e 3.424/2006"]
[]
[null,"À Cooperativa de Crédito Credisg LTDA - SICOOB CREDISG"]
[]
[null,"Eu, ",null,{"$f":"UPPER(INDEX(Tabela1[],A558,2))","v":""},null,null,null,null,null,null,null,null,null,null,null,null,null,null,null,null,null,null,null,null,null,null,"portador do CPF número",null,null,null,null,null,null,null,null,null,{"$f":"TEXT(INDEX(Tabela1[],A558,1),\"[<=9999]0000;[>=999999999999]00\\.000\\.000\\/0000-00;000\\.000\\.000-00\")","v":"0000"}]
[]
[null,"solicito a TRANSFERÊNCIA dos valores creditados em minha conta junto a essa instituição a título de salário, aposentadoria ou similares, para a conta descrita abaixo, na mesma do crédito, sem nenhum custo e em caráter permanente:"]
[]
[null,"CONTA ORIGEM",null,null,null,null,null,null,null,null,null,null,null,null,null,null,null,null,null,null,null,null,null,null,"CONTA DESTINO"]
[]
[null,"CONTA SALÁRIO (FUNCIONÁRIO):",null,null,null,null,null,null,null,null,null,null,null,null,null,null,null,null,null,null,null,null,null,null,"BANCO:",null,null,{"$f":"INDEX(Tabela1[],A558,20)","v":0},null,{"$f":"IFERROR(VLOOKUP(AB568,LISTA!Q:R,2,0),\"-\")","v":"-"}]
[]
[null,"FONTE PAGADORA:",null,null,null,null,null,null,{"$f":"FONTE_PAGADORA","v":"INSIRA O NOME DA FONTE PAGADORA AQUI"},null,null,null,null,null,null,null,null,null,null,null,null,null,null,null,"AGÊNCIA:",null,null,null,{"$f":"INDEX(Tabela1[],A558,21)","v":0},null,null,null,null,null,"TIPO DE CONTA:",null,null,null,null,null,{"$f":"INDEX(Tabela1[],A558,19)","v":0}]
[]
[null,null,null,null,null,null,null,null,null,null,null,null,null,null,null,null,null,null,null,null,null,null,null,null,"NÚMERO:",null,null,null,{"$f":"INDEX(Tabela1[],A558,22)","v":0}]
[]
[]
[null,"Esta solicitação está de acordo com a Resolução BACEN 3.402/2006 e 3.424/2006, e sua revogação está condicionada a minha prévia e expressa manifestação."]
[]
[null,"São Gotardo, ",null,null,null,null,{"$f":"DAY(TODAY())","v":6},null,"de",null,{"$f":"VLOOKUP(MONTH(TODAY()),LISTA!O:P,2,0)","v":"ABRIL"},null,null,null,null,"de",null,{"$f":"YEAR(TODAY())","v":2023}]
[]
[]
[]
[]
[null,"________________________________________",null,null,null,null,null,null,null,null,null,null,null,null,null,null,null,null,null,null,null,null,null,null,"________________________________________"]
[null,{"$f":"UPPER(INDEX(Tabela1[],A558,2))","v":""},null,null,null,null,null,null,null,null,null,null,null,null,null,null,null,null,null,null,null,null,null,null,{"$f":"FONTE_PAGADORA","v":"INSIRA O NOME DA FONTE PAGADORA AQUI"}]
[null,{"$f":"\"Solicitante de Portabilidade\"","v":"Solicitante de Portabilidade"},null,null,null,null,null,null,null,null,null,null,null,null,null,null,null,null,null,null,null,null,null,null,"Responsável pelo preenchimento do Termo"]
[]
[]
[]
[]
[]
[{"$f":"A558+1","v":19},"TERMO DE AUTORIZAÇÃO PARA TRANSFERÊNCIA DE RECURSOS\nResoluções BACEN 3.402/2006 e 3.424/2006"]
[]
[null,"À Cooperativa de Crédito Credisg LTDA - SICOOB CREDISG"]
[]
[null,"Eu, ",null,{"$f":"UPPER(INDEX(Tabela1[],A590,2))","v":""},null,null,null,null,null,null,null,null,null,null,null,null,null,null,null,null,null,null,null,null,null,null,"portador do CPF número",null,null,null,null,null,null,null,null,null,{"$f":"TEXT(INDEX(Tabela1[],A590,1),\"[<=9999]0000;[>=999999999999]00\\.000\\.000\\/0000-00;000\\.000\\.000-00\")","v":"0000"}]
[]
[null,"solicito a TRANSFERÊNCIA dos valores creditados em minha conta junto a essa instituição a título de salário, aposentadoria ou similares, para a conta descrita abaixo, na mesma do crédito, sem nenhum custo e em caráter permanente:"]
[]
[null,"CONTA ORIGEM",null,null,null,null,null,null,null,null,null,null,null,null,null,null,null,null,null,null,null,null,null,null,"CONTA DESTINO"]
[]
[null,"CONTA SALÁRIO (FUNCIONÁRIO):",null,null,null,null,null,null,null,null,null,null,null,null,null,null,null,null,null,null,null,null,null,null,"BANCO:",null,null,{"$f":"INDEX(Tabela1[],A590,20)","v":0},null,{"$f":"IFERROR(VLOOKUP(AB600,LISTA!Q:R,2,0),\"-\")","v":"-"}]
[]
[null,"FONTE PAGADORA:",null,null,null,null,null,null,{"$f":"FONTE_PAGADORA","v":"INSIRA O NOME DA FONTE PAGADORA AQUI"},null,null,null,null,null,null,null,null,null,null,null,null,null,null,null,"AGÊNCIA:",null,null,null,{"$f":"INDEX(Tabela1[],A590,21)","v":0},null,null,null,null,null,"TIPO DE CONTA:",null,null,null,null,null,{"$f":"INDEX(Tabela1[],A590,19)","v":0}]
[]
[null,null,null,null,null,null,null,null,null,null,null,null,null,null,null,null,null,null,null,null,null,null,null,null,"NÚMERO:",null,null,null,{"$f":"INDEX(Tabela1[],A590,22)","v":0}]
[]
[]
[null,"Esta solicitação está de acordo com a Resolução BACEN 3.402/2006 e 3.424/2006, e sua revogação está condicionada a minha prévia e expressa manifestação."]
[]
[null,"São Gotardo, ",null,null,null,null,{"$f":"DAY(TODAY())","v":6},null,"de",null,{"$f":"VLOOKUP(MONTH(TODAY()),LISTA!O:P,2,0)","v":"ABRIL"},null,null,null,null,"de",null,{"$f":"YEAR(TODAY())","v":2023}]
[]
[]
[]
[]
[null,"________________________________________",null,null,null,null,null,null,null,null,null,null,null,null,null,null,null,null,null,null,null,null,null,null,"________________________________________"]
[null,{"$f":"UPPER(INDEX(Tabela1[],A590,2))","v":""},null,null,null,null,null,null,null,null,null,null,null,null,null,null,null,null,null,null,null,null,null,null,{"$f":"FONTE_PAGADORA","v":"INSIRA O NOME DA FONTE PAGADORA AQUI"}]
[null,{"$f":"\"Solicitante de Portabilidade\"","v":"Solicitante de Portabilidade"},null,null,null,null,null,null,null,null,null,null,null,null,null,null,null,null,null,null,null,null,null,null,"Responsável pelo preenchimento do Termo"]
[]
[]
[]
[]
[]
[]
[{"$f":"A590+1","v":20},"TERMO DE AUTORIZAÇÃO PARA TRANSFERÊNCIA DE RECURSOS\nResoluções BACEN 3.402/2006 e 3.424/2006"]
[]
[null,"À Cooperativa de Crédito Credisg LTDA - SICOOB CREDISG"]
[]
[null,"Eu, ",null,{"$f":"UPPER(INDEX(Tabela1[],A623,2))","v":""},null,null,null,null,null,null,null,null,null,null,null,null,null,null,null,null,null,null,null,null,null,null,"portador do CPF número",null,null,null,null,null,null,null,null,null,{"$f":"TEXT(INDEX(Tabela1[],A623,1),\"[<=9999]0000;[>=999999999999]00\\.000\\.000\\/0000-00;000\\.000\\.000-00\")","v":"0000"}]
[]
[null,"solicito a TRANSFERÊNCIA dos valores creditados em minha conta junto a essa instituição a título de salário, aposentadoria ou similares, para a conta descrita abaixo, na mesma do crédito, sem nenhum custo e em caráter permanente:"]
[]
[null,"CONTA ORIGEM",null,null,null,null,null,null,null,null,null,null,null,null,null,null,null,null,null,null,null,null,null,null,"CONTA DESTINO"]
[]
[null,"CONTA SALÁRIO (FUNCIONÁRIO):",null,null,null,null,null,null,null,null,null,null,null,null,null,null,null,null,null,null,null,null,null,null,"BANCO:",null,null,{"$f":"INDEX(Tabela1[],A623,20)","v":0},null,{"$f":"IFERROR(VLOOKUP(AB633,LISTA!Q:R,2,0),\"-\")","v":"-"}]
[]
[null,"FONTE PAGADORA:",null,null,null,null,null,null,{"$f":"FONTE_PAGADORA","v":"INSIRA O NOME DA FONTE PAGADORA AQUI"},null,null,null,null,null,null,null,null,null,null,null,null,null,null,null,"AGÊNCIA:",null,null,null,{"$f":"INDEX(Tabela1[],A623,21)","v":0},null,null,null,null,null,"TIPO DE CONTA:",null,null,null,null,null,{"$f":"INDEX(Tabela1[],A623,19)","v":0}]
[]
[null,null,null,null,null,null,null,null,null,null,null,null,null,null,null,null,null,null,null,null,null,null,null,null,"NÚMERO:",null,null,null,{"$f":"INDEX(Tabela1[],A623,22)","v":0}]
[]
[]
[null,"Esta solicitação está de acordo com a Resolução BACEN 3.402/2006 e 3.424/2006, e sua revogação está condicionada a minha prévia e expressa manifestação."]
[]
[null,"São Gotardo, ",null,null,null,null,{"$f":"DAY(TODAY())","v":6},null,"de",null,{"$f":"VLOOKUP(MONTH(TODAY()),LISTA!O:P,2,0)","v":"ABRIL"},null,null,null,null,"de",null,{"$f":"YEAR(TODAY())","v":2023}]
[]
[]
[]
[]
[null,"________________________________________",null,null,null,null,null,null,null,null,null,null,null,null,null,null,null,null,null,null,null,null,null,null,"________________________________________"]
[null,{"$f":"UPPER(INDEX(Tabela1[],A623,2))","v":""},null,null,null,null,null,null,null,null,null,null,null,null,null,null,null,null,null,null,null,null,null,null,{"$f":"FONTE_PAGADORA","v":"INSIRA O NOME DA FONTE PAGADORA AQUI"}]
[null,{"$f":"\"Solicitante de Portabilidade\"","v":"Solicitante de Portabilidade"},null,null,null,null,null,null,null,null,null,null,null,null,null,null,null,null,null,null,null,null,null,null,"Responsável pelo preenchimento do Termo"]
[]
[]
[]
[]
[]
[{"$f":"A623+1","v":21},"TERMO DE AUTORIZAÇÃO PARA TRANSFERÊNCIA DE RECURSOS\nResoluções BACEN 3.402/2006 e 3.424/2006"]
[]
[null,"À Cooperativa de Crédito Credisg LTDA - SICOOB CREDISG"]
[]
[null,"Eu, ",null,{"$f":"UPPER(INDEX(Tabela1[],A655,2))","v":""},null,null,null,null,null,null,null,null,null,null,null,null,null,null,null,null,null,null,null,null,null,null,"portador do CPF número",null,null,null,null,null,null,null,null,null,{"$f":"TEXT(INDEX(Tabela1[],A655,1),\"[<=9999]0000;[>=999999999999]00\\.000\\.000\\/0000-00;000\\.000\\.000-00\")","v":"0000"}]
[]
[null,"solicito a TRANSFERÊNCIA dos valores creditados em minha conta junto a essa instituição a título de salário, aposentadoria ou similares, para a conta descrita abaixo, na mesma do crédito, sem nenhum custo e em caráter permanente:"]
[]
[null,"CONTA ORIGEM",null,null,null,null,null,null,null,null,null,null,null,null,null,null,null,null,null,null,null,null,null,null,"CONTA DESTINO"]
[]
[null,"CONTA SALÁRIO (FUNCIONÁRIO):",null,null,null,null,null,null,null,null,null,null,null,null,null,null,null,null,null,null,null,null,null,null,"BANCO:",null,null,{"$f":"INDEX(Tabela1[],A655,20)","v":0},null,{"$f":"IFERROR(VLOOKUP(AB665,LISTA!Q:R,2,0),\"-\")","v":"-"}]
[]
[null,"FONTE PAGADORA:",null,null,null,null,null,null,{"$f":"FONTE_PAGADORA","v":"INSIRA O NOME DA FONTE PAGADORA AQUI"},null,null,null,null,null,null,null,null,null,null,null,null,null,null,null,"AGÊNCIA:",null,null,null,{"$f":"INDEX(Tabela1[],A655,21)","v":0},null,null,null,null,null,"TIPO DE CONTA:",null,null,null,null,null,{"$f":"INDEX(Tabela1[],A655,19)","v":0}]
[]
[null,null,null,null,null,null,null,null,null,null,null,null,null,null,null,null,null,null,null,null,null,null,null,null,"NÚMERO:",null,null,null,{"$f":"INDEX(Tabela1[],A655,22)","v":0}]
[]
[]
[null,"Esta solicitação está de acordo com a Resolução BACEN 3.402/2006 e 3.424/2006, e sua revogação está condicionada a minha prévia e expressa manifestação."]
[]
[null,"São Gotardo, ",null,null,null,null,{"$f":"DAY(TODAY())","v":6},null,"de",null,{"$f":"VLOOKUP(MONTH(TODAY()),LISTA!O:P,2,0)","v":"ABRIL"},null,null,null,null,"de",null,{"$f":"YEAR(TODAY())","v":2023}]
[]
[]
[]
[]
[null,"________________________________________",null,null,null,null,null,null,null,null,null,null,null,null,null,null,null,null,null,null,null,null,null,null,"________________________________________"]
[null,{"$f":"UPPER(INDEX(Tabela1[],A655,2))","v":""},null,null,null,null,null,null,null,null,null,null,null,null,null,null,null,null,null,null,null,null,null,null,{"$f":"FONTE_PAGADORA","v":"INSIRA O NOME DA FONTE PAGADORA AQUI"}]
[null,{"$f":"\"Solicitante de Portabilidade\"","v":"Solicitante de Portabilidade"},null,null,null,null,null,null,null,null,null,null,null,null,null,null,null,null,null,null,null,null,null,null,"Responsável pelo preenchimento do Termo"]
[]
[]
[]
[]
[]
[]
[{"$f":"A655+1","v":22},"TERMO DE AUTORIZAÇÃO PARA TRANSFERÊNCIA DE RECURSOS\nResoluções BACEN 3.402/2006 e 3.424/2006"]
[]
[null,"À Cooperativa de Crédito Credisg LTDA - SICOOB CREDISG"]
[]
[null,"Eu, ",null,{"$f":"UPPER(INDEX(Tabela1[],A688,2))","v":""},null,null,null,null,null,null,null,null,null,null,null,null,null,null,null,null,null,null,null,null,null,null,"portador do CPF número",null,null,null,null,null,null,null,null,null,{"$f":"TEXT(INDEX(Tabela1[],A688,1),\"[<=9999]0000;[>=999999999999]00\\.000\\.000\\/0000-00;000\\.000\\.000-00\")","v":"0000"}]
[]
[null,"solicito a TRANSFERÊNCIA dos valores creditados em minha conta junto a essa instituição a título de salário, aposentadoria ou similares, para a conta descrita abaixo, na mesma do crédito, sem nenhum custo e em caráter permanente:"]
[]
[null,"CONTA ORIGEM",null,null,null,null,null,null,null,null,null,null,null,null,null,null,null,null,null,null,null,null,null,null,"CONTA DESTINO"]
[]
[null,"CONTA SALÁRIO (FUNCIONÁRIO):",null,null,null,null,null,null,null,null,null,null,null,null,null,null,null,null,null,null,null,null,null,null,"BANCO:",null,null,{"$f":"INDEX(Tabela1[],A688,20)","v":0},null,{"$f":"IFERROR(VLOOKUP(AB698,LISTA!Q:R,2,0),\"-\")","v":"-"}]
[]
[null,"FONTE PAGADORA:",null,null,null,null,null,null,{"$f":"FONTE_PAGADORA","v":"INSIRA O NOME DA FONTE PAGADORA AQUI"},null,null,null,null,null,null,null,null,null,null,null,null,null,null,null,"AGÊNCIA:",null,null,null,{"$f":"INDEX(Tabela1[],A688,21)","v":0},null,null,null,null,null,"TIPO DE CONTA:",null,null,null,null,null,{"$f":"INDEX(Tabela1[],A688,19)","v":0}]
[]
[null,null,null,null,null,null,null,null,null,null,null,null,null,null,null,null,null,null,null,null,null,null,null,null,"NÚMERO:",null,null,null,{"$f":"INDEX(Tabela1[],A688,22)","v":0}]
[]
[]
[null,"Esta solicitação está de acordo com a Resolução BACEN 3.402/2006 e 3.424/2006, e sua revogação está condicionada a minha prévia e expressa manifestação."]
[]
[null,"São Gotardo, ",null,null,null,null,{"$f":"DAY(TODAY())","v":6},null,"de",null,{"$f":"VLOOKUP(MONTH(TODAY()),LISTA!O:P,2,0)","v":"ABRIL"},null,null,null,null,"de",null,{"$f":"YEAR(TODAY())","v":2023}]
[]
[]
[]
[]
[null,"________________________________________",null,null,null,null,null,null,null,null,null,null,null,null,null,null,null,null,null,null,null,null,null,null,"________________________________________"]
[null,{"$f":"UPPER(INDEX(Tabela1[],A688,2))","v":""},null,null,null,null,null,null,null,null,null,null,null,null,null,null,null,null,null,null,null,null,null,null,{"$f":"FONTE_PAGADORA","v":"INSIRA O NOME DA FONTE PAGADORA AQUI"}]
[null,{"$f":"\"Solicitante de Portabilidade\"","v":"Solicitante de Portabilidade"},null,null,null,null,null,null,null,null,null,null,null,null,null,null,null,null,null,null,null,null,null,null,"Responsável pelo preenchimento do Termo"]
[]
[]
[]
[]
[]
[{"$f":"A688+1","v":23},"TERMO DE AUTORIZAÇÃO PARA TRANSFERÊNCIA DE RECURSOS\nResoluções BACEN 3.402/2006 e 3.424/2006"]
[]
[null,"À Cooperativa de Crédito Credisg LTDA - SICOOB CREDISG"]
[]
[null,"Eu, ",null,{"$f":"UPPER(INDEX(Tabela1[],A720,2))","v":""},null,null,null,null,null,null,null,null,null,null,null,null,null,null,null,null,null,null,null,null,null,null,"portador do CPF número",null,null,null,null,null,null,null,null,null,{"$f":"TEXT(INDEX(Tabela1[],A720,1),\"[<=9999]0000;[>=999999999999]00\\.000\\.000\\/0000-00;000\\.000\\.000-00\")","v":"0000"}]
[]
[null,"solicito a TRANSFERÊNCIA dos valores creditados em minha conta junto a essa instituição a título de salário, aposentadoria ou similares, para a conta descrita abaixo, na mesma do crédito, sem nenhum custo e em caráter permanente:"]
[]
[null,"CONTA ORIGEM",null,null,null,null,null,null,null,null,null,null,null,null,null,null,null,null,null,null,null,null,null,null,"CONTA DESTINO"]
[]
[null,"CONTA SALÁRIO (FUNCIONÁRIO):",null,null,null,null,null,null,null,null,null,null,null,null,null,null,null,null,null,null,null,null,null,null,"BANCO:",null,null,{"$f":"INDEX(Tabela1[],A720,20)","v":0},null,{"$f":"IFERROR(VLOOKUP(AB730,LISTA!Q:R,2,0),\"-\")","v":"-"}]
[]
[null,"FONTE PAGADORA:",null,null,null,null,null,null,{"$f":"FONTE_PAGADORA","v":"INSIRA O NOME DA FONTE PAGADORA AQUI"},null,null,null,null,null,null,null,null,null,null,null,null,null,null,null,"AGÊNCIA:",null,null,null,{"$f":"INDEX(Tabela1[],A720,21)","v":0},null,null,null,null,null,"TIPO DE CONTA:",null,null,null,null,null,{"$f":"INDEX(Tabela1[],A720,19)","v":0}]
[]
[null,null,null,null,null,null,null,null,null,null,null,null,null,null,null,null,null,null,null,null,null,null,null,null,"NÚMERO:",null,null,null,{"$f":"INDEX(Tabela1[],A720,22)","v":0}]
[]
[]
[null,"Esta solicitação está de acordo com a Resolução BACEN 3.402/2006 e 3.424/2006, e sua revogação está condicionada a minha prévia e expressa manifestação."]
[]
[null,"São Gotardo, ",null,null,null,null,{"$f":"DAY(TODAY())","v":6},null,"de",null,{"$f":"VLOOKUP(MONTH(TODAY()),LISTA!O:P,2,0)","v":"ABRIL"},null,null,null,null,"de",null,{"$f":"YEAR(TODAY())","v":2023}]
[]
[]
[]
[]
[null,"________________________________________",null,null,null,null,null,null,null,null,null,null,null,null,null,null,null,null,null,null,null,null,null,null,"________________________________________"]
[null,{"$f":"UPPER(INDEX(Tabela1[],A720,2))","v":""},null,null,null,null,null,null,null,null,null,null,null,null,null,null,null,null,null,null,null,null,null,null,{"$f":"FONTE_PAGADORA","v":"INSIRA O NOME DA FONTE PAGADORA AQUI"}]
[null,{"$f":"\"Solicitante de Portabilidade\"","v":"Solicitante de Portabilidade"},null,null,null,null,null,null,null,null,null,null,null,null,null,null,null,null,null,null,null,null,null,null,"Responsável pelo preenchimento do Termo"]
[]
[]
[]
[]
[]
[]
[{"$f":"A720+1","v":24},"TERMO DE AUTORIZAÇÃO PARA TRANSFERÊNCIA DE RECURSOS\nResoluções BACEN 3.402/2006 e 3.424/2006"]
[]
[null,"À Cooperativa de Crédito Credisg LTDA - SICOOB CREDISG"]
[]
[null,"Eu, ",null,{"$f":"UPPER(INDEX(Tabela1[],A753,2))","v":""},null,null,null,null,null,null,null,null,null,null,null,null,null,null,null,null,null,null,null,null,null,null,"portador do CPF número",null,null,null,null,null,null,null,null,null,{"$f":"TEXT(INDEX(Tabela1[],A753,1),\"[<=9999]0000;[>=999999999999]00\\.000\\.000\\/0000-00;000\\.000\\.000-00\")","v":"0000"}]
[]
[null,"solicito a TRANSFERÊNCIA dos valores creditados em minha conta junto a essa instituição a título de salário, aposentadoria ou similares, para a conta descrita abaixo, na mesma do crédito, sem nenhum custo e em caráter permanente:"]
[]
[null,"CONTA ORIGEM",null,null,null,null,null,null,null,null,null,null,null,null,null,null,null,null,null,null,null,null,null,null,"CONTA DESTINO"]
[]
[null,"CONTA SALÁRIO (FUNCIONÁRIO):",null,null,null,null,null,null,null,null,null,null,null,null,null,null,null,null,null,null,null,null,null,null,"BANCO:",null,null,{"$f":"INDEX(Tabela1[],A753,20)","v":0},null,{"$f":"IFERROR(VLOOKUP(AB763,LISTA!Q:R,2,0),\"-\")","v":"-"}]
[]
[null,"FONTE PAGADORA:",null,null,null,null,null,null,{"$f":"FONTE_PAGADORA","v":"INSIRA O NOME DA FONTE PAGADORA AQUI"},null,null,null,null,null,null,null,null,null,null,null,null,null,null,null,"AGÊNCIA:",null,null,null,{"$f":"INDEX(Tabela1[],A753,21)","v":0},null,null,null,null,null,"TIPO DE CONTA:",null,null,null,null,null,{"$f":"INDEX(Tabela1[],A753,19)","v":0}]
[]
[null,null,null,null,null,null,null,null,null,null,null,null,null,null,null,null,null,null,null,null,null,null,null,null,"NÚMERO:",null,null,null,{"$f":"INDEX(Tabela1[],A753,22)","v":0}]
[]
[]
[null,"Esta solicitação está de acordo com a Resolução BACEN 3.402/2006 e 3.424/2006, e sua revogação está condicionada a minha prévia e expressa manifestação."]
[]
[null,"São Gotardo, ",null,null,null,null,{"$f":"DAY(TODAY())","v":6},null,"de",null,{"$f":"VLOOKUP(MONTH(TODAY()),LISTA!O:P,2,0)","v":"ABRIL"},null,null,null,null,"de",null,{"$f":"YEAR(TODAY())","v":2023}]
[]
[]
[]
[]
[null,"________________________________________",null,null,null,null,null,null,null,null,null,null,null,null,null,null,null,null,null,null,null,null,null,null,"________________________________________"]
[null,{"$f":"UPPER(INDEX(Tabela1[],A753,2))","v":""},null,null,null,null,null,null,null,null,null,null,null,null,null,null,null,null,null,null,null,null,null,null,{"$f":"FONTE_PAGADORA","v":"INSIRA O NOME DA FONTE PAGADORA AQUI"}]
[null,{"$f":"\"Solicitante de Portabilidade\"","v":"Solicitante de Portabilidade"},null,null,null,null,null,null,null,null,null,null,null,null,null,null,null,null,null,null,null,null,null,null,"Responsável pelo preenchimento do Termo"]
[]
[]
[]
[]
[]
[{"$f":"A753+1","v":25},"TERMO DE AUTORIZAÇÃO PARA TRANSFERÊNCIA DE RECURSOS\nResoluções BACEN 3.402/2006 e 3.424/2006"]
[]
[null,"À Cooperativa de Crédito Credisg LTDA - SICOOB CREDISG"]
[]
[null,"Eu, ",null,{"$f":"UPPER(INDEX(Tabela1[],A785,2))","v":""},null,null,null,null,null,null,null,null,null,null,null,null,null,null,null,null,null,null,null,null,null,null,"portador do CPF número",null,null,null,null,null,null,null,null,null,{"$f":"TEXT(INDEX(Tabela1[],A785,1),\"[<=9999]0000;[>=999999999999]00\\.000\\.000\\/0000-00;000\\.000\\.000-00\")","v":"0000"}]
[]
[null,"solicito a TRANSFERÊNCIA dos valores creditados em minha conta junto a essa instituição a título de salário, aposentadoria ou similares, para a conta descrita abaixo, na mesma do crédito, sem nenhum custo e em caráter permanente:"]
[]
[null,"CONTA ORIGEM",null,null,null,null,null,null,null,null,null,null,null,null,null,null,null,null,null,null,null,null,null,null,"CONTA DESTINO"]
[]
[null,"CONTA SALÁRIO (FUNCIONÁRIO):",null,null,null,null,null,null,null,null,null,null,null,null,null,null,null,null,null,null,null,null,null,null,"BANCO:",null,null,{"$f":"INDEX(Tabela1[],A785,20)","v":0},null,{"$f":"IFERROR(VLOOKUP(AB795,LISTA!Q:R,2,0),\"-\")","v":"-"}]
[]
[null,"FONTE PAGADORA:",null,null,null,null,null,null,{"$f":"FONTE_PAGADORA","v":"INSIRA O NOME DA FONTE PAGADORA AQUI"},null,null,null,null,null,null,null,null,null,null,null,null,null,null,null,"AGÊNCIA:",null,null,null,{"$f":"INDEX(Tabela1[],A785,21)","v":0},null,null,null,null,null,"TIPO DE CONTA:",null,null,null,null,null,{"$f":"INDEX(Tabela1[],A785,19)","v":0}]
[]
[null,null,null,null,null,null,null,null,null,null,null,null,null,null,null,null,null,null,null,null,null,null,null,null,"NÚMERO:",null,null,null,{"$f":"INDEX(Tabela1[],A785,22)","v":0}]
[]
[]
[null,"Esta solicitação está de acordo com a Resolução BACEN 3.402/2006 e 3.424/2006, e sua revogação está condicionada a minha prévia e expressa manifestação."]
[]
[null,"São Gotardo, ",null,null,null,null,{"$f":"DAY(TODAY())","v":6},null,"de",null,{"$f":"VLOOKUP(MONTH(TODAY()),LISTA!O:P,2,0)","v":"ABRIL"},null,null,null,null,"de",null,{"$f":"YEAR(TODAY())","v":2023}]
[]
[]
[]
[]
[null,"________________________________________",null,null,null,null,null,null,null,null,null,null,null,null,null,null,null,null,null,null,null,null,null,null,"________________________________________"]
[null,{"$f":"UPPER(INDEX(Tabela1[],A785,2))","v":""},null,null,null,null,null,null,null,null,null,null,null,null,null,null,null,null,null,null,null,null,null,null,{"$f":"FONTE_PAGADORA","v":"INSIRA O NOME DA FONTE PAGADORA AQUI"}]
[null,{"$f":"\"Solicitante de Portabilidade\"","v":"Solicitante de Portabilidade"},null,null,null,null,null,null,null,null,null,null,null,null,null,null,null,null,null,null,null,null,null,null,"Responsável pelo preenchimento do Termo"]
[]
[]
[]
[]
[]
[]
[{"$f":"A785+1","v":26},"TERMO DE AUTORIZAÇÃO PARA TRANSFERÊNCIA DE RECURSOS\nResoluções BACEN 3.402/2006 e 3.424/2006"]
[]
[null,"À Cooperativa de Crédito Credisg LTDA - SICOOB CREDISG"]
[]
[null,"Eu, ",null,{"$f":"UPPER(INDEX(Tabela1[],A818,2))","v":""},null,null,null,null,null,null,null,null,null,null,null,null,null,null,null,null,null,null,null,null,null,null,"portador do CPF número",null,null,null,null,null,null,null,null,null,{"$f":"TEXT(INDEX(Tabela1[],A818,1),\"[<=9999]0000;[>=999999999999]00\\.000\\.000\\/0000-00;000\\.000\\.000-00\")","v":"0000"}]
[]
[null,"solicito a TRANSFERÊNCIA dos valores creditados em minha conta junto a essa instituição a título de salário, aposentadoria ou similares, para a conta descrita abaixo, na mesma do crédito, sem nenhum custo e em caráter permanente:"]
[]
[null,"CONTA ORIGEM",null,null,null,null,null,null,null,null,null,null,null,null,null,null,null,null,null,null,null,null,null,null,"CONTA DESTINO"]
[]
[null,"CONTA SALÁRIO (FUNCIONÁRIO):",null,null,null,null,null,null,null,null,null,null,null,null,null,null,null,null,null,null,null,null,null,null,"BANCO:",null,null,{"$f":"INDEX(Tabela1[],A818,20)","v":0},null,{"$f":"IFERROR(VLOOKUP(AB828,LISTA!Q:R,2,0),\"-\")","v":"-"}]
[]
[null,"FONTE PAGADORA:",null,null,null,null,null,null,{"$f":"FONTE_PAGADORA","v":"INSIRA O NOME DA FONTE PAGADORA AQUI"},null,null,null,null,null,null,null,null,null,null,null,null,null,null,null,"AGÊNCIA:",null,null,null,{"$f":"INDEX(Tabela1[],A818,21)","v":0},null,null,null,null,null,"TIPO DE CONTA:",null,null,null,null,null,{"$f":"INDEX(Tabela1[],A818,19)","v":0}]
[]
[null,null,null,null,null,null,null,null,null,null,null,null,null,null,null,null,null,null,null,null,null,null,null,null,"NÚMERO:",null,null,null,{"$f":"INDEX(Tabela1[],A818,22)","v":0}]
[]
[]
[null,"Esta solicitação está de acordo com a Resolução BACEN 3.402/2006 e 3.424/2006, e sua revogação está condicionada a minha prévia e expressa manifestação."]
[]
[null,"São Gotardo, ",null,null,null,null,{"$f":"DAY(TODAY())","v":6},null,"de",null,{"$f":"VLOOKUP(MONTH(TODAY()),LISTA!O:P,2,0)","v":"ABRIL"},null,null,null,null,"de",null,{"$f":"YEAR(TODAY())","v":2023}]
[]
[]
[]
[]
[null,"________________________________________",null,null,null,null,null,null,null,null,null,null,null,null,null,null,null,null,null,null,null,null,null,null,"________________________________________"]
[null,{"$f":"UPPER(INDEX(Tabela1[],A818,2))","v":""},null,null,null,null,null,null,null,null,null,null,null,null,null,null,null,null,null,null,null,null,null,null,{"$f":"FONTE_PAGADORA","v":"INSIRA O NOME DA FONTE PAGADORA AQUI"}]
[null,{"$f":"\"Solicitante de Portabilidade\"","v":"Solicitante de Portabilidade"},null,null,null,null,null,null,null,null,null,null,null,null,null,null,null,null,null,null,null,null,null,null,"Responsável pelo preenchimento do Termo"]
[]
[]
[]
[]
[]
[{"$f":"A818+1","v":27},"TERMO DE AUTORIZAÇÃO PARA TRANSFERÊNCIA DE RECURSOS\nResoluções BACEN 3.402/2006 e 3.424/2006"]
[]
[null,"À Cooperativa de Crédito Credisg LTDA - SICOOB CREDISG"]
[]
[null,"Eu, ",null,{"$f":"UPPER(INDEX(Tabela1[],A850,2))","v":""},null,null,null,null,null,null,null,null,null,null,null,null,null,null,null,null,null,null,null,null,null,null,"portador do CPF número",null,null,null,null,null,null,null,null,null,{"$f":"TEXT(INDEX(Tabela1[],A850,1),\"[<=9999]0000;[>=999999999999]00\\.000\\.000\\/0000-00;000\\.000\\.000-00\")","v":"0000"}]
[]
[null,"solicito a TRANSFERÊNCIA dos valores creditados em minha conta junto a essa instituição a título de salário, aposentadoria ou similares, para a conta descrita abaixo, na mesma do crédito, sem nenhum custo e em caráter permanente:"]
[]
[null,"CONTA ORIGEM",null,null,null,null,null,null,null,null,null,null,null,null,null,null,null,null,null,null,null,null,null,null,"CONTA DESTINO"]
[]
[null,"CONTA SALÁRIO (FUNCIONÁRIO):",null,null,null,null,null,null,null,null,null,null,null,null,null,null,null,null,null,null,null,null,null,null,"BANCO:",null,null,{"$f":"INDEX(Tabela1[],A850,20)","v":0},null,{"$f":"IFERROR(VLOOKUP(AB860,LISTA!Q:R,2,0),\"-\")","v":"-"}]
[]
[null,"FONTE PAGADORA:",null,null,null,null,null,null,{"$f":"FONTE_PAGADORA","v":"INSIRA O NOME DA FONTE PAGADORA AQUI"},null,null,null,null,null,null,null,null,null,null,null,null,null,null,null,"AGÊNCIA:",null,null,null,{"$f":"INDEX(Tabela1[],A850,21)","v":0},null,null,null,null,null,"TIPO DE CONTA:",null,null,null,null,null,{"$f":"INDEX(Tabela1[],A850,19)","v":0}]
[]
[null,null,null,null,null,null,null,null,null,null,null,null,null,null,null,null,null,null,null,null,null,null,null,null,"NÚMERO:",null,null,null,{"$f":"INDEX(Tabela1[],A850,22)","v":0}]
[]
[]
[null,"Esta solicitação está de acordo com a Resolução BACEN 3.402/2006 e 3.424/2006, e sua revogação está condicionada a minha prévia e expressa manifestação."]
[]
[null,"São Gotardo, ",null,null,null,null,{"$f":"DAY(TODAY())","v":6},null,"de",null,{"$f":"VLOOKUP(MONTH(TODAY()),LISTA!O:P,2,0)","v":"ABRIL"},null,null,null,null,"de",null,{"$f":"YEAR(TODAY())","v":2023}]
[]
[]
[]
[]
[null,"________________________________________",null,null,null,null,null,null,null,null,null,null,null,null,null,null,null,null,null,null,null,null,null,null,"________________________________________"]
[null,{"$f":"UPPER(INDEX(Tabela1[],A850,2))","v":""},null,null,null,null,null,null,null,null,null,null,null,null,null,null,null,null,null,null,null,null,null,null,{"$f":"FONTE_PAGADORA","v":"INSIRA O NOME DA FONTE PAGADORA AQUI"}]
[null,{"$f":"\"Solicitante de Portabilidade\"","v":"Solicitante de Portabilidade"},null,null,null,null,null,null,null,null,null,null,null,null,null,null,null,null,null,null,null,null,null,null,"Responsável pelo preenchimento do Termo"]
[]
[]
[]
[]
[]
[]
[{"$f":"A850+1","v":28},"TERMO DE AUTORIZAÇÃO PARA TRANSFERÊNCIA DE RECURSOS\nResoluções BACEN 3.402/2006 e 3.424/2006"]
[]
[null,"À Cooperativa de Crédito Credisg LTDA - SICOOB CREDISG"]
[]
[null,"Eu, ",null,{"$f":"UPPER(INDEX(Tabela1[],A883,2))","v":""},null,null,null,null,null,null,null,null,null,null,null,null,null,null,null,null,null,null,null,null,null,null,"portador do CPF número",null,null,null,null,null,null,null,null,null,{"$f":"TEXT(INDEX(Tabela1[],A883,1),\"[<=9999]0000;[>=999999999999]00\\.000\\.000\\/0000-00;000\\.000\\.000-00\")","v":"0000"}]
[]
[null,"solicito a TRANSFERÊNCIA dos valores creditados em minha conta junto a essa instituição a título de salário, aposentadoria ou similares, para a conta descrita abaixo, na mesma do crédito, sem nenhum custo e em caráter permanente:"]
[]
[null,"CONTA ORIGEM",null,null,null,null,null,null,null,null,null,null,null,null,null,null,null,null,null,null,null,null,null,null,"CONTA DESTINO"]
[]
[null,"CONTA SALÁRIO (FUNCIONÁRIO):",null,null,null,null,null,null,null,null,null,null,null,null,null,null,null,null,null,null,null,null,null,null,"BANCO:",null,null,{"$f":"INDEX(Tabela1[],A883,20)","v":0},null,{"$f":"IFERROR(VLOOKUP(AB893,LISTA!Q:R,2,0),\"-\")","v":"-"}]
[]
[null,"FONTE PAGADORA:",null,null,null,null,null,null,{"$f":"FONTE_PAGADORA","v":"INSIRA O NOME DA FONTE PAGADORA AQUI"},null,null,null,null,null,null,null,null,null,null,null,null,null,null,null,"AGÊNCIA:",null,null,null,{"$f":"INDEX(Tabela1[],A883,21)","v":0},null,null,null,null,null,"TIPO DE CONTA:",null,null,null,null,null,{"$f":"INDEX(Tabela1[],A883,19)","v":0}]
[]
[null,null,null,null,null,null,null,null,null,null,null,null,null,null,null,null,null,null,null,null,null,null,null,null,"NÚMERO:",null,null,null,{"$f":"INDEX(Tabela1[],A883,22)","v":0}]
[]
[]
[null,"Esta solicitação está de acordo com a Resolução BACEN 3.402/2006 e 3.424/2006, e sua revogação está condicionada a minha prévia e expressa manifestação."]
[]
[null,"São Gotardo, ",null,null,null,null,{"$f":"DAY(TODAY())","v":6},null,"de",null,{"$f":"VLOOKUP(MONTH(TODAY()),LISTA!O:P,2,0)","v":"ABRIL"},null,null,null,null,"de",null,{"$f":"YEAR(TODAY())","v":2023}]
[]
[]
[]
[]
[null,"________________________________________",null,null,null,null,null,null,null,null,null,null,null,null,null,null,null,null,null,null,null,null,null,null,"________________________________________"]
[null,{"$f":"UPPER(INDEX(Tabela1[],A883,2))","v":""},null,null,null,null,null,null,null,null,null,null,null,null,null,null,null,null,null,null,null,null,null,null,{"$f":"FONTE_PAGADORA","v":"INSIRA O NOME DA FONTE PAGADORA AQUI"}]
[null,{"$f":"\"Solicitante de Portabilidade\"","v":"Solicitante de Portabilidade"},null,null,null,null,null,null,null,null,null,null,null,null,null,null,null,null,null,null,null,null,null,null,"Responsável pelo preenchimento do Termo"]
[]
[]
[]
[]
[]
[{"$f":"A883+1","v":29},"TERMO DE AUTORIZAÇÃO PARA TRANSFERÊNCIA DE RECURSOS\nResoluções BACEN 3.402/2006 e 3.424/2006"]
[]
[null,"À Cooperativa de Crédito Credisg LTDA - SICOOB CREDISG"]
[]
[null,"Eu, ",null,{"$f":"UPPER(INDEX(Tabela1[],A915,2))","v":""},null,null,null,null,null,null,null,null,null,null,null,null,null,null,null,null,null,null,null,null,null,null,"portador do CPF número",null,null,null,null,null,null,null,null,null,{"$f":"TEXT(INDEX(Tabela1[],A915,1),\"[<=9999]0000;[>=999999999999]00\\.000\\.000\\/0000-00;000\\.000\\.000-00\")","v":"0000"}]
[]
[null,"solicito a TRANSFERÊNCIA dos valores creditados em minha conta junto a essa instituição a título de salário, aposentadoria ou similares, para a conta descrita abaixo, na mesma do crédito, sem nenhum custo e em caráter permanente:"]
[]
[null,"CONTA ORIGEM",null,null,null,null,null,null,null,null,null,null,null,null,null,null,null,null,null,null,null,null,null,null,"CONTA DESTINO"]
[]
[null,"CONTA SALÁRIO (FUNCIONÁRIO):",null,null,null,null,null,null,null,null,null,null,null,null,null,null,null,null,null,null,null,null,null,null,"BANCO:",null,null,{"$f":"INDEX(Tabela1[],A915,20)","v":0},null,{"$f":"IFERROR(VLOOKUP(AB925,LISTA!Q:R,2,0),\"-\")","v":"-"}]
[]
[null,"FONTE PAGADORA:",null,null,null,null,null,null,{"$f":"FONTE_PAGADORA","v":"INSIRA O NOME DA FONTE PAGADORA AQUI"},null,null,null,null,null,null,null,null,null,null,null,null,null,null,null,"AGÊNCIA:",null,null,null,{"$f":"INDEX(Tabela1[],A915,21)","v":0},null,null,null,null,null,"TIPO DE CONTA:",null,null,null,null,null,{"$f":"INDEX(Tabela1[],A915,19)","v":0}]
[]
[null,null,null,null,null,null,null,null,null,null,null,null,null,null,null,null,null,null,null,null,null,null,null,null,"NÚMERO:",null,null,null,{"$f":"INDEX(Tabela1[],A915,22)","v":0}]
[]
[]
[null,"Esta solicitação está de acordo com a Resolução BACEN 3.402/2006 e 3.424/2006, e sua revogação está condicionada a minha prévia e expressa manifestação."]
[]
[null,"São Gotardo, ",null,null,null,null,{"$f":"DAY(TODAY())","v":6},null,"de",null,{"$f":"VLOOKUP(MONTH(TODAY()),LISTA!O:P,2,0)","v":"ABRIL"},null,null,null,null,"de",null,{"$f":"YEAR(TODAY())","v":2023}]
[]
[]
[]
[]
[null,"________________________________________",null,null,null,null,null,null,null,null,null,null,null,null,null,null,null,null,null,null,null,null,null,null,"________________________________________"]
[null,{"$f":"UPPER(INDEX(Tabela1[],A915,2))","v":""},null,null,null,null,null,null,null,null,null,null,null,null,null,null,null,null,null,null,null,null,null,null,{"$f":"FONTE_PAGADORA","v":"INSIRA O NOME DA FONTE PAGADORA AQUI"}]
[null,{"$f":"\"Solicitante de Portabilidade\"","v":"Solicitante de Portabilidade"},null,null,null,null,null,null,null,null,null,null,null,null,null,null,null,null,null,null,null,null,null,null,"Responsável pelo preenchimento do Termo"]
[]
[]
[]
[]
[]
[]
[{"$f":"A915+1","v":30},"TERMO DE AUTORIZAÇÃO PARA TRANSFERÊNCIA DE RECURSOS\nResoluções BACEN 3.402/2006 e 3.424/2006"]
[]
[null,"À Cooperativa de Crédito Credisg LTDA - SICOOB CREDISG"]
[]
[null,"Eu, ",null,{"$f":"UPPER(INDEX(Tabela1[],A948,2))","v":""},null,null,null,null,null,null,null,null,null,null,null,null,null,null,null,null,null,null,null,null,null,null,"portador do CPF número",null,null,null,null,null,null,null,null,null,{"$f":"TEXT(INDEX(Tabela1[],A948,1),\"[<=9999]0000;[>=999999999999]00\\.000\\.000\\/0000-00;000\\.000\\.000-00\")","v":"0000"}]
[]
[null,"solicito a TRANSFERÊNCIA dos valores creditados em minha conta junto a essa instituição a título de salário, aposentadoria ou similares, para a conta descrita abaixo, na mesma do crédito, sem nenhum custo e em caráter permanente:"]
[]
[null,"CONTA ORIGEM",null,null,null,null,null,null,null,null,null,null,null,null,null,null,null,null,null,null,null,null,null,null,"CONTA DESTINO"]
[]
[null,"CONTA SALÁRIO (FUNCIONÁRIO):",null,null,null,null,null,null,null,null,null,null,null,null,null,null,null,null,null,null,null,null,null,null,"BANCO:",null,null,{"$f":"INDEX(Tabela1[],A948,20)","v":0},null,{"$f":"IFERROR(VLOOKUP(AB958,LISTA!Q:R,2,0),\"-\")","v":"-"}]
[]
[null,"FONTE PAGADORA:",null,null,null,null,null,null,{"$f":"FONTE_PAGADORA","v":"INSIRA O NOME DA FONTE PAGADORA AQUI"},null,null,null,null,null,null,null,null,null,null,null,null,null,null,null,"AGÊNCIA:",null,null,null,{"$f":"INDEX(Tabela1[],A948,21)","v":0},null,null,null,null,null,"TIPO DE CONTA:",null,null,null,null,null,{"$f":"INDEX(Tabela1[],A948,19)","v":0}]
[]
[null,null,null,null,null,null,null,null,null,null,null,null,null,null,null,null,null,null,null,null,null,null,null,null,"NÚMERO:",null,null,null,{"$f":"INDEX(Tabela1[],A948,22)","v":0}]
[]
[]
[null,"Esta solicitação está de acordo com a Resolução BACEN 3.402/2006 e 3.424/2006, e sua revogação está condicionada a minha prévia e expressa manifestação."]
[]
[null,"São Gotardo, ",null,null,null,null,{"$f":"DAY(TODAY())","v":6},null,"de",null,{"$f":"VLOOKUP(MONTH(TODAY()),LISTA!O:P,2,0)","v":"ABRIL"},null,null,null,null,"de",null,{"$f":"YEAR(TODAY())","v":2023}]
[]
[]
[]
[]
[null,"________________________________________",null,null,null,null,null,null,null,null,null,null,null,null,null,null,null,null,null,null,null,null,null,null,"________________________________________"]
[null,{"$f":"UPPER(INDEX(Tabela1[],A948,2))","v":""},null,null,null,null,null,null,null,null,null,null,null,null,null,null,null,null,null,null,null,null,null,null,{"$f":"FONTE_PAGADORA","v":"INSIRA O NOME DA FONTE PAGADORA AQUI"}]
[null,{"$f":"\"Solicitante de Portabilidade\"","v":"Solicitante de Portabilidade"},null,null,null,null,null,null,null,null,null,null,null,null,null,null,null,null,null,null,null,null,null,null,"Responsável pelo preenchimento do Termo"]
[]
[]
[]
[]
[]
[{"$f":"A948+1","v":31},"TERMO DE AUTORIZAÇÃO PARA TRANSFERÊNCIA DE RECURSOS\nResoluções BACEN 3.402/2006 e 3.424/2006"]
[]
[null,"À Cooperativa de Crédito Credisg LTDA - SICOOB CREDISG"]
[]
[null,"Eu, ",null,{"$f":"UPPER(INDEX(Tabela1[],A980,2))","v":""},null,null,null,null,null,null,null,null,null,null,null,null,null,null,null,null,null,null,null,null,null,null,"portador do CPF número",null,null,null,null,null,null,null,null,null,{"$f":"TEXT(INDEX(Tabela1[],A980,1),\"[<=9999]0000;[>=999999999999]00\\.000\\.000\\/0000-00;000\\.000\\.000-00\")","v":"0000"}]
[]
[null,"solicito a TRANSFERÊNCIA dos valores creditados em minha conta junto a essa instituição a título de salário, aposentadoria ou similares, para a conta descrita abaixo, na mesma do crédito, sem nenhum custo e em caráter permanente:"]
[]
[null,"CONTA ORIGEM",null,null,null,null,null,null,null,null,null,null,null,null,null,null,null,null,null,null,null,null,null,null,"CONTA DESTINO"]
[]
[null,"CONTA SALÁRIO (FUNCIONÁRIO):",null,null,null,null,null,null,null,null,null,null,null,null,null,null,null,null,null,null,null,null,null,null,"BANCO:",null,null,{"$f":"INDEX(Tabela1[],A980,20)","v":0},null,{"$f":"IFERROR(VLOOKUP(AB990,LISTA!Q:R,2,0),\"-\")","v":"-"}]
[]
[null,"FONTE PAGADORA:",null,null,null,null,null,null,{"$f":"FONTE_PAGADORA","v":"INSIRA O NOME DA FONTE PAGADORA AQUI"},null,null,null,null,null,null,null,null,null,null,null,null,null,null,null,"AGÊNCIA:",null,null,null,{"$f":"INDEX(Tabela1[],A980,21)","v":0},null,null,null,null,null,"TIPO DE CONTA:",null,null,null,null,null,{"$f":"INDEX(Tabela1[],A980,19)","v":0}]
[]
[null,null,null,null,null,null,null,null,null,null,null,null,null,null,null,null,null,null,null,null,null,null,null,null,"NÚMERO:",null,null,null,{"$f":"INDEX(Tabela1[],A980,22)","v":0}]
[]
[]
[null,"Esta solicitação está de acordo com a Resolução BACEN 3.402/2006 e 3.424/2006, e sua revogação está condicionada a minha prévia e expressa manifestação."]
[]
[null,"São Gotardo, ",null,null,null,null,{"$f":"DAY(TODAY())","v":6},null,"de",null,{"$f":"VLOOKUP(MONTH(TODAY()),LISTA!O:P,2,0)","v":"ABRIL"},null,null,null,null,"de",null,{"$f":"YEAR(TODAY())","v":2023}]
[]
[]
[]
[]
[null,"________________________________________",null,null,null,null,null,null,null,null,null,null,null,null,null,null,null,null,null,null,null,null,null,null,"________________________________________"]
[null,{"$f":"UPPER(INDEX(Tabela1[],A980,2))","v":""},null,null,null,null,null,null,null,null,null,null,null,null,null,null,null,null,null,null,null,null,null,null,{"$f":"FONTE_PAGADORA","v":"INSIRA O NOME DA FONTE PAGADORA AQUI"}]
[null,{"$f":"\"Solicitante de Portabilidade\"","v":"Solicitante de Portabilidade"},null,null,null,null,null,null,null,null,null,null,null,null,null,null,null,null,null,null,null,null,null,null,"Responsável pelo preenchimento do Termo"]
[]
[]
[]
[]
[]
[]
[{"$f":"A980+1","v":32},"TERMO DE AUTORIZAÇÃO PARA TRANSFERÊNCIA DE RECURSOS\nResoluções BACEN 3.402/2006 e 3.424/2006"]
[]
[null,"À Cooperativa de Crédito Credisg LTDA - SICOOB CREDISG"]
[]
[null,"Eu, ",null,{"$f":"UPPER(INDEX(Tabela1[],A1013,2))","v":""},null,null,null,null,null,null,null,null,null,null,null,null,null,null,null,null,null,null,null,null,null,null,"portador do CPF número",null,null,null,null,null,null,null,null,null,{"$f":"TEXT(INDEX(Tabela1[],A1013,1),\"[<=9999]0000;[>=999999999999]00\\.000\\.000\\/0000-00;000\\.000\\.000-00\")","v":"0000"}]
[]
[null,"solicito a TRANSFERÊNCIA dos valores creditados em minha conta junto a essa instituição a título de salário, aposentadoria ou similares, para a conta descrita abaixo, na mesma do crédito, sem nenhum custo e em caráter permanente:"]
[]
[null,"CONTA ORIGEM",null,null,null,null,null,null,null,null,null,null,null,null,null,null,null,null,null,null,null,null,null,null,"CONTA DESTINO"]
[]
[null,"CONTA SALÁRIO (FUNCIONÁRIO):",null,null,null,null,null,null,null,null,null,null,null,null,null,null,null,null,null,null,null,null,null,null,"BANCO:",null,null,{"$f":"INDEX(Tabela1[],A1013,20)","v":0},null,{"$f":"IFERROR(VLOOKUP(AB1023,LISTA!Q:R,2,0),\"-\")","v":"-"}]
[]
[null,"FONTE PAGADORA:",null,null,null,null,null,null,{"$f":"FONTE_PAGADORA","v":"INSIRA O NOME DA FONTE PAGADORA AQUI"},null,null,null,null,null,null,null,null,null,null,null,null,null,null,null,"AGÊNCIA:",null,null,null,{"$f":"INDEX(Tabela1[],A1013,21)","v":0},null,null,null,null,null,"TIPO DE CONTA:",null,null,null,null,null,{"$f":"INDEX(Tabela1[],A1013,19)","v":0}]
[]
[null,null,null,null,null,null,null,null,null,null,null,null,null,null,null,null,null,null,null,null,null,null,null,null,"NÚMERO:",null,null,null,{"$f":"INDEX(Tabela1[],A1013,22)","v":0}]
[]
[]
[null,"Esta solicitação está de acordo com a Resolução BACEN 3.402/2006 e 3.424/2006, e sua revogação está condicionada a minha prévia e expressa manifestação."]
[]
[null,"São Gotardo, ",null,null,null,null,{"$f":"DAY(TODAY())","v":6},null,"de",null,{"$f":"VLOOKUP(MONTH(TODAY()),LISTA!O:P,2,0)","v":"ABRIL"},null,null,null,null,"de",null,{"$f":"YEAR(TODAY())","v":2023}]
[]
[]
[]
[]
[null,"________________________________________",null,null,null,null,null,null,null,null,null,null,null,null,null,null,null,null,null,null,null,null,null,null,"________________________________________"]
[null,{"$f":"UPPER(INDEX(Tabela1[],A1013,2))","v":""},null,null,null,null,null,null,null,null,null,null,null,null,null,null,null,null,null,null,null,null,null,null,{"$f":"FONTE_PAGADORA","v":"INSIRA O NOME DA FONTE PAGADORA AQUI"}]
[null,{"$f":"\"Solicitante de Portabilidade\"","v":"Solicitante de Portabilidade"},null,null,null,null,null,null,null,null,null,null,null,null,null,null,null,null,null,null,null,null,null,null,"Responsável pelo preenchimento do Termo"]
[]
[]
[]
[]
[]
[{"$f":"A1013+1","v":33},"TERMO DE AUTORIZAÇÃO PARA TRANSFERÊNCIA DE RECURSOS\nResoluções BACEN 3.402/2006 e 3.424/2006"]
[]
[null,"À Cooperativa de Crédito Credisg LTDA - SICOOB CREDISG"]
[]
[null,"Eu, ",null,{"$f":"UPPER(INDEX(Tabela1[],A1045,2))","v":""},null,null,null,null,null,null,null,null,null,null,null,null,null,null,null,null,null,null,null,null,null,null,"portador do CPF número",null,null,null,null,null,null,null,null,null,{"$f":"TEXT(INDEX(Tabela1[],A1045,1),\"[<=9999]0000;[>=999999999999]00\\.000\\.000\\/0000-00;000\\.000\\.000-00\")","v":"0000"}]
[]
[null,"solicito a TRANSFERÊNCIA dos valores creditados em minha conta junto a essa instituição a título de salário, aposentadoria ou similares, para a conta descrita abaixo, na mesma do crédito, sem nenhum custo e em caráter permanente:"]
[]
[null,"CONTA ORIGEM",null,null,null,null,null,null,null,null,null,null,null,null,null,null,null,null,null,null,null,null,null,null,"CONTA DESTINO"]
[]
[null,"CONTA SALÁRIO (FUNCIONÁRIO):",null,null,null,null,null,null,null,null,null,null,null,null,null,null,null,null,null,null,null,null,null,null,"BANCO:",null,null,{"$f":"INDEX(Tabela1[],A1045,20)","v":0},null,{"$f":"IFERROR(VLOOKUP(AB1055,LISTA!Q:R,2,0),\"-\")","v":"-"}]
[]
[null,"FONTE PAGADORA:",null,null,null,null,null,null,{"$f":"FONTE_PAGADORA","v":"INSIRA O NOME DA FONTE PAGADORA AQUI"},null,null,null,null,null,null,null,null,null,null,null,null,null,null,null,"AGÊNCIA:",null,null,null,{"$f":"INDEX(Tabela1[],A1045,21)","v":0},null,null,null,null,null,"TIPO DE CONTA:",null,null,null,null,null,{"$f":"INDEX(Tabela1[],A1045,19)","v":0}]
[]
[null,null,null,null,null,null,null,null,null,null,null,null,null,null,null,null,null,null,null,null,null,null,null,null,"NÚMERO:",null,null,null,{"$f":"INDEX(Tabela1[],A1045,22)","v":0}]
[]
[]
[null,"Esta solicitação está de acordo com a Resolução BACEN 3.402/2006 e 3.424/2006, e sua revogação está condicionada a minha prévia e expressa manifestação."]
[]
[null,"São Gotardo, ",null,null,null,null,{"$f":"DAY(TODAY())","v":6},null,"de",null,{"$f":"VLOOKUP(MONTH(TODAY()),LISTA!O:P,2,0)","v":"ABRIL"},null,null,null,null,"de",null,{"$f":"YEAR(TODAY())","v":2023}]
[]
[]
[]
[]
[null,"________________________________________",null,null,null,null,null,null,null,null,null,null,null,null,null,null,null,null,null,null,null,null,null,null,"________________________________________"]
[null,{"$f":"UPPER(INDEX(Tabela1[],A1045,2))","v":""},null,null,null,null,null,null,null,null,null,null,null,null,null,null,null,null,null,null,null,null,null,null,{"$f":"FONTE_PAGADORA","v":"INSIRA O NOME DA FONTE PAGADORA AQUI"}]
[null,{"$f":"\"Solicitante de Portabilidade\"","v":"Solicitante de Portabilidade"},null,null,null,null,null,null,null,null,null,null,null,null,null,null,null,null,null,null,null,null,null,null,"Responsável pelo preenchimento do Termo"]
[]
[]
[]
[]
[]
[]
[{"$f":"A1045+1","v":34},"TERMO DE AUTORIZAÇÃO PARA TRANSFERÊNCIA DE RECURSOS\nResoluções BACEN 3.402/2006 e 3.424/2006"]
[]
[null,"À Cooperativa de Crédito Credisg LTDA - SICOOB CREDISG"]
[]
[null,"Eu, ",null,{"$f":"UPPER(INDEX(Tabela1[],A1078,2))","v":""},null,null,null,null,null,null,null,null,null,null,null,null,null,null,null,null,null,null,null,null,null,null,"portador do CPF número",null,null,null,null,null,null,null,null,null,{"$f":"TEXT(INDEX(Tabela1[],A1078,1),\"[<=9999]0000;[>=999999999999]00\\.000\\.000\\/0000-00;000\\.000\\.000-00\")","v":"0000"}]
[]
[null,"solicito a TRANSFERÊNCIA dos valores creditados em minha conta junto a essa instituição a título de salário, aposentadoria ou similares, para a conta descrita abaixo, na mesma do crédito, sem nenhum custo e em caráter permanente:"]
[]
[null,"CONTA ORIGEM",null,null,null,null,null,null,null,null,null,null,null,null,null,null,null,null,null,null,null,null,null,null,"CONTA DESTINO"]
[]
[null,"CONTA SALÁRIO (FUNCIONÁRIO):",null,null,null,null,null,null,null,null,null,null,null,null,null,null,null,null,null,null,null,null,null,null,"BANCO:",null,null,{"$f":"INDEX(Tabela1[],A1078,20)","v":0},null,{"$f":"IFERROR(VLOOKUP(AB1088,LISTA!Q:R,2,0),\"-\")","v":"-"}]
[]
[null,"FONTE PAGADORA:",null,null,null,null,null,null,{"$f":"FONTE_PAGADORA","v":"INSIRA O NOME DA FONTE PAGADORA AQUI"},null,null,null,null,null,null,null,null,null,null,null,null,null,null,null,"AGÊNCIA:",null,null,null,{"$f":"INDEX(Tabela1[],A1078,21)","v":0},null,null,null,null,null,"TIPO DE CONTA:",null,null,null,null,null,{"$f":"INDEX(Tabela1[],A1078,19)","v":0}]
[]
[null,null,null,null,null,null,null,null,null,null,null,null,null,null,null,null,null,null,null,null,null,null,null,null,"NÚMERO:",null,null,null,{"$f":"INDEX(Tabela1[],A1078,22)","v":0}]
[]
[]
[null,"Esta solicitação está de acordo com a Resolução BACEN 3.402/2006 e 3.424/2006, e sua revogação está condicionada a minha prévia e expressa manifestação."]
[]
[null,"São Gotardo, ",null,null,null,null,{"$f":"DAY(TODAY())","v":6},null,"de",null,{"$f":"VLOOKUP(MONTH(TODAY()),LISTA!O:P,2,0)","v":"ABRIL"},null,null,null,null,"de",null,{"$f":"YEAR(TODAY())","v":2023}]
[]
[]
[]
[]
[null,"________________________________________",null,null,null,null,null,null,null,null,null,null,null,null,null,null,null,null,null,null,null,null,null,null,"________________________________________"]
[null,{"$f":"UPPER(INDEX(Tabela1[],A1078,2))","v":""},null,null,null,null,null,null,null,null,null,null,null,null,null,null,null,null,null,null,null,null,null,null,{"$f":"FONTE_PAGADORA","v":"INSIRA O NOME DA FONTE PAGADORA AQUI"}]
[null,{"$f":"\"Solicitante de Portabilidade\"","v":"Solicitante de Portabilidade"},null,null,null,null,null,null,null,null,null,null,null,null,null,null,null,null,null,null,null,null,null,null,"Responsável pelo preenchimento do Termo"]
[]
[]
[]
[]
[]
[{"$f":"A1078+1","v":35},"TERMO DE AUTORIZAÇÃO PARA TRANSFERÊNCIA DE RECURSOS\nResoluções BACEN 3.402/2006 e 3.424/2006"]
[]
[null,"À Cooperativa de Crédito Credisg LTDA - SICOOB CREDISG"]
[]
[null,"Eu, ",null,{"$f":"UPPER(INDEX(Tabela1[],A1110,2))","v":""},null,null,null,null,null,null,null,null,null,null,null,null,null,null,null,null,null,null,null,null,null,null,"portador do CPF número",null,null,null,null,null,null,null,null,null,{"$f":"TEXT(INDEX(Tabela1[],A1110,1),\"[<=9999]0000;[>=999999999999]00\\.000\\.000\\/0000-00;000\\.000\\.000-00\")","v":"0000"}]
[]
[null,"solicito a TRANSFERÊNCIA dos valores creditados em minha conta junto a essa instituição a título de salário, aposentadoria ou similares, para a conta descrita abaixo, na mesma do crédito, sem nenhum custo e em caráter permanente:"]
[]
[null,"CONTA ORIGEM",null,null,null,null,null,null,null,null,null,null,null,null,null,null,null,null,null,null,null,null,null,null,"CONTA DESTINO"]
[]
[null,"CONTA SALÁRIO (FUNCIONÁRIO):",null,null,null,null,null,null,null,null,null,null,null,null,null,null,null,null,null,null,null,null,null,null,"BANCO:",null,null,{"$f":"INDEX(Tabela1[],A1110,20)","v":0},null,{"$f":"IFERROR(VLOOKUP(AB1120,LISTA!Q:R,2,0),\"-\")","v":"-"}]
[]
[null,"FONTE PAGADORA:",null,null,null,null,null,null,{"$f":"FONTE_PAGADORA","v":"INSIRA O NOME DA FONTE PAGADORA AQUI"},null,null,null,null,null,null,null,null,null,null,null,null,null,null,null,"AGÊNCIA:",null,null,null,{"$f":"INDEX(Tabela1[],A1110,21)","v":0},null,null,null,null,null,"TIPO DE CONTA:",null,null,null,null,null,{"$f":"INDEX(Tabela1[],A1110,19)","v":0}]
[]
[null,null,null,null,null,null,null,null,null,null,null,null,null,null,null,null,null,null,null,null,null,null,null,null,"NÚMERO:",null,null,null,{"$f":"INDEX(Tabela1[],A1110,22)","v":0}]
[]
[]
[null,"Esta solicitação está de acordo com a Resolução BACEN 3.402/2006 e 3.424/2006, e sua revogação está condicionada a minha prévia e expressa manifestação."]
[]
[null,"São Gotardo, ",null,null,null,null,{"$f":"DAY(TODAY())","v":6},null,"de",null,{"$f":"VLOOKUP(MONTH(TODAY()),LISTA!O:P,2,0)","v":"ABRIL"},null,null,null,null,"de",null,{"$f":"YEAR(TODAY())","v":2023}]
[]
[]
[]
[]
[null,"________________________________________",null,null,null,null,null,null,null,null,null,null,null,null,null,null,null,null,null,null,null,null,null,null,"________________________________________"]
[null,{"$f":"UPPER(INDEX(Tabela1[],A1110,2))","v":""},null,null,null,null,null,null,null,null,null,null,null,null,null,null,null,null,null,null,null,null,null,null,{"$f":"FONTE_PAGADORA","v":"INSIRA O NOME DA FONTE PAGADORA AQUI"}]
[null,{"$f":"\"Solicitante de Portabilidade\"","v":"Solicitante de Portabilidade"},null,null,null,null,null,null,null,null,null,null,null,null,null,null,null,null,null,null,null,null,null,null,"Responsável pelo preenchimento do Termo"]
[]
[]
[]
[]
[]
[]
[{"$f":"A1110+1","v":36},"TERMO DE AUTORIZAÇÃO PARA TRANSFERÊNCIA DE RECURSOS\nResoluções BACEN 3.402/2006 e 3.424/2006"]
[]
[null,"À Cooperativa de Crédito Credisg LTDA - SICOOB CREDISG"]
[]
[null,"Eu, ",null,{"$f":"UPPER(INDEX(Tabela1[],A1143,2))","v":""},null,null,null,null,null,null,null,null,null,null,null,null,null,null,null,null,null,null,null,null,null,null,"portador do CPF número",null,null,null,null,null,null,null,null,null,{"$f":"TEXT(INDEX(Tabela1[],A1143,1),\"[<=9999]0000;[>=999999999999]00\\.000\\.000\\/0000-00;000\\.000\\.000-00\")","v":"0000"}]
[]
[null,"solicito a TRANSFERÊNCIA dos valores creditados em minha conta junto a essa instituição a título de salário, aposentadoria ou similares, para a conta descrita abaixo, na mesma do crédito, sem nenhum custo e em caráter permanente:"]
[]
[null,"CONTA ORIGEM",null,null,null,null,null,null,null,null,null,null,null,null,null,null,null,null,null,null,null,null,null,null,"CONTA DESTINO"]
[]
[null,"CONTA SALÁRIO (FUNCIONÁRIO):",null,null,null,null,null,null,null,null,null,null,null,null,null,null,null,null,null,null,null,null,null,null,"BANCO:",null,null,{"$f":"INDEX(Tabela1[],A1143,20)","v":0},null,{"$f":"IFERROR(VLOOKUP(AB1153,LISTA!Q:R,2,0),\"-\")","v":"-"}]
[]
[null,"FONTE PAGADORA:",null,null,null,null,null,null,{"$f":"FONTE_PAGADORA","v":"INSIRA O NOME DA FONTE PAGADORA AQUI"},null,null,null,null,null,null,null,null,null,null,null,null,null,null,null,"AGÊNCIA:",null,null,null,{"$f":"INDEX(Tabela1[],A1143,21)","v":0},null,null,null,null,null,"TIPO DE CONTA:",null,null,null,null,null,{"$f":"INDEX(Tabela1[],A1143,19)","v":0}]
[]
[null,null,null,null,null,null,null,null,null,null,null,null,null,null,null,null,null,null,null,null,null,null,null,null,"NÚMERO:",null,null,null,{"$f":"INDEX(Tabela1[],A1143,22)","v":0}]
[]
[]
[null,"Esta solicitação está de acordo com a Resolução BACEN 3.402/2006 e 3.424/2006, e sua revogação está condicionada a minha prévia e expressa manifestação."]
[]
[null,"São Gotardo, ",null,null,null,null,{"$f":"DAY(TODAY())","v":6},null,"de",null,{"$f":"VLOOKUP(MONTH(TODAY()),LISTA!O:P,2,0)","v":"ABRIL"},null,null,null,null,"de",null,{"$f":"YEAR(TODAY())","v":2023}]
[]
[]
[]
[]
[null,"________________________________________",null,null,null,null,null,null,null,null,null,null,null,null,null,null,null,null,null,null,null,null,null,null,"________________________________________"]
[null,{"$f":"UPPER(INDEX(Tabela1[],A1143,2))","v":""},null,null,null,null,null,null,null,null,null,null,null,null,null,null,null,null,null,null,null,null,null,null,{"$f":"FONTE_PAGADORA","v":"INSIRA O NOME DA FONTE PAGADORA AQUI"}]
[null,{"$f":"\"Solicitante de Portabilidade\"","v":"Solicitante de Portabilidade"},null,null,null,null,null,null,null,null,null,null,null,null,null,null,null,null,null,null,null,null,null,null,"Responsável pelo preenchimento do Termo"]
[]
[]
[]
[]
[]
[{"$f":"A1143+1","v":37},"TERMO DE AUTORIZAÇÃO PARA TRANSFERÊNCIA DE RECURSOS\nResoluções BACEN 3.402/2006 e 3.424/2006"]
[]
[null,"À Cooperativa de Crédito Credisg LTDA - SICOOB CREDISG"]
[]
[null,"Eu, ",null,{"$f":"UPPER(INDEX(Tabela1[],A1175,2))","v":""},null,null,null,null,null,null,null,null,null,null,null,null,null,null,null,null,null,null,null,null,null,null,"portador do CPF número",null,null,null,null,null,null,null,null,null,{"$f":"TEXT(INDEX(Tabela1[],A1175,1),\"[<=9999]0000;[>=999999999999]00\\.000\\.000\\/0000-00;000\\.000\\.000-00\")","v":"0000"}]
[]
[null,"solicito a TRANSFERÊNCIA dos valores creditados em minha conta junto a essa instituição a título de salário, aposentadoria ou similares, para a conta descrita abaixo, na mesma do crédito, sem nenhum custo e em caráter permanente:"]
[]
[null,"CONTA ORIGEM",null,null,null,null,null,null,null,null,null,null,null,null,null,null,null,null,null,null,null,null,null,null,"CONTA DESTINO"]
[]
[null,"CONTA SALÁRIO (FUNCIONÁRIO):",null,null,null,null,null,null,null,null,null,null,null,null,null,null,null,null,null,null,null,null,null,null,"BANCO:",null,null,{"$f":"INDEX(Tabela1[],A1175,20)","v":0},null,{"$f":"IFERROR(VLOOKUP(AB1185,LISTA!Q:R,2,0),\"-\")","v":"-"}]
[]
[null,"FONTE PAGADORA:",null,null,null,null,null,null,{"$f":"FONTE_PAGADORA","v":"INSIRA O NOME DA FONTE PAGADORA AQUI"},null,null,null,null,null,null,null,null,null,null,null,null,null,null,null,"AGÊNCIA:",null,null,null,{"$f":"INDEX(Tabela1[],A1175,21)","v":0},null,null,null,null,null,"TIPO DE CONTA:",null,null,null,null,null,{"$f":"INDEX(Tabela1[],A1175,19)","v":0}]
[]
[null,null,null,null,null,null,null,null,null,null,null,null,null,null,null,null,null,null,null,null,null,null,null,null,"NÚMERO:",null,null,null,{"$f":"INDEX(Tabela1[],A1175,22)","v":0}]
[]
[]
[null,"Esta solicitação está de acordo com a Resolução BACEN 3.402/2006 e 3.424/2006, e sua revogação está condicionada a minha prévia e expressa manifestação."]
[]
[null,"São Gotardo, ",null,null,null,null,{"$f":"DAY(TODAY())","v":6},null,"de",null,{"$f":"VLOOKUP(MONTH(TODAY()),LISTA!O:P,2,0)","v":"ABRIL"},null,null,null,null,"de",null,{"$f":"YEAR(TODAY())","v":2023}]
[]
[]
[]
[]
[null,"________________________________________",null,null,null,null,null,null,null,null,null,null,null,null,null,null,null,null,null,null,null,null,null,null,"________________________________________"]
[null,{"$f":"UPPER(INDEX(Tabela1[],A1175,2))","v":""},null,null,null,null,null,null,null,null,null,null,null,null,null,null,null,null,null,null,null,null,null,null,{"$f":"FONTE_PAGADORA","v":"INSIRA O NOME DA FONTE PAGADORA AQUI"}]
[null,{"$f":"\"Solicitante de Portabilidade\"","v":"Solicitante de Portabilidade"},null,null,null,null,null,null,null,null,null,null,null,null,null,null,null,null,null,null,null,null,null,null,"Responsável pelo preenchimento do Termo"]
[]
[]
[]
[]
[]
[]
[{"$f":"A1175+1","v":38},"TERMO DE AUTORIZAÇÃO PARA TRANSFERÊNCIA DE RECURSOS\nResoluções BACEN 3.402/2006 e 3.424/2006"]
[]
[null,"À Cooperativa de Crédito Credisg LTDA - SICOOB CREDISG"]
[]
[null,"Eu, ",null,{"$f":"UPPER(INDEX(Tabela1[],A1208,2))","v":""},null,null,null,null,null,null,null,null,null,null,null,null,null,null,null,null,null,null,null,null,null,null,"portador do CPF número",null,null,null,null,null,null,null,null,null,{"$f":"TEXT(INDEX(Tabela1[],A1208,1),\"[<=9999]0000;[>=999999999999]00\\.000\\.000\\/0000-00;000\\.000\\.000-00\")","v":"0000"}]
[]
[null,"solicito a TRANSFERÊNCIA dos valores creditados em minha conta junto a essa instituição a título de salário, aposentadoria ou similares, para a conta descrita abaixo, na mesma do crédito, sem nenhum custo e em caráter permanente:"]
[]
[null,"CONTA ORIGEM",null,null,null,null,null,null,null,null,null,null,null,null,null,null,null,null,null,null,null,null,null,null,"CONTA DESTINO"]
[]
[null,"CONTA SALÁRIO (FUNCIONÁRIO):",null,null,null,null,null,null,null,null,null,null,null,null,null,null,null,null,null,null,null,null,null,null,"BANCO:",null,null,{"$f":"INDEX(Tabela1[],A1208,20)","v":0},null,{"$f":"IFERROR(VLOOKUP(AB1218,LISTA!Q:R,2,0),\"-\")","v":"-"}]
[]
[null,"FONTE PAGADORA:",null,null,null,null,null,null,{"$f":"FONTE_PAGADORA","v":"INSIRA O NOME DA FONTE PAGADORA AQUI"},null,null,null,null,null,null,null,null,null,null,null,null,null,null,null,"AGÊNCIA:",null,null,null,{"$f":"INDEX(Tabela1[],A1208,21)","v":0},null,null,null,null,null,"TIPO DE CONTA:",null,null,null,null,null,{"$f":"INDEX(Tabela1[],A1208,19)","v":0}]
[]
[null,null,null,null,null,null,null,null,null,null,null,null,null,null,null,null,null,null,null,null,null,null,null,null,"NÚMERO:",null,null,null,{"$f":"INDEX(Tabela1[],A1208,22)","v":0}]
[]
[]
[null,"Esta solicitação está de acordo com a Resolução BACEN 3.402/2006 e 3.424/2006, e sua revogação está condicionada a minha prévia e expressa manifestação."]
[]
[null,"São Gotardo, ",null,null,null,null,{"$f":"DAY(TODAY())","v":6},null,"de",null,{"$f":"VLOOKUP(MONTH(TODAY()),LISTA!O:P,2,0)","v":"ABRIL"},null,null,null,null,"de",null,{"$f":"YEAR(TODAY())","v":2023}]
[]
[]
[]
[]
[null,"________________________________________",null,null,null,null,null,null,null,null,null,null,null,null,null,null,null,null,null,null,null,null,null,null,"________________________________________"]
[null,{"$f":"UPPER(INDEX(Tabela1[],A1208,2))","v":""},null,null,null,null,null,null,null,null,null,null,null,null,null,null,null,null,null,null,null,null,null,null,{"$f":"FONTE_PAGADORA","v":"INSIRA O NOME DA FONTE PAGADORA AQUI"}]
[null,{"$f":"\"Solicitante de Portabilidade\"","v":"Solicitante de Portabilidade"},null,null,null,null,null,null,null,null,null,null,null,null,null,null,null,null,null,null,null,null,null,null,"Responsável pelo preenchimento do Termo"]
[]
[]
[]
[]
[]
[{"$f":"A1208+1","v":39},"TERMO DE AUTORIZAÇÃO PARA TRANSFERÊNCIA DE RECURSOS\nResoluções BACEN 3.402/2006 e 3.424/2006"]
[]
[null,"À Cooperativa de Crédito Credisg LTDA - SICOOB CREDISG"]
[]
[null,"Eu, ",null,{"$f":"UPPER(INDEX(Tabela1[],A1240,2))","v":""},null,null,null,null,null,null,null,null,null,null,null,null,null,null,null,null,null,null,null,null,null,null,"portador do CPF número",null,null,null,null,null,null,null,null,null,{"$f":"TEXT(INDEX(Tabela1[],A1240,1),\"[<=9999]0000;[>=999999999999]00\\.000\\.000\\/0000-00;000\\.000\\.000-00\")","v":"0000"}]
[]
[null,"solicito a TRANSFERÊNCIA dos valores creditados em minha conta junto a essa instituição a título de salário, aposentadoria ou similares, para a conta descrita abaixo, na mesma do crédito, sem nenhum custo e em caráter permanente:"]
[]
[null,"CONTA ORIGEM",null,null,null,null,null,null,null,null,null,null,null,null,null,null,null,null,null,null,null,null,null,null,"CONTA DESTINO"]
[]
[null,"CONTA SALÁRIO (FUNCIONÁRIO):",null,null,null,null,null,null,null,null,null,null,null,null,null,null,null,null,null,null,null,null,null,null,"BANCO:",null,null,{"$f":"INDEX(Tabela1[],A1240,20)","v":0},null,{"$f":"IFERROR(VLOOKUP(AB1250,LISTA!Q:R,2,0),\"-\")","v":"-"}]
[]
[null,"FONTE PAGADORA:",null,null,null,null,null,null,{"$f":"FONTE_PAGADORA","v":"INSIRA O NOME DA FONTE PAGADORA AQUI"},null,null,null,null,null,null,null,null,null,null,null,null,null,null,null,"AGÊNCIA:",null,null,null,{"$f":"INDEX(Tabela1[],A1240,21)","v":0},null,null,null,null,null,"TIPO DE CONTA:",null,null,null,null,null,{"$f":"INDEX(Tabela1[],A1240,19)","v":0}]
[]
[null,null,null,null,null,null,null,null,null,null,null,null,null,null,null,null,null,null,null,null,null,null,null,null,"NÚMERO:",null,null,null,{"$f":"INDEX(Tabela1[],A1240,22)","v":0}]
[]
[]
[null,"Esta solicitação está de acordo com a Resolução BACEN 3.402/2006 e 3.424/2006, e sua revogação está condicionada a minha prévia e expressa manifestação."]
[]
[null,"São Gotardo, ",null,null,null,null,{"$f":"DAY(TODAY())","v":6},null,"de",null,{"$f":"VLOOKUP(MONTH(TODAY()),LISTA!O:P,2,0)","v":"ABRIL"},null,null,null,null,"de",null,{"$f":"YEAR(TODAY())","v":2023}]
[]
[]
[]
[]
[null,"________________________________________",null,null,null,null,null,null,null,null,null,null,null,null,null,null,null,null,null,null,null,null,null,null,"________________________________________"]
[null,{"$f":"UPPER(INDEX(Tabela1[],A1240,2))","v":""},null,null,null,null,null,null,null,null,null,null,null,null,null,null,null,null,null,null,null,null,null,null,{"$f":"FONTE_PAGADORA","v":"INSIRA O NOME DA FONTE PAGADORA AQUI"}]
[null,{"$f":"\"Solicitante de Portabilidade\"","v":"Solicitante de Portabilidade"},null,null,null,null,null,null,null,null,null,null,null,null,null,null,null,null,null,null,null,null,null,null,"Responsável pelo preenchimento do Termo"]
[]
[]
[]
[]
[]
[]
[{"$f":"A1240+1","v":40},"TERMO DE AUTORIZAÇÃO PARA TRANSFERÊNCIA DE RECURSOS\nResoluções BACEN 3.402/2006 e 3.424/2006"]
[]
[null,"À Cooperativa de Crédito Credisg LTDA - SICOOB CREDISG"]
[]
[null,"Eu, ",null,{"$f":"UPPER(INDEX(Tabela1[],A1273,2))","v":""},null,null,null,null,null,null,null,null,null,null,null,null,null,null,null,null,null,null,null,null,null,null,"portador do CPF número",null,null,null,null,null,null,null,null,null,{"$f":"TEXT(INDEX(Tabela1[],A1273,1),\"[<=9999]0000;[>=999999999999]00\\.000\\.000\\/0000-00;000\\.000\\.000-00\")","v":"0000"}]
[]
[null,"solicito a TRANSFERÊNCIA dos valores creditados em minha conta junto a essa instituição a título de salário, aposentadoria ou similares, para a conta descrita abaixo, na mesma do crédito, sem nenhum custo e em caráter permanente:"]
[]
[null,"CONTA ORIGEM",null,null,null,null,null,null,null,null,null,null,null,null,null,null,null,null,null,null,null,null,null,null,"CONTA DESTINO"]
[]
[null,"CONTA SALÁRIO (FUNCIONÁRIO):",null,null,null,null,null,null,null,null,null,null,null,null,null,null,null,null,null,null,null,null,null,null,"BANCO:",null,null,{"$f":"INDEX(Tabela1[],A1273,20)","v":0},null,{"$f":"IFERROR(VLOOKUP(AB1283,LISTA!Q:R,2,0),\"-\")","v":"-"}]
[]
[null,"FONTE PAGADORA:",null,null,null,null,null,null,{"$f":"FONTE_PAGADORA","v":"INSIRA O NOME DA FONTE PAGADORA AQUI"},null,null,null,null,null,null,null,null,null,null,null,null,null,null,null,"AGÊNCIA:",null,null,null,{"$f":"INDEX(Tabela1[],A1273,21)","v":0},null,null,null,null,null,"TIPO DE CONTA:",null,null,null,null,null,{"$f":"INDEX(Tabela1[],A1273,19)","v":0}]
[]
[null,null,null,null,null,null,null,null,null,null,null,null,null,null,null,null,null,null,null,null,null,null,null,null,"NÚMERO:",null,null,null,{"$f":"INDEX(Tabela1[],A1273,22)","v":0}]
[]
[]
[null,"Esta solicitação está de acordo com a Resolução BACEN 3.402/2006 e 3.424/2006, e sua revogação está condicionada a minha prévia e expressa manifestação."]
[]
[null,"São Gotardo, ",null,null,null,null,{"$f":"DAY(TODAY())","v":6},null,"de",null,{"$f":"VLOOKUP(MONTH(TODAY()),LISTA!O:P,2,0)","v":"ABRIL"},null,null,null,null,"de",null,{"$f":"YEAR(TODAY())","v":2023}]
[]
[]
[]
[]
[null,"________________________________________",null,null,null,null,null,null,null,null,null,null,null,null,null,null,null,null,null,null,null,null,null,null,"________________________________________"]
[null,{"$f":"UPPER(INDEX(Tabela1[],A1273,2))","v":""},null,null,null,null,null,null,null,null,null,null,null,null,null,null,null,null,null,null,null,null,null,null,{"$f":"FONTE_PAGADORA","v":"INSIRA O NOME DA FONTE PAGADORA AQUI"}]
[null,{"$f":"\"Solicitante de Portabilidade\"","v":"Solicitante de Portabilidade"},null,null,null,null,null,null,null,null,null,null,null,null,null,null,null,null,null,null,null,null,null,null,"Responsável pelo preenchimento do Termo"]
[]
[]
[]
[]
[]
[{"$f":"A1273+1","v":41},"TERMO DE AUTORIZAÇÃO PARA TRANSFERÊNCIA DE RECURSOS\nResoluções BACEN 3.402/2006 e 3.424/2006"]
[]
[null,"À Cooperativa de Crédito Credisg LTDA - SICOOB CREDISG"]
[]
[null,"Eu, ",null,{"$f":"UPPER(INDEX(Tabela1[],A1305,2))","v":""},null,null,null,null,null,null,null,null,null,null,null,null,null,null,null,null,null,null,null,null,null,null,"portador do CPF número",null,null,null,null,null,null,null,null,null,{"$f":"TEXT(INDEX(Tabela1[],A1305,1),\"[<=9999]0000;[>=999999999999]00\\.000\\.000\\/0000-00;000\\.000\\.000-00\")","v":"0000"}]
[]
[null,"solicito a TRANSFERÊNCIA dos valores creditados em minha conta junto a essa instituição a título de salário, aposentadoria ou similares, para a conta descrita abaixo, na mesma do crédito, sem nenhum custo e em caráter permanente:"]
[]
[null,"CONTA ORIGEM",null,null,null,null,null,null,null,null,null,null,null,null,null,null,null,null,null,null,null,null,null,null,"CONTA DESTINO"]
[]
[null,"CONTA SALÁRIO (FUNCIONÁRIO):",null,null,null,null,null,null,null,null,null,null,null,null,null,null,null,null,null,null,null,null,null,null,"BANCO:",null,null,{"$f":"INDEX(Tabela1[],A1305,20)","v":0},null,{"$f":"IFERROR(VLOOKUP(AB1315,LISTA!Q:R,2,0),\"-\")","v":"-"}]
[]
[null,"FONTE PAGADORA:",null,null,null,null,null,null,{"$f":"FONTE_PAGADORA","v":"INSIRA O NOME DA FONTE PAGADORA AQUI"},null,null,null,null,null,null,null,null,null,null,null,null,null,null,null,"AGÊNCIA:",null,null,null,{"$f":"INDEX(Tabela1[],A1305,21)","v":0},null,null,null,null,null,"TIPO DE CONTA:",null,null,null,null,null,{"$f":"INDEX(Tabela1[],A1305,19)","v":0}]
[]
[null,null,null,null,null,null,null,null,null,null,null,null,null,null,null,null,null,null,null,null,null,null,null,null,"NÚMERO:",null,null,null,{"$f":"INDEX(Tabela1[],A1305,22)","v":0}]
[]
[]
[null,"Esta solicitação está de acordo com a Resolução BACEN 3.402/2006 e 3.424/2006, e sua revogação está condicionada a minha prévia e expressa manifestação."]
[]
[null,"São Gotardo, ",null,null,null,null,{"$f":"DAY(TODAY())","v":6},null,"de",null,{"$f":"VLOOKUP(MONTH(TODAY()),LISTA!O:P,2,0)","v":"ABRIL"},null,null,null,null,"de",null,{"$f":"YEAR(TODAY())","v":2023}]
[]
[]
[]
[]
[null,"________________________________________",null,null,null,null,null,null,null,null,null,null,null,null,null,null,null,null,null,null,null,null,null,null,"________________________________________"]
[null,{"$f":"UPPER(INDEX(Tabela1[],A1305,2))","v":""},null,null,null,null,null,null,null,null,null,null,null,null,null,null,null,null,null,null,null,null,null,null,{"$f":"FONTE_PAGADORA","v":"INSIRA O NOME DA FONTE PAGADORA AQUI"}]
[null,{"$f":"\"Solicitante de Portabilidade\"","v":"Solicitante de Portabilidade"},null,null,null,null,null,null,null,null,null,null,null,null,null,null,null,null,null,null,null,null,null,null,"Responsável pelo preenchimento do Termo"]
[]
[]
[]
[]
[]
[]
[{"$f":"A1305+1","v":42},"TERMO DE AUTORIZAÇÃO PARA TRANSFERÊNCIA DE RECURSOS\nResoluções BACEN 3.402/2006 e 3.424/2006"]
[]
[null,"À Cooperativa de Crédito Credisg LTDA - SICOOB CREDISG"]
[]
[null,"Eu, ",null,{"$f":"UPPER(INDEX(Tabela1[],A1338,2))","v":""},null,null,null,null,null,null,null,null,null,null,null,null,null,null,null,null,null,null,null,null,null,null,"portador do CPF número",null,null,null,null,null,null,null,null,null,{"$f":"TEXT(INDEX(Tabela1[],A1338,1),\"[<=9999]0000;[>=999999999999]00\\.000\\.000\\/0000-00;000\\.000\\.000-00\")","v":"0000"}]
[]
[null,"solicito a TRANSFERÊNCIA dos valores creditados em minha conta junto a essa instituição a título de salário, aposentadoria ou similares, para a conta descrita abaixo, na mesma do crédito, sem nenhum custo e em caráter permanente:"]
[]
[null,"CONTA ORIGEM",null,null,null,null,null,null,null,null,null,null,null,null,null,null,null,null,null,null,null,null,null,null,"CONTA DESTINO"]
[]
[null,"CONTA SALÁRIO (FUNCIONÁRIO):",null,null,null,null,null,null,null,null,null,null,null,null,null,null,null,null,null,null,null,null,null,null,"BANCO:",null,null,{"$f":"INDEX(Tabela1[],A1338,20)","v":0},null,{"$f":"IFERROR(VLOOKUP(AB1348,LISTA!Q:R,2,0),\"-\")","v":"-"}]
[]
[null,"FONTE PAGADORA:",null,null,null,null,null,null,{"$f":"FONTE_PAGADORA","v":"INSIRA O NOME DA FONTE PAGADORA AQUI"},null,null,null,null,null,null,null,null,null,null,null,null,null,null,null,"AGÊNCIA:",null,null,null,{"$f":"INDEX(Tabela1[],A1338,21)","v":0},null,null,null,null,null,"TIPO DE CONTA:",null,null,null,null,null,{"$f":"INDEX(Tabela1[],A1338,19)","v":0}]
[]
[null,null,null,null,null,null,null,null,null,null,null,null,null,null,null,null,null,null,null,null,null,null,null,null,"NÚMERO:",null,null,null,{"$f":"INDEX(Tabela1[],A1338,22)","v":0}]
[]
[]
[null,"Esta solicitação está de acordo com a Resolução BACEN 3.402/2006 e 3.424/2006, e sua revogação está condicionada a minha prévia e expressa manifestação."]
[]
[null,"São Gotardo, ",null,null,null,null,{"$f":"DAY(TODAY())","v":6},null,"de",null,{"$f":"VLOOKUP(MONTH(TODAY()),LISTA!O:P,2,0)","v":"ABRIL"},null,null,null,null,"de",null,{"$f":"YEAR(TODAY())","v":2023}]
[]
[]
[]
[]
[null,"________________________________________",null,null,null,null,null,null,null,null,null,null,null,null,null,null,null,null,null,null,null,null,null,null,"________________________________________"]
[null,{"$f":"UPPER(INDEX(Tabela1[],A1338,2))","v":""},null,null,null,null,null,null,null,null,null,null,null,null,null,null,null,null,null,null,null,null,null,null,{"$f":"FONTE_PAGADORA","v":"INSIRA O NOME DA FONTE PAGADORA AQUI"}]
[null,{"$f":"\"Solicitante de Portabilidade\"","v":"Solicitante de Portabilidade"},null,null,null,null,null,null,null,null,null,null,null,null,null,null,null,null,null,null,null,null,null,null,"Responsável pelo preenchimento do Termo"]
[]
[]
[]
[]
[]
[{"$f":"A1338+1","v":43},"TERMO DE AUTORIZAÇÃO PARA TRANSFERÊNCIA DE RECURSOS\nResoluções BACEN 3.402/2006 e 3.424/2006"]
[]
[null,"À Cooperativa de Crédito Credisg LTDA - SICOOB CREDISG"]
[]
[null,"Eu, ",null,{"$f":"UPPER(INDEX(Tabela1[],A1370,2))","v":""},null,null,null,null,null,null,null,null,null,null,null,null,null,null,null,null,null,null,null,null,null,null,"portador do CPF número",null,null,null,null,null,null,null,null,null,{"$f":"TEXT(INDEX(Tabela1[],A1370,1),\"[<=9999]0000;[>=999999999999]00\\.000\\.000\\/0000-00;000\\.000\\.000-00\")","v":"0000"}]
[]
[null,"solicito a TRANSFERÊNCIA dos valores creditados em minha conta junto a essa instituição a título de salário, aposentadoria ou similares, para a conta descrita abaixo, na mesma do crédito, sem nenhum custo e em caráter permanente:"]
[]
[null,"CONTA ORIGEM",null,null,null,null,null,null,null,null,null,null,null,null,null,null,null,null,null,null,null,null,null,null,"CONTA DESTINO"]
[]
[null,"CONTA SALÁRIO (FUNCIONÁRIO):",null,null,null,null,null,null,null,null,null,null,null,null,null,null,null,null,null,null,null,null,null,null,"BANCO:",null,null,{"$f":"INDEX(Tabela1[],A1370,20)","v":0},null,{"$f":"IFERROR(VLOOKUP(AB1380,LISTA!Q:R,2,0),\"-\")","v":"-"}]
[]
[null,"FONTE PAGADORA:",null,null,null,null,null,null,{"$f":"FONTE_PAGADORA","v":"INSIRA O NOME DA FONTE PAGADORA AQUI"},null,null,null,null,null,null,null,null,null,null,null,null,null,null,null,"AGÊNCIA:",null,null,null,{"$f":"INDEX(Tabela1[],A1370,21)","v":0},null,null,null,null,null,"TIPO DE CONTA:",null,null,null,null,null,{"$f":"INDEX(Tabela1[],A1370,19)","v":0}]
[]
[null,null,null,null,null,null,null,null,null,null,null,null,null,null,null,null,null,null,null,null,null,null,null,null,"NÚMERO:",null,null,null,{"$f":"INDEX(Tabela1[],A1370,22)","v":0}]
[]
[]
[null,"Esta solicitação está de acordo com a Resolução BACEN 3.402/2006 e 3.424/2006, e sua revogação está condicionada a minha prévia e expressa manifestação."]
[]
[null,"São Gotardo, ",null,null,null,null,{"$f":"DAY(TODAY())","v":6},null,"de",null,{"$f":"VLOOKUP(MONTH(TODAY()),LISTA!O:P,2,0)","v":"ABRIL"},null,null,null,null,"de",null,{"$f":"YEAR(TODAY())","v":2023}]
[]
[]
[]
[]
[null,"________________________________________",null,null,null,null,null,null,null,null,null,null,null,null,null,null,null,null,null,null,null,null,null,null,"________________________________________"]
[null,{"$f":"UPPER(INDEX(Tabela1[],A1370,2))","v":""},null,null,null,null,null,null,null,null,null,null,null,null,null,null,null,null,null,null,null,null,null,null,{"$f":"FONTE_PAGADORA","v":"INSIRA O NOME DA FONTE PAGADORA AQUI"}]
[null,{"$f":"\"Solicitante de Portabilidade\"","v":"Solicitante de Portabilidade"},null,null,null,null,null,null,null,null,null,null,null,null,null,null,null,null,null,null,null,null,null,null,"Responsável pelo preenchimento do Termo"]
[]
[]
[]
[]
[]
[]
[{"$f":"A1370+1","v":44},"TERMO DE AUTORIZAÇÃO PARA TRANSFERÊNCIA DE RECURSOS\nResoluções BACEN 3.402/2006 e 3.424/2006"]
[]
[null,"À Cooperativa de Crédito Credisg LTDA - SICOOB CREDISG"]
[]
[null,"Eu, ",null,{"$f":"UPPER(INDEX(Tabela1[],A1403,2))","v":""},null,null,null,null,null,null,null,null,null,null,null,null,null,null,null,null,null,null,null,null,null,null,"portador do CPF número",null,null,null,null,null,null,null,null,null,{"$f":"TEXT(INDEX(Tabela1[],A1403,1),\"[<=9999]0000;[>=999999999999]00\\.000\\.000\\/0000-00;000\\.000\\.000-00\")","v":"0000"}]
[]
[null,"solicito a TRANSFERÊNCIA dos valores creditados em minha conta junto a essa instituição a título de salário, aposentadoria ou similares, para a conta descrita abaixo, na mesma do crédito, sem nenhum custo e em caráter permanente:"]
[]
[null,"CONTA ORIGEM",null,null,null,null,null,null,null,null,null,null,null,null,null,null,null,null,null,null,null,null,null,null,"CONTA DESTINO"]
[]
[null,"CONTA SALÁRIO (FUNCIONÁRIO):",null,null,null,null,null,null,null,null,null,null,null,null,null,null,null,null,null,null,null,null,null,null,"BANCO:",null,null,{"$f":"INDEX(Tabela1[],A1403,20)","v":0},null,{"$f":"IFERROR(VLOOKUP(AB1413,LISTA!Q:R,2,0),\"-\")","v":"-"}]
[]
[null,"FONTE PAGADORA:",null,null,null,null,null,null,{"$f":"FONTE_PAGADORA","v":"INSIRA O NOME DA FONTE PAGADORA AQUI"},null,null,null,null,null,null,null,null,null,null,null,null,null,null,null,"AGÊNCIA:",null,null,null,{"$f":"INDEX(Tabela1[],A1403,21)","v":0},null,null,null,null,null,"TIPO DE CONTA:",null,null,null,null,null,{"$f":"INDEX(Tabela1[],A1403,19)","v":0}]
[]
[null,null,null,null,null,null,null,null,null,null,null,null,null,null,null,null,null,null,null,null,null,null,null,null,"NÚMERO:",null,null,null,{"$f":"INDEX(Tabela1[],A1403,22)","v":0}]
[]
[]
[null,"Esta solicitação está de acordo com a Resolução BACEN 3.402/2006 e 3.424/2006, e sua revogação está condicionada a minha prévia e expressa manifestação."]
[]
[null,"São Gotardo, ",null,null,null,null,{"$f":"DAY(TODAY())","v":6},null,"de",null,{"$f":"VLOOKUP(MONTH(TODAY()),LISTA!O:P,2,0)","v":"ABRIL"},null,null,null,null,"de",null,{"$f":"YEAR(TODAY())","v":2023}]
[]
[]
[]
[]
[null,"________________________________________",null,null,null,null,null,null,null,null,null,null,null,null,null,null,null,null,null,null,null,null,null,null,"________________________________________"]
[null,{"$f":"UPPER(INDEX(Tabela1[],A1403,2))","v":""},null,null,null,null,null,null,null,null,null,null,null,null,null,null,null,null,null,null,null,null,null,null,{"$f":"FONTE_PAGADORA","v":"INSIRA O NOME DA FONTE PAGADORA AQUI"}]
[null,{"$f":"\"Solicitante de Portabilidade\"","v":"Solicitante de Portabilidade"},null,null,null,null,null,null,null,null,null,null,null,null,null,null,null,null,null,null,null,null,null,null,"Responsável pelo preenchimento do Termo"]
[]
[]
[]
[]
[]
[{"$f":"A1403+1","v":45},"TERMO DE AUTORIZAÇÃO PARA TRANSFERÊNCIA DE RECURSOS\nResoluções BACEN 3.402/2006 e 3.424/2006"]
[]
[null,"À Cooperativa de Crédito Credisg LTDA - SICOOB CREDISG"]
[]
[null,"Eu, ",null,{"$f":"UPPER(INDEX(Tabela1[],A1435,2))","v":""},null,null,null,null,null,null,null,null,null,null,null,null,null,null,null,null,null,null,null,null,null,null,"portador do CPF número",null,null,null,null,null,null,null,null,null,{"$f":"TEXT(INDEX(Tabela1[],A1435,1),\"[<=9999]0000;[>=999999999999]00\\.000\\.000\\/0000-00;000\\.000\\.000-00\")","v":"0000"}]
[]
[null,"solicito a TRANSFERÊNCIA dos valores creditados em minha conta junto a essa instituição a título de salário, aposentadoria ou similares, para a conta descrita abaixo, na mesma do crédito, sem nenhum custo e em caráter permanente:"]
[]
[null,"CONTA ORIGEM",null,null,null,null,null,null,null,null,null,null,null,null,null,null,null,null,null,null,null,null,null,null,"CONTA DESTINO"]
[]
[null,"CONTA SALÁRIO (FUNCIONÁRIO):",null,null,null,null,null,null,null,null,null,null,null,null,null,null,null,null,null,null,null,null,null,null,"BANCO:",null,null,{"$f":"INDEX(Tabela1[],A1435,20)","v":0},null,{"$f":"IFERROR(VLOOKUP(AB1445,LISTA!Q:R,2,0),\"-\")","v":"-"}]
[]
[null,"FONTE PAGADORA:",null,null,null,null,null,null,{"$f":"FONTE_PAGADORA","v":"INSIRA O NOME DA FONTE PAGADORA AQUI"},null,null,null,null,null,null,null,null,null,null,null,null,null,null,null,"AGÊNCIA:",null,null,null,{"$f":"INDEX(Tabela1[],A1435,21)","v":0},null,null,null,null,null,"TIPO DE CONTA:",null,null,null,null,null,{"$f":"INDEX(Tabela1[],A1435,19)","v":0}]
[]
[null,null,null,null,null,null,null,null,null,null,null,null,null,null,null,null,null,null,null,null,null,null,null,null,"NÚMERO:",null,null,null,{"$f":"INDEX(Tabela1[],A1435,22)","v":0}]
[]
[]
[null,"Esta solicitação está de acordo com a Resolução BACEN 3.402/2006 e 3.424/2006, e sua revogação está condicionada a minha prévia e expressa manifestação."]
[]
[null,"São Gotardo, ",null,null,null,null,{"$f":"DAY(TODAY())","v":6},null,"de",null,{"$f":"VLOOKUP(MONTH(TODAY()),LISTA!O:P,2,0)","v":"ABRIL"},null,null,null,null,"de",null,{"$f":"YEAR(TODAY())","v":2023}]
[]
[]
[]
[]
[null,"________________________________________",null,null,null,null,null,null,null,null,null,null,null,null,null,null,null,null,null,null,null,null,null,null,"________________________________________"]
[null,{"$f":"UPPER(INDEX(Tabela1[],A1435,2))","v":""},null,null,null,null,null,null,null,null,null,null,null,null,null,null,null,null,null,null,null,null,null,null,{"$f":"FONTE_PAGADORA","v":"INSIRA O NOME DA FONTE PAGADORA AQUI"}]
[null,{"$f":"\"Solicitante de Portabilidade\"","v":"Solicitante de Portabilidade"},null,null,null,null,null,null,null,null,null,null,null,null,null,null,null,null,null,null,null,null,null,null,"Responsável pelo preenchimento do Termo"]
[]
[]
[]
[]
[]
[]
[{"$f":"A1435+1","v":46},"TERMO DE AUTORIZAÇÃO PARA TRANSFERÊNCIA DE RECURSOS\nResoluções BACEN 3.402/2006 e 3.424/2006"]
[]
[null,"À Cooperativa de Crédito Credisg LTDA - SICOOB CREDISG"]
[]
[null,"Eu, ",null,{"$f":"UPPER(INDEX(Tabela1[],A1468,2))","v":""},null,null,null,null,null,null,null,null,null,null,null,null,null,null,null,null,null,null,null,null,null,null,"portador do CPF número",null,null,null,null,null,null,null,null,null,{"$f":"TEXT(INDEX(Tabela1[],A1468,1),\"[<=9999]0000;[>=999999999999]00\\.000\\.000\\/0000-00;000\\.000\\.000-00\")","v":"0000"}]
[]
[null,"solicito a TRANSFERÊNCIA dos valores creditados em minha conta junto a essa instituição a título de salário, aposentadoria ou similares, para a conta descrita abaixo, na mesma do crédito, sem nenhum custo e em caráter permanente:"]
[]
[null,"CONTA ORIGEM",null,null,null,null,null,null,null,null,null,null,null,null,null,null,null,null,null,null,null,null,null,null,"CONTA DESTINO"]
[]
[null,"CONTA SALÁRIO (FUNCIONÁRIO):",null,null,null,null,null,null,null,null,null,null,null,null,null,null,null,null,null,null,null,null,null,null,"BANCO:",null,null,{"$f":"INDEX(Tabela1[],A1468,20)","v":0},null,{"$f":"IFERROR(VLOOKUP(AB1478,LISTA!Q:R,2,0),\"-\")","v":"-"}]
[]
[null,"FONTE PAGADORA:",null,null,null,null,null,null,{"$f":"FONTE_PAGADORA","v":"INSIRA O NOME DA FONTE PAGADORA AQUI"},null,null,null,null,null,null,null,null,null,null,null,null,null,null,null,"AGÊNCIA:",null,null,null,{"$f":"INDEX(Tabela1[],A1468,21)","v":0},null,null,null,null,null,"TIPO DE CONTA:",null,null,null,null,null,{"$f":"INDEX(Tabela1[],A1468,19)","v":0}]
[]
[null,null,null,null,null,null,null,null,null,null,null,null,null,null,null,null,null,null,null,null,null,null,null,null,"NÚMERO:",null,null,null,{"$f":"INDEX(Tabela1[],A1468,22)","v":0}]
[]
[]
[null,"Esta solicitação está de acordo com a Resolução BACEN 3.402/2006 e 3.424/2006, e sua revogação está condicionada a minha prévia e expressa manifestação."]
[]
[null,"São Gotardo, ",null,null,null,null,{"$f":"DAY(TODAY())","v":6},null,"de",null,{"$f":"VLOOKUP(MONTH(TODAY()),LISTA!O:P,2,0)","v":"ABRIL"},null,null,null,null,"de",null,{"$f":"YEAR(TODAY())","v":2023}]
[]
[]
[]
[]
[null,"________________________________________",null,null,null,null,null,null,null,null,null,null,null,null,null,null,null,null,null,null,null,null,null,null,"________________________________________"]
[null,{"$f":"UPPER(INDEX(Tabela1[],A1468,2))","v":""},null,null,null,null,null,null,null,null,null,null,null,null,null,null,null,null,null,null,null,null,null,null,{"$f":"FONTE_PAGADORA","v":"INSIRA O NOME DA FONTE PAGADORA AQUI"}]
[null,{"$f":"\"Solicitante de Portabilidade\"","v":"Solicitante de Portabilidade"},null,null,null,null,null,null,null,null,null,null,null,null,null,null,null,null,null,null,null,null,null,null,"Responsável pelo preenchimento do Termo"]
[]
[]
[]
[]
[]
[{"$f":"A1468+1","v":47},"TERMO DE AUTORIZAÇÃO PARA TRANSFERÊNCIA DE RECURSOS\nResoluções BACEN 3.402/2006 e 3.424/2006"]
[]
[null,"À Cooperativa de Crédito Credisg LTDA - SICOOB CREDISG"]
[]
[null,"Eu, ",null,{"$f":"UPPER(INDEX(Tabela1[],A1500,2))","v":""},null,null,null,null,null,null,null,null,null,null,null,null,null,null,null,null,null,null,null,null,null,null,"portador do CPF número",null,null,null,null,null,null,null,null,null,{"$f":"TEXT(INDEX(Tabela1[],A1500,1),\"[<=9999]0000;[>=999999999999]00\\.000\\.000\\/0000-00;000\\.000\\.000-00\")","v":"0000"}]
[]
[null,"solicito a TRANSFERÊNCIA dos valores creditados em minha conta junto a essa instituição a título de salário, aposentadoria ou similares, para a conta descrita abaixo, na mesma do crédito, sem nenhum custo e em caráter permanente:"]
[]
[null,"CONTA ORIGEM",null,null,null,null,null,null,null,null,null,null,null,null,null,null,null,null,null,null,null,null,null,null,"CONTA DESTINO"]
[]
[null,"CONTA SALÁRIO (FUNCIONÁRIO):",null,null,null,null,null,null,null,null,null,null,null,null,null,null,null,null,null,null,null,null,null,null,"BANCO:",null,null,{"$f":"INDEX(Tabela1[],A1500,20)","v":0},null,{"$f":"IFERROR(VLOOKUP(AB1510,LISTA!Q:R,2,0),\"-\")","v":"-"}]
[]
[null,"FONTE PAGADORA:",null,null,null,null,null,null,{"$f":"FONTE_PAGADORA","v":"INSIRA O NOME DA FONTE PAGADORA AQUI"},null,null,null,null,null,null,null,null,null,null,null,null,null,null,null,"AGÊNCIA:",null,null,null,{"$f":"INDEX(Tabela1[],A1500,21)","v":0},null,null,null,null,null,"TIPO DE CONTA:",null,null,null,null,null,{"$f":"INDEX(Tabela1[],A1500,19)","v":0}]
[]
[null,null,null,null,null,null,null,null,null,null,null,null,null,null,null,null,null,null,null,null,null,null,null,null,"NÚMERO:",null,null,null,{"$f":"INDEX(Tabela1[],A1500,22)","v":0}]
[]
[]
[null,"Esta solicitação está de acordo com a Resolução BACEN 3.402/2006 e 3.424/2006, e sua revogação está condicionada a minha prévia e expressa manifestação."]
[]
[null,"São Gotardo, ",null,null,null,null,{"$f":"DAY(TODAY())","v":6},null,"de",null,{"$f":"VLOOKUP(MONTH(TODAY()),LISTA!O:P,2,0)","v":"ABRIL"},null,null,null,null,"de",null,{"$f":"YEAR(TODAY())","v":2023}]
[]
[]
[]
[]
[null,"________________________________________",null,null,null,null,null,null,null,null,null,null,null,null,null,null,null,null,null,null,null,null,null,null,"________________________________________"]
[null,{"$f":"UPPER(INDEX(Tabela1[],A1500,2))","v":""},null,null,null,null,null,null,null,null,null,null,null,null,null,null,null,null,null,null,null,null,null,null,{"$f":"FONTE_PAGADORA","v":"INSIRA O NOME DA FONTE PAGADORA AQUI"}]
[null,{"$f":"\"Solicitante de Portabilidade\"","v":"Solicitante de Portabilidade"},null,null,null,null,null,null,null,null,null,null,null,null,null,null,null,null,null,null,null,null,null,null,"Responsável pelo preenchimento do Termo"]
[]
[]
[]
[]
[]
[]
[{"$f":"A1500+1","v":48},"TERMO DE AUTORIZAÇÃO PARA TRANSFERÊNCIA DE RECURSOS\nResoluções BACEN 3.402/2006 e 3.424/2006"]
[]
[null,"À Cooperativa de Crédito Credisg LTDA - SICOOB CREDISG"]
[]
[null,"Eu, ",null,{"$f":"UPPER(INDEX(Tabela1[],A1533,2))","v":""},null,null,null,null,null,null,null,null,null,null,null,null,null,null,null,null,null,null,null,null,null,null,"portador do CPF número",null,null,null,null,null,null,null,null,null,{"$f":"TEXT(INDEX(Tabela1[],A1533,1),\"[<=9999]0000;[>=999999999999]00\\.000\\.000\\/0000-00;000\\.000\\.000-00\")","v":"0000"}]
[]
[null,"solicito a TRANSFERÊNCIA dos valores creditados em minha conta junto a essa instituição a título de salário, aposentadoria ou similares, para a conta descrita abaixo, na mesma do crédito, sem nenhum custo e em caráter permanente:"]
[]
[null,"CONTA ORIGEM",null,null,null,null,null,null,null,null,null,null,null,null,null,null,null,null,null,null,null,null,null,null,"CONTA DESTINO"]
[]
[null,"CONTA SALÁRIO (FUNCIONÁRIO):",null,null,null,null,null,null,null,null,null,null,null,null,null,null,null,null,null,null,null,null,null,null,"BANCO:",null,null,{"$f":"INDEX(Tabela1[],A1533,20)","v":0},null,{"$f":"IFERROR(VLOOKUP(AB1543,LISTA!Q:R,2,0),\"-\")","v":"-"}]
[]
[null,"FONTE PAGADORA:",null,null,null,null,null,null,{"$f":"FONTE_PAGADORA","v":"INSIRA O NOME DA FONTE PAGADORA AQUI"},null,null,null,null,null,null,null,null,null,null,null,null,null,null,null,"AGÊNCIA:",null,null,null,{"$f":"INDEX(Tabela1[],A1533,21)","v":0},null,null,null,null,null,"TIPO DE CONTA:",null,null,null,null,null,{"$f":"INDEX(Tabela1[],A1533,19)","v":0}]
[]
[null,null,null,null,null,null,null,null,null,null,null,null,null,null,null,null,null,null,null,null,null,null,null,null,"NÚMERO:",null,null,null,{"$f":"INDEX(Tabela1[],A1533,22)","v":0}]
[]
[]
[null,"Esta solicitação está de acordo com a Resolução BACEN 3.402/2006 e 3.424/2006, e sua revogação está condicionada a minha prévia e expressa manifestação."]
[]
[null,"São Gotardo, ",null,null,null,null,{"$f":"DAY(TODAY())","v":6},null,"de",null,{"$f":"VLOOKUP(MONTH(TODAY()),LISTA!O:P,2,0)","v":"ABRIL"},null,null,null,null,"de",null,{"$f":"YEAR(TODAY())","v":2023}]
[]
[]
[]
[]
[null,"________________________________________",null,null,null,null,null,null,null,null,null,null,null,null,null,null,null,null,null,null,null,null,null,null,"________________________________________"]
[null,{"$f":"UPPER(INDEX(Tabela1[],A1533,2))","v":""},null,null,null,null,null,null,null,null,null,null,null,null,null,null,null,null,null,null,null,null,null,null,{"$f":"FONTE_PAGADORA","v":"INSIRA O NOME DA FONTE PAGADORA AQUI"}]
[null,{"$f":"\"Solicitante de Portabilidade\"","v":"Solicitante de Portabilidade"},null,null,null,null,null,null,null,null,null,null,null,null,null,null,null,null,null,null,null,null,null,null,"Responsável pelo preenchimento do Termo"]
[]
[]
[]
[]
[]
[{"$f":"A1533+1","v":49},"TERMO DE AUTORIZAÇÃO PARA TRANSFERÊNCIA DE RECURSOS\nResoluções BACEN 3.402/2006 e 3.424/2006"]
[]
[null,"À Cooperativa de Crédito Credisg LTDA - SICOOB CREDISG"]
[]
[null,"Eu, ",null,{"$f":"UPPER(INDEX(Tabela1[],A1565,2))","v":""},null,null,null,null,null,null,null,null,null,null,null,null,null,null,null,null,null,null,null,null,null,null,"portador do CPF número",null,null,null,null,null,null,null,null,null,{"$f":"TEXT(INDEX(Tabela1[],A1565,1),\"[<=9999]0000;[>=999999999999]00\\.000\\.000\\/0000-00;000\\.000\\.000-00\")","v":"0000"}]
[]
[null,"solicito a TRANSFERÊNCIA dos valores creditados em minha conta junto a essa instituição a título de salário, aposentadoria ou similares, para a conta descrita abaixo, na mesma do crédito, sem nenhum custo e em caráter permanente:"]
[]
[null,"CONTA ORIGEM",null,null,null,null,null,null,null,null,null,null,null,null,null,null,null,null,null,null,null,null,null,null,"CONTA DESTINO"]
[]
[null,"CONTA SALÁRIO (FUNCIONÁRIO):",null,null,null,null,null,null,null,null,null,null,null,null,null,null,null,null,null,null,null,null,null,null,"BANCO:",null,null,{"$f":"INDEX(Tabela1[],A1565,20)","v":0},null,{"$f":"IFERROR(VLOOKUP(AB1575,LISTA!Q:R,2,0),\"-\")","v":"-"}]
[]
[null,"FONTE PAGADORA:",null,null,null,null,null,null,{"$f":"FONTE_PAGADORA","v":"INSIRA O NOME DA FONTE PAGADORA AQUI"},null,null,null,null,null,null,null,null,null,null,null,null,null,null,null,"AGÊNCIA:",null,null,null,{"$f":"INDEX(Tabela1[],A1565,21)","v":0},null,null,null,null,null,"TIPO DE CONTA:",null,null,null,null,null,{"$f":"INDEX(Tabela1[],A1565,19)","v":0}]
[]
[null,null,null,null,null,null,null,null,null,null,null,null,null,null,null,null,null,null,null,null,null,null,null,null,"NÚMERO:",null,null,null,{"$f":"INDEX(Tabela1[],A1565,22)","v":0}]
[]
[]
[null,"Esta solicitação está de acordo com a Resolução BACEN 3.402/2006 e 3.424/2006, e sua revogação está condicionada a minha prévia e expressa manifestação."]
[]
[null,"São Gotardo, ",null,null,null,null,{"$f":"DAY(TODAY())","v":6},null,"de",null,{"$f":"VLOOKUP(MONTH(TODAY()),LISTA!O:P,2,0)","v":"ABRIL"},null,null,null,null,"de",null,{"$f":"YEAR(TODAY())","v":2023}]
[]
[]
[]
[]
[null,"________________________________________",null,null,null,null,null,null,null,null,null,null,null,null,null,null,null,null,null,null,null,null,null,null,"________________________________________"]
[null,{"$f":"UPPER(INDEX(Tabela1[],A1565,2))","v":""},null,null,null,null,null,null,null,null,null,null,null,null,null,null,null,null,null,null,null,null,null,null,{"$f":"FONTE_PAGADORA","v":"INSIRA O NOME DA FONTE PAGADORA AQUI"}]
[null,{"$f":"\"Solicitante de Portabilidade\"","v":"Solicitante de Portabilidade"},null,null,null,null,null,null,null,null,null,null,null,null,null,null,null,null,null,null,null,null,null,null,"Responsável pelo preenchimento do Termo"]
[]
[]
[]
[]
[]
[]
[{"$f":"A1565+1","v":50},"TERMO DE AUTORIZAÇÃO PARA TRANSFERÊNCIA DE RECURSOS\nResoluções BACEN 3.402/2006 e 3.424/2006"]
[]
[null,"À Cooperativa de Crédito Credisg LTDA - SICOOB CREDISG"]
[]
[null,"Eu, ",null,{"$f":"UPPER(INDEX(Tabela1[],A1598,2))","v":""},null,null,null,null,null,null,null,null,null,null,null,null,null,null,null,null,null,null,null,null,null,null,"portador do CPF número",null,null,null,null,null,null,null,null,null,{"$f":"TEXT(INDEX(Tabela1[],A1598,1),\"[<=9999]0000;[>=999999999999]00\\.000\\.000\\/0000-00;000\\.000\\.000-00\")","v":"0000"}]
[]
[null,"solicito a TRANSFERÊNCIA dos valores creditados em minha conta junto a essa instituição a título de salário, aposentadoria ou similares, para a conta descrita abaixo, na mesma do crédito, sem nenhum custo e em caráter permanente:"]
[]
[null,"CONTA ORIGEM",null,null,null,null,null,null,null,null,null,null,null,null,null,null,null,null,null,null,null,null,null,null,"CONTA DESTINO"]
[]
[null,"CONTA SALÁRIO (FUNCIONÁRIO):",null,null,null,null,null,null,null,null,null,null,null,null,null,null,null,null,null,null,null,null,null,null,"BANCO:",null,null,{"$f":"INDEX(Tabela1[],A1598,20)","v":0},null,{"$f":"IFERROR(VLOOKUP(AB1608,LISTA!Q:R,2,0),\"-\")","v":"-"}]
[]
[null,"FONTE PAGADORA:",null,null,null,null,null,null,{"$f":"FONTE_PAGADORA","v":"INSIRA O NOME DA FONTE PAGADORA AQUI"},null,null,null,null,null,null,null,null,null,null,null,null,null,null,null,"AGÊNCIA:",null,null,null,{"$f":"INDEX(Tabela1[],A1598,21)","v":0},null,null,null,null,null,"TIPO DE CONTA:",null,null,null,null,null,{"$f":"INDEX(Tabela1[],A1598,19)","v":0}]
[]
[null,null,null,null,null,null,null,null,null,null,null,null,null,null,null,null,null,null,null,null,null,null,null,null,"NÚMERO:",null,null,null,{"$f":"INDEX(Tabela1[],A1598,22)","v":0}]
[]
[]
[null,"Esta solicitação está de acordo com a Resolução BACEN 3.402/2006 e 3.424/2006, e sua revogação está condicionada a minha prévia e expressa manifestação."]
[]
[null,"São Gotardo, ",null,null,null,null,{"$f":"DAY(TODAY())","v":6},null,"de",null,{"$f":"VLOOKUP(MONTH(TODAY()),LISTA!O:P,2,0)","v":"ABRIL"},null,null,null,null,"de",null,{"$f":"YEAR(TODAY())","v":2023}]
[]
[]
[]
[]
[null,"________________________________________",null,null,null,null,null,null,null,null,null,null,null,null,null,null,null,null,null,null,null,null,null,null,"________________________________________"]
[null,{"$f":"UPPER(INDEX(Tabela1[],A1598,2))","v":""},null,null,null,null,null,null,null,null,null,null,null,null,null,null,null,null,null,null,null,null,null,null,{"$f":"FONTE_PAGADORA","v":"INSIRA O NOME DA FONTE PAGADORA AQUI"}]
[null,{"$f":"\"Solicitante de Portabilidade\"","v":"Solicitante de Portabilidade"},null,null,null,null,null,null,null,null,null,null,null,null,null,null,null,null,null,null,null,null,null,null,"Responsável pelo preenchimento do Termo"]
[]
[]
[]
[]
[]
[{"$f":"A1598+1","v":51},"TERMO DE AUTORIZAÇÃO PARA TRANSFERÊNCIA DE RECURSOS\nResoluções BACEN 3.402/2006 e 3.424/2006"]
[]
[null,"À Cooperativa de Crédito Credisg LTDA - SICOOB CREDISG"]
[]
[null,"Eu, ",null,{"$f":"UPPER(INDEX(Tabela1[],A1630,2))","v":""},null,null,null,null,null,null,null,null,null,null,null,null,null,null,null,null,null,null,null,null,null,null,"portador do CPF número",null,null,null,null,null,null,null,null,null,{"$f":"TEXT(INDEX(Tabela1[],A1630,1),\"[<=9999]0000;[>=999999999999]00\\.000\\.000\\/0000-00;000\\.000\\.000-00\")","v":"0000"}]
[]
[null,"solicito a TRANSFERÊNCIA dos valores creditados em minha conta junto a essa instituição a título de salário, aposentadoria ou similares, para a conta descrita abaixo, na mesma do crédito, sem nenhum custo e em caráter permanente:"]
[]
[null,"CONTA ORIGEM",null,null,null,null,null,null,null,null,null,null,null,null,null,null,null,null,null,null,null,null,null,null,"CONTA DESTINO"]
[]
[null,"CONTA SALÁRIO (FUNCIONÁRIO):",null,null,null,null,null,null,null,null,null,null,null,null,null,null,null,null,null,null,null,null,null,null,"BANCO:",null,null,{"$f":"INDEX(Tabela1[],A1630,20)","v":0},null,{"$f":"IFERROR(VLOOKUP(AB1640,LISTA!Q:R,2,0),\"-\")","v":"-"}]
[]
[null,"FONTE PAGADORA:",null,null,null,null,null,null,{"$f":"FONTE_PAGADORA","v":"INSIRA O NOME DA FONTE PAGADORA AQUI"},null,null,null,null,null,null,null,null,null,null,null,null,null,null,null,"AGÊNCIA:",null,null,null,{"$f":"INDEX(Tabela1[],A1630,21)","v":0},null,null,null,null,null,"TIPO DE CONTA:",null,null,null,null,null,{"$f":"INDEX(Tabela1[],A1630,19)","v":0}]
[]
[null,null,null,null,null,null,null,null,null,null,null,null,null,null,null,null,null,null,null,null,null,null,null,null,"NÚMERO:",null,null,null,{"$f":"INDEX(Tabela1[],A1630,22)","v":0}]
[]
[]
[null,"Esta solicitação está de acordo com a Resolução BACEN 3.402/2006 e 3.424/2006, e sua revogação está condicionada a minha prévia e expressa manifestação."]
[]
[null,"São Gotardo, ",null,null,null,null,{"$f":"DAY(TODAY())","v":6},null,"de",null,{"$f":"VLOOKUP(MONTH(TODAY()),LISTA!O:P,2,0)","v":"ABRIL"},null,null,null,null,"de",null,{"$f":"YEAR(TODAY())","v":2023}]
[]
[]
[]
[]
[null,"________________________________________",null,null,null,null,null,null,null,null,null,null,null,null,null,null,null,null,null,null,null,null,null,null,"________________________________________"]
[null,{"$f":"UPPER(INDEX(Tabela1[],A1630,2))","v":""},null,null,null,null,null,null,null,null,null,null,null,null,null,null,null,null,null,null,null,null,null,null,{"$f":"FONTE_PAGADORA","v":"INSIRA O NOME DA FONTE PAGADORA AQUI"}]
[null,{"$f":"\"Solicitante de Portabilidade\"","v":"Solicitante de Portabilidade"},null,null,null,null,null,null,null,null,null,null,null,null,null,null,null,null,null,null,null,null,null,null,"Responsável pelo preenchimento do Termo"]
[]
[]
[]
[]
[]
[]
[{"$f":"A1630+1","v":52},"TERMO DE AUTORIZAÇÃO PARA TRANSFERÊNCIA DE RECURSOS\nResoluções BACEN 3.402/2006 e 3.424/2006"]
[]
[null,"À Cooperativa de Crédito Credisg LTDA - SICOOB CREDISG"]
[]
[null,"Eu, ",null,{"$f":"UPPER(INDEX(Tabela1[],A1663,2))","v":""},null,null,null,null,null,null,null,null,null,null,null,null,null,null,null,null,null,null,null,null,null,null,"portador do CPF número",null,null,null,null,null,null,null,null,null,{"$f":"TEXT(INDEX(Tabela1[],A1663,1),\"[<=9999]0000;[>=999999999999]00\\.000\\.000\\/0000-00;000\\.000\\.000-00\")","v":"0000"}]
[]
[null,"solicito a TRANSFERÊNCIA dos valores creditados em minha conta junto a essa instituição a título de salário, aposentadoria ou similares, para a conta descrita abaixo, na mesma do crédito, sem nenhum custo e em caráter permanente:"]
[]
[null,"CONTA ORIGEM",null,null,null,null,null,null,null,null,null,null,null,null,null,null,null,null,null,null,null,null,null,null,"CONTA DESTINO"]
[]
[null,"CONTA SALÁRIO (FUNCIONÁRIO):",null,null,null,null,null,null,null,null,null,null,null,null,null,null,null,null,null,null,null,null,null,null,"BANCO:",null,null,{"$f":"INDEX(Tabela1[],A1663,20)","v":0},null,{"$f":"IFERROR(VLOOKUP(AB1673,LISTA!Q:R,2,0),\"-\")","v":"-"}]
[]
[null,"FONTE PAGADORA:",null,null,null,null,null,null,{"$f":"FONTE_PAGADORA","v":"INSIRA O NOME DA FONTE PAGADORA AQUI"},null,null,null,null,null,null,null,null,null,null,null,null,null,null,null,"AGÊNCIA:",null,null,null,{"$f":"INDEX(Tabela1[],A1663,21)","v":0},null,null,null,null,null,"TIPO DE CONTA:",null,null,null,null,null,{"$f":"INDEX(Tabela1[],A1663,19)","v":0}]
[]
[null,null,null,null,null,null,null,null,null,null,null,null,null,null,null,null,null,null,null,null,null,null,null,null,"NÚMERO:",null,null,null,{"$f":"INDEX(Tabela1[],A1663,22)","v":0}]
[]
[]
[null,"Esta solicitação está de acordo com a Resolução BACEN 3.402/2006 e 3.424/2006, e sua revogação está condicionada a minha prévia e expressa manifestação."]
[]
[null,"São Gotardo, ",null,null,null,null,{"$f":"DAY(TODAY())","v":6},null,"de",null,{"$f":"VLOOKUP(MONTH(TODAY()),LISTA!O:P,2,0)","v":"ABRIL"},null,null,null,null,"de",null,{"$f":"YEAR(TODAY())","v":2023}]
[]
[]
[]
[]
[null,"________________________________________",null,null,null,null,null,null,null,null,null,null,null,null,null,null,null,null,null,null,null,null,null,null,"________________________________________"]
[null,{"$f":"UPPER(INDEX(Tabela1[],A1663,2))","v":""},null,null,null,null,null,null,null,null,null,null,null,null,null,null,null,null,null,null,null,null,null,null,{"$f":"FONTE_PAGADORA","v":"INSIRA O NOME DA FONTE PAGADORA AQUI"}]
[null,{"$f":"\"Solicitante de Portabilidade\"","v":"Solicitante de Portabilidade"},null,null,null,null,null,null,null,null,null,null,null,null,null,null,null,null,null,null,null,null,null,null,"Responsável pelo preenchimento do Termo"]
[]
[]
[]
[]
[]
[{"$f":"A1663+1","v":53},"TERMO DE AUTORIZAÇÃO PARA TRANSFERÊNCIA DE RECURSOS\nResoluções BACEN 3.402/2006 e 3.424/2006"]
[]
[null,"À Cooperativa de Crédito Credisg LTDA - SICOOB CREDISG"]
[]
[null,"Eu, ",null,{"$f":"UPPER(INDEX(Tabela1[],A1695,2))","v":""},null,null,null,null,null,null,null,null,null,null,null,null,null,null,null,null,null,null,null,null,null,null,"portador do CPF número",null,null,null,null,null,null,null,null,null,{"$f":"TEXT(INDEX(Tabela1[],A1695,1),\"[<=9999]0000;[>=999999999999]00\\.000\\.000\\/0000-00;000\\.000\\.000-00\")","v":"0000"}]
[]
[null,"solicito a TRANSFERÊNCIA dos valores creditados em minha conta junto a essa instituição a título de salário, aposentadoria ou similares, para a conta descrita abaixo, na mesma do crédito, sem nenhum custo e em caráter permanente:"]
[]
[null,"CONTA ORIGEM",null,null,null,null,null,null,null,null,null,null,null,null,null,null,null,null,null,null,null,null,null,null,"CONTA DESTINO"]
[]
[null,"CONTA SALÁRIO (FUNCIONÁRIO):",null,null,null,null,null,null,null,null,null,null,null,null,null,null,null,null,null,null,null,null,null,null,"BANCO:",null,null,{"$f":"INDEX(Tabela1[],A1695,20)","v":0},null,{"$f":"IFERROR(VLOOKUP(AB1705,LISTA!Q:R,2,0),\"-\")","v":"-"}]
[]
[null,"FONTE PAGADORA:",null,null,null,null,null,null,{"$f":"FONTE_PAGADORA","v":"INSIRA O NOME DA FONTE PAGADORA AQUI"},null,null,null,null,null,null,null,null,null,null,null,null,null,null,null,"AGÊNCIA:",null,null,null,{"$f":"INDEX(Tabela1[],A1695,21)","v":0},null,null,null,null,null,"TIPO DE CONTA:",null,null,null,null,null,{"$f":"INDEX(Tabela1[],A1695,19)","v":0}]
[]
[null,null,null,null,null,null,null,null,null,null,null,null,null,null,null,null,null,null,null,null,null,null,null,null,"NÚMERO:",null,null,null,{"$f":"INDEX(Tabela1[],A1695,22)","v":0}]
[]
[]
[null,"Esta solicitação está de acordo com a Resolução BACEN 3.402/2006 e 3.424/2006, e sua revogação está condicionada a minha prévia e expressa manifestação."]
[]
[null,"São Gotardo, ",null,null,null,null,{"$f":"DAY(TODAY())","v":6},null,"de",null,{"$f":"VLOOKUP(MONTH(TODAY()),LISTA!O:P,2,0)","v":"ABRIL"},null,null,null,null,"de",null,{"$f":"YEAR(TODAY())","v":2023}]
[]
[]
[]
[]
[null,"________________________________________",null,null,null,null,null,null,null,null,null,null,null,null,null,null,null,null,null,null,null,null,null,null,"________________________________________"]
[null,{"$f":"UPPER(INDEX(Tabela1[],A1695,2))","v":""},null,null,null,null,null,null,null,null,null,null,null,null,null,null,null,null,null,null,null,null,null,null,{"$f":"FONTE_PAGADORA","v":"INSIRA O NOME DA FONTE PAGADORA AQUI"}]
[null,{"$f":"\"Solicitante de Portabilidade\"","v":"Solicitante de Portabilidade"},null,null,null,null,null,null,null,null,null,null,null,null,null,null,null,null,null,null,null,null,null,null,"Responsável pelo preenchimento do Termo"]
[]
[]
[]
[]
[]
[]
[{"$f":"A1695+1","v":54},"TERMO DE AUTORIZAÇÃO PARA TRANSFERÊNCIA DE RECURSOS\nResoluções BACEN 3.402/2006 e 3.424/2006"]
[]
[null,"À Cooperativa de Crédito Credisg LTDA - SICOOB CREDISG"]
[]
[null,"Eu, ",null,{"$f":"UPPER(INDEX(Tabela1[],A1728,2))","v":""},null,null,null,null,null,null,null,null,null,null,null,null,null,null,null,null,null,null,null,null,null,null,"portador do CPF número",null,null,null,null,null,null,null,null,null,{"$f":"TEXT(INDEX(Tabela1[],A1728,1),\"[<=9999]0000;[>=999999999999]00\\.000\\.000\\/0000-00;000\\.000\\.000-00\")","v":"0000"}]
[]
[null,"solicito a TRANSFERÊNCIA dos valores creditados em minha conta junto a essa instituição a título de salário, aposentadoria ou similares, para a conta descrita abaixo, na mesma do crédito, sem nenhum custo e em caráter permanente:"]
[]
[null,"CONTA ORIGEM",null,null,null,null,null,null,null,null,null,null,null,null,null,null,null,null,null,null,null,null,null,null,"CONTA DESTINO"]
[]
[null,"CONTA SALÁRIO (FUNCIONÁRIO):",null,null,null,null,null,null,null,null,null,null,null,null,null,null,null,null,null,null,null,null,null,null,"BANCO:",null,null,{"$f":"INDEX(Tabela1[],A1728,20)","v":0},null,{"$f":"IFERROR(VLOOKUP(AB1738,LISTA!Q:R,2,0),\"-\")","v":"-"}]
[]
[null,"FONTE PAGADORA:",null,null,null,null,null,null,{"$f":"FONTE_PAGADORA","v":"INSIRA O NOME DA FONTE PAGADORA AQUI"},null,null,null,null,null,null,null,null,null,null,null,null,null,null,null,"AGÊNCIA:",null,null,null,{"$f":"INDEX(Tabela1[],A1728,21)","v":0},null,null,null,null,null,"TIPO DE CONTA:",null,null,null,null,null,{"$f":"INDEX(Tabela1[],A1728,19)","v":0}]
[]
[null,null,null,null,null,null,null,null,null,null,null,null,null,null,null,null,null,null,null,null,null,null,null,null,"NÚMERO:",null,null,null,{"$f":"INDEX(Tabela1[],A1728,22)","v":0}]
[]
[]
[null,"Esta solicitação está de acordo com a Resolução BACEN 3.402/2006 e 3.424/2006, e sua revogação está condicionada a minha prévia e expressa manifestação."]
[]
[null,"São Gotardo, ",null,null,null,null,{"$f":"DAY(TODAY())","v":6},null,"de",null,{"$f":"VLOOKUP(MONTH(TODAY()),LISTA!O:P,2,0)","v":"ABRIL"},null,null,null,null,"de",null,{"$f":"YEAR(TODAY())","v":2023}]
[]
[]
[]
[]
[null,"________________________________________",null,null,null,null,null,null,null,null,null,null,null,null,null,null,null,null,null,null,null,null,null,null,"________________________________________"]
[null,{"$f":"UPPER(INDEX(Tabela1[],A1728,2))","v":""},null,null,null,null,null,null,null,null,null,null,null,null,null,null,null,null,null,null,null,null,null,null,{"$f":"FONTE_PAGADORA","v":"INSIRA O NOME DA FONTE PAGADORA AQUI"}]
[null,{"$f":"\"Solicitante de Portabilidade\"","v":"Solicitante de Portabilidade"},null,null,null,null,null,null,null,null,null,null,null,null,null,null,null,null,null,null,null,null,null,null,"Responsável pelo preenchimento do Termo"]
[]
[]
[]
[]
[]
[{"$f":"A1728+1","v":55},"TERMO DE AUTORIZAÇÃO PARA TRANSFERÊNCIA DE RECURSOS\nResoluções BACEN 3.402/2006 e 3.424/2006"]
[]
[null,"À Cooperativa de Crédito Credisg LTDA - SICOOB CREDISG"]
[]
[null,"Eu, ",null,{"$f":"UPPER(INDEX(Tabela1[],A1760,2))","v":""},null,null,null,null,null,null,null,null,null,null,null,null,null,null,null,null,null,null,null,null,null,null,"portador do CPF número",null,null,null,null,null,null,null,null,null,{"$f":"TEXT(INDEX(Tabela1[],A1760,1),\"[<=9999]0000;[>=999999999999]00\\.000\\.000\\/0000-00;000\\.000\\.000-00\")","v":"0000"}]
[]
[null,"solicito a TRANSFERÊNCIA dos valores creditados em minha conta junto a essa instituição a título de salário, aposentadoria ou similares, para a conta descrita abaixo, na mesma do crédito, sem nenhum custo e em caráter permanente:"]
[]
[null,"CONTA ORIGEM",null,null,null,null,null,null,null,null,null,null,null,null,null,null,null,null,null,null,null,null,null,null,"CONTA DESTINO"]
[]
[null,"CONTA SALÁRIO (FUNCIONÁRIO):",null,null,null,null,null,null,null,null,null,null,null,null,null,null,null,null,null,null,null,null,null,null,"BANCO:",null,null,{"$f":"INDEX(Tabela1[],A1760,20)","v":0},null,{"$f":"IFERROR(VLOOKUP(AB1770,LISTA!Q:R,2,0),\"-\")","v":"-"}]
[]
[null,"FONTE PAGADORA:",null,null,null,null,null,null,{"$f":"FONTE_PAGADORA","v":"INSIRA O NOME DA FONTE PAGADORA AQUI"},null,null,null,null,null,null,null,null,null,null,null,null,null,null,null,"AGÊNCIA:",null,null,null,{"$f":"INDEX(Tabela1[],A1760,21)","v":0},null,null,null,null,null,"TIPO DE CONTA:",null,null,null,null,null,{"$f":"INDEX(Tabela1[],A1760,19)","v":0}]
[]
[null,null,null,null,null,null,null,null,null,null,null,null,null,null,null,null,null,null,null,null,null,null,null,null,"NÚMERO:",null,null,null,{"$f":"INDEX(Tabela1[],A1760,22)","v":0}]
[]
[]
[null,"Esta solicitação está de acordo com a Resolução BACEN 3.402/2006 e 3.424/2006, e sua revogação está condicionada a minha prévia e expressa manifestação."]
[]
[null,"São Gotardo, ",null,null,null,null,{"$f":"DAY(TODAY())","v":6},null,"de",null,{"$f":"VLOOKUP(MONTH(TODAY()),LISTA!O:P,2,0)","v":"ABRIL"},null,null,null,null,"de",null,{"$f":"YEAR(TODAY())","v":2023}]
[]
[]
[]
[]
[null,"________________________________________",null,null,null,null,null,null,null,null,null,null,null,null,null,null,null,null,null,null,null,null,null,null,"________________________________________"]
[null,{"$f":"UPPER(INDEX(Tabela1[],A1760,2))","v":""},null,null,null,null,null,null,null,null,null,null,null,null,null,null,null,null,null,null,null,null,null,null,{"$f":"FONTE_PAGADORA","v":"INSIRA O NOME DA FONTE PAGADORA AQUI"}]
[null,{"$f":"\"Solicitante de Portabilidade\"","v":"Solicitante de Portabilidade"},null,null,null,null,null,null,null,null,null,null,null,null,null,null,null,null,null,null,null,null,null,null,"Responsável pelo preenchimento do Termo"]
[]
[]
[]
[]
[]
[]
[{"$f":"A1760+1","v":56},"TERMO DE AUTORIZAÇÃO PARA TRANSFERÊNCIA DE RECURSOS\nResoluções BACEN 3.402/2006 e 3.424/2006"]
[]
[null,"À Cooperativa de Crédito Credisg LTDA - SICOOB CREDISG"]
[]
[null,"Eu, ",null,{"$f":"UPPER(INDEX(Tabela1[],A1793,2))","v":""},null,null,null,null,null,null,null,null,null,null,null,null,null,null,null,null,null,null,null,null,null,null,"portador do CPF número",null,null,null,null,null,null,null,null,null,{"$f":"TEXT(INDEX(Tabela1[],A1793,1),\"[<=9999]0000;[>=999999999999]00\\.000\\.000\\/0000-00;000\\.000\\.000-00\")","v":"0000"}]
[]
[null,"solicito a TRANSFERÊNCIA dos valores creditados em minha conta junto a essa instituição a título de salário, aposentadoria ou similares, para a conta descrita abaixo, na mesma do crédito, sem nenhum custo e em caráter permanente:"]
[]
[null,"CONTA ORIGEM",null,null,null,null,null,null,null,null,null,null,null,null,null,null,null,null,null,null,null,null,null,null,"CONTA DESTINO"]
[]
[null,"CONTA SALÁRIO (FUNCIONÁRIO):",null,null,null,null,null,null,null,null,null,null,null,null,null,null,null,null,null,null,null,null,null,null,"BANCO:",null,null,{"$f":"INDEX(Tabela1[],A1793,20)","v":0},null,{"$f":"IFERROR(VLOOKUP(AB1803,LISTA!Q:R,2,0),\"-\")","v":"-"}]
[]
[null,"FONTE PAGADORA:",null,null,null,null,null,null,{"$f":"FONTE_PAGADORA","v":"INSIRA O NOME DA FONTE PAGADORA AQUI"},null,null,null,null,null,null,null,null,null,null,null,null,null,null,null,"AGÊNCIA:",null,null,null,{"$f":"INDEX(Tabela1[],A1793,21)","v":0},null,null,null,null,null,"TIPO DE CONTA:",null,null,null,null,null,{"$f":"INDEX(Tabela1[],A1793,19)","v":0}]
[]
[null,null,null,null,null,null,null,null,null,null,null,null,null,null,null,null,null,null,null,null,null,null,null,null,"NÚMERO:",null,null,null,{"$f":"INDEX(Tabela1[],A1793,22)","v":0}]
[]
[]
[null,"Esta solicitação está de acordo com a Resolução BACEN 3.402/2006 e 3.424/2006, e sua revogação está condicionada a minha prévia e expressa manifestação."]
[]
[null,"São Gotardo, ",null,null,null,null,{"$f":"DAY(TODAY())","v":6},null,"de",null,{"$f":"VLOOKUP(MONTH(TODAY()),LISTA!O:P,2,0)","v":"ABRIL"},null,null,null,null,"de",null,{"$f":"YEAR(TODAY())","v":2023}]
[]
[]
[]
[]
[null,"________________________________________",null,null,null,null,null,null,null,null,null,null,null,null,null,null,null,null,null,null,null,null,null,null,"________________________________________"]
[null,{"$f":"UPPER(INDEX(Tabela1[],A1793,2))","v":""},null,null,null,null,null,null,null,null,null,null,null,null,null,null,null,null,null,null,null,null,null,null,{"$f":"FONTE_PAGADORA","v":"INSIRA O NOME DA FONTE PAGADORA AQUI"}]
[null,{"$f":"\"Solicitante de Portabilidade\"","v":"Solicitante de Portabilidade"},null,null,null,null,null,null,null,null,null,null,null,null,null,null,null,null,null,null,null,null,null,null,"Responsável pelo preenchimento do Termo"]
[]
[]
[]
[]
[]
[{"$f":"A1793+1","v":57},"TERMO DE AUTORIZAÇÃO PARA TRANSFERÊNCIA DE RECURSOS\nResoluções BACEN 3.402/2006 e 3.424/2006"]
[]
[null,"À Cooperativa de Crédito Credisg LTDA - SICOOB CREDISG"]
[]
[null,"Eu, ",null,{"$f":"UPPER(INDEX(Tabela1[],A1825,2))","v":""},null,null,null,null,null,null,null,null,null,null,null,null,null,null,null,null,null,null,null,null,null,null,"portador do CPF número",null,null,null,null,null,null,null,null,null,{"$f":"TEXT(INDEX(Tabela1[],A1825,1),\"[<=9999]0000;[>=999999999999]00\\.000\\.000\\/0000-00;000\\.000\\.000-00\")","v":"0000"}]
[]
[null,"solicito a TRANSFERÊNCIA dos valores creditados em minha conta junto a essa instituição a título de salário, aposentadoria ou similares, para a conta descrita abaixo, na mesma do crédito, sem nenhum custo e em caráter permanente:"]
[]
[null,"CONTA ORIGEM",null,null,null,null,null,null,null,null,null,null,null,null,null,null,null,null,null,null,null,null,null,null,"CONTA DESTINO"]
[]
[null,"CONTA SALÁRIO (FUNCIONÁRIO):",null,null,null,null,null,null,null,null,null,null,null,null,null,null,null,null,null,null,null,null,null,null,"BANCO:",null,null,{"$f":"INDEX(Tabela1[],A1825,20)","v":0},null,{"$f":"IFERROR(VLOOKUP(AB1835,LISTA!Q:R,2,0),\"-\")","v":"-"}]
[]
[null,"FONTE PAGADORA:",null,null,null,null,null,null,{"$f":"FONTE_PAGADORA","v":"INSIRA O NOME DA FONTE PAGADORA AQUI"},null,null,null,null,null,null,null,null,null,null,null,null,null,null,null,"AGÊNCIA:",null,null,null,{"$f":"INDEX(Tabela1[],A1825,21)","v":0},null,null,null,null,null,"TIPO DE CONTA:",null,null,null,null,null,{"$f":"INDEX(Tabela1[],A1825,19)","v":0}]
[]
[null,null,null,null,null,null,null,null,null,null,null,null,null,null,null,null,null,null,null,null,null,null,null,null,"NÚMERO:",null,null,null,{"$f":"INDEX(Tabela1[],A1825,22)","v":0}]
[]
[]
[null,"Esta solicitação está de acordo com a Resolução BACEN 3.402/2006 e 3.424/2006, e sua revogação está condicionada a minha prévia e expressa manifestação."]
[]
[null,"São Gotardo, ",null,null,null,null,{"$f":"DAY(TODAY())","v":6},null,"de",null,{"$f":"VLOOKUP(MONTH(TODAY()),LISTA!O:P,2,0)","v":"ABRIL"},null,null,null,null,"de",null,{"$f":"YEAR(TODAY())","v":2023}]
[]
[]
[]
[]
[null,"________________________________________",null,null,null,null,null,null,null,null,null,null,null,null,null,null,null,null,null,null,null,null,null,null,"________________________________________"]
[null,{"$f":"UPPER(INDEX(Tabela1[],A1825,2))","v":""},null,null,null,null,null,null,null,null,null,null,null,null,null,null,null,null,null,null,null,null,null,null,{"$f":"FONTE_PAGADORA","v":"INSIRA O NOME DA FONTE PAGADORA AQUI"}]
[null,{"$f":"\"Solicitante de Portabilidade\"","v":"Solicitante de Portabilidade"},null,null,null,null,null,null,null,null,null,null,null,null,null,null,null,null,null,null,null,null,null,null,"Responsável pelo preenchimento do Termo"]
[]
[]
[]
[]
[]
[]
[{"$f":"A1825+1","v":58},"TERMO DE AUTORIZAÇÃO PARA TRANSFERÊNCIA DE RECURSOS\nResoluções BACEN 3.402/2006 e 3.424/2006"]
[]
[null,"À Cooperativa de Crédito Credisg LTDA - SICOOB CREDISG"]
[]
[null,"Eu, ",null,{"$f":"UPPER(INDEX(Tabela1[],A1858,2))","v":""},null,null,null,null,null,null,null,null,null,null,null,null,null,null,null,null,null,null,null,null,null,null,"portador do CPF número",null,null,null,null,null,null,null,null,null,{"$f":"TEXT(INDEX(Tabela1[],A1858,1),\"[<=9999]0000;[>=999999999999]00\\.000\\.000\\/0000-00;000\\.000\\.000-00\")","v":"0000"}]
[]
[null,"solicito a TRANSFERÊNCIA dos valores creditados em minha conta junto a essa instituição a título de salário, aposentadoria ou similares, para a conta descrita abaixo, na mesma do crédito, sem nenhum custo e em caráter permanente:"]
[]
[null,"CONTA ORIGEM",null,null,null,null,null,null,null,null,null,null,null,null,null,null,null,null,null,null,null,null,null,null,"CONTA DESTINO"]
[]
[null,"CONTA SALÁRIO (FUNCIONÁRIO):",null,null,null,null,null,null,null,null,null,null,null,null,null,null,null,null,null,null,null,null,null,null,"BANCO:",null,null,{"$f":"INDEX(Tabela1[],A1858,20)","v":0},null,{"$f":"IFERROR(VLOOKUP(AB1868,LISTA!Q:R,2,0),\"-\")","v":"-"}]
[]
[null,"FONTE PAGADORA:",null,null,null,null,null,null,{"$f":"FONTE_PAGADORA","v":"INSIRA O NOME DA FONTE PAGADORA AQUI"},null,null,null,null,null,null,null,null,null,null,null,null,null,null,null,"AGÊNCIA:",null,null,null,{"$f":"INDEX(Tabela1[],A1858,21)","v":0},null,null,null,null,null,"TIPO DE CONTA:",null,null,null,null,null,{"$f":"INDEX(Tabela1[],A1858,19)","v":0}]
[]
[null,null,null,null,null,null,null,null,null,null,null,null,null,null,null,null,null,null,null,null,null,null,null,null,"NÚMERO:",null,null,null,{"$f":"INDEX(Tabela1[],A1858,22)","v":0}]
[]
[]
[null,"Esta solicitação está de acordo com a Resolução BACEN 3.402/2006 e 3.424/2006, e sua revogação está condicionada a minha prévia e expressa manifestação."]
[]
[null,"São Gotardo, ",null,null,null,null,{"$f":"DAY(TODAY())","v":6},null,"de",null,{"$f":"VLOOKUP(MONTH(TODAY()),LISTA!O:P,2,0)","v":"ABRIL"},null,null,null,null,"de",null,{"$f":"YEAR(TODAY())","v":2023}]
[]
[]
[]
[]
[null,"________________________________________",null,null,null,null,null,null,null,null,null,null,null,null,null,null,null,null,null,null,null,null,null,null,"________________________________________"]
[null,{"$f":"UPPER(INDEX(Tabela1[],A1858,2))","v":""},null,null,null,null,null,null,null,null,null,null,null,null,null,null,null,null,null,null,null,null,null,null,{"$f":"FONTE_PAGADORA","v":"INSIRA O NOME DA FONTE PAGADORA AQUI"}]
[null,{"$f":"\"Solicitante de Portabilidade\"","v":"Solicitante de Portabilidade"},null,null,null,null,null,null,null,null,null,null,null,null,null,null,null,null,null,null,null,null,null,null,"Responsável pelo preenchimento do Termo"]
[]
[]
[]
[]
[]
[{"$f":"A1858+1","v":59},"TERMO DE AUTORIZAÇÃO PARA TRANSFERÊNCIA DE RECURSOS\nResoluções BACEN 3.402/2006 e 3.424/2006"]
[]
[null,"À Cooperativa de Crédito Credisg LTDA - SICOOB CREDISG"]
[]
[null,"Eu, ",null,{"$f":"UPPER(INDEX(Tabela1[],A1890,2))","v":""},null,null,null,null,null,null,null,null,null,null,null,null,null,null,null,null,null,null,null,null,null,null,"portador do CPF número",null,null,null,null,null,null,null,null,null,{"$f":"TEXT(INDEX(Tabela1[],A1890,1),\"[<=9999]0000;[>=999999999999]00\\.000\\.000\\/0000-00;000\\.000\\.000-00\")","v":"0000"}]
[]
[null,"solicito a TRANSFERÊNCIA dos valores creditados em minha conta junto a essa instituição a título de salário, aposentadoria ou similares, para a conta descrita abaixo, na mesma do crédito, sem nenhum custo e em caráter permanente:"]
[]
[null,"CONTA ORIGEM",null,null,null,null,null,null,null,null,null,null,null,null,null,null,null,null,null,null,null,null,null,null,"CONTA DESTINO"]
[]
[null,"CONTA SALÁRIO (FUNCIONÁRIO):",null,null,null,null,null,null,null,null,null,null,null,null,null,null,null,null,null,null,null,null,null,null,"BANCO:",null,null,{"$f":"INDEX(Tabela1[],A1890,20)","v":0},null,{"$f":"IFERROR(VLOOKUP(AB1900,LISTA!Q:R,2,0),\"-\")","v":"-"}]
[]
[null,"FONTE PAGADORA:",null,null,null,null,null,null,{"$f":"FONTE_PAGADORA","v":"INSIRA O NOME DA FONTE PAGADORA AQUI"},null,null,null,null,null,null,null,null,null,null,null,null,null,null,null,"AGÊNCIA:",null,null,null,{"$f":"INDEX(Tabela1[],A1890,21)","v":0},null,null,null,null,null,"TIPO DE CONTA:",null,null,null,null,null,{"$f":"INDEX(Tabela1[],A1890,19)","v":0}]
[]
[null,null,null,null,null,null,null,null,null,null,null,null,null,null,null,null,null,null,null,null,null,null,null,null,"NÚMERO:",null,null,null,{"$f":"INDEX(Tabela1[],A1890,22)","v":0}]
[]
[]
[null,"Esta solicitação está de acordo com a Resolução BACEN 3.402/2006 e 3.424/2006, e sua revogação está condicionada a minha prévia e expressa manifestação."]
[]
[null,"São Gotardo, ",null,null,null,null,{"$f":"DAY(TODAY())","v":6},null,"de",null,{"$f":"VLOOKUP(MONTH(TODAY()),LISTA!O:P,2,0)","v":"ABRIL"},null,null,null,null,"de",null,{"$f":"YEAR(TODAY())","v":2023}]
[]
[]
[]
[]
[null,"________________________________________",null,null,null,null,null,null,null,null,null,null,null,null,null,null,null,null,null,null,null,null,null,null,"________________________________________"]
[null,{"$f":"UPPER(INDEX(Tabela1[],A1890,2))","v":""},null,null,null,null,null,null,null,null,null,null,null,null,null,null,null,null,null,null,null,null,null,null,{"$f":"FONTE_PAGADORA","v":"INSIRA O NOME DA FONTE PAGADORA AQUI"}]
[null,{"$f":"\"Solicitante de Portabilidade\"","v":"Solicitante de Portabilidade"},null,null,null,null,null,null,null,null,null,null,null,null,null,null,null,null,null,null,null,null,null,null,"Responsável pelo preenchimento do Termo"]
[]
[]
[]
[]
[]
[]
[{"$f":"A1890+1","v":60},"TERMO DE AUTORIZAÇÃO PARA TRANSFERÊNCIA DE RECURSOS\nResoluções BACEN 3.402/2006 e 3.424/2006"]
[]
[null,"À Cooperativa de Crédito Credisg LTDA - SICOOB CREDISG"]
[]
[null,"Eu, ",null,{"$f":"UPPER(INDEX(Tabela1[],A1923,2))","v":""},null,null,null,null,null,null,null,null,null,null,null,null,null,null,null,null,null,null,null,null,null,null,"portador do CPF número",null,null,null,null,null,null,null,null,null,{"$f":"TEXT(INDEX(Tabela1[],A1923,1),\"[<=9999]0000;[>=999999999999]00\\.000\\.000\\/0000-00;000\\.000\\.000-00\")","v":"0000"}]
[]
[null,"solicito a TRANSFERÊNCIA dos valores creditados em minha conta junto a essa instituição a título de salário, aposentadoria ou similares, para a conta descrita abaixo, na mesma do crédito, sem nenhum custo e em caráter permanente:"]
[]
[null,"CONTA ORIGEM",null,null,null,null,null,null,null,null,null,null,null,null,null,null,null,null,null,null,null,null,null,null,"CONTA DESTINO"]
[]
[null,"CONTA SALÁRIO (FUNCIONÁRIO):",null,null,null,null,null,null,null,null,null,null,null,null,null,null,null,null,null,null,null,null,null,null,"BANCO:",null,null,{"$f":"INDEX(Tabela1[],A1923,20)","v":0},null,{"$f":"IFERROR(VLOOKUP(AB1933,LISTA!Q:R,2,0),\"-\")","v":"-"}]
[]
[null,"FONTE PAGADORA:",null,null,null,null,null,null,{"$f":"FONTE_PAGADORA","v":"INSIRA O NOME DA FONTE PAGADORA AQUI"},null,null,null,null,null,null,null,null,null,null,null,null,null,null,null,"AGÊNCIA:",null,null,null,{"$f":"INDEX(Tabela1[],A1923,21)","v":0},null,null,null,null,null,"TIPO DE CONTA:",null,null,null,null,null,{"$f":"INDEX(Tabela1[],A1923,19)","v":0}]
[]
[null,null,null,null,null,null,null,null,null,null,null,null,null,null,null,null,null,null,null,null,null,null,null,null,"NÚMERO:",null,null,null,{"$f":"INDEX(Tabela1[],A1923,22)","v":0}]
[]
[]
[null,"Esta solicitação está de acordo com a Resolução BACEN 3.402/2006 e 3.424/2006, e sua revogação está condicionada a minha prévia e expressa manifestação."]
[]
[null,"São Gotardo, ",null,null,null,null,{"$f":"DAY(TODAY())","v":6},null,"de",null,{"$f":"VLOOKUP(MONTH(TODAY()),LISTA!O:P,2,0)","v":"ABRIL"},null,null,null,null,"de",null,{"$f":"YEAR(TODAY())","v":2023}]
[]
[]
[]
[]
[null,"________________________________________",null,null,null,null,null,null,null,null,null,null,null,null,null,null,null,null,null,null,null,null,null,null,"________________________________________"]
[null,{"$f":"UPPER(INDEX(Tabela1[],A1923,2))","v":""},null,null,null,null,null,null,null,null,null,null,null,null,null,null,null,null,null,null,null,null,null,null,{"$f":"FONTE_PAGADORA","v":"INSIRA O NOME DA FONTE PAGADORA AQUI"}]
[null,{"$f":"\"Solicitante de Portabilidade\"","v":"Solicitante de Portabilidade"},null,null,null,null,null,null,null,null,null,null,null,null,null,null,null,null,null,null,null,null,null,null,"Responsável pelo preenchimento do Termo"]
[]
[]
[]
[]
[]
[{"$f":"A1923+1","v":61},"TERMO DE AUTORIZAÇÃO PARA TRANSFERÊNCIA DE RECURSOS\nResoluções BACEN 3.402/2006 e 3.424/2006"]
[]
[null,"À Cooperativa de Crédito Credisg LTDA - SICOOB CREDISG"]
[]
[null,"Eu, ",null,{"$f":"UPPER(INDEX(Tabela1[],A1955,2))","v":""},null,null,null,null,null,null,null,null,null,null,null,null,null,null,null,null,null,null,null,null,null,null,"portador do CPF número",null,null,null,null,null,null,null,null,null,{"$f":"TEXT(INDEX(Tabela1[],A1955,1),\"[<=9999]0000;[>=999999999999]00\\.000\\.000\\/0000-00;000\\.000\\.000-00\")","v":"0000"}]
[]
[null,"solicito a TRANSFERÊNCIA dos valores creditados em minha conta junto a essa instituição a título de salário, aposentadoria ou similares, para a conta descrita abaixo, na mesma do crédito, sem nenhum custo e em caráter permanente:"]
[]
[null,"CONTA ORIGEM",null,null,null,null,null,null,null,null,null,null,null,null,null,null,null,null,null,null,null,null,null,null,"CONTA DESTINO"]
[]
[null,"CONTA SALÁRIO (FUNCIONÁRIO):",null,null,null,null,null,null,null,null,null,null,null,null,null,null,null,null,null,null,null,null,null,null,"BANCO:",null,null,{"$f":"INDEX(Tabela1[],A1955,20)","v":0},null,{"$f":"IFERROR(VLOOKUP(AB1965,LISTA!Q:R,2,0),\"-\")","v":"-"}]
[]
[null,"FONTE PAGADORA:",null,null,null,null,null,null,{"$f":"FONTE_PAGADORA","v":"INSIRA O NOME DA FONTE PAGADORA AQUI"},null,null,null,null,null,null,null,null,null,null,null,null,null,null,null,"AGÊNCIA:",null,null,null,{"$f":"INDEX(Tabela1[],A1955,21)","v":0},null,null,null,null,null,"TIPO DE CONTA:",null,null,null,null,null,{"$f":"INDEX(Tabela1[],A1955,19)","v":0}]
[]
[null,null,null,null,null,null,null,null,null,null,null,null,null,null,null,null,null,null,null,null,null,null,null,null,"NÚMERO:",null,null,null,{"$f":"INDEX(Tabela1[],A1955,22)","v":0}]
[]
[]
[null,"Esta solicitação está de acordo com a Resolução BACEN 3.402/2006 e 3.424/2006, e sua revogação está condicionada a minha prévia e expressa manifestação."]
[]
[null,"São Gotardo, ",null,null,null,null,{"$f":"DAY(TODAY())","v":6},null,"de",null,{"$f":"VLOOKUP(MONTH(TODAY()),LISTA!O:P,2,0)","v":"ABRIL"},null,null,null,null,"de",null,{"$f":"YEAR(TODAY())","v":2023}]
[]
[]
[]
[]
[null,"________________________________________",null,null,null,null,null,null,null,null,null,null,null,null,null,null,null,null,null,null,null,null,null,null,"________________________________________"]
[null,{"$f":"UPPER(INDEX(Tabela1[],A1955,2))","v":""},null,null,null,null,null,null,null,null,null,null,null,null,null,null,null,null,null,null,null,null,null,null,{"$f":"FONTE_PAGADORA","v":"INSIRA O NOME DA FONTE PAGADORA AQUI"}]
[null,{"$f":"\"Solicitante de Portabilidade\"","v":"Solicitante de Portabilidade"},null,null,null,null,null,null,null,null,null,null,null,null,null,null,null,null,null,null,null,null,null,null,"Responsável pelo preenchimento do Termo"]
[]
[]
[]
[]
[]
[]
[{"$f":"A1955+1","v":62},"TERMO DE AUTORIZAÇÃO PARA TRANSFERÊNCIA DE RECURSOS\nResoluções BACEN 3.402/2006 e 3.424/2006"]
[]
[null,"À Cooperativa de Crédito Credisg LTDA - SICOOB CREDISG"]
[]
[null,"Eu, ",null,{"$f":"UPPER(INDEX(Tabela1[],A1988,2))","v":""},null,null,null,null,null,null,null,null,null,null,null,null,null,null,null,null,null,null,null,null,null,null,"portador do CPF número",null,null,null,null,null,null,null,null,null,{"$f":"TEXT(INDEX(Tabela1[],A1988,1),\"[<=9999]0000;[>=999999999999]00\\.000\\.000\\/0000-00;000\\.000\\.000-00\")","v":"0000"}]
[]
[null,"solicito a TRANSFERÊNCIA dos valores creditados em minha conta junto a essa instituição a título de salário, aposentadoria ou similares, para a conta descrita abaixo, na mesma do crédito, sem nenhum custo e em caráter permanente:"]
[]
[null,"CONTA ORIGEM",null,null,null,null,null,null,null,null,null,null,null,null,null,null,null,null,null,null,null,null,null,null,"CONTA DESTINO"]
[]
[null,"CONTA SALÁRIO (FUNCIONÁRIO):",null,null,null,null,null,null,null,null,null,null,null,null,null,null,null,null,null,null,null,null,null,null,"BANCO:",null,null,{"$f":"INDEX(Tabela1[],A1988,20)","v":0},null,{"$f":"IFERROR(VLOOKUP(AB1998,LISTA!Q:R,2,0),\"-\")","v":"-"}]
[]
[null,"FONTE PAGADORA:",null,null,null,null,null,null,{"$f":"FONTE_PAGADORA","v":"INSIRA O NOME DA FONTE PAGADORA AQUI"},null,null,null,null,null,null,null,null,null,null,null,null,null,null,null,"AGÊNCIA:",null,null,null,{"$f":"INDEX(Tabela1[],A1988,21)","v":0},null,null,null,null,null,"TIPO DE CONTA:",null,null,null,null,null,{"$f":"INDEX(Tabela1[],A1988,19)","v":0}]
[null,null,null,null,null,null,null,null,null,null,null,null,null,null,null,null,null,null,null,null,null,null,null,null,"NÚMERO:",null,null,null,{"$f":"INDEX(Tabela1[],A1988,22)","v":0}]
[]
[]
[]
[null,"À Cooperativa de Crédito Credisg LTDA - SICOOB CREDISG"]
[]
[null,"FONTE PAGADORA:",null,null,null,null,null,null,{"$f":"FONTE_PAGADORA","v":"INSIRA O NOME DA FONTE PAGADORA AQUI"},null,null,null,null,null,null,null,null,null,null,null,null,null,null,null,"AGÊNCIA:",null,null,null,{"$f":"INDEX(Tabela1[],A2020,21)","v":0},null,null,null,null,null,"TIPO DE CONTA:",null,null,null,null,null,{"$f":"INDEX(Tabela1[],A2020,19)","v":0}]
[null,"Esta solicitação está de acordo com a Resolução BACEN 3.402/2006 e 3.424/2006, e sua revogação está condicionada a minha prévia e expressa manifestação."]
[]
[]
[]
[{"$f":"A2020+1","v":64},"TERMO DE AUTORIZAÇÃO PARA TRANSFERÊNCIA DE RECURSOS\nResoluções BACEN 3.402/2006 e 3.424/2006"]
[]
[null,"CONTA SALÁRIO (FUNCIONÁRIO):",null,null,null,null,null,null,null,null,null,null,null,null,null,null,null,null,null,null,null,null,null,null,"BANCO:",null,null,{"$f":"INDEX(Tabela1[],A2053,20)","v":0},null,{"$f":"IFERROR(VLOOKUP(AB2063,LISTA!Q:R,2,0),\"-\")","v":"-"}]
[]
[]
[null,{"$f":"\"Solicitante de Portabilidade\"","v":"Solicitante de Portabilidade"},null,null,null,null,null,null,null,null,null,null,null,null,null,null,null,null,null,null,null,null,null,null,"Responsável pelo preenchimento do Termo"]
[]
[null,"Eu, ",null,{"$f":"UPPER(INDEX(Tabela1[],A2085,2))","v":""},null,null,null,null,null,null,null,null,null,null,null,null,null,null,null,null,null,null,null,null,null,null,"portador do CPF número",null,null,null,null,null,null,null,null,null,{"$f":"TEXT(INDEX(Tabela1[],A2085,1),\"[<=9999]0000;[>=999999999999]00\\.000\\.000\\/0000-00;000\\.000\\.000-00\")","v":"0000"}]
[null,"CONTA SALÁRIO (FUNCIONÁRIO):",null,null,null,null,null,null,null,null,null,null,null,null,null,null,null,null,null,null,null,null,null,null,"BANCO:",null,null,{"$f":"INDEX(Tabela1[],A2085,20)","v":0},null,{"$f":"IFERROR(VLOOKUP(AB2095,LISTA!Q:R,2,0),\"-\")","v":"-"}]
[]
[null,"São Gotardo, ",null,null,null,null,{"$f":"DAY(TODAY())","v":6},null,"de",null,{"$f":"VLOOKUP(MONTH(TODAY()),LISTA!O:P,2,0)","v":"ABRIL"},null,null,null,null,"de",null,{"$f":"YEAR(TODAY())","v":2023}]
[null,{"$f":"UPPER(INDEX(Tabela1[],A2085,2))","v":""},null,null,null,null,null,null,null,null,null,null,null,null,null,null,null,null,null,null,null,null,null,null,{"$f":"FONTE_PAGADORA","v":"INSIRA O NOME DA FONTE PAGADORA AQUI"}]
[]
[]
[]
[]
[]
[]
[null,"________________________________________",null,null,null,null,null,null,null,null,null,null,null,null,null,null,null,null,null,null,null,null,null,null,"________________________________________"]
[]
[{"$f":"A2118+1","v":67},"TERMO DE AUTORIZAÇÃO PARA TRANSFERÊNCIA DE RECURSOS\nResoluções BACEN 3.402/2006 e 3.424/2006"]
[]
[null,"FONTE PAGADORA:",null,null,null,null,null,null,{"$f":"FONTE_PAGADORA","v":"INSIRA O NOME DA FONTE PAGADORA AQUI"},null,null,null,null,null,null,null,null,null,null,null,null,null,null,null,"AGÊNCIA:",null,null,null,{"$f":"INDEX(Tabela1[],A2150,21)","v":0},null,null,null,null,null,"TIPO DE CONTA:",null,null,null,null,null,{"$f":"INDEX(Tabela1[],A2150,19)","v":0}]
[null,"Esta solicitação está de acordo com a Resolução BACEN 3.402/2006 e 3.424/2006, e sua revogação está condicionada a minha prévia e expressa manifestação."]
[]
[null,{"$f":"UPPER(INDEX(Tabela1[],A2150,2))","v":""},null,null,null,null,null,null,null,null,null,null,null,null,null,null,null,null,null,null,null,null,null,null,{"$f":"FONTE_PAGADORA","v":"INSIRA O NOME DA FONTE PAGADORA AQUI"}]
[]
[{"$f":"A2150+1","v":68},"TERMO DE AUTORIZAÇÃO PARA TRANSFERÊNCIA DE RECURSOS\nResoluções BACEN 3.402/2006 e 3.424/2006"]
[]
[]
[]
[]
[null,{"$f":"\"Solicitante de Portabilidade\"","v":"Solicitante de Portabilidade"},null,null,null,null,null,null,null,null,null,null,null,null,null,null,null,null,null,null,null,null,null,null,"Responsável pelo preenchimento do Termo"]
[]
[]
[null,"CONTA SALÁRIO (FUNCIONÁRIO):",null,null,null,null,null,null,null,null,null,null,null,null,null,null,null,null,null,null,null,null,null,null,"BANCO:",null,null,{"$f":"INDEX(Tabela1[],A2215,20)","v":0},null,{"$f":"IFERROR(VLOOKUP(AB2225,LISTA!Q:R,2,0),\"-\")","v":"-"}]
[null,"FONTE PAGADORA:",null,null,null,null,null,null,{"$f":"FONTE_PAGADORA","v":"INSIRA O NOME DA FONTE PAGADORA AQUI"},null,null,null,null,null,null,null,null,null,null,null,null,null,null,null,"AGÊNCIA:",null,null,null,{"$f":"INDEX(Tabela1[],A2215,21)","v":0},null,null,null,null,null,"TIPO DE CONTA:",null,null,null,null,null,{"$f":"INDEX(Tabela1[],A2215,19)","v":0}]
[]
[null,{"$f":"UPPER(INDEX(Tabela1[],A2215,2))","v":""},null,null,null,null,null,null,null,null,null,null,null,null,null,null,null,null,null,null,null,null,null,null,{"$f":"FONTE_PAGADORA","v":"INSIRA O NOME DA FONTE PAGADORA AQUI"}]
[null,{"$f":"\"Solicitante de Portabilidade\"","v":"Solicitante de Portabilidade"},null,null,null,null,null,null,null,null,null,null,null,null,null,null,null,null,null,null,null,null,null,null,"Responsável pelo preenchimento do Termo"]
[]
[null,"Eu, ",null,{"$f":"UPPER(INDEX(Tabela1[],A2248,2))","v":""},null,null,null,null,null,null,null,null,null,null,null,null,null,null,null,null,null,null,null,null,null,null,"portador do CPF número",null,null,null,null,null,null,null,null,null,{"$f":"TEXT(INDEX(Tabela1[],A2248,1),\"[<=9999]0000;[>=999999999999]00\\.000\\.000\\/0000-00;000\\.000\\.000-00\")","v":"0000"}]
[null,"CONTA ORIGEM",null,null,null,null,null,null,null,null,null,null,null,null,null,null,null,null,null,null,null,null,null,null,"CONTA DESTINO"]
[]
[null,"São Gotardo, ",null,null,null,null,{"$f":"DAY(TODAY())","v":6},null,"de",null,{"$f":"VLOOKUP(MONTH(TODAY()),LISTA!O:P,2,0)","v":"ABRIL"},null,null,null,null,"de",null,{"$f":"YEAR(TODAY())","v":2023}]
[null,"________________________________________",null,null,null,null,null,null,null,null,null,null,null,null,null,null,null,null,null,null,null,null,null,null,"________________________________________"]
[]
[]
[]
[null,"FONTE PAGADORA:",null,null,null,null,null,null,{"$f":"FONTE_PAGADORA","v":"INSIRA O NOME DA FONTE PAGADORA AQUI"},null,null,null,null,null,null,null,null,null,null,null,null,null,null,null,"AGÊNCIA:",null,null,null,{"$f":"INDEX(Tabela1[],A2280,21)","v":0},null,null,null,null,null,"TIPO DE CONTA:",null,null,null,null,null,{"$f":"INDEX(Tabela1[],A2280,19)","v":0}]
[]
[]
[null,"________________________________________",null,null,null,null,null,null,null,null,null,null,null,null,null,null,null,null,null,null,null,null,null,null,"________________________________________"]
[]
[{"$f":"A2280+1","v":72},"TERMO DE AUTORIZAÇÃO PARA TRANSFERÊNCIA DE RECURSOS\nResoluções BACEN 3.402/2006 e 3.424/2006"]
[null,"solicito a TRANSFERÊNCIA dos valores creditados em minha conta junto a essa instituição a título de salário, aposentadoria ou similares, para a conta descrita abaixo, na mesma do crédito, sem nenhum custo e em caráter permanente:"]
[]
[]
[]
[null,{"$f":"\"Solicitante de Portabilidade\"","v":"Solicitante de Portabilidade"},null,null,null,null,null,null,null,null,null,null,null,null,null,null,null,null,null,null,null,null,null,null,"Responsável pelo preenchimento do Termo"]
[{"$f":"A2313+1","v":73},"TERMO DE AUTORIZAÇÃO PARA TRANSFERÊNCIA DE RECURSOS\nResoluções BACEN 3.402/2006 e 3.424/2006"]
[]
[]
[]
[]
[]
[null,{"$f":"\"Solicitante de Portabilidade\"","v":"Solicitante de Portabilidade"},null,null,null,null,null,null,null,null,null,null,null,null,null,null,null,null,null,null,null,null,null,null,"Responsável pelo preenchimento do Termo"]
[]
[]
[null,"CONTA ORIGEM",null,null,null,null,null,null,null,null,null,null,null,null,null,null,null,null,null,null,null,null,null,null,"CONTA DESTINO"]
[]
[null,"São Gotardo, ",null,null,null,null,{"$f":"DAY(TODAY())","v":6},null,"de",null,{"$f":"VLOOKUP(MONTH(TODAY()),LISTA!O:P,2,0)","v":"ABRIL"},null,null,null,null,"de",null,{"$f":"YEAR(TODAY())","v":2023}]
[null,"________________________________________",null,null,null,null,null,null,null,null,null,null,null,null,null,null,null,null,null,null,null,null,null,null,"________________________________________"]
[]
[null,"À Cooperativa de Crédito Credisg LTDA - SICOOB CREDISG"]
[]
[]
[]
[]
[]
[]
[]
[null,"solicito a TRANSFERÊNCIA dos valores creditados em minha conta junto a essa instituição a título de salário, aposentadoria ou similares, para a conta descrita abaixo, na mesma do crédito, sem nenhum custo e em caráter permanente:"]
[]
[]
[]
[]
[{"$f":"A2443+1","v":77},"TERMO DE AUTORIZAÇÃO PARA TRANSFERÊNCIA DE RECURSOS\nResoluções BACEN 3.402/2006 e 3.424/2006"]
[]
[null,"CONTA ORIGEM",null,null,null,null,null,null,null,null,null,null,null,null,null,null,null,null,null,null,null,null,null,null,"CONTA DESTINO"]
[]
[]
[]
[null,{"$f":"\"Solicitante de Portabilidade\"","v":"Solicitante de Portabilidade"},null,null,null,null,null,null,null,null,null,null,null,null,null,null,null,null,null,null,null,null,null,null,"Responsável pelo preenchimento do Termo"]
[{"$f":"A2475+1","v":78},"TERMO DE AUTORIZAÇÃO PARA TRANSFERÊNCIA DE RECURSOS\nResoluções BACEN 3.402/2006 e 3.424/2006"]
[]
[null,"CONTA ORIGEM",null,null,null,null,null,null,null,null,null,null,null,null,null,null,null,null,null,null,null,null,null,null,"CONTA DESTINO"]
[null,null,null,null,null,null,null,null,null,null,null,null,null,null,null,null,null,null,null,null,null,null,null,null,"NÚMERO:",null,null,null,{"$f":"INDEX(Tabela1[],A2508,22)","v":0}]
[null,"São Gotardo, ",null,null,null,null,{"$f":"DAY(TODAY())","v":6},null,"de",null,{"$f":"VLOOKUP(MONTH(TODAY()),LISTA!O:P,2,0)","v":"ABRIL"},null,null,null,null,"de",null,{"$f":"YEAR(TODAY())","v":2023}]
[null,{"$f":"UPPER(INDEX(Tabela1[],A2508,2))","v":""},null,null,null,null,null,null,null,null,null,null,null,null,null,null,null,null,null,null,null,null,null,null,{"$f":"FONTE_PAGADORA","v":"INSIRA O NOME DA FONTE PAGADORA AQUI"}]
[]
[null,"À Cooperativa de Crédito Credisg LTDA - SICOOB CREDISG"]
[null,"CONTA ORIGEM",null,null,null,null,null,null,null,null,null,null,null,null,null,null,null,null,null,null,null,null,null,null,"CONTA DESTINO"]
[]
[]
[]
[]
[]
[]
[null,"solicito a TRANSFERÊNCIA dos valores creditados em minha conta junto a essa instituição a título de salário, aposentadoria ou similares, para a conta descrita abaixo, na mesma do crédito, sem nenhum custo e em caráter permanente:"]
[null,"FONTE PAGADORA:",null,null,null,null,null,null,{"$f":"FONTE_PAGADORA","v":"INSIRA O NOME DA FONTE PAGADORA AQUI"},null,null,null,null,null,null,null,null,null,null,null,null,null,null,null,"AGÊNCIA:",null,null,null,{"$f":"INDEX(Tabela1[],A2573,21)","v":0},null,null,null,null,null,"TIPO DE CONTA:",null,null,null,null,null,{"$f":"INDEX(Tabela1[],A2573,19)","v":0}]
[]
[]
[]
[{"$f":"A2573+1","v":81},"TERMO DE AUTORIZAÇÃO PARA TRANSFERÊNCIA DE RECURSOS\nResoluções BACEN 3.402/2006 e 3.424/2006"]
[]
[null,"CONTA SALÁRIO (FUNCIONÁRIO):",null,null,null,null,null,null,null,null,null,null,null,null,null,null,null,null,null,null,null,null,null,null,"BANCO:",null,null,{"$f":"INDEX(Tabela1[],A2605,20)","v":0},null,{"$f":"IFERROR(VLOOKUP(AB2615,LISTA!Q:R,2,0),\"-\")","v":"-"}]
[]
[]
[]
[null,{"$f":"\"Solicitante de Portabilidade\"","v":"Solicitante de Portabilidade"},null,null,null,null,null,null,null,null,null,null,null,null,null,null,null,null,null,null,null,null,null,null,"Responsável pelo preenchimento do Termo"]
[]
[]
[]
[null,null,null,null,null,null,null,null,null,null,null,null,null,null,null,null,null,null,null,null,null,null,null,null,"NÚMERO:",null,null,null,{"$f":"INDEX(Tabela1[],A2638,22)","v":0}]
[null,"São Gotardo, ",null,null,null,null,{"$f":"DAY(TODAY())","v":6},null,"de",null,{"$f":"VLOOKUP(MONTH(TODAY()),LISTA!O:P,2,0)","v":"ABRIL"},null,null,null,null,"de",null,{"$f":"YEAR(TODAY())","v":2023}]
[null,"________________________________________",null,null,null,null,null,null,null,null,null,null,null,null,null,null,null,null,null,null,null,null,null,null,"________________________________________"]
[]
[]
[null,"CONTA ORIGEM",null,null,null,null,null,null,null,null,null,null,null,null,null,null,null,null,null,null,null,null,null,null,"CONTA DESTINO"]
[]
[null,"Esta solicitação está de acordo com a Resolução BACEN 3.402/2006 e 3.424/2006, e sua revogação está condicionada a minha prévia e expressa manifestação."]
[]
[null,"________________________________________",null,null,null,null,null,null,null,null,null,null,null,null,null,null,null,null,null,null,null,null,null,null,"________________________________________"]
[]
[]
[]
[]
[]
[]
[]
[]
[null,"Eu, ",null,{"$f":"UPPER(INDEX(Tabela1[],A2735,2))","v":""},null,null,null,null,null,null,null,null,null,null,null,null,null,null,null,null,null,null,null,null,null,null,"portador do CPF número",null,null,null,null,null,null,null,null,null,{"$f":"TEXT(INDEX(Tabela1[],A2735,1),\"[<=9999]0000;[>=999999999999]00\\.000\\.000\\/0000-00;000\\.000\\.000-00\")","v":"0000"}]
[null,"CONTA SALÁRIO (FUNCIONÁRIO):",null,null,null,null,null,null,null,null,null,null,null,null,null,null,null,null,null,null,null,null,null,null,"BANCO:",null,null,{"$f":"INDEX(Tabela1[],A2735,20)","v":0},null,{"$f":"IFERROR(VLOOKUP(AB2745,LISTA!Q:R,2,0),\"-\")","v":"-"}]
[]
[]
[]
[]
[]
[null,"Eu, ",null,{"$f":"UPPER(INDEX(Tabela1[],A2768,2))","v":""},null,null,null,null,null,null,null,null,null,null,null,null,null,null,null,null,null,null,null,null,null,null,"portador do CPF número",null,null,null,null,null,null,null,null,null,{"$f":"TEXT(INDEX(Tabela1[],A2768,1),\"[<=9999]0000;[>=999999999999]00\\.000\\.000\\/0000-00;000\\.000\\.000-00\")","v":"0000"}]
[]
[null,null,null,null,null,null,null,null,null,null,null,null,null,null,null,null,null,null,null,null,null,null,null,null,"NÚMERO:",null,null,null,{"$f":"INDEX(Tabela1[],A2768,22)","v":0}]
[null,"Esta solicitação está de acordo com a Resolução BACEN 3.402/2006 e 3.424/2006, e sua revogação está condicionada a minha prévia e expressa manifestação."]
[null,"________________________________________",null,null,null,null,null,null,null,null,null,null,null,null,null,null,null,null,null,null,null,null,null,null,"________________________________________"]
[]
[]
[null,"CONTA ORIGEM",null,null,null,null,null,null,null,null,null,null,null,null,null,null,null,null,null,null,null,null,null,null,"CONTA DESTINO"]
[null,"CONTA SALÁRIO (FUNCIONÁRIO):",null,null,null,null,null,null,null,null,null,null,null,null,null,null,null,null,null,null,null,null,null,null,"BANCO:",null,null,{"$f":"INDEX(Tabela1[],A2800,20)","v":0},null,{"$f":"IFERROR(VLOOKUP(AB2810,LISTA!Q:R,2,0),\"-\")","v":"-"}]
[]
[]
[null,"________________________________________",null,null,null,null,null,null,null,null,null,null,null,null,null,null,null,null,null,null,null,null,null,null,"________________________________________"]
[]
[null,"À Cooperativa de Crédito Credisg LTDA - SICOOB CREDISG"]
[null,"CONTA ORIGEM",null,null,null,null,null,null,null,null,null,null,null,null,null,null,null,null,null,null,null,null,null,null,"CONTA DESTINO"]
[]
[null,"Esta solicitação está de acordo com a Resolução BACEN 3.402/2006 e 3.424/2006, e sua revogação está condicionada a minha prévia e expressa manifestação."]
[]
[]
[]
[]
[null,"solicito a TRANSFERÊNCIA dos valores creditados em minha conta junto a essa instituição a título de salário, aposentadoria ou similares, para a conta descrita abaixo, na mesma do crédito, sem nenhum custo e em caráter permanente:"]
[]
[]
[]
[null,{"$f":"\"Solicitante de Portabilidade\"","v":"Solicitante de Portabilidade"},null,null,null,null,null,null,null,null,null,null,null,null,null,null,null,null,null,null,null,null,null,null,"Responsável pelo preenchimento do Termo"]
[]
[null,"Eu, ",null,{"$f":"UPPER(INDEX(Tabela1[],A2898,2))","v":""},null,null,null,null,null,null,null,null,null,null,null,null,null,null,null,null,null,null,null,null,null,null,"portador do CPF número",null,null,null,null,null,null,null,null,null,{"$f":"TEXT(INDEX(Tabela1[],A2898,1),\"[<=9999]0000;[>=999999999999]00\\.000\\.000\\/0000-00;000\\.000\\.000-00\")","v":"0000"}]
[]
[null,null,null,null,null,null,null,null,null,null,null,null,null,null,null,null,null,null,null,null,null,null,null,null,"NÚMERO:",null,null,null,{"$f":"INDEX(Tabela1[],A2898,22)","v":0}]
[null,"São Gotardo, ",null,null,null,null,{"$f":"DAY(TODAY())","v":6},null,"de",null,{"$f":"VLOOKUP(MONTH(TODAY()),LISTA!O:P,2,0)","v":"ABRIL"},null,null,null,null,"de",null,{"$f":"YEAR(TODAY())","v":2023}]
[null,"________________________________________",null,null,null,null,null,null,null,null,null,null,null,null,null,null,null,null,null,null,null,null,null,null,"________________________________________"]
[]
[]
[null,"Eu, ",null,{"$f":"UPPER(INDEX(Tabela1[],A2930,2))","v":""},null,null,null,null,null,null,null,null,null,null,null,null,null,null,null,null,null,null,null,null,null,null,"portador do CPF número",null,null,null,null,null,null,null,null,null,{"$f":"TEXT(INDEX(Tabela1[],A2930,1),\"[<=9999]0000;[>=999999999999]00\\.000\\.000\\/0000-00;000\\.000\\.000-00\")","v":"0000"}]
[]
[]
[null,"São Gotardo, ",null,null,null,null,{"$f":"DAY(TODAY())","v":6},null,"de",null,{"$f":"VLOOKUP(MONTH(TODAY()),LISTA!O:P,2,0)","v":"ABRIL"},null,null,null,null,"de",null,{"$f":"YEAR(TODAY())","v":2023}]
[null,"________________________________________",null,null,null,null,null,null,null,null,null,null,null,null,null,null,null,null,null,null,null,null,null,null,"________________________________________"]
[]
[]
[null,"solicito a TRANSFERÊNCIA dos valores creditados em minha conta junto a essa instituição a título de salário, aposentadoria ou similares, para a conta descrita abaixo, na mesma do crédito, sem nenhum custo e em caráter permanente:"]
[null,"FONTE PAGADORA:",null,null,null,null,null,null,{"$f":"FONTE_PAGADORA","v":"INSIRA O NOME DA FONTE PAGADORA AQUI"},null,null,null,null,null,null,null,null,null,null,null,null,null,null,null,"AGÊNCIA:",null,null,null,{"$f":"INDEX(Tabela1[],A2963,21)","v":0},null,null,null,null,null,"TIPO DE CONTA:",null,null,null,null,null,{"$f":"INDEX(Tabela1[],A2963,19)","v":0}]
[null,"Esta solicitação está de acordo com a Resolução BACEN 3.402/2006 e 3.424/2006, e sua revogação está condicionada a minha prévia e expressa manifestação."]
[]
[null,{"$f":"\"Solicitante de Portabilidade\"","v":"Solicitante de Portabilidade"},null,null,null,null,null,null,null,null,null,null,null,null,null,null,null,null,null,null,null,null,null,null,"Responsável pelo preenchimento do Termo"]
[{"$f":"A2963+1","v":93},"TERMO DE AUTORIZAÇÃO PARA TRANSFERÊNCIA DE RECURSOS\nResoluções BACEN 3.402/2006 e 3.424/2006"]
[]
[null,"solicito a TRANSFERÊNCIA dos valores creditados em minha conta junto a essa instituição a título de salário, aposentadoria ou similares, para a conta descrita abaixo, na mesma do crédito, sem nenhum custo e em caráter permanente:"]
[]
[null,"Esta solicitação está de acordo com a Resolução BACEN 3.402/2006 e 3.424/2006, e sua revogação está condicionada a minha prévia e expressa manifestação."]
[]
[null,{"$f":"\"Solicitante de Portabilidade\"","v":"Solicitante de Portabilidade"},null,null,null,null,null,null,null,null,null,null,null,null,null,null,null,null,null,null,null,null,null,null,"Responsável pelo preenchimento do Termo"]
[]
[null,"Eu, ",null,{"$f":"UPPER(INDEX(Tabela1[],A3028,2))","v":""},null,null,null,null,null,null,null,null,null,null,null,null,null,null,null,null,null,null,null,null,null,null,"portador do CPF número",null,null,null,null,null,null,null,null,null,{"$f":"TEXT(INDEX(Tabela1[],A3028,1),\"[<=9999]0000;[>=999999999999]00\\.000\\.000\\/0000-00;000\\.000\\.000-00\")","v":"0000"}]
[null,"CONTA SALÁRIO (FUNCIONÁRIO):",null,null,null,null,null,null,null,null,null,null,null,null,null,null,null,null,null,null,null,null,null,null,"BANCO:",null,null,{"$f":"INDEX(Tabela1[],A3028,20)","v":0},null,{"$f":"IFERROR(VLOOKUP(AB3038,LISTA!Q:R,2,0),\"-\")","v":"-"}]
[]
[null,"São Gotardo, ",null,null,null,null,{"$f":"DAY(TODAY())","v":6},null,"de",null,{"$f":"VLOOKUP(MONTH(TODAY()),LISTA!O:P,2,0)","v":"ABRIL"},null,null,null,null,"de",null,{"$f":"YEAR(TODAY())","v":2023}]
[null,{"$f":"UPPER(INDEX(Tabela1[],A3028,2))","v":""},null,null,null,null,null,null,null,null,null,null,null,null,null,null,null,null,null,null,null,null,null,null,{"$f":"FONTE_PAGADORA","v":"INSIRA O NOME DA FONTE PAGADORA AQUI"}]
[]
[]
[null,"solicito a TRANSFERÊNCIA dos valores creditados em minha conta junto a essa instituição a título de salário, aposentadoria ou similares, para a conta descrita abaixo, na mesma do crédito, sem nenhum custo e em caráter permanente:"]
[null,"CONTA ORIGEM",null,null,null,null,null,null,null,null,null,null,null,null,null,null,null,null,null,null,null,null,null,null,"CONTA DESTINO"]
[null,null,null,null,null,null,null,null,null,null,null,null,null,null,null,null,null,null,null,null,null,null,null,null,"NÚMERO:",null,null,null,{"$f":"INDEX(Tabela1[],A3060,22)","v":0}]
[null,"São Gotardo, ",null,null,null,null,{"$f":"DAY(TODAY())","v":6},null,"de",null,{"$f":"VLOOKUP(MONTH(TODAY()),LISTA!O:P,2,0)","v":"ABRIL"},null,null,null,null,"de",null,{"$f":"YEAR(TODAY())","v":2023}]
[null,"________________________________________",null,null,null,null,null,null,null,null,null,null,null,null,null,null,null,null,null,null,null,null,null,null,"________________________________________"]
[]
[]
[]
[null,"FONTE PAGADORA:",null,null,null,null,null,null,{"$f":"FONTE_PAGADORA","v":"INSIRA O NOME DA FONTE PAGADORA AQUI"},null,null,null,null,null,null,null,null,null,null,null,null,null,null,null,"AGÊNCIA:",null,null,null,{"$f":"INDEX(Tabela1[],A3093,21)","v":0},null,null,null,null,null,"TIPO DE CONTA:",null,null,null,null,null,{"$f":"INDEX(Tabela1[],A3093,19)","v":0}]
[null,"Esta solicitação está de acordo com a Resolução BACEN 3.402/2006 e 3.424/2006, e sua revogação está condicionada a minha prévia e expressa manifestação."]
[]
[null,{"$f":"UPPER(INDEX(Tabela1[],A3093,2))","v":""},null,null,null,null,null,null,null,null,null,null,null,null,null,null,null,null,null,null,null,null,null,null,{"$f":"FONTE_PAGADORA","v":"INSIRA O NOME DA FONTE PAGADORA AQUI"}]
[{"$f":"A3093+1","v":97},"TERMO DE AUTORIZAÇÃO PARA TRANSFERÊNCIA DE RECURSOS\nResoluções BACEN 3.402/2006 e 3.424/2006"]
[]
[null,"solicito a TRANSFERÊNCIA dos valores creditados em minha conta junto a essa instituição a título de salário, aposentadoria ou similares, para a conta descrita abaixo, na mesma do crédito, sem nenhum custo e em caráter permanente:"]
[null,"FONTE PAGADORA:",null,null,null,null,null,null,{"$f":"FONTE_PAGADORA","v":"INSIRA O NOME DA FONTE PAGADORA AQUI"},null,null,null,null,null,null,null,null,null,null,null,null,null,null,null,"AGÊNCIA:",null,null,null,{"$f":"INDEX(Tabela1[],A3125,21)","v":0},null,null,null,null,null,"TIPO DE CONTA:",null,null,null,null,null,{"$f":"INDEX(Tabela1[],A3125,19)","v":0}]
[]
[]
[]
[]
[]
[null,"CONTA SALÁRIO (FUNCIONÁRIO):",null,null,null,null,null,null,null,null,null,null,null,null,null,null,null,null,null,null,null,null,null,null,"BANCO:",null,null,{"$f":"INDEX(Tabela1[],A3158,20)","v":0},null,{"$f":"IFERROR(VLOOKUP(AB3168,LISTA!Q:R,2,0),\"-\")","v":"-"}]
[null,null,null,null,null,null,null,null,null,null,null,null,null,null,null,null,null,null,null,null,null,null,null,null,"NÚMERO:",null,null,null,{"$f":"INDEX(Tabela1[],A3158,22)","v":0}]
[]
[null,{"$f":"UPPER(INDEX(Tabela1[],A3158,2))","v":""},null,null,null,null,null,null,null,null,null,null,null,null,null,null,null,null,null,null,null,null,null,null,{"$f":"FONTE_PAGADORA","v":"INSIRA O NOME DA FONTE PAGADORA AQUI"}]
[]
[]
[]
[]
[null,null,null,null,null,null,null,null,null,null,null,null,null,null,null,null,null,null,null,null,null,null,null,null,"NÚMERO:",null,null,null,{"$f":"INDEX(Tabela1[],A3190,22)","v":0}]
[null,"São Gotardo, ",null,null,null,null,{"$f":"DAY(TODAY())","v":6},null,"de",null,{"$f":"VLOOKUP(MONTH(TODAY()),LISTA!O:P,2,0)","v":"ABRIL"},null,null,null,null,"de",null,{"$f":"YEAR(TODAY())","v":2023}]
[null,{"$f":"UPPER(INDEX(Tabela1[],A3190,2))","v":""},null,null,null,null,null,null,null,null,null,null,null,null,null,null,null,null,null,null,null,null,null,null,{"$f":"FONTE_PAGADORA","v":"INSIRA O NOME DA FONTE PAGADORA AQUI"}]
[]
[null,"À Cooperativa de Crédito Credisg LTDA - SICOOB CREDISG"]
[]
[null,"FONTE PAGADORA:",null,null,null,null,null,null,{"$f":"FONTE_PAGADORA","v":"INSIRA O NOME DA FONTE PAGADORA AQUI"},null,null,null,null,null,null,null,null,null,null,null,null,null,null,null,"AGÊNCIA:",null,null,null,{"$f":"INDEX(Tabela1[],A3223,21)","v":0},null,null,null,null,null,"TIPO DE CONTA:",null,null,null,null,null,{"$f":"INDEX(Tabela1[],A3223,19)","v":0}]
[]
[]
[]
[]
[]
[]
[]
[]
[]
[]
[]
[]
[]
[]
[]
[null,{"$f":"UPPER(INDEX(Tabela1[],A3288,2))","v":""},null,null,null,null,null,null,null,null,null,null,null,null,null,null,null,null,null,null,null,null,null,null,{"$f":"FONTE_PAGADORA","v":"INSIRA O NOME DA FONTE PAGADORA AQUI"}]
[null,{"$f":"\"Solicitante de Portabilidade\"","v":"Solicitante de Portabilidade"},null,null,null,null,null,null,null,null,null,null,null,null,null,null,null,null,null,null,null,null,null,null,"Responsável pelo preenchimento do Termo"]
[null,"À Cooperativa de Crédito Credisg LTDA - SICOOB CREDISG"]
[null,"Eu, ",null,{"$f":"UPPER(INDEX(Tabela1[],A3320,2))","v":""},null,null,null,null,null,null,null,null,null,null,null,null,null,null,null,null,null,null,null,null,null,null,"portador do CPF número",null,null,null,null,null,null,null,null,null,{"$f":"TEXT(INDEX(Tabela1[],A3320,1),\"[<=9999]0000;[>=999999999999]00\\.000\\.000\\/0000-00;000\\.000\\.000-00\")","v":"0000"}]
[]
[null,null,null,null,null,null,null,null,null,null,null,null,null,null,null,null,null,null,null,null,null,null,null,null,"NÚMERO:",null,null,null,{"$f":"INDEX(Tabela1[],A3320,22)","v":0}]
[]
[]
[]
[null,"À Cooperativa de Crédito Credisg LTDA - SICOOB CREDISG"]
[]
[]
[]
[]
[]
[]
[null,"À Cooperativa de Crédito Credisg LTDA - SICOOB CREDISG"]
[]
[null,null,null,null,null,null,null,null,null,null,null,null,null,null,null,null,null,null,null,null,null,null,null,null,"NÚMERO:",null,null,null,{"$f":"INDEX(Tabela1[],A3385,22)","v":0}]
[null,"Esta solicitação está de acordo com a Resolução BACEN 3.402/2006 e 3.424/2006, e sua revogação está condicionada a minha prévia e expressa manifestação."]
[]
[]
[{"$f":"A3385+1","v":106},"TERMO DE AUTORIZAÇÃO PARA TRANSFERÊNCIA DE RECURSOS\nResoluções BACEN 3.402/2006 e 3.424/2006"]
[null,"À Cooperativa de Crédito Credisg LTDA - SICOOB CREDISG"]
[null,"CONTA SALÁRIO (FUNCIONÁRIO):",null,null,null,null,null,null,null,null,null,null,null,null,null,null,null,null,null,null,null,null,null,null,"BANCO:",null,null,{"$f":"INDEX(Tabela1[],A3418,20)","v":0},null,{"$f":"IFERROR(VLOOKUP(AB3428,LISTA!Q:R,2,0),\"-\")","v":"-"}]
[]
[]
[]
[]
[]
[null,"Eu, ",null,{"$f":"UPPER(INDEX(Tabela1[],A3450,2))","v":""},null,null,null,null,null,null,null,null,null,null,null,null,null,null,null,null,null,null,null,null,null,null,"portador do CPF número",null,null,null,null,null,null,null,null,null,{"$f":"TEXT(INDEX(Tabela1[],A3450,1),\"[<=9999]0000;[>=999999999999]00\\.000\\.000\\/0000-00;000\\.000\\.000-00\")","v":"0000"}]
[]
[]
[]
[null,{"$f":"\"Solicitante de Portabilidade\"","v":"Solicitante de Portabilidade"},null,null,null,null,null,null,null,null,null,null,null,null,null,null,null,null,null,null,null,null,null,null,"Responsável pelo preenchimento do Termo"]
[]
[null,"À Cooperativa de Crédito Credisg LTDA - SICOOB CREDISG"]
[null,"CONTA ORIGEM",null,null,null,null,null,null,null,null,null,null,null,null,null,null,null,null,null,null,null,null,null,null,"CONTA DESTINO"]
[]
[null,null,null,null,null,null,null,null,null,null,null,null,null,null,null,null,null,null,null,null,null,null,null,null,"NÚMERO:",null,null,null,{"$f":"INDEX(Tabela1[],A3483,22)","v":0}]
[]
[]
[]
[null,"À Cooperativa de Crédito Credisg LTDA - SICOOB CREDISG"]
[]
[null,"FONTE PAGADORA:",null,null,null,null,null,null,{"$f":"FONTE_PAGADORA","v":"INSIRA O NOME DA FONTE PAGADORA AQUI"},null,null,null,null,null,null,null,null,null,null,null,null,null,null,null,"AGÊNCIA:",null,null,null,{"$f":"INDEX(Tabela1[],A3515,21)","v":0},null,null,null,null,null,"TIPO DE CONTA:",null,null,null,null,null,{"$f":"INDEX(Tabela1[],A3515,19)","v":0}]
[null,"Esta solicitação está de acordo com a Resolução BACEN 3.402/2006 e 3.424/2006, e sua revogação está condicionada a minha prévia e expressa manifestação."]
[]
[]
[]
[null,"Eu, ",null,{"$f":"UPPER(INDEX(Tabela1[],A3548,2))","v":""},null,null,null,null,null,null,null,null,null,null,null,null,null,null,null,null,null,null,null,null,null,null,"portador do CPF número",null,null,null,null,null,null,null,null,null,{"$f":"TEXT(INDEX(Tabela1[],A3548,1),\"[<=9999]0000;[>=999999999999]00\\.000\\.000\\/0000-00;000\\.000\\.000-00\")","v":"0000"}]
[null,"CONTA SALÁRIO (FUNCIONÁRIO):",null,null,null,null,null,null,null,null,null,null,null,null,null,null,null,null,null,null,null,null,null,null,"BANCO:",null,null,{"$f":"INDEX(Tabela1[],A3548,20)","v":0},null,{"$f":"IFERROR(VLOOKUP(AB3558,LISTA!Q:R,2,0),\"-\")","v":"-"}]
[]
[]
[]
[null,{"$f":"\"Solicitante de Portabilidade\"","v":"Solicitante de Portabilidade"},null,null,null,null,null,null,null,null,null,null,null,null,null,null,null,null,null,null,null,null,null,null,"Responsável pelo preenchimento do Termo"]
[]
[null,"Eu, ",null,{"$f":"UPPER(INDEX(Tabela1[],A3580,2))","v":""},null,null,null,null,null,null,null,null,null,null,null,null,null,null,null,null,null,null,null,null,null,null,"portador do CPF número",null,null,null,null,null,null,null,null,null,{"$f":"TEXT(INDEX(Tabela1[],A3580,1),\"[<=9999]0000;[>=999999999999]00\\.000\\.000\\/0000-00;000\\.000\\.000-00\")","v":"0000"}]
[null,"CONTA SALÁRIO (FUNCIONÁRIO):",null,null,null,null,null,null,null,null,null,null,null,null,null,null,null,null,null,null,null,null,null,null,"BANCO:",null,null,{"$f":"INDEX(Tabela1[],A3580,20)","v":0},null,{"$f":"IFERROR(VLOOKUP(AB3590,LISTA!Q:R,2,0),\"-\")","v":"-"}]
[]
[null,"São Gotardo, ",null,null,null,null,{"$f":"DAY(TODAY())","v":6},null,"de",null,{"$f":"VLOOKUP(MONTH(TODAY()),LISTA!O:P,2,0)","v":"ABRIL"},null,null,null,null,"de",null,{"$f":"YEAR(TODAY())","v":2023}]
[null,{"$f":"UPPER(INDEX(Tabela1[],A3580,2))","v":""},null,null,null,null,null,null,null,null,null,null,null,null,null,null,null,null,null,null,null,null,null,null,{"$f":"FONTE_PAGADORA","v":"INSIRA O NOME DA FONTE PAGADORA AQUI"}]
[]
[null,"À Cooperativa de Crédito Credisg LTDA - SICOOB CREDISG"]
[null,"CONTA ORIGEM",null,null,null,null,null,null,null,null,null,null,null,null,null,null,null,null,null,null,null,null,null,null,"CONTA DESTINO"]
[]
[]
[]
[]
[]
[null,"À Cooperativa de Crédito Credisg LTDA - SICOOB CREDISG"]
[null,"solicito a TRANSFERÊNCIA dos valores creditados em minha conta junto a essa instituição a título de salário, aposentadoria ou similares, para a conta descrita abaixo, na mesma do crédito, sem nenhum custo e em caráter permanente:"]
[null,"FONTE PAGADORA:",null,null,null,null,null,null,{"$f":"FONTE_PAGADORA","v":"INSIRA O NOME DA FONTE PAGADORA AQUI"},null,null,null,null,null,null,null,null,null,null,null,null,null,null,null,"AGÊNCIA:",null,null,null,{"$f":"INDEX(Tabela1[],A3645,21)","v":0},null,null,null,null,null,"TIPO DE CONTA:",null,null,null,null,null,{"$f":"INDEX(Tabela1[],A3645,19)","v":0}]
[null,"Esta solicitação está de acordo com a Resolução BACEN 3.402/2006 e 3.424/2006, e sua revogação está condicionada a minha prévia e expressa manifestação."]
[]
[]
[]
[]
[null,"CONTA SALÁRIO (FUNCIONÁRIO):",null,null,null,null,null,null,null,null,null,null,null,null,null,null,null,null,null,null,null,null,null,null,"BANCO:",null,null,{"$f":"INDEX(Tabela1[],A3678,20)","v":0},null,{"$f":"IFERROR(VLOOKUP(AB3688,LISTA!Q:R,2,0),\"-\")","v":"-"}]
[]
[]
[]
[null,{"$f":"\"Solicitante de Portabilidade\"","v":"Solicitante de Portabilidade"},null,null,null,null,null,null,null,null,null,null,null,null,null,null,null,null,null,null,null,null,null,null,"Responsável pelo preenchimento do Termo"]
[]
[null,"Eu, ",null,{"$f":"UPPER(INDEX(Tabela1[],A3710,2))","v":""},null,null,null,null,null,null,null,null,null,null,null,null,null,null,null,null,null,null,null,null,null,null,"portador do CPF número",null,null,null,null,null,null,null,null,null,{"$f":"TEXT(INDEX(Tabela1[],A3710,1),\"[<=9999]0000;[>=999999999999]00\\.000\\.000\\/0000-00;000\\.000\\.000-00\")","v":"0000"}]
[null,"CONTA SALÁRIO (FUNCIONÁRIO):",null,null,null,null,null,null,null,null,null,null,null,null,null,null,null,null,null,null,null,null,null,null,"BANCO:",null,null,{"$f":"INDEX(Tabela1[],A3710,20)","v":0},null,{"$f":"IFERROR(VLOOKUP(AB3720,LISTA!Q:R,2,0),\"-\")","v":"-"}]
[]
[]
[null,{"$f":"UPPER(INDEX(Tabela1[],A3710,2))","v":""},null,null,null,null,null,null,null,null,null,null,null,null,null,null,null,null,null,null,null,null,null,null,{"$f":"FONTE_PAGADORA","v":"INSIRA O NOME DA FONTE PAGADORA AQUI"}]
[]
[]
[null,"CONTA ORIGEM",null,null,null,null,null,null,null,null,null,null,null,null,null,null,null,null,null,null,null,null,null,null,"CONTA DESTINO"]
[null,"CONTA SALÁRIO (FUNCIONÁRIO):",null,null,null,null,null,null,null,null,null,null,null,null,null,null,null,null,null,null,null,null,null,null,"BANCO:",null,null,{"$f":"INDEX(Tabela1[],A3743,20)","v":0},null,{"$f":"IFERROR(VLOOKUP(AB3753,LISTA!Q:R,2,0),\"-\")","v":"-"}]
[]
[]
[null,"________________________________________",null,null,null,null,null,null,null,null,null,null,null,null,null,null,null,null,null,null,null,null,null,null,"________________________________________"]
[]
[]
[]
[null,"FONTE PAGADORA:",null,null,null,null,null,null,{"$f":"FONTE_PAGADORA","v":"INSIRA O NOME DA FONTE PAGADORA AQUI"},null,null,null,null,null,null,null,null,null,null,null,null,null,null,null,"AGÊNCIA:",null,null,null,{"$f":"INDEX(Tabela1[],A3775,21)","v":0},null,null,null,null,null,"TIPO DE CONTA:",null,null,null,null,null,{"$f":"INDEX(Tabela1[],A3775,19)","v":0}]
[]
[]
[]
[{"$f":"A3775+1","v":118},"TERMO DE AUTORIZAÇÃO PARA TRANSFERÊNCIA DE RECURSOS\nResoluções BACEN 3.402/2006 e 3.424/2006"]
[]
[null,"solicito a TRANSFERÊNCIA dos valores creditados em minha conta junto a essa instituição a título de salário, aposentadoria ou similares, para a conta descrita abaixo, na mesma do crédito, sem nenhum custo e em caráter permanente:"]
[]
[]
[]
[null,{"$f":"\"Solicitante de Portabilidade\"","v":"Solicitante de Portabilidade"},null,null,null,null,null,null,null,null,null,null,null,null,null,null,null,null,null,null,null,null,null,null,"Responsável pelo preenchimento do Termo"]
[]
[]
[null,"CONTA SALÁRIO (FUNCIONÁRIO):",null,null,null,null,null,null,null,null,null,null,null,null,null,null,null,null,null,null,null,null,null,null,"BANCO:",null,null,{"$f":"INDEX(Tabela1[],A3840,20)","v":0},null,{"$f":"IFERROR(VLOOKUP(AB3850,LISTA!Q:R,2,0),\"-\")","v":"-"}]
[]
[]
[null,{"$f":"UPPER(INDEX(Tabela1[],A3840,2))","v":""},null,null,null,null,null,null,null,null,null,null,null,null,null,null,null,null,null,null,null,null,null,null,{"$f":"FONTE_PAGADORA","v":"INSIRA O NOME DA FONTE PAGADORA AQUI"}]
[]
[]
[]
[null,"CONTA ORIGEM",null,null,null,null,null,null,null,null,null,null,null,null,null,null,null,null,null,null,null,null,null,null,"CONTA DESTINO"]
[]
[null,"São Gotardo, ",null,null,null,null,{"$f":"DAY(TODAY())","v":6},null,"de",null,{"$f":"VLOOKUP(MONTH(TODAY()),LISTA!O:P,2,0)","v":"ABRIL"},null,null,null,null,"de",null,{"$f":"YEAR(TODAY())","v":2023}]
[null,"________________________________________",null,null,null,null,null,null,null,null,null,null,null,null,null,null,null,null,null,null,null,null,null,null,"________________________________________"]
[]
[null,"À Cooperativa de Crédito Credisg LTDA - SICOOB CREDISG"]
[]
[]
[]
[]
[]
[{"$f":"A3905+1","v":122},"TERMO DE AUTORIZAÇÃO PARA TRANSFERÊNCIA DE RECURSOS\nResoluções BACEN 3.402/2006 e 3.424/2006"]
[]
[null,"solicito a TRANSFERÊNCIA dos valores creditados em minha conta junto a essa instituição a título de salário, aposentadoria ou similares, para a conta descrita abaixo, na mesma do crédito, sem nenhum custo e em caráter permanente:"]
[]
[null,"São Gotardo, ",null,null,null,null,{"$f":"DAY(TODAY())","v":6},null,"de",null,{"$f":"VLOOKUP(MONTH(TODAY()),LISTA!O:P,2,0)","v":"ABRIL"},null,null,null,null,"de",null,{"$f":"YEAR(TODAY())","v":2023}]
[]
[null,{"$f":"\"Solicitante de Portabilidade\"","v":"Solicitante de Portabilidade"},null,null,null,null,null,null,null,null,null,null,null,null,null,null,null,null,null,null,null,null,null,null,"Responsável pelo preenchimento do Termo"]
[{"$f":"A3938+1","v":123},"TERMO DE AUTORIZAÇÃO PARA TRANSFERÊNCIA DE RECURSOS\nResoluções BACEN 3.402/2006 e 3.424/2006"]
[]
[null,"CONTA ORIGEM",null,null,null,null,null,null,null,null,null,null,null,null,null,null,null,null,null,null,null,null,null,null,"CONTA DESTINO"]
[]
[]
[null,{"$f":"\"Solicitante de Portabilidade\"","v":"Solicitante de Portabilidade"},null,null,null,null,null,null,null,null,null,null,null,null,null,null,null,null,null,null,null,null,null,null,"Responsável pelo preenchimento do Termo"]
[]
[{"$f":"A3970+1","v":124},"TERMO DE AUTORIZAÇÃO PARA TRANSFERÊNCIA DE RECURSOS\nResoluções BACEN 3.402/2006 e 3.424/2006"]
[]
[null,"CONTA ORIGEM",null,null,null,null,null,null,null,null,null,null,null,null,null,null,null,null,null,null,null,null,null,null,"CONTA DESTINO"]
[null,null,null,null,null,null,null,null,null,null,null,null,null,null,null,null,null,null,null,null,null,null,null,null,"NÚMERO:",null,null,null,{"$f":"INDEX(Tabela1[],A4003,22)","v":0}]
[null,"São Gotardo, ",null,null,null,null,{"$f":"DAY(TODAY())","v":6},null,"de",null,{"$f":"VLOOKUP(MONTH(TODAY()),LISTA!O:P,2,0)","v":"ABRIL"},null,null,null,null,"de",null,{"$f":"YEAR(TODAY())","v":2023}]
[null,"________________________________________",null,null,null,null,null,null,null,null,null,null,null,null,null,null,null,null,null,null,null,null,null,null,"________________________________________"]
[]
[null,"À Cooperativa de Crédito Credisg LTDA - SICOOB CREDISG"]
[]
[]
[]
[]
[]
[{"$f":"A4035+1","v":126},"TERMO DE AUTORIZAÇÃO PARA TRANSFERÊNCIA DE RECURSOS\nResoluções BACEN 3.402/2006 e 3.424/2006"]
[]
[null,"solicito a TRANSFERÊNCIA dos valores creditados em minha conta junto a essa instituição a título de salário, aposentadoria ou similares, para a conta descrita abaixo, na mesma do crédito, sem nenhum custo e em caráter permanente:"]
[null,"FONTE PAGADORA:",null,null,null,null,null,null,{"$f":"FONTE_PAGADORA","v":"INSIRA O NOME DA FONTE PAGADORA AQUI"},null,null,null,null,null,null,null,null,null,null,null,null,null,null,null,"AGÊNCIA:",null,null,null,{"$f":"INDEX(Tabela1[],A4068,21)","v":0},null,null,null,null,null,"TIPO DE CONTA:",null,null,null,null,null,{"$f":"INDEX(Tabela1[],A4068,19)","v":0}]
[]
[]
[]
[{"$f":"A4068+1","v":127},"TERMO DE AUTORIZAÇÃO PARA TRANSFERÊNCIA DE RECURSOS\nResoluções BACEN 3.402/2006 e 3.424/2006"]
[]
[null,"CONTA SALÁRIO (FUNCIONÁRIO):",null,null,null,null,null,null,null,null,null,null,null,null,null,null,null,null,null,null,null,null,null,null,"BANCO:",null,null,{"$f":"INDEX(Tabela1[],A4100,20)","v":0},null,{"$f":"IFERROR(VLOOKUP(AB4110,LISTA!Q:R,2,0),\"-\")","v":"-"}]
[]
[]
[null,{"$f":"\"Solicitante de Portabilidade\"","v":"Solicitante de Portabilidade"},null,null,null,null,null,null,null,null,null,null,null,null,null,null,null,null,null,null,null,null,null,null,"Responsável pelo preenchimento do Termo"]
[]
[]
[]
[null,"CONTA ORIGEM",null,null,null,null,null,null,null,null,null,null,null,null,null,null,null,null,null,null,null,null,null,null,"CONTA DESTINO"]
[null,null,null,null,null,null,null,null,null,null,null,null,null,null,null,null,null,null,null,null,null,null,null,null,"NÚMERO:",null,null,null,{"$f":"INDEX(Tabela1[],A4133,22)","v":0}]
[null,"São Gotardo, ",null,null,null,null,{"$f":"DAY(TODAY())","v":6},null,"de",null,{"$f":"VLOOKUP(MONTH(TODAY()),LISTA!O:P,2,0)","v":"ABRIL"},null,null,null,null,"de",null,{"$f":"YEAR(TODAY())","v":2023}]
[null,"________________________________________",null,null,null,null,null,null,null,null,null,null,null,null,null,null,null,null,null,null,null,null,null,null,"________________________________________"]
[]
[null,"À Cooperativa de Crédito Credisg LTDA - SICOOB CREDISG"]
[null,"CONTA ORIGEM",null,null,null,null,null,null,null,null,null,null,null,null,null,null,null,null,null,null,null,null,null,null,"CONTA DESTINO"]
[]
[null,"Esta solicitação está de acordo com a Resolução BACEN 3.402/2006 e 3.424/2006, e sua revogação está condicionada a minha prévia e expressa manifestação."]
[]
[]
[]
[]
[null,"solicito a TRANSFERÊNCIA dos valores creditados em minha conta junto a essa instituição a título de salário, aposentadoria ou similares, para a conta descrita abaixo, na mesma do crédito, sem nenhum custo e em caráter permanente:"]
[]
[]
[]
[]
[{"$f":"A4198+1","v":131},"TERMO DE AUTORIZAÇÃO PARA TRANSFERÊNCIA DE RECURSOS\nResoluções BACEN 3.402/2006 e 3.424/2006"]
[null,"Eu, ",null,{"$f":"UPPER(INDEX(Tabela1[],A4230,2))","v":""},null,null,null,null,null,null,null,null,null,null,null,null,null,null,null,null,null,null,null,null,null,null,"portador do CPF número",null,null,null,null,null,null,null,null,null,{"$f":"TEXT(INDEX(Tabela1[],A4230,1),\"[<=9999]0000;[>=999999999999]00\\.000\\.000\\/0000-00;000\\.000\\.000-00\")","v":"0000"}]
[null,"CONTA SALÁRIO (FUNCIONÁRIO):",null,null,null,null,null,null,null,null,null,null,null,null,null,null,null,null,null,null,null,null,null,null,"BANCO:",null,null,{"$f":"INDEX(Tabela1[],A4230,20)","v":0},null,{"$f":"IFERROR(VLOOKUP(AB4240,LISTA!Q:R,2,0),\"-\")","v":"-"}]
[]
[]
[null,{"$f":"\"Solicitante de Portabilidade\"","v":"Solicitante de Portabilidade"},null,null,null,null,null,null,null,null,null,null,null,null,null,null,null,null,null,null,null,null,null,null,"Responsável pelo preenchimento do Termo"]
[]
[]
[]
[]
[null,null,null,null,null,null,null,null,null,null,null,null,null,null,null,null,null,null,null,null,null,null,null,null,"NÚMERO:",null,null,null,{"$f":"INDEX(Tabela1[],A4263,22)","v":0}]
[]
[null,"________________________________________",null,null,null,null,null,null,null,null,null,null,null,null,null,null,null,null,null,null,null,null,null,null,"________________________________________"]
[]
[]
[null,"CONTA ORIGEM",null,null,null,null,null,null,null,null,null,null,null,null,null,null,null,null,null,null,null,null,null,null,"CONTA DESTINO"]
[]
[]
[]
[null,"________________________________________",null,null,null,null,null,null,null,null,null,null,null,null,null,null,null,null,null,null,null,null,null,null,"________________________________________"]
[]
[]
[null,"CONTA ORIGEM",null,null,null,null,null,null,null,null,null,null,null,null,null,null,null,null,null,null,null,null,null,null,"CONTA DESTINO"]
[]
[null,"Esta solicitação está de acordo com a Resolução BACEN 3.402/2006 e 3.424/2006, e sua revogação está condicionada a minha prévia e expressa manifestação."]
[]
[]
[]
[]
[null,"CONTA SALÁRIO (FUNCIONÁRIO):",null,null,null,null,null,null,null,null,null,null,null,null,null,null,null,null,null,null,null,null,null,null,"BANCO:",null,null,{"$f":"INDEX(Tabela1[],A4360,20)","v":0},null,{"$f":"IFERROR(VLOOKUP(AB4370,LISTA!Q:R,2,0),\"-\")","v":"-"}]
[]
[]
[]
[]
[]
[null,"Eu, ",null,{"$f":"UPPER(INDEX(Tabela1[],A4393,2))","v":""},null,null,null,null,null,null,null,null,null,null,null,null,null,null,null,null,null,null,null,null,null,null,"portador do CPF número",null,null,null,null,null,null,null,null,null,{"$f":"TEXT(INDEX(Tabela1[],A4393,1),\"[<=9999]0000;[>=999999999999]00\\.000\\.000\\/0000-00;000\\.000\\.000-00\")","v":"0000"}]
[]
[null,null,null,null,null,null,null,null,null,null,null,null,null,null,null,null,null,null,null,null,null,null,null,null,"NÚMERO:",null,null,null,{"$f":"INDEX(Tabela1[],A4393,22)","v":0}]
[]
[null,"________________________________________",null,null,null,null,null,null,null,null,null,null,null,null,null,null,null,null,null,null,null,null,null,null,"________________________________________"]
[]
[]
[null,"CONTA ORIGEM",null,null,null,null,null,null,null,null,null,null,null,null,null,null,null,null,null,null,null,null,null,null,"CONTA DESTINO"]
[]
[]
[null,"São Gotardo, ",null,null,null,null,{"$f":"DAY(TODAY())","v":6},null,"de",null,{"$f":"VLOOKUP(MONTH(TODAY()),LISTA!O:P,2,0)","v":"ABRIL"},null,null,null,null,"de",null,{"$f":"YEAR(TODAY())","v":2023}]
[null,"________________________________________",null,null,null,null,null,null,null,null,null,null,null,null,null,null,null,null,null,null,null,null,null,null,"________________________________________"]
[]
[]
[null,"solicito a TRANSFERÊNCIA dos valores creditados em minha conta junto a essa instituição a título de salário, aposentadoria ou similares, para a conta descrita abaixo, na mesma do crédito, sem nenhum custo e em caráter permanente:"]
[]
[null,"Esta solicitação está de acordo com a Resolução BACEN 3.402/2006 e 3.424/2006, e sua revogação está condicionada a minha prévia e expressa manifestação."]
[]
[]
[{"$f":"A4458+1","v":139},"TERMO DE AUTORIZAÇÃO PARA TRANSFERÊNCIA DE RECURSOS\nResoluções BACEN 3.402/2006 e 3.424/2006"]
[]
[]
[]
[null,"Esta solicitação está de acordo com a Resolução BACEN 3.402/2006 e 3.424/2006, e sua revogação está condicionada a minha prévia e expressa manifestação."]
[null,{"$f":"UPPER(INDEX(Tabela1[],A4490,2))","v":""},null,null,null,null,null,null,null,null,null,null,null,null,null,null,null,null,null,null,null,null,null,null,{"$f":"FONTE_PAGADORA","v":"INSIRA O NOME DA FONTE PAGADORA AQUI"}]
[null,{"$f":"\"Solicitante de Portabilidade\"","v":"Solicitante de Portabilidade"},null,null,null,null,null,null,null,null,null,null,null,null,null,null,null,null,null,null,null,null,null,null,"Responsável pelo preenchimento do Termo"]
[]
[null,"Eu, ",null,{"$f":"UPPER(INDEX(Tabela1[],A4523,2))","v":""},null,null,null,null,null,null,null,null,null,null,null,null,null,null,null,null,null,null,null,null,null,null,"portador do CPF número",null,null,null,null,null,null,null,null,null,{"$f":"TEXT(INDEX(Tabela1[],A4523,1),\"[<=9999]0000;[>=999999999999]00\\.000\\.000\\/0000-00;000\\.000\\.000-00\")","v":"0000"}]
[]
[]
[null,"São Gotardo, ",null,null,null,null,{"$f":"DAY(TODAY())","v":6},null,"de",null,{"$f":"VLOOKUP(MONTH(TODAY()),LISTA!O:P,2,0)","v":"ABRIL"},null,null,null,null,"de",null,{"$f":"YEAR(TODAY())","v":2023}]
[null,{"$f":"UPPER(INDEX(Tabela1[],A4523,2))","v":""},null,null,null,null,null,null,null,null,null,null,null,null,null,null,null,null,null,null,null,null,null,null,{"$f":"FONTE_PAGADORA","v":"INSIRA O NOME DA FONTE PAGADORA AQUI"}]
[]
[]
[null,"solicito a TRANSFERÊNCIA dos valores creditados em minha conta junto a essa instituição a título de salário, aposentadoria ou similares, para a conta descrita abaixo, na mesma do crédito, sem nenhum custo e em caráter permanente:"]
[]
[]
[null,"São Gotardo, ",null,null,null,null,{"$f":"DAY(TODAY())","v":6},null,"de",null,{"$f":"VLOOKUP(MONTH(TODAY()),LISTA!O:P,2,0)","v":"ABRIL"},null,null,null,null,"de",null,{"$f":"YEAR(TODAY())","v":2023}]
[null,"________________________________________",null,null,null,null,null,null,null,null,null,null,null,null,null,null,null,null,null,null,null,null,null,null,"________________________________________"]
[]
[null,"Eu, ",null,{"$f":"UPPER(INDEX(Tabela1[],A4588,2))","v":""},null,null,null,null,null,null,null,null,null,null,null,null,null,null,null,null,null,null,null,null,null,null,"portador do CPF número",null,null,null,null,null,null,null,null,null,{"$f":"TEXT(INDEX(Tabela1[],A4588,1),\"[<=9999]0000;[>=999999999999]00\\.000\\.000\\/0000-00;000\\.000\\.000-00\")","v":"0000"}]
[null,"solicito a TRANSFERÊNCIA dos valores creditados em minha conta junto a essa instituição a título de salário, aposentadoria ou similares, para a conta descrita abaixo, na mesma do crédito, sem nenhum custo e em caráter permanente:"]
[null,"FONTE PAGADORA:",null,null,null,null,null,null,{"$f":"FONTE_PAGADORA","v":"INSIRA O NOME DA FONTE PAGADORA AQUI"},null,null,null,null,null,null,null,null,null,null,null,null,null,null,null,"AGÊNCIA:",null,null,null,{"$f":"INDEX(Tabela1[],A4588,21)","v":0},null,null,null,null,null,"TIPO DE CONTA:",null,null,null,null,null,{"$f":"INDEX(Tabela1[],A4588,19)","v":0}]
[null,"Esta solicitação está de acordo com a Resolução BACEN 3.402/2006 e 3.424/2006, e sua revogação está condicionada a minha prévia e expressa manifestação."]
[]
[null,{"$f":"UPPER(INDEX(Tabela1[],A4588,2))","v":""},null,null,null,null,null,null,null,null,null,null,null,null,null,null,null,null,null,null,null,null,null,null,{"$f":"FONTE_PAGADORA","v":"INSIRA O NOME DA FONTE PAGADORA AQUI"}]
[{"$f":"A4588+1","v":143},"TERMO DE AUTORIZAÇÃO PARA TRANSFERÊNCIA DE RECURSOS\nResoluções BACEN 3.402/2006 e 3.424/2006"]
[null,"solicito a TRANSFERÊNCIA dos valores creditados em minha conta junto a essa instituição a título de salário, aposentadoria ou similares, para a conta descrita abaixo, na mesma do crédito, sem nenhum custo e em caráter permanente:"]
[]
[]
[]
[]
[]
[]
[null,"Eu, ",null,{"$f":"UPPER(INDEX(Tabela1[],A4653,2))","v":""},null,null,null,null,null,null,null,null,null,null,null,null,null,null,null,null,null,null,null,null,null,null,"portador do CPF número",null,null,null,null,null,null,null,null,null,{"$f":"TEXT(INDEX(Tabela1[],A4653,1),\"[<=9999]0000;[>=999999999999]00\\.000\\.000\\/0000-00;000\\.000\\.000-00\")","v":"0000"}]
[null,"CONTA SALÁRIO (FUNCIONÁRIO):",null,null,null,null,null,null,null,null,null,null,null,null,null,null,null,null,null,null,null,null,null,null,"BANCO:",null,null,{"$f":"INDEX(Tabela1[],A4653,20)","v":0},null,{"$f":"IFERROR(VLOOKUP(AB4663,LISTA!Q:R,2,0),\"-\")","v":"-"}]
[]
[null,"São Gotardo, ",null,null,null,null,{"$f":"DAY(TODAY())","v":6},null,"de",null,{"$f":"VLOOKUP(MONTH(TODAY()),LISTA!O:P,2,0)","v":"ABRIL"},null,null,null,null,"de",null,{"$f":"YEAR(TODAY())","v":2023}]
[null,{"$f":"UPPER(INDEX(Tabela1[],A4653,2))","v":""},null,null,null,null,null,null,null,null,null,null,null,null,null,null,null,null,null,null,null,null,null,null,{"$f":"FONTE_PAGADORA","v":"INSIRA O NOME DA FONTE PAGADORA AQUI"}]
[]
[null,"Eu, ",null,{"$f":"UPPER(INDEX(Tabela1[],A4685,2))","v":""},null,null,null,null,null,null,null,null,null,null,null,null,null,null,null,null,null,null,null,null,null,null,"portador do CPF número",null,null,null,null,null,null,null,null,null,{"$f":"TEXT(INDEX(Tabela1[],A4685,1),\"[<=9999]0000;[>=999999999999]00\\.000\\.000\\/0000-00;000\\.000\\.000-00\")","v":"0000"}]
[]
[]
[null,null,null,null,null,null,null,null,null,null,null,null,null,null,null,null,null,null,null,null,null,null,null,null,"NÚMERO:",null,null,null,{"$f":"INDEX(Tabela1[],A4685,22)","v":0}]
[null,"São Gotardo, ",null,null,null,null,{"$f":"DAY(TODAY())","v":6},null,"de",null,{"$f":"VLOOKUP(MONTH(TODAY()),LISTA!O:P,2,0)","v":"ABRIL"},null,null,null,null,"de",null,{"$f":"YEAR(TODAY())","v":2023}]
[null,{"$f":"UPPER(INDEX(Tabela1[],A4685,2))","v":""},null,null,null,null,null,null,null,null,null,null,null,null,null,null,null,null,null,null,null,null,null,null,{"$f":"FONTE_PAGADORA","v":"INSIRA O NOME DA FONTE PAGADORA AQUI"}]
[]
[]
[]
[null,"FONTE PAGADORA:",null,null,null,null,null,null,{"$f":"FONTE_PAGADORA","v":"INSIRA O NOME DA FONTE PAGADORA AQUI"},null,null,null,null,null,null,null,null,null,null,null,null,null,null,null,"AGÊNCIA:",null,null,null,{"$f":"INDEX(Tabela1[],A4718,21)","v":0},null,null,null,null,null,"TIPO DE CONTA:",null,null,null,null,null,{"$f":"INDEX(Tabela1[],A4718,19)","v":0}]
[null,"Esta solicitação está de acordo com a Resolução BACEN 3.402/2006 e 3.424/2006, e sua revogação está condicionada a minha prévia e expressa manifestação."]
[]
[]
[]
[null,"solicito a TRANSFERÊNCIA dos valores creditados em minha conta junto a essa instituição a título de salário, aposentadoria ou similares, para a conta descrita abaixo, na mesma do crédito, sem nenhum custo e em caráter permanente:"]
[]
[null,"FONTE PAGADORA:",null,null,null,null,null,null,{"$f":"FONTE_PAGADORA","v":"INSIRA O NOME DA FONTE PAGADORA AQUI"},null,null,null,null,null,null,null,null,null,null,null,null,null,null,null,"AGÊNCIA:",null,null,null,{"$f":"INDEX(Tabela1[],A4750,21)","v":0},null,null,null,null,null,"TIPO DE CONTA:",null,null,null,null,null,{"$f":"INDEX(Tabela1[],A4750,19)","v":0}]
[null,"Esta solicitação está de acordo com a Resolução BACEN 3.402/2006 e 3.424/2006, e sua revogação está condicionada a minha prévia e expressa manifestação."]
[]
[]
[]
[]
[]
[null,null,null,null,null,null,null,null,null,null,null,null,null,null,null,null,null,null,null,null,null,null,null,null,"NÚMERO:",null,null,null,{"$f":"INDEX(Tabela1[],A4783,22)","v":0}]
[]
[null,{"$f":"UPPER(INDEX(Tabela1[],A4783,2))","v":""},null,null,null,null,null,null,null,null,null,null,null,null,null,null,null,null,null,null,null,null,null,null,{"$f":"FONTE_PAGADORA","v":"INSIRA O NOME DA FONTE PAGADORA AQUI"}]
[]
[null,"À Cooperativa de Crédito Credisg LTDA - SICOOB CREDISG"]
[null,"CONTA ORIGEM",null,null,null,null,null,null,null,null,null,null,null,null,null,null,null,null,null,null,null,null,null,null,"CONTA DESTINO"]
[]
[null,null,null,null,null,null,null,null,null,null,null,null,null,null,null,null,null,null,null,null,null,null,null,null,"NÚMERO:",null,null,null,{"$f":"INDEX(Tabela1[],A4815,22)","v":0}]
[null,"São Gotardo, ",null,null,null,null,{"$f":"DAY(TODAY())","v":6},null,"de",null,{"$f":"VLOOKUP(MONTH(TODAY()),LISTA!O:P,2,0)","v":"ABRIL"},null,null,null,null,"de",null,{"$f":"YEAR(TODAY())","v":2023}]
[null,{"$f":"UPPER(INDEX(Tabela1[],A4815,2))","v":""},null,null,null,null,null,null,null,null,null,null,null,null,null,null,null,null,null,null,null,null,null,null,{"$f":"FONTE_PAGADORA","v":"INSIRA O NOME DA FONTE PAGADORA AQUI"}]
[]
[null,"À Cooperativa de Crédito Credisg LTDA - SICOOB CREDISG"]
[]
[null,"FONTE PAGADORA:",null,null,null,null,null,null,{"$f":"FONTE_PAGADORA","v":"INSIRA O NOME DA FONTE PAGADORA AQUI"},null,null,null,null,null,null,null,null,null,null,null,null,null,null,null,"AGÊNCIA:",null,null,null,{"$f":"INDEX(Tabela1[],A4848,21)","v":0},null,null,null,null,null,"TIPO DE CONTA:",null,null,null,null,null,{"$f":"INDEX(Tabela1[],A4848,19)","v":0}]
[]
[]
[]
[]
[null,"solicito a TRANSFERÊNCIA dos valores creditados em minha conta junto a essa instituição a título de salário, aposentadoria ou similares, para a conta descrita abaixo, na mesma do crédito, sem nenhum custo e em caráter permanente:"]
[]
[null,null,null,null,null,null,null,null,null,null,null,null,null,null,null,null,null,null,null,null,null,null,null,null,"NÚMERO:",null,null,null,{"$f":"INDEX(Tabela1[],A4880,22)","v":0}]
[]
[]
[]
[{"$f":"A4880+1","v":152},"TERMO DE AUTORIZAÇÃO PARA TRANSFERÊNCIA DE RECURSOS\nResoluções BACEN 3.402/2006 e 3.424/2006"]
[null,"solicito a TRANSFERÊNCIA dos valores creditados em minha conta junto a essa instituição a título de salário, aposentadoria ou similares, para a conta descrita abaixo, na mesma do crédito, sem nenhum custo e em caráter permanente:"]
[]
[]
[]
[null,{"$f":"UPPER(INDEX(Tabela1[],A4913,2))","v":""},null,null,null,null,null,null,null,null,null,null,null,null,null,null,null,null,null,null,null,null,null,null,{"$f":"FONTE_PAGADORA","v":"INSIRA O NOME DA FONTE PAGADORA AQUI"}]
[]
[]
[null,"Eu, ",null,{"$f":"UPPER(INDEX(Tabela1[],A4945,2))","v":""},null,null,null,null,null,null,null,null,null,null,null,null,null,null,null,null,null,null,null,null,null,null,"portador do CPF número",null,null,null,null,null,null,null,null,null,{"$f":"TEXT(INDEX(Tabela1[],A4945,1),\"[<=9999]0000;[>=999999999999]00\\.000\\.000\\/0000-00;000\\.000\\.000-00\")","v":"0000"}]
[]
[null,null,null,null,null,null,null,null,null,null,null,null,null,null,null,null,null,null,null,null,null,null,null,null,"NÚMERO:",null,null,null,{"$f":"INDEX(Tabela1[],A4945,22)","v":0}]
[]
[null,{"$f":"\"Solicitante de Portabilidade\"","v":"Solicitante de Portabilidade"},null,null,null,null,null,null,null,null,null,null,null,null,null,null,null,null,null,null,null,null,null,null,"Responsável pelo preenchimento do Termo"]
[]
[null,"À Cooperativa de Crédito Credisg LTDA - SICOOB CREDISG"]
[]
[]
[]
[]
[]
[]
[null,"À Cooperativa de Crédito Credisg LTDA - SICOOB CREDISG"]
[]
[]
[null,"Esta solicitação está de acordo com a Resolução BACEN 3.402/2006 e 3.424/2006, e sua revogação está condicionada a minha prévia e expressa manifestação."]
[]
[]
[{"$f":"A5010+1","v":156},"TERMO DE AUTORIZAÇÃO PARA TRANSFERÊNCIA DE RECURSOS\nResoluções BACEN 3.402/2006 e 3.424/2006"]
[]
[null,"CONTA SALÁRIO (FUNCIONÁRIO):",null,null,null,null,null,null,null,null,null,null,null,null,null,null,null,null,null,null,null,null,null,null,"BANCO:",null,null,{"$f":"INDEX(Tabela1[],A5043,20)","v":0},null,{"$f":"IFERROR(VLOOKUP(AB5053,LISTA!Q:R,2,0),\"-\")","v":"-"}]
[]
[]
[null,{"$f":"\"Solicitante de Portabilidade\"","v":"Solicitante de Portabilidade"},null,null,null,null,null,null,null,null,null,null,null,null,null,null,null,null,null,null,null,null,null,null,"Responsável pelo preenchimento do Termo"]
[]
[]
[null,"Eu, ",null,{"$f":"UPPER(INDEX(Tabela1[],A5075,2))","v":""},null,null,null,null,null,null,null,null,null,null,null,null,null,null,null,null,null,null,null,null,null,null,"portador do CPF número",null,null,null,null,null,null,null,null,null,{"$f":"TEXT(INDEX(Tabela1[],A5075,1),\"[<=9999]0000;[>=999999999999]00\\.000\\.000\\/0000-00;000\\.000\\.000-00\")","v":"0000"}]
[]
[]
[null,"São Gotardo, ",null,null,null,null,{"$f":"DAY(TODAY())","v":6},null,"de",null,{"$f":"VLOOKUP(MONTH(TODAY()),LISTA!O:P,2,0)","v":"ABRIL"},null,null,null,null,"de",null,{"$f":"YEAR(TODAY())","v":2023}]
[null,"________________________________________",null,null,null,null,null,null,null,null,null,null,null,null,null,null,null,null,null,null,null,null,null,null,"________________________________________"]
[]
[null,"À Cooperativa de Crédito Credisg LTDA - SICOOB CREDISG"]
[null,"CONTA ORIGEM",null,null,null,null,null,null,null,null,null,null,null,null,null,null,null,null,null,null,null,null,null,null,"CONTA DESTINO"]
[]
[null,"Esta solicitação está de acordo com a Resolução BACEN 3.402/2006 e 3.424/2006, e sua revogação está condicionada a minha prévia e expressa manifestação."]
[]
[]
[]
[null,"À Cooperativa de Crédito Credisg LTDA - SICOOB CREDISG"]
[null,"CONTA SALÁRIO (FUNCIONÁRIO):",null,null,null,null,null,null,null,null,null,null,null,null,null,null,null,null,null,null,null,null,null,null,"BANCO:",null,null,{"$f":"INDEX(Tabela1[],A5140,20)","v":0},null,{"$f":"IFERROR(VLOOKUP(AB5150,LISTA!Q:R,2,0),\"-\")","v":"-"}]
[null,"FONTE PAGADORA:",null,null,null,null,null,null,{"$f":"FONTE_PAGADORA","v":"INSIRA O NOME DA FONTE PAGADORA AQUI"},null,null,null,null,null,null,null,null,null,null,null,null,null,null,null,"AGÊNCIA:",null,null,null,{"$f":"INDEX(Tabela1[],A5140,21)","v":0},null,null,null,null,null,"TIPO DE CONTA:",null,null,null,null,null,{"$f":"INDEX(Tabela1[],A5140,19)","v":0}]
[null,"Esta solicitação está de acordo com a Resolução BACEN 3.402/2006 e 3.424/2006, e sua revogação está condicionada a minha prévia e expressa manifestação."]
[]
[]
[]
[]
[null,"CONTA SALÁRIO (FUNCIONÁRIO):",null,null,null,null,null,null,null,null,null,null,null,null,null,null,null,null,null,null,null,null,null,null,"BANCO:",null,null,{"$f":"INDEX(Tabela1[],A5173,20)","v":0},null,{"$f":"IFERROR(VLOOKUP(AB5183,LISTA!Q:R,2,0),\"-\")","v":"-"}]
[]
[]
[]
[null,{"$f":"\"Solicitante de Portabilidade\"","v":"Solicitante de Portabilidade"},null,null,null,null,null,null,null,null,null,null,null,null,null,null,null,null,null,null,null,null,null,null,"Responsável pelo preenchimento do Termo"]
[]
[null,"Eu, ",null,{"$f":"UPPER(INDEX(Tabela1[],A5205,2))","v":""},null,null,null,null,null,null,null,null,null,null,null,null,null,null,null,null,null,null,null,null,null,null,"portador do CPF número",null,null,null,null,null,null,null,null,null,{"$f":"TEXT(INDEX(Tabela1[],A5205,1),\"[<=9999]0000;[>=999999999999]00\\.000\\.000\\/0000-00;000\\.000\\.000-00\")","v":"0000"}]
[null,"CONTA SALÁRIO (FUNCIONÁRIO):",null,null,null,null,null,null,null,null,null,null,null,null,null,null,null,null,null,null,null,null,null,null,"BANCO:",null,null,{"$f":"INDEX(Tabela1[],A5205,20)","v":0},null,{"$f":"IFERROR(VLOOKUP(AB5215,LISTA!Q:R,2,0),\"-\")","v":"-"}]
[]
[]
[null,{"$f":"UPPER(INDEX(Tabela1[],A5205,2))","v":""},null,null,null,null,null,null,null,null,null,null,null,null,null,null,null,null,null,null,null,null,null,null,{"$f":"FONTE_PAGADORA","v":"INSIRA O NOME DA FONTE PAGADORA AQUI"}]
[]
[]
[null,"CONTA ORIGEM",null,null,null,null,null,null,null,null,null,null,null,null,null,null,null,null,null,null,null,null,null,null,"CONTA DESTINO"]
[null,"CONTA SALÁRIO (FUNCIONÁRIO):",null,null,null,null,null,null,null,null,null,null,null,null,null,null,null,null,null,null,null,null,null,null,"BANCO:",null,null,{"$f":"INDEX(Tabela1[],A5238,20)","v":0},null,{"$f":"IFERROR(VLOOKUP(AB5248,LISTA!Q:R,2,0),\"-\")","v":"-"}]
[]
[]
[]
[]
[]
[]
[null,"FONTE PAGADORA:",null,null,null,null,null,null,{"$f":"FONTE_PAGADORA","v":"INSIRA O NOME DA FONTE PAGADORA AQUI"},null,null,null,null,null,null,null,null,null,null,null,null,null,null,null,"AGÊNCIA:",null,null,null,{"$f":"INDEX(Tabela1[],A5270,21)","v":0},null,null,null,null,null,"TIPO DE CONTA:",null,null,null,null,null,{"$f":"INDEX(Tabela1[],A5270,19)","v":0}]
[null,"Esta solicitação está de acordo com a Resolução BACEN 3.402/2006 e 3.424/2006, e sua revogação está condicionada a minha prévia e expressa manifestação."]
[]
[]
[]
[]
[null,"CONTA SALÁRIO (FUNCIONÁRIO):",null,null,null,null,null,null,null,null,null,null,null,null,null,null,null,null,null,null,null,null,null,null,"BANCO:",null,null,{"$f":"INDEX(Tabela1[],A5303,20)","v":0},null,{"$f":"IFERROR(VLOOKUP(AB5313,LISTA!Q:R,2,0),\"-\")","v":"-"}]
[]
[]
[]
[null,{"$f":"\"Solicitante de Portabilidade\"","v":"Solicitante de Portabilidade"},null,null,null,null,null,null,null,null,null,null,null,null,null,null,null,null,null,null,null,null,null,null,"Responsável pelo preenchimento do Termo"]
[]
[]
[null,"CONTA SALÁRIO (FUNCIONÁRIO):",null,null,null,null,null,null,null,null,null,null,null,null,null,null,null,null,null,null,null,null,null,null,"BANCO:",null,null,{"$f":"INDEX(Tabela1[],A5335,20)","v":0},null,{"$f":"IFERROR(VLOOKUP(AB5345,LISTA!Q:R,2,0),\"-\")","v":"-"}]
[]
[]
[null,{"$f":"UPPER(INDEX(Tabela1[],A5335,2))","v":""},null,null,null,null,null,null,null,null,null,null,null,null,null,null,null,null,null,null,null,null,null,null,{"$f":"FONTE_PAGADORA","v":"INSIRA O NOME DA FONTE PAGADORA AQUI"}]
[]
[]
[]
[]
[]
[]
[null,"________________________________________",null,null,null,null,null,null,null,null,null,null,null,null,null,null,null,null,null,null,null,null,null,null,"________________________________________"]
[]
[null,"À Cooperativa de Crédito Credisg LTDA - SICOOB CREDISG"]
[]
[null,"FONTE PAGADORA:",null,null,null,null,null,null,{"$f":"FONTE_PAGADORA","v":"INSIRA O NOME DA FONTE PAGADORA AQUI"},null,null,null,null,null,null,null,null,null,null,null,null,null,null,null,"AGÊNCIA:",null,null,null,{"$f":"INDEX(Tabela1[],A5400,21)","v":0},null,null,null,null,null,"TIPO DE CONTA:",null,null,null,null,null,{"$f":"INDEX(Tabela1[],A5400,19)","v":0}]
[]
[]
[]
[{"$f":"A5400+1","v":168},"TERMO DE AUTORIZAÇÃO PARA TRANSFERÊNCIA DE RECURSOS\nResoluções BACEN 3.402/2006 e 3.424/2006"]
[]
[]
[]
[null,"São Gotardo, ",null,null,null,null,{"$f":"DAY(TODAY())","v":6},null,"de",null,{"$f":"VLOOKUP(MONTH(TODAY()),LISTA!O:P,2,0)","v":"ABRIL"},null,null,null,null,"de",null,{"$f":"YEAR(TODAY())","v":2023}]
[]
[null,{"$f":"\"Solicitante de Portabilidade\"","v":"Solicitante de Portabilidade"},null,null,null,null,null,null,null,null,null,null,null,null,null,null,null,null,null,null,null,null,null,null,"Responsável pelo preenchimento do Termo"]
[{"$f":"A5433+1","v":169},"TERMO DE AUTORIZAÇÃO PARA TRANSFERÊNCIA DE RECURSOS\nResoluções BACEN 3.402/2006 e 3.424/2006"]
[]
[null,"FONTE PAGADORA:",null,null,null,null,null,null,{"$f":"FONTE_PAGADORA","v":"INSIRA O NOME DA FONTE PAGADORA AQUI"},null,null,null,null,null,null,null,null,null,null,null,null,null,null,null,"AGÊNCIA:",null,null,null,{"$f":"INDEX(Tabela1[],A5465,21)","v":0},null,null,null,null,null,"TIPO DE CONTA:",null,null,null,null,null,{"$f":"INDEX(Tabela1[],A5465,19)","v":0}]
[]
[]
[null,{"$f":"UPPER(INDEX(Tabela1[],A5465,2))","v":""},null,null,null,null,null,null,null,null,null,null,null,null,null,null,null,null,null,null,null,null,null,null,{"$f":"FONTE_PAGADORA","v":"INSIRA O NOME DA FONTE PAGADORA AQUI"}]
[]
[]
[null,"solicito a TRANSFERÊNCIA dos valores creditados em minha conta junto a essa instituição a título de salário, aposentadoria ou similares, para a conta descrita abaixo, na mesma do crédito, sem nenhum custo e em caráter permanente:"]
[]
[]
[null,"São Gotardo, ",null,null,null,null,{"$f":"DAY(TODAY())","v":6},null,"de",null,{"$f":"VLOOKUP(MONTH(TODAY()),LISTA!O:P,2,0)","v":"ABRIL"},null,null,null,null,"de",null,{"$f":"YEAR(TODAY())","v":2023}]
[null,"________________________________________",null,null,null,null,null,null,null,null,null,null,null,null,null,null,null,null,null,null,null,null,null,null,"________________________________________"]
[]
[null,"À Cooperativa de Crédito Credisg LTDA - SICOOB CREDISG"]
[]
[]
[]
[null,"________________________________________",null,null,null,null,null,null,null,null,null,null,null,null,null,null,null,null,null,null,null,null,null,null,"________________________________________"]
[]
[{"$f":"A5530+1","v":172},"TERMO DE AUTORIZAÇÃO PARA TRANSFERÊNCIA DE RECURSOS\nResoluções BACEN 3.402/2006 e 3.424/2006"]
[null,"solicito a TRANSFERÊNCIA dos valores creditados em minha conta junto a essa instituição a título de salário, aposentadoria ou similares, para a conta descrita abaixo, na mesma do crédito, sem nenhum custo e em caráter permanente:"]
[]
[]
[]
[]
[null,{"$f":"\"Solicitante de Portabilidade\"","v":"Solicitante de Portabilidade"},null,null,null,null,null,null,null,null,null,null,null,null,null,null,null,null,null,null,null,null,null,null,"Responsável pelo preenchimento do Termo"]
[{"$f":"A5563+1","v":173},"TERMO DE AUTORIZAÇÃO PARA TRANSFERÊNCIA DE RECURSOS\nResoluções BACEN 3.402/2006 e 3.424/2006"]
[]
[]
[]
[]
[null,{"$f":"\"Solicitante de Portabilidade\"","v":"Solicitante de Portabilidade"},null,null,null,null,null,null,null,null,null,null,null,null,null,null,null,null,null,null,null,null,null,null,"Responsável pelo preenchimento do Termo"]
[]
[]
[null,"CONTA ORIGEM",null,null,null,null,null,null,null,null,null,null,null,null,null,null,null,null,null,null,null,null,null,null,"CONTA DESTINO"]
[]
[null,null,null,null,null,null,null,null,null,null,null,null,null,null,null,null,null,null,null,null,null,null,null,null,"NÚMERO:",null,null,null,{"$f":"INDEX(Tabela1[],A5628,22)","v":0}]
[null,"São Gotardo, ",null,null,null,null,{"$f":"DAY(TODAY())","v":6},null,"de",null,{"$f":"VLOOKUP(MONTH(TODAY()),LISTA!O:P,2,0)","v":"ABRIL"},null,null,null,null,"de",null,{"$f":"YEAR(TODAY())","v":2023}]
[null,"________________________________________",null,null,null,null,null,null,null,null,null,null,null,null,null,null,null,null,null,null,null,null,null,null,"________________________________________"]
[]
[null,"À Cooperativa de Crédito Credisg LTDA - SICOOB CREDISG"]
[null,"CONTA ORIGEM",null,null,null,null,null,null,null,null,null,null,null,null,null,null,null,null,null,null,null,null,null,null,"CONTA DESTINO"]
[]
[]
[]
[]
[{"$f":"A5660+1","v":176},"TERMO DE AUTORIZAÇÃO PARA TRANSFERÊNCIA DE RECURSOS\nResoluções BACEN 3.402/2006 e 3.424/2006"]
[null,"solicito a TRANSFERÊNCIA dos valores creditados em minha conta junto a essa instituição a título de salário, aposentadoria ou similares, para a conta descrita abaixo, na mesma do crédito, sem nenhum custo e em caráter permanente:"]
[]
[]
[]
[]
[]
[{"$f":"A5693+1","v":177},"TERMO DE AUTORIZAÇÃO PARA TRANSFERÊNCIA DE RECURSOS\nResoluções BACEN 3.402/2006 e 3.424/2006"]
[null,"Eu, ",null,{"$f":"UPPER(INDEX(Tabela1[],A5725,2))","v":""},null,null,null,null,null,null,null,null,null,null,null,null,null,null,null,null,null,null,null,null,null,null,"portador do CPF número",null,null,null,null,null,null,null,null,null,{"$f":"TEXT(INDEX(Tabela1[],A5725,1),\"[<=9999]0000;[>=999999999999]00\\.000\\.000\\/0000-00;000\\.000\\.000-00\")","v":"0000"}]
[null,"CONTA SALÁRIO (FUNCIONÁRIO):",null,null,null,null,null,null,null,null,null,null,null,null,null,null,null,null,null,null,null,null,null,null,"BANCO:",null,null,{"$f":"INDEX(Tabela1[],A5725,20)","v":0},null,{"$f":"IFERROR(VLOOKUP(AB5735,LISTA!Q:R,2,0),\"-\")","v":"-"}]
[]
[]
[null,{"$f":"\"Solicitante de Portabilidade\"","v":"Solicitante de Portabilidade"},null,null,null,null,null,null,null,null,null,null,null,null,null,null,null,null,null,null,null,null,null,null,"Responsável pelo preenchimento do Termo"]
[]
[null,"À Cooperativa de Crédito Credisg LTDA - SICOOB CREDISG"]
[null,"CONTA ORIGEM",null,null,null,null,null,null,null,null,null,null,null,null,null,null,null,null,null,null,null,null,null,null,"CONTA DESTINO"]
[]
[null,null,null,null,null,null,null,null,null,null,null,null,null,null,null,null,null,null,null,null,null,null,null,null,"NÚMERO:",null,null,null,{"$f":"INDEX(Tabela1[],A5758,22)","v":0}]
[null,"São Gotardo, ",null,null,null,null,{"$f":"DAY(TODAY())","v":6},null,"de",null,{"$f":"VLOOKUP(MONTH(TODAY()),LISTA!O:P,2,0)","v":"ABRIL"},null,null,null,null,"de",null,{"$f":"YEAR(TODAY())","v":2023}]
[]
[]
[null,"À Cooperativa de Crédito Credisg LTDA - SICOOB CREDISG"]
[null,"CONTA ORIGEM",null,null,null,null,null,null,null,null,null,null,null,null,null,null,null,null,null,null,null,null,null,null,"CONTA DESTINO"]
[]
[]
[]
[]
[]
[null,"solicito a TRANSFERÊNCIA dos valores creditados em minha conta junto a essa instituição a título de salário, aposentadoria ou similares, para a conta descrita abaixo, na mesma do crédito, sem nenhum custo e em caráter permanente:"]
[null,"CONTA ORIGEM",null,null,null,null,null,null,null,null,null,null,null,null,null,null,null,null,null,null,null,null,null,null,"CONTA DESTINO"]
[]
[]
[]
[]
[{"$f":"A5823+1","v":181},"TERMO DE AUTORIZAÇÃO PARA TRANSFERÊNCIA DE RECURSOS\nResoluções BACEN 3.402/2006 e 3.424/2006"]
[]
[null,"CONTA SALÁRIO (FUNCIONÁRIO):",null,null,null,null,null,null,null,null,null,null,null,null,null,null,null,null,null,null,null,null,null,null,"BANCO:",null,null,{"$f":"INDEX(Tabela1[],A5855,20)","v":0},null,{"$f":"IFERROR(VLOOKUP(AB5865,LISTA!Q:R,2,0),\"-\")","v":"-"}]
[]
[]
[null,{"$f":"\"Solicitante de Portabilidade\"","v":"Solicitante de Portabilidade"},null,null,null,null,null,null,null,null,null,null,null,null,null,null,null,null,null,null,null,null,null,null,"Responsável pelo preenchimento do Termo"]
[]
[]
[null,"Eu, ",null,{"$f":"UPPER(INDEX(Tabela1[],A5888,2))","v":""},null,null,null,null,null,null,null,null,null,null,null,null,null,null,null,null,null,null,null,null,null,null,"portador do CPF número",null,null,null,null,null,null,null,null,null,{"$f":"TEXT(INDEX(Tabela1[],A5888,1),\"[<=9999]0000;[>=999999999999]00\\.000\\.000\\/0000-00;000\\.000\\.000-00\")","v":"0000"}]
[]
[null,null,null,null,null,null,null,null,null,null,null,null,null,null,null,null,null,null,null,null,null,null,null,null,"NÚMERO:",null,null,null,{"$f":"INDEX(Tabela1[],A5888,22)","v":0}]
[]
[null,"________________________________________",null,null,null,null,null,null,null,null,null,null,null,null,null,null,null,null,null,null,null,null,null,null,"________________________________________"]
[]
[]
[null,"CONTA ORIGEM",null,null,null,null,null,null,null,null,null,null,null,null,null,null,null,null,null,null,null,null,null,null,"CONTA DESTINO"]
[]
[]
[]
[]
[]
[null,"solicito a TRANSFERÊNCIA dos valores creditados em minha conta junto a essa instituição a título de salário, aposentadoria ou similares, para a conta descrita abaixo, na mesma do crédito, sem nenhum custo e em caráter permanente:"]
[]
[]
[null,"Esta solicitação está de acordo com a Resolução BACEN 3.402/2006 e 3.424/2006, e sua revogação está condicionada a minha prévia e expressa manifestação."]
[]
[]
[{"$f":"A5953+1","v":185},"TERMO DE AUTORIZAÇÃO PARA TRANSFERÊNCIA DE RECURSOS\nResoluções BACEN 3.402/2006 e 3.424/2006"]
[]
[]
[]
[]
[null,{"$f":"UPPER(INDEX(Tabela1[],A5985,2))","v":""},null,null,null,null,null,null,null,null,null,null,null,null,null,null,null,null,null,null,null,null,null,null,{"$f":"FONTE_PAGADORA","v":"INSIRA O NOME DA FONTE PAGADORA AQUI"}]
[]
[]
[null,"Eu, ",null,{"$f":"UPPER(INDEX(Tabela1[],A6018,2))","v":""},null,null,null,null,null,null,null,null,null,null,null,null,null,null,null,null,null,null,null,null,null,null,"portador do CPF número",null,null,null,null,null,null,null,null,null,{"$f":"TEXT(INDEX(Tabela1[],A6018,1),\"[<=9999]0000;[>=999999999999]00\\.000\\.000\\/0000-00;000\\.000\\.000-00\")","v":"0000"}]
[]
[]
[null,"São Gotardo, ",null,null,null,null,{"$f":"DAY(TODAY())","v":6},null,"de",null,{"$f":"VLOOKUP(MONTH(TODAY()),LISTA!O:P,2,0)","v":"ABRIL"},null,null,null,null,"de",null,{"$f":"YEAR(TODAY())","v":2023}]
[null,"________________________________________",null,null,null,null,null,null,null,null,null,null,null,null,null,null,null,null,null,null,null,null,null,null,"________________________________________"]
[]
[]
[null,"CONTA ORIGEM",null,null,null,null,null,null,null,null,null,null,null,null,null,null,null,null,null,null,null,null,null,null,"CONTA DESTINO"]
[null,"FONTE PAGADORA:",null,null,null,null,null,null,{"$f":"FONTE_PAGADORA","v":"INSIRA O NOME DA FONTE PAGADORA AQUI"},null,null,null,null,null,null,null,null,null,null,null,null,null,null,null,"AGÊNCIA:",null,null,null,{"$f":"INDEX(Tabela1[],A6050,21)","v":0},null,null,null,null,null,"TIPO DE CONTA:",null,null,null,null,null,{"$f":"INDEX(Tabela1[],A6050,19)","v":0}]
[]
[null,"________________________________________",null,null,null,null,null,null,null,null,null,null,null,null,null,null,null,null,null,null,null,null,null,null,"________________________________________"]
[]
[]
[null,"Eu, ",null,{"$f":"UPPER(INDEX(Tabela1[],A6083,2))","v":""},null,null,null,null,null,null,null,null,null,null,null,null,null,null,null,null,null,null,null,null,null,null,"portador do CPF número",null,null,null,null,null,null,null,null,null,{"$f":"TEXT(INDEX(Tabela1[],A6083,1),\"[<=9999]0000;[>=999999999999]00\\.000\\.000\\/0000-00;000\\.000\\.000-00\")","v":"0000"}]
[null,"solicito a TRANSFERÊNCIA dos valores creditados em minha conta junto a essa instituição a título de salário, aposentadoria ou similares, para a conta descrita abaixo, na mesma do crédito, sem nenhum custo e em caráter permanente:"]
[null,"FONTE PAGADORA:",null,null,null,null,null,null,{"$f":"FONTE_PAGADORA","v":"INSIRA O NOME DA FONTE PAGADORA AQUI"},null,null,null,null,null,null,null,null,null,null,null,null,null,null,null,"AGÊNCIA:",null,null,null,{"$f":"INDEX(Tabela1[],A6083,21)","v":0},null,null,null,null,null,"TIPO DE CONTA:",null,null,null,null,null,{"$f":"INDEX(Tabela1[],A6083,19)","v":0}]
[null,"Esta solicitação está de acordo com a Resolução BACEN 3.402/2006 e 3.424/2006, e sua revogação está condicionada a minha prévia e expressa manifestação."]
[]
[]
[{"$f":"A6083+1","v":189},"TERMO DE AUTORIZAÇÃO PARA TRANSFERÊNCIA DE RECURSOS\nResoluções BACEN 3.402/2006 e 3.424/2006"]
[]
[]
[]
[]
[null,"________________________________________",null,null,null,null,null,null,null,null,null,null,null,null,null,null,null,null,null,null,null,null,null,null,"________________________________________"]
[]
[]
[null,"Eu, ",null,{"$f":"UPPER(INDEX(Tabela1[],A6148,2))","v":""},null,null,null,null,null,null,null,null,null,null,null,null,null,null,null,null,null,null,null,null,null,null,"portador do CPF número",null,null,null,null,null,null,null,null,null,{"$f":"TEXT(INDEX(Tabela1[],A6148,1),\"[<=9999]0000;[>=999999999999]00\\.000\\.000\\/0000-00;000\\.000\\.000-00\")","v":"0000"}]
[null,"CONTA SALÁRIO (FUNCIONÁRIO):",null,null,null,null,null,null,null,null,null,null,null,null,null,null,null,null,null,null,null,null,null,null,"BANCO:",null,null,{"$f":"INDEX(Tabela1[],A6148,20)","v":0},null,{"$f":"IFERROR(VLOOKUP(AB6158,LISTA!Q:R,2,0),\"-\")","v":"-"}]
[]
[null,"São Gotardo, ",null,null,null,null,{"$f":"DAY(TODAY())","v":6},null,"de",null,{"$f":"VLOOKUP(MONTH(TODAY()),LISTA!O:P,2,0)","v":"ABRIL"},null,null,null,null,"de",null,{"$f":"YEAR(TODAY())","v":2023}]
[null,{"$f":"UPPER(INDEX(Tabela1[],A6148,2))","v":""},null,null,null,null,null,null,null,null,null,null,null,null,null,null,null,null,null,null,null,null,null,null,{"$f":"FONTE_PAGADORA","v":"INSIRA O NOME DA FONTE PAGADORA AQUI"}]
[]
[]
[]
[]
[null,"São Gotardo, ",null,null,null,null,{"$f":"DAY(TODAY())","v":6},null,"de",null,{"$f":"VLOOKUP(MONTH(TODAY()),LISTA!O:P,2,0)","v":"ABRIL"},null,null,null,null,"de",null,{"$f":"YEAR(TODAY())","v":2023}]
[null,"________________________________________",null,null,null,null,null,null,null,null,null,null,null,null,null,null,null,null,null,null,null,null,null,null,"________________________________________"]
[]
[]
[]
[null,"solicito a TRANSFERÊNCIA dos valores creditados em minha conta junto a essa instituição a título de salário, aposentadoria ou similares, para a conta descrita abaixo, na mesma do crédito, sem nenhum custo e em caráter permanente:"]
[null,"FONTE PAGADORA:",null,null,null,null,null,null,{"$f":"FONTE_PAGADORA","v":"INSIRA O NOME DA FONTE PAGADORA AQUI"},null,null,null,null,null,null,null,null,null,null,null,null,null,null,null,"AGÊNCIA:",null,null,null,{"$f":"INDEX(Tabela1[],A6213,21)","v":0},null,null,null,null,null,"TIPO DE CONTA:",null,null,null,null,null,{"$f":"INDEX(Tabela1[],A6213,19)","v":0}]
[null,"Esta solicitação está de acordo com a Resolução BACEN 3.402/2006 e 3.424/2006, e sua revogação está condicionada a minha prévia e expressa manifestação."]
[]
[]
[{"$f":"A6213+1","v":193},"TERMO DE AUTORIZAÇÃO PARA TRANSFERÊNCIA DE RECURSOS\nResoluções BACEN 3.402/2006 e 3.424/2006"]
[null,"solicito a TRANSFERÊNCIA dos valores creditados em minha conta junto a essa instituição a título de salário, aposentadoria ou similares, para a conta descrita abaixo, na mesma do crédito, sem nenhum custo e em caráter permanente:"]
[]
[null,"Esta solicitação está de acordo com a Resolução BACEN 3.402/2006 e 3.424/2006, e sua revogação está condicionada a minha prévia e expressa manifestação."]
[]
[null,{"$f":"\"Solicitante de Portabilidade\"","v":"Solicitante de Portabilidade"},null,null,null,null,null,null,null,null,null,null,null,null,null,null,null,null,null,null,null,null,null,null,"Responsável pelo preenchimento do Termo"]
[]
[]
[null,"Eu, ",null,{"$f":"UPPER(INDEX(Tabela1[],A6278,2))","v":""},null,null,null,null,null,null,null,null,null,null,null,null,null,null,null,null,null,null,null,null,null,null,"portador do CPF número",null,null,null,null,null,null,null,null,null,{"$f":"TEXT(INDEX(Tabela1[],A6278,1),\"[<=9999]0000;[>=999999999999]00\\.000\\.000\\/0000-00;000\\.000\\.000-00\")","v":"0000"}]
[]
[null,null,null,null,null,null,null,null,null,null,null,null,null,null,null,null,null,null,null,null,null,null,null,null,"NÚMERO:",null,null,null,{"$f":"INDEX(Tabela1[],A6278,22)","v":0}]
[]
[null,{"$f":"UPPER(INDEX(Tabela1[],A6278,2))","v":""},null,null,null,null,null,null,null,null,null,null,null,null,null,null,null,null,null,null,null,null,null,null,{"$f":"FONTE_PAGADORA","v":"INSIRA O NOME DA FONTE PAGADORA AQUI"}]
[]
[null,"Eu, ",null,{"$f":"UPPER(INDEX(Tabela1[],A6310,2))","v":""},null,null,null,null,null,null,null,null,null,null,null,null,null,null,null,null,null,null,null,null,null,null,"portador do CPF número",null,null,null,null,null,null,null,null,null,{"$f":"TEXT(INDEX(Tabela1[],A6310,1),\"[<=9999]0000;[>=999999999999]00\\.000\\.000\\/0000-00;000\\.000\\.000-00\")","v":"0000"}]
[null,"CONTA ORIGEM",null,null,null,null,null,null,null,null,null,null,null,null,null,null,null,null,null,null,null,null,null,null,"CONTA DESTINO"]
[null,null,null,null,null,null,null,null,null,null,null,null,null,null,null,null,null,null,null,null,null,null,null,null,"NÚMERO:",null,null,null,{"$f":"INDEX(Tabela1[],A6310,22)","v":0}]
[null,"São Gotardo, ",null,null,null,null,{"$f":"DAY(TODAY())","v":6},null,"de",null,{"$f":"VLOOKUP(MONTH(TODAY()),LISTA!O:P,2,0)","v":"ABRIL"},null,null,null,null,"de",null,{"$f":"YEAR(TODAY())","v":2023}]
[null,"________________________________________",null,null,null,null,null,null,null,null,null,null,null,null,null,null,null,null,null,null,null,null,null,null,"________________________________________"]
[null,{"$f":"UPPER(INDEX(Tabela1[],A6310,2))","v":""},null,null,null,null,null,null,null,null,null,null,null,null,null,null,null,null,null,null,null,null,null,null,{"$f":"FONTE_PAGADORA","v":"INSIRA O NOME DA FONTE PAGADORA AQUI"}]
[{"$f":"A6310+1","v":196},"TERMO DE AUTORIZAÇÃO PARA TRANSFERÊNCIA DE RECURSOS\nResoluções BACEN 3.402/2006 e 3.424/2006"]
[]
[]
[null,"FONTE PAGADORA:",null,null,null,null,null,null,{"$f":"FONTE_PAGADORA","v":"INSIRA O NOME DA FONTE PAGADORA AQUI"},null,null,null,null,null,null,null,null,null,null,null,null,null,null,null,"AGÊNCIA:",null,null,null,{"$f":"INDEX(Tabela1[],A6343,21)","v":0},null,null,null,null,null,"TIPO DE CONTA:",null,null,null,null,null,{"$f":"INDEX(Tabela1[],A6343,19)","v":0}]
[]
[]
[]
[]
[null,"solicito a TRANSFERÊNCIA dos valores creditados em minha conta junto a essa instituição a título de salário, aposentadoria ou similares, para a conta descrita abaixo, na mesma do crédito, sem nenhum custo e em caráter permanente:"]
[]
[null,null,null,null,null,null,null,null,null,null,null,null,null,null,null,null,null,null,null,null,null,null,null,null,"NÚMERO:",null,null,null,{"$f":"INDEX(Tabela1[],A6375,22)","v":0}]
[]
[]
[]
[]
[]
[null,"FONTE PAGADORA:",null,null,null,null,null,null,{"$f":"FONTE_PAGADORA","v":"INSIRA O NOME DA FONTE PAGADORA AQUI"},null,null,null,null,null,null,null,null,null,null,null,null,null,null,null,"AGÊNCIA:",null,null,null,{"$f":"INDEX(Tabela1[],A6408,21)","v":0},null,null,null,null,null,"TIPO DE CONTA:",null,null,null,null,null,{"$f":"INDEX(Tabela1[],A6408,19)","v":0}]
[]
[]
[null,{"$f":"UPPER(INDEX(Tabela1[],A6408,2))","v":""},null,null,null,null,null,null,null,null,null,null,null,null,null,null,null,null,null,null,null,null,null,null,{"$f":"FONTE_PAGADORA","v":"INSIRA O NOME DA FONTE PAGADORA AQUI"}]
[]
[]
[null,"CONTA ORIGEM",null,null,null,null,null,null,null,null,null,null,null,null,null,null,null,null,null,null,null,null,null,null,"CONTA DESTINO"]
[null,null,null,null,null,null,null,null,null,null,null,null,null,null,null,null,null,null,null,null,null,null,null,null,"NÚMERO:",null,null,null,{"$f":"INDEX(Tabela1[],A6440,22)","v":0}]
[null,"São Gotardo, ",null,null,null,null,{"$f":"DAY(TODAY())","v":6},null,"de",null,{"$f":"VLOOKUP(MONTH(TODAY()),LISTA!O:P,2,0)","v":"ABRIL"},null,null,null,null,"de",null,{"$f":"YEAR(TODAY())","v":2023}]
[]
[null,{"$f":"\"Solicitante de Portabilidade\"","v":"Solicitante de Portabilidade"},null,null,null,null,null,null,null,null,null,null,null,null,null,null,null,null,null,null,null,null,null,null,"Responsável pelo preenchimento do Termo"]
[]
[null,"À Cooperativa de Crédito Credisg LTDA - SICOOB CREDISG"]
[]
[null,"FONTE PAGADORA:",null,null,null,null,null,null,{"$f":"FONTE_PAGADORA","v":"INSIRA O NOME DA FONTE PAGADORA AQUI"},null,null,null,null,null,null,null,null,null,null,null,null,null,null,null,"AGÊNCIA:",null,null,null,{"$f":"INDEX(Tabela1[],A6473,21)","v":0},null,null,null,null,null,"TIPO DE CONTA:",null,null,null,null,null,{"$f":"INDEX(Tabela1[],A6473,19)","v":0}]
[]
[null,"________________________________________",null,null,null,null,null,null,null,null,null,null,null,null,null,null,null,null,null,null,null,null,null,null,"________________________________________"]
[]
[]
[null,"solicito a TRANSFERÊNCIA dos valores creditados em minha conta junto a essa instituição a título de salário, aposentadoria ou similares, para a conta descrita abaixo, na mesma do crédito, sem nenhum custo e em caráter permanente:"]
[null,"FONTE PAGADORA:",null,null,null,null,null,null,{"$f":"FONTE_PAGADORA","v":"INSIRA O NOME DA FONTE PAGADORA AQUI"},null,null,null,null,null,null,null,null,null,null,null,null,null,null,null,"AGÊNCIA:",null,null,null,{"$f":"INDEX(Tabela1[],A6505,21)","v":0},null,null,null,null,null,"TIPO DE CONTA:",null,null,null,null,null,{"$f":"INDEX(Tabela1[],A6505,19)","v":0}]
[]
[null,"Esta solicitação está de acordo com a Resolução BACEN 3.402/2006 e 3.424/2006, e sua revogação está condicionada a minha prévia e expressa manifestação."]
[]
[]
[{"$f":"A6505+1","v":202},"TERMO DE AUTORIZAÇÃO PARA TRANSFERÊNCIA DE RECURSOS\nResoluções BACEN 3.402/2006 e 3.424/2006"]
[]
[]
[]
[]
[null,{"$f":"\"Solicitante de Portabilidade\"","v":"Solicitante de Portabilidade"},null,null,null,null,null,null,null,null,null,null,null,null,null,null,null,null,null,null,null,null,null,null,"Responsável pelo preenchimento do Termo"]
[]
[]
[]
[null,null,null,null,null,null,null,null,null,null,null,null,null,null,null,null,null,null,null,null,null,null,null,null,"NÚMERO:",null,null,null,{"$f":"INDEX(Tabela1[],A6570,22)","v":0}]
[]
[]
[null,{"$f":"UPPER(INDEX(Tabela1[],A6570,2))","v":""},null,null,null,null,null,null,null,null,null,null,null,null,null,null,null,null,null,null,null,null,null,null,{"$f":"FONTE_PAGADORA","v":"INSIRA O NOME DA FONTE PAGADORA AQUI"}]
[]
[null,"À Cooperativa de Crédito Credisg LTDA - SICOOB CREDISG"]
[]
[]
[null,"Esta solicitação está de acordo com a Resolução BACEN 3.402/2006 e 3.424/2006, e sua revogação está condicionada a minha prévia e expressa manifestação."]
[]
[]
[]
[]
[null,"CONTA SALÁRIO (FUNCIONÁRIO):",null,null,null,null,null,null,null,null,null,null,null,null,null,null,null,null,null,null,null,null,null,null,"BANCO:",null,null,{"$f":"INDEX(Tabela1[],A6635,20)","v":0},null,{"$f":"IFERROR(VLOOKUP(AB6645,LISTA!Q:R,2,0),\"-\")","v":"-"}]
[]
[null,"Esta solicitação está de acordo com a Resolução BACEN 3.402/2006 e 3.424/2006, e sua revogação está condicionada a minha prévia e expressa manifestação."]
[]
[]
[null,"À Cooperativa de Crédito Credisg LTDA - SICOOB CREDISG"]
[null,"Eu, ",null,{"$f":"UPPER(INDEX(Tabela1[],A6668,2))","v":""},null,null,null,null,null,null,null,null,null,null,null,null,null,null,null,null,null,null,null,null,null,null,"portador do CPF número",null,null,null,null,null,null,null,null,null,{"$f":"TEXT(INDEX(Tabela1[],A6668,1),\"[<=9999]0000;[>=999999999999]00\\.000\\.000\\/0000-00;000\\.000\\.000-00\")","v":"0000"}]
[null,"CONTA SALÁRIO (FUNCIONÁRIO):",null,null,null,null,null,null,null,null,null,null,null,null,null,null,null,null,null,null,null,null,null,null,"BANCO:",null,null,{"$f":"INDEX(Tabela1[],A6668,20)","v":0},null,{"$f":"IFERROR(VLOOKUP(AB6678,LISTA!Q:R,2,0),\"-\")","v":"-"}]
[]
[]
[null,{"$f":"\"Solicitante de Portabilidade\"","v":"Solicitante de Portabilidade"},null,null,null,null,null,null,null,null,null,null,null,null,null,null,null,null,null,null,null,null,null,null,"Responsável pelo preenchimento do Termo"]
[]
[null,"Eu, ",null,{"$f":"UPPER(INDEX(Tabela1[],A6700,2))","v":""},null,null,null,null,null,null,null,null,null,null,null,null,null,null,null,null,null,null,null,null,null,null,"portador do CPF número",null,null,null,null,null,null,null,null,null,{"$f":"TEXT(INDEX(Tabela1[],A6700,1),\"[<=9999]0000;[>=999999999999]00\\.000\\.000\\/0000-00;000\\.000\\.000-00\")","v":"0000"}]
[]
[null,null,null,null,null,null,null,null,null,null,null,null,null,null,null,null,null,null,null,null,null,null,null,null,"NÚMERO:",null,null,null,{"$f":"INDEX(Tabela1[],A6700,22)","v":0}]
[]
[]
[null,{"$f":"UPPER(INDEX(Tabela1[],A6700,2))","v":""},null,null,null,null,null,null,null,null,null,null,null,null,null,null,null,null,null,null,null,null,null,null,{"$f":"FONTE_PAGADORA","v":"INSIRA O NOME DA FONTE PAGADORA AQUI"}]
[]
[null,"À Cooperativa de Crédito Credisg LTDA - SICOOB CREDISG"]
[null,"CONTA ORIGEM",null,null,null,null,null,null,null,null,null,null,null,null,null,null,null,null,null,null,null,null,null,null,"CONTA DESTINO"]
[null,null,null,null,null,null,null,null,null,null,null,null,null,null,null,null,null,null,null,null,null,null,null,null,"NÚMERO:",null,null,null,{"$f":"INDEX(Tabela1[],A6733,22)","v":0}]
[]
[]
[]
[null,"À Cooperativa de Crédito Credisg LTDA - SICOOB CREDISG"]
[]
[]
[null,"FONTE PAGADORA:",null,null,null,null,null,null,{"$f":"FONTE_PAGADORA","v":"INSIRA O NOME DA FONTE PAGADORA AQUI"},null,null,null,null,null,null,null,null,null,null,null,null,null,null,null,"AGÊNCIA:",null,null,null,{"$f":"INDEX(Tabela1[],A6765,21)","v":0},null,null,null,null,null,"TIPO DE CONTA:",null,null,null,null,null,{"$f":"INDEX(Tabela1[],A6765,19)","v":0}]
[null,"Esta solicitação está de acordo com a Resolução BACEN 3.402/2006 e 3.424/2006, e sua revogação está condicionada a minha prévia e expressa manifestação."]
[]
[]
[]
[]
[null,"CONTA SALÁRIO (FUNCIONÁRIO):",null,null,null,null,null,null,null,null,null,null,null,null,null,null,null,null,null,null,null,null,null,null,"BANCO:",null,null,{"$f":"INDEX(Tabela1[],A6798,20)","v":0},null,{"$f":"IFERROR(VLOOKUP(AB6808,LISTA!Q:R,2,0),\"-\")","v":"-"}]
[]
[]
[null,{"$f":"\"Solicitante de Portabilidade\"","v":"Solicitante de Portabilidade"},null,null,null,null,null,null,null,null,null,null,null,null,null,null,null,null,null,null,null,null,null,null,"Responsável pelo preenchimento do Termo"]
[]
[null,"Eu, ",null,{"$f":"UPPER(INDEX(Tabela1[],A6830,2))","v":""},null,null,null,null,null,null,null,null,null,null,null,null,null,null,null,null,null,null,null,null,null,null,"portador do CPF número",null,null,null,null,null,null,null,null,null,{"$f":"TEXT(INDEX(Tabela1[],A6830,1),\"[<=9999]0000;[>=999999999999]00\\.000\\.000\\/0000-00;000\\.000\\.000-00\")","v":"0000"}]
[]
[null,"CONTA SALÁRIO (FUNCIONÁRIO):",null,null,null,null,null,null,null,null,null,null,null,null,null,null,null,null,null,null,null,null,null,null,"BANCO:",null,null,{"$f":"INDEX(Tabela1[],A6830,20)","v":0},null,{"$f":"IFERROR(VLOOKUP(AB6840,LISTA!Q:R,2,0),\"-\")","v":"-"}]
[]
[]
[null,{"$f":"UPPER(INDEX(Tabela1[],A6830,2))","v":""},null,null,null,null,null,null,null,null,null,null,null,null,null,null,null,null,null,null,null,null,null,null,{"$f":"FONTE_PAGADORA","v":"INSIRA O NOME DA FONTE PAGADORA AQUI"}]
[]
[]
[null,"CONTA ORIGEM",null,null,null,null,null,null,null,null,null,null,null,null,null,null,null,null,null,null,null,null,null,null,"CONTA DESTINO"]
[]
[]
[]
[]
[null,"À Cooperativa de Crédito Credisg LTDA - SICOOB CREDISG"]
[null,"solicito a TRANSFERÊNCIA dos valores creditados em minha conta junto a essa instituição a título de salário, aposentadoria ou similares, para a conta descrita abaixo, na mesma do crédito, sem nenhum custo e em caráter permanente:"]
[]
[null,"FONTE PAGADORA:",null,null,null,null,null,null,{"$f":"FONTE_PAGADORA","v":"INSIRA O NOME DA FONTE PAGADORA AQUI"},null,null,null,null,null,null,null,null,null,null,null,null,null,null,null,"AGÊNCIA:",null,null,null,{"$f":"INDEX(Tabela1[],A6895,21)","v":0},null,null,null,null,null,"TIPO DE CONTA:",null,null,null,null,null,{"$f":"INDEX(Tabela1[],A6895,19)","v":0}]
[null,"Esta solicitação está de acordo com a Resolução BACEN 3.402/2006 e 3.424/2006, e sua revogação está condicionada a minha prévia e expressa manifestação."]
[]
[]
[{"$f":"A6895+1","v":214},"TERMO DE AUTORIZAÇÃO PARA TRANSFERÊNCIA DE RECURSOS\nResoluções BACEN 3.402/2006 e 3.424/2006"]
[]
[null,"CONTA SALÁRIO (FUNCIONÁRIO):",null,null,null,null,null,null,null,null,null,null,null,null,null,null,null,null,null,null,null,null,null,null,"BANCO:",null,null,{"$f":"INDEX(Tabela1[],A6928,20)","v":0},null,{"$f":"IFERROR(VLOOKUP(AB6938,LISTA!Q:R,2,0),\"-\")","v":"-"}]
[]
[]
[null,{"$f":"UPPER(INDEX(Tabela1[],A6928,2))","v":""},null,null,null,null,null,null,null,null,null,null,null,null,null,null,null,null,null,null,null,null,null,null,{"$f":"FONTE_PAGADORA","v":"INSIRA O NOME DA FONTE PAGADORA AQUI"}]
[]
[null,"Eu, ",null,{"$f":"UPPER(INDEX(Tabela1[],A6960,2))","v":""},null,null,null,null,null,null,null,null,null,null,null,null,null,null,null,null,null,null,null,null,null,null,"portador do CPF número",null,null,null,null,null,null,null,null,null,{"$f":"TEXT(INDEX(Tabela1[],A6960,1),\"[<=9999]0000;[>=999999999999]00\\.000\\.000\\/0000-00;000\\.000\\.000-00\")","v":"0000"}]
[]
[null,"CONTA SALÁRIO (FUNCIONÁRIO):",null,null,null,null,null,null,null,null,null,null,null,null,null,null,null,null,null,null,null,null,null,null,"BANCO:",null,null,{"$f":"INDEX(Tabela1[],A6960,20)","v":0},null,{"$f":"IFERROR(VLOOKUP(AB6970,LISTA!Q:R,2,0),\"-\")","v":"-"}]
[]
[]
[null,{"$f":"UPPER(INDEX(Tabela1[],A6960,2))","v":""},null,null,null,null,null,null,null,null,null,null,null,null,null,null,null,null,null,null,null,null,null,null,{"$f":"FONTE_PAGADORA","v":"INSIRA O NOME DA FONTE PAGADORA AQUI"}]
[]
[]
[null,"solicito a TRANSFERÊNCIA dos valores creditados em minha conta junto a essa instituição a título de salário, aposentadoria ou similares, para a conta descrita abaixo, na mesma do crédito, sem nenhum custo e em caráter permanente:"]
[]
[]
[null,"________________________________________",null,null,null,null,null,null,null,null,null,null,null,null,null,null,null,null,null,null,null,null,null,null,"________________________________________"]
[]
[]
[null,"À Cooperativa de Crédito Credisg LTDA - SICOOB CREDISG"]
[]
[null,"FONTE PAGADORA:",null,null,null,null,null,null,{"$f":"FONTE_PAGADORA","v":"INSIRA O NOME DA FONTE PAGADORA AQUI"},null,null,null,null,null,null,null,null,null,null,null,null,null,null,null,"AGÊNCIA:",null,null,null,{"$f":"INDEX(Tabela1[],A7025,21)","v":0},null,null,null,null,null,"TIPO DE CONTA:",null,null,null,null,null,{"$f":"INDEX(Tabela1[],A7025,19)","v":0}]
[]
[]
[]
[{"$f":"A7025+1","v":218},"TERMO DE AUTORIZAÇÃO PARA TRANSFERÊNCIA DE RECURSOS\nResoluções BACEN 3.402/2006 e 3.424/2006"]
[]
[]
[]
[]
[null,{"$f":"\"Solicitante de Portabilidade\"","v":"Solicitante de Portabilidade"},null,null,null,null,null,null,null,null,null,null,null,null,null,null,null,null,null,null,null,null,null,null,"Responsável pelo preenchimento do Termo"]
[]
[{"$f":"A7058+1","v":219},"TERMO DE AUTORIZAÇÃO PARA TRANSFERÊNCIA DE RECURSOS\nResoluções BACEN 3.402/2006 e 3.424/2006"]
[]
[]
[]
[]
[null,{"$f":"\"Solicitante de Portabilidade\"","v":"Solicitante de Portabilidade"},null,null,null,null,null,null,null,null,null,null,null,null,null,null,null,null,null,null,null,null,null,null,"Responsável pelo preenchimento do Termo"]
[]
[]
[null,"CONTA ORIGEM",null,null,null,null,null,null,null,null,null,null,null,null,null,null,null,null,null,null,null,null,null,null,"CONTA DESTINO"]
[]
[]
[null,"________________________________________",null,null,null,null,null,null,null,null,null,null,null,null,null,null,null,null,null,null,null,null,null,null,"________________________________________"]
[]
[]
[null,"À Cooperativa de Crédito Credisg LTDA - SICOOB CREDISG"]
[]
[]
[]
[]
[]
[{"$f":"A7155+1","v":222},"TERMO DE AUTORIZAÇÃO PARA TRANSFERÊNCIA DE RECURSOS\nResoluções BACEN 3.402/2006 e 3.424/2006"]
[null,"solicito a TRANSFERÊNCIA dos valores creditados em minha conta junto a essa instituição a título de salário, aposentadoria ou similares, para a conta descrita abaixo, na mesma do crédito, sem nenhum custo e em caráter permanente:"]
[]
[]
[]
[null,{"$f":"\"Solicitante de Portabilidade\"","v":"Solicitante de Portabilidade"},null,null,null,null,null,null,null,null,null,null,null,null,null,null,null,null,null,null,null,null,null,null,"Responsável pelo preenchimento do Termo"]
[]
[{"$f":"A7188+1","v":223},"TERMO DE AUTORIZAÇÃO PARA TRANSFERÊNCIA DE RECURSOS\nResoluções BACEN 3.402/2006 e 3.424/2006"]
[]
[null,"CONTA SALÁRIO (FUNCIONÁRIO):",null,null,null,null,null,null,null,null,null,null,null,null,null,null,null,null,null,null,null,null,null,null,"BANCO:",null,null,{"$f":"INDEX(Tabela1[],A7220,20)","v":0},null,{"$f":"IFERROR(VLOOKUP(AB7230,LISTA!Q:R,2,0),\"-\")","v":"-"}]
[]
[]
[null,{"$f":"\"Solicitante de Portabilidade\"","v":"Solicitante de Portabilidade"},null,null,null,null,null,null,null,null,null,null,null,null,null,null,null,null,null,null,null,null,null,null,"Responsável pelo preenchimento do Termo"]
[]
[null,"À Cooperativa de Crédito Credisg LTDA - SICOOB CREDISG"]
[null,"CONTA ORIGEM",null,null,null,null,null,null,null,null,null,null,null,null,null,null,null,null,null,null,null,null,null,null,"CONTA DESTINO"]
[]
[null,"São Gotardo, ",null,null,null,null,{"$f":"DAY(TODAY())","v":6},null,"de",null,{"$f":"VLOOKUP(MONTH(TODAY()),LISTA!O:P,2,0)","v":"ABRIL"},null,null,null,null,"de",null,{"$f":"YEAR(TODAY())","v":2023}]
[null,"________________________________________",null,null,null,null,null,null,null,null,null,null,null,null,null,null,null,null,null,null,null,null,null,null,"________________________________________"]
[]
[]
[null,"À Cooperativa de Crédito Credisg LTDA - SICOOB CREDISG"]
[null,"CONTA ORIGEM",null,null,null,null,null,null,null,null,null,null,null,null,null,null,null,null,null,null,null,null,null,null,"CONTA DESTINO"]
[]
[]
[]
[]
[]
[null,"solicito a TRANSFERÊNCIA dos valores creditados em minha conta junto a essa instituição a título de salário, aposentadoria ou similares, para a conta descrita abaixo, na mesma do crédito, sem nenhum custo e em caráter permanente:"]
[]
[null,null,null,null,null,null,null,null,null,null,null,null,null,null,null,null,null,null,null,null,null,null,null,null,"NÚMERO:",null,null,null,{"$f":"INDEX(Tabela1[],A7318,22)","v":0}]
[]
[null,{"$f":"\"Solicitante de Portabilidade\"","v":"Solicitante de Portabilidade"},null,null,null,null,null,null,null,null,null,null,null,null,null,null,null,null,null,null,null,null,null,null,"Responsável pelo preenchimento do Termo"]
[]
[{"$f":"A7318+1","v":227},"TERMO DE AUTORIZAÇÃO PARA TRANSFERÊNCIA DE RECURSOS\nResoluções BACEN 3.402/2006 e 3.424/2006"]
[]
[null,"CONTA SALÁRIO (FUNCIONÁRIO):",null,null,null,null,null,null,null,null,null,null,null,null,null,null,null,null,null,null,null,null,null,null,"BANCO:",null,null,{"$f":"INDEX(Tabela1[],A7350,20)","v":0},null,{"$f":"IFERROR(VLOOKUP(AB7360,LISTA!Q:R,2,0),\"-\")","v":"-"}]
[]
[]
[null,{"$f":"\"Solicitante de Portabilidade\"","v":"Solicitante de Portabilidade"},null,null,null,null,null,null,null,null,null,null,null,null,null,null,null,null,null,null,null,null,null,null,"Responsável pelo preenchimento do Termo"]
[]
[]
[null,"CONTA ORIGEM",null,null,null,null,null,null,null,null,null,null,null,null,null,null,null,null,null,null,null,null,null,null,"CONTA DESTINO"]
[null,null,null,null,null,null,null,null,null,null,null,null,null,null,null,null,null,null,null,null,null,null,null,null,"NÚMERO:",null,null,null,{"$f":"INDEX(Tabela1[],A7383,22)","v":0}]
[null,"São Gotardo, ",null,null,null,null,{"$f":"DAY(TODAY())","v":6},null,"de",null,{"$f":"VLOOKUP(MONTH(TODAY()),LISTA!O:P,2,0)","v":"ABRIL"},null,null,null,null,"de",null,{"$f":"YEAR(TODAY())","v":2023}]
[null,"________________________________________",null,null,null,null,null,null,null,null,null,null,null,null,null,null,null,null,null,null,null,null,null,null,"________________________________________"]
[null,{"$f":"\"Solicitante de Portabilidade\"","v":"Solicitante de Portabilidade"},null,null,null,null,null,null,null,null,null,null,null,null,null,null,null,null,null,null,null,null,null,null,"Responsável pelo preenchimento do Termo"]
[]
[]
[null,"CONTA ORIGEM",null,null,null,null,null,null,null,null,null,null,null,null,null,null,null,null,null,null,null,null,null,null,"CONTA DESTINO"]
[]
[null,"São Gotardo, ",null,null,null,null,{"$f":"DAY(TODAY())","v":6},null,"de",null,{"$f":"VLOOKUP(MONTH(TODAY()),LISTA!O:P,2,0)","v":"ABRIL"},null,null,null,null,"de",null,{"$f":"YEAR(TODAY())","v":2023}]
[]
[]
[]
[null,"solicito a TRANSFERÊNCIA dos valores creditados em minha conta junto a essa instituição a título de salário, aposentadoria ou similares, para a conta descrita abaixo, na mesma do crédito, sem nenhum custo e em caráter permanente:"]
[]
[]
[]
[]
[]
[{"$f":"A7448+1","v":231},"TERMO DE AUTORIZAÇÃO PARA TRANSFERÊNCIA DE RECURSOS\nResoluções BACEN 3.402/2006 e 3.424/2006"]
[]
[null,"CONTA SALÁRIO (FUNCIONÁRIO):",null,null,null,null,null,null,null,null,null,null,null,null,null,null,null,null,null,null,null,null,null,null,"BANCO:",null,null,{"$f":"INDEX(Tabela1[],A7480,20)","v":0},null,{"$f":"IFERROR(VLOOKUP(AB7490,LISTA!Q:R,2,0),\"-\")","v":"-"}]
[]
[]
[null,{"$f":"\"Solicitante de Portabilidade\"","v":"Solicitante de Portabilidade"},null,null,null,null,null,null,null,null,null,null,null,null,null,null,null,null,null,null,null,null,null,null,"Responsável pelo preenchimento do Termo"]
[]
[]
[]
[null,null,null,null,null,null,null,null,null,null,null,null,null,null,null,null,null,null,null,null,null,null,null,null,"NÚMERO:",null,null,null,{"$f":"INDEX(Tabela1[],A7513,22)","v":0}]
[null,"São Gotardo, ",null,null,null,null,{"$f":"DAY(TODAY())","v":6},null,"de",null,{"$f":"VLOOKUP(MONTH(TODAY()),LISTA!O:P,2,0)","v":"ABRIL"},null,null,null,null,"de",null,{"$f":"YEAR(TODAY())","v":2023}]
[]
[null,"________________________________________",null,null,null,null,null,null,null,null,null,null,null,null,null,null,null,null,null,null,null,null,null,null,"________________________________________"]
[]
[]
[null,"CONTA ORIGEM",null,null,null,null,null,null,null,null,null,null,null,null,null,null,null,null,null,null,null,null,null,null,"CONTA DESTINO"]
[null,"FONTE PAGADORA:",null,null,null,null,null,null,{"$f":"FONTE_PAGADORA","v":"INSIRA O NOME DA FONTE PAGADORA AQUI"},null,null,null,null,null,null,null,null,null,null,null,null,null,null,null,"AGÊNCIA:",null,null,null,{"$f":"INDEX(Tabela1[],A7545,21)","v":0},null,null,null,null,null,"TIPO DE CONTA:",null,null,null,null,null,{"$f":"INDEX(Tabela1[],A7545,19)","v":0}]
[]
[]
[]
[]
[null,"Eu, ",null,{"$f":"UPPER(INDEX(Tabela1[],A7578,2))","v":""},null,null,null,null,null,null,null,null,null,null,null,null,null,null,null,null,null,null,null,null,null,null,"portador do CPF número",null,null,null,null,null,null,null,null,null,{"$f":"TEXT(INDEX(Tabela1[],A7578,1),\"[<=9999]0000;[>=999999999999]00\\.000\\.000\\/0000-00;000\\.000\\.000-00\")","v":"0000"}]
[]
[]
[null,"Esta solicitação está de acordo com a Resolução BACEN 3.402/2006 e 3.424/2006, e sua revogação está condicionada a minha prévia e expressa manifestação."]
[]
[]
[]
[]
[]
[]
[]
[null,"________________________________________",null,null,null,null,null,null,null,null,null,null,null,null,null,null,null,null,null,null,null,null,null,null,"________________________________________"]
[]
[null,"Eu, ",null,{"$f":"UPPER(INDEX(Tabela1[],A7643,2))","v":""},null,null,null,null,null,null,null,null,null,null,null,null,null,null,null,null,null,null,null,null,null,null,"portador do CPF número",null,null,null,null,null,null,null,null,null,{"$f":"TEXT(INDEX(Tabela1[],A7643,1),\"[<=9999]0000;[>=999999999999]00\\.000\\.000\\/0000-00;000\\.000\\.000-00\")","v":"0000"}]
[]
[null,null,null,null,null,null,null,null,null,null,null,null,null,null,null,null,null,null,null,null,null,null,null,null,"NÚMERO:",null,null,null,{"$f":"INDEX(Tabela1[],A7643,22)","v":0}]
[]
[null,"São Gotardo, ",null,null,null,null,{"$f":"DAY(TODAY())","v":6},null,"de",null,{"$f":"VLOOKUP(MONTH(TODAY()),LISTA!O:P,2,0)","v":"ABRIL"},null,null,null,null,"de",null,{"$f":"YEAR(TODAY())","v":2023}]
[null,"________________________________________",null,null,null,null,null,null,null,null,null,null,null,null,null,null,null,null,null,null,null,null,null,null,"________________________________________"]
[]
[]
[]
[]
[]
[null,"________________________________________",null,null,null,null,null,null,null,null,null,null,null,null,null,null,null,null,null,null,null,null,null,null,"________________________________________"]
[]
[null,"À Cooperativa de Crédito Credisg LTDA - SICOOB CREDISG"]
[]
[]
[null,"FONTE PAGADORA:",null,null,null,null,null,null,{"$f":"FONTE_PAGADORA","v":"INSIRA O NOME DA FONTE PAGADORA AQUI"},null,null,null,null,null,null,null,null,null,null,null,null,null,null,null,"AGÊNCIA:",null,null,null,{"$f":"INDEX(Tabela1[],A7708,21)","v":0},null,null,null,null,null,"TIPO DE CONTA:",null,null,null,null,null,{"$f":"INDEX(Tabela1[],A7708,19)","v":0}]
[null,"Esta solicitação está de acordo com a Resolução BACEN 3.402/2006 e 3.424/2006, e sua revogação está condicionada a minha prévia e expressa manifestação."]
[]
[]
[{"$f":"A7708+1","v":239},"TERMO DE AUTORIZAÇÃO PARA TRANSFERÊNCIA DE RECURSOS\nResoluções BACEN 3.402/2006 e 3.424/2006"]
[null,"solicito a TRANSFERÊNCIA dos valores creditados em minha conta junto a essa instituição a título de salário, aposentadoria ou similares, para a conta descrita abaixo, na mesma do crédito, sem nenhum custo e em caráter permanente:"]
[]
[]
[]
[null,{"$f":"\"Solicitante de Portabilidade\"","v":"Solicitante de Portabilidade"},null,null,null,null,null,null,null,null,null,null,null,null,null,null,null,null,null,null,null,null,null,null,"Responsável pelo preenchimento do Termo"]
[]
[null,"Eu, ",null,{"$f":"UPPER(INDEX(Tabela1[],A7773,2))","v":""},null,null,null,null,null,null,null,null,null,null,null,null,null,null,null,null,null,null,null,null,null,null,"portador do CPF número",null,null,null,null,null,null,null,null,null,{"$f":"TEXT(INDEX(Tabela1[],A7773,1),\"[<=9999]0000;[>=999999999999]00\\.000\\.000\\/0000-00;000\\.000\\.000-00\")","v":"0000"}]
[]
[null,"CONTA SALÁRIO (FUNCIONÁRIO):",null,null,null,null,null,null,null,null,null,null,null,null,null,null,null,null,null,null,null,null,null,null,"BANCO:",null,null,{"$f":"INDEX(Tabela1[],A7773,20)","v":0},null,{"$f":"IFERROR(VLOOKUP(AB7783,LISTA!Q:R,2,0),\"-\")","v":"-"}]
[]
[null,"São Gotardo, ",null,null,null,null,{"$f":"DAY(TODAY())","v":6},null,"de",null,{"$f":"VLOOKUP(MONTH(TODAY()),LISTA!O:P,2,0)","v":"ABRIL"},null,null,null,null,"de",null,{"$f":"YEAR(TODAY())","v":2023}]
[null,{"$f":"UPPER(INDEX(Tabela1[],A7773,2))","v":""},null,null,null,null,null,null,null,null,null,null,null,null,null,null,null,null,null,null,null,null,null,null,{"$f":"FONTE_PAGADORA","v":"INSIRA O NOME DA FONTE PAGADORA AQUI"}]
[]
[null,"Eu, ",null,{"$f":"UPPER(INDEX(Tabela1[],A7805,2))","v":""},null,null,null,null,null,null,null,null,null,null,null,null,null,null,null,null,null,null,null,null,null,null,"portador do CPF número",null,null,null,null,null,null,null,null,null,{"$f":"TEXT(INDEX(Tabela1[],A7805,1),\"[<=9999]0000;[>=999999999999]00\\.000\\.000\\/0000-00;000\\.000\\.000-00\")","v":"0000"}]
[null,"CONTA ORIGEM",null,null,null,null,null,null,null,null,null,null,null,null,null,null,null,null,null,null,null,null,null,null,"CONTA DESTINO"]
[]
[null,"São Gotardo, ",null,null,null,null,{"$f":"DAY(TODAY())","v":6},null,"de",null,{"$f":"VLOOKUP(MONTH(TODAY()),LISTA!O:P,2,0)","v":"ABRIL"},null,null,null,null,"de",null,{"$f":"YEAR(TODAY())","v":2023}]
[null,"________________________________________",null,null,null,null,null,null,null,null,null,null,null,null,null,null,null,null,null,null,null,null,null,null,"________________________________________"]
[]
[{"$f":"A7805+1","v":242},"TERMO DE AUTORIZAÇÃO PARA TRANSFERÊNCIA DE RECURSOS\nResoluções BACEN 3.402/2006 e 3.424/2006"]
[null,"solicito a TRANSFERÊNCIA dos valores creditados em minha conta junto a essa instituição a título de salário, aposentadoria ou similares, para a conta descrita abaixo, na mesma do crédito, sem nenhum custo e em caráter permanente:"]
[]
[null,"FONTE PAGADORA:",null,null,null,null,null,null,{"$f":"FONTE_PAGADORA","v":"INSIRA O NOME DA FONTE PAGADORA AQUI"},null,null,null,null,null,null,null,null,null,null,null,null,null,null,null,"AGÊNCIA:",null,null,null,{"$f":"INDEX(Tabela1[],A7838,21)","v":0},null,null,null,null,null,"TIPO DE CONTA:",null,null,null,null,null,{"$f":"INDEX(Tabela1[],A7838,19)","v":0}]
[null,"Esta solicitação está de acordo com a Resolução BACEN 3.402/2006 e 3.424/2006, e sua revogação está condicionada a minha prévia e expressa manifestação."]
[null,{"$f":"UPPER(INDEX(Tabela1[],A7838,2))","v":""},null,null,null,null,null,null,null,null,null,null,null,null,null,null,null,null,null,null,null,null,null,null,{"$f":"FONTE_PAGADORA","v":"INSIRA O NOME DA FONTE PAGADORA AQUI"}]
[]
[{"$f":"A7838+1","v":243},"TERMO DE AUTORIZAÇÃO PARA TRANSFERÊNCIA DE RECURSOS\nResoluções BACEN 3.402/2006 e 3.424/2006"]
[null,"solicito a TRANSFERÊNCIA dos valores creditados em minha conta junto a essa instituição a título de salário, aposentadoria ou similares, para a conta descrita abaixo, na mesma do crédito, sem nenhum custo e em caráter permanente:"]
[]
[null,"Esta solicitação está de acordo com a Resolução BACEN 3.402/2006 e 3.424/2006, e sua revogação está condicionada a minha prévia e expressa manifestação."]
[]
[null,{"$f":"\"Solicitante de Portabilidade\"","v":"Solicitante de Portabilidade"},null,null,null,null,null,null,null,null,null,null,null,null,null,null,null,null,null,null,null,null,null,null,"Responsável pelo preenchimento do Termo"]
[]
[null,"Eu, ",null,{"$f":"UPPER(INDEX(Tabela1[],A7903,2))","v":""},null,null,null,null,null,null,null,null,null,null,null,null,null,null,null,null,null,null,null,null,null,null,"portador do CPF número",null,null,null,null,null,null,null,null,null,{"$f":"TEXT(INDEX(Tabela1[],A7903,1),\"[<=9999]0000;[>=999999999999]00\\.000\\.000\\/0000-00;000\\.000\\.000-00\")","v":"0000"}]
[]
[null,"FONTE PAGADORA:",null,null,null,null,null,null,{"$f":"FONTE_PAGADORA","v":"INSIRA O NOME DA FONTE PAGADORA AQUI"},null,null,null,null,null,null,null,null,null,null,null,null,null,null,null,"AGÊNCIA:",null,null,null,{"$f":"INDEX(Tabela1[],A7903,21)","v":0},null,null,null,null,null,"TIPO DE CONTA:",null,null,null,null,null,{"$f":"INDEX(Tabela1[],A7903,19)","v":0}]
[null,null,null,null,null,null,null,null,null,null,null,null,null,null,null,null,null,null,null,null,null,null,null,null,"NÚMERO:",null,null,null,{"$f":"INDEX(Tabela1[],A7903,22)","v":0}]
[]
[null,{"$f":"UPPER(INDEX(Tabela1[],A7903,2))","v":""},null,null,null,null,null,null,null,null,null,null,null,null,null,null,null,null,null,null,null,null,null,null,{"$f":"FONTE_PAGADORA","v":"INSIRA O NOME DA FONTE PAGADORA AQUI"}]
[]
[]
[null,"CONTA ORIGEM",null,null,null,null,null,null,null,null,null,null,null,null,null,null,null,null,null,null,null,null,null,null,"CONTA DESTINO"]
[null,null,null,null,null,null,null,null,null,null,null,null,null,null,null,null,null,null,null,null,null,null,null,null,"NÚMERO:",null,null,null,{"$f":"INDEX(Tabela1[],A7935,22)","v":0}]
[null,"São Gotardo, ",null,null,null,null,{"$f":"DAY(TODAY())","v":6},null,"de",null,{"$f":"VLOOKUP(MONTH(TODAY()),LISTA!O:P,2,0)","v":"ABRIL"},null,null,null,null,"de",null,{"$f":"YEAR(TODAY())","v":2023}]
[null,"________________________________________",null,null,null,null,null,null,null,null,null,null,null,null,null,null,null,null,null,null,null,null,null,null,"________________________________________"]
[]
[]
[null,"À Cooperativa de Crédito Credisg LTDA - SICOOB CREDISG"]
[]
[null,"FONTE PAGADORA:",null,null,null,null,null,null,{"$f":"FONTE_PAGADORA","v":"INSIRA O NOME DA FONTE PAGADORA AQUI"},null,null,null,null,null,null,null,null,null,null,null,null,null,null,null,"AGÊNCIA:",null,null,null,{"$f":"INDEX(Tabela1[],A7968,21)","v":0},null,null,null,null,null,"TIPO DE CONTA:",null,null,null,null,null,{"$f":"INDEX(Tabela1[],A7968,19)","v":0}]
[]
[null,"________________________________________",null,null,null,null,null,null,null,null,null,null,null,null,null,null,null,null,null,null,null,null,null,null,"________________________________________"]
[]
[]
[null,"solicito a TRANSFERÊNCIA dos valores creditados em minha conta junto a essa instituição a título de salário, aposentadoria ou similares, para a conta descrita abaixo, na mesma do crédito, sem nenhum custo e em caráter permanente:"]
[null,"FONTE PAGADORA:",null,null,null,null,null,null,{"$f":"FONTE_PAGADORA","v":"INSIRA O NOME DA FONTE PAGADORA AQUI"},null,null,null,null,null,null,null,null,null,null,null,null,null,null,null,"AGÊNCIA:",null,null,null,{"$f":"INDEX(Tabela1[],A8000,21)","v":0},null,null,null,null,null,"TIPO DE CONTA:",null,null,null,null,null,{"$f":"INDEX(Tabela1[],A8000,19)","v":0}]
[null,"Esta solicitação está de acordo com a Resolução BACEN 3.402/2006 e 3.424/2006, e sua revogação está condicionada a minha prévia e expressa manifestação."]
[]
[]
[]
[null,"Eu, ",null,{"$f":"UPPER(INDEX(Tabela1[],A8033,2))","v":""},null,null,null,null,null,null,null,null,null,null,null,null,null,null,null,null,null,null,null,null,null,null,"portador do CPF número",null,null,null,null,null,null,null,null,null,{"$f":"TEXT(INDEX(Tabela1[],A8033,1),\"[<=9999]0000;[>=999999999999]00\\.000\\.000\\/0000-00;000\\.000\\.000-00\")","v":"0000"}]
[]
[]
[]
[]
[null,{"$f":"UPPER(INDEX(Tabela1[],A8033,2))","v":""},null,null,null,null,null,null,null,null,null,null,null,null,null,null,null,null,null,null,null,null,null,null,{"$f":"FONTE_PAGADORA","v":"INSIRA O NOME DA FONTE PAGADORA AQUI"}]
[]
[null,"Eu, ",null,{"$f":"UPPER(INDEX(Tabela1[],A8065,2))","v":""},null,null,null,null,null,null,null,null,null,null,null,null,null,null,null,null,null,null,null,null,null,null,"portador do CPF número",null,null,null,null,null,null,null,null,null,{"$f":"TEXT(INDEX(Tabela1[],A8065,1),\"[<=9999]0000;[>=999999999999]00\\.000\\.000\\/0000-00;000\\.000\\.000-00\")","v":"0000"}]
[]
[null,null,null,null,null,null,null,null,null,null,null,null,null,null,null,null,null,null,null,null,null,null,null,null,"NÚMERO:",null,null,null,{"$f":"INDEX(Tabela1[],A8065,22)","v":0}]
[null,"São Gotardo, ",null,null,null,null,{"$f":"DAY(TODAY())","v":6},null,"de",null,{"$f":"VLOOKUP(MONTH(TODAY()),LISTA!O:P,2,0)","v":"ABRIL"},null,null,null,null,"de",null,{"$f":"YEAR(TODAY())","v":2023}]
[null,{"$f":"UPPER(INDEX(Tabela1[],A8065,2))","v":""},null,null,null,null,null,null,null,null,null,null,null,null,null,null,null,null,null,null,null,null,null,null,{"$f":"FONTE_PAGADORA","v":"INSIRA O NOME DA FONTE PAGADORA AQUI"}]
[]
[]
[null,"À Cooperativa de Crédito Credisg LTDA - SICOOB CREDISG"]
[]
[]
[null,"Esta solicitação está de acordo com a Resolução BACEN 3.402/2006 e 3.424/2006, e sua revogação está condicionada a minha prévia e expressa manifestação."]
[]
[]
[]
[]
[null,"FONTE PAGADORA:",null,null,null,null,null,null,{"$f":"FONTE_PAGADORA","v":"INSIRA O NOME DA FONTE PAGADORA AQUI"},null,null,null,null,null,null,null,null,null,null,null,null,null,null,null,"AGÊNCIA:",null,null,null,{"$f":"INDEX(Tabela1[],A8130,21)","v":0},null,null,null,null,null,"TIPO DE CONTA:",null,null,null,null,null,{"$f":"INDEX(Tabela1[],A8130,19)","v":0}]
[]
[]
[]
[]
[{"$f":"A8130+1","v":252},"TERMO DE AUTORIZAÇÃO PARA TRANSFERÊNCIA DE RECURSOS\nResoluções BACEN 3.402/2006 e 3.424/2006"]
[null,"CONTA ORIGEM",null,null,null,null,null,null,null,null,null,null,null,null,null,null,null,null,null,null,null,null,null,null,"CONTA DESTINO"]
[null,"CONTA SALÁRIO (FUNCIONÁRIO):",null,null,null,null,null,null,null,null,null,null,null,null,null,null,null,null,null,null,null,null,null,null,"BANCO:",null,null,{"$f":"INDEX(Tabela1[],A8163,20)","v":0},null,{"$f":"IFERROR(VLOOKUP(AB8173,LISTA!Q:R,2,0),\"-\")","v":"-"}]
[]
[]
[null,{"$f":"\"Solicitante de Portabilidade\"","v":"Solicitante de Portabilidade"},null,null,null,null,null,null,null,null,null,null,null,null,null,null,null,null,null,null,null,null,null,null,"Responsável pelo preenchimento do Termo"]
[]
[]
[]
[null,null,null,null,null,null,null,null,null,null,null,null,null,null,null,null,null,null,null,null,null,null,null,null,"NÚMERO:",null,null,null,{"$f":"INDEX(Tabela1[],A8195,22)","v":0}]
[]
[]
[]
[]
[null,"À Cooperativa de Crédito Credisg LTDA - SICOOB CREDISG"]
[null,"CONTA ORIGEM",null,null,null,null,null,null,null,null,null,null,null,null,null,null,null,null,null,null,null,null,null,null,"CONTA DESTINO"]
[]
[]
[]
[]
[]
[]
[]
[null,"Esta solicitação está de acordo com a Resolução BACEN 3.402/2006 e 3.424/2006, e sua revogação está condicionada a minha prévia e expressa manifestação."]
[]
[]
[]
[]
[null,"Eu, ",null,{"$f":"UPPER(INDEX(Tabela1[],A8293,2))","v":""},null,null,null,null,null,null,null,null,null,null,null,null,null,null,null,null,null,null,null,null,null,null,"portador do CPF número",null,null,null,null,null,null,null,null,null,{"$f":"TEXT(INDEX(Tabela1[],A8293,1),\"[<=9999]0000;[>=999999999999]00\\.000\\.000\\/0000-00;000\\.000\\.000-00\")","v":"0000"}]
[null,"CONTA SALÁRIO (FUNCIONÁRIO):",null,null,null,null,null,null,null,null,null,null,null,null,null,null,null,null,null,null,null,null,null,null,"BANCO:",null,null,{"$f":"INDEX(Tabela1[],A8293,20)","v":0},null,{"$f":"IFERROR(VLOOKUP(AB8303,LISTA!Q:R,2,0),\"-\")","v":"-"}]
[]
[]
[null,{"$f":"\"Solicitante de Portabilidade\"","v":"Solicitante de Portabilidade"},null,null,null,null,null,null,null,null,null,null,null,null,null,null,null,null,null,null,null,null,null,null,"Responsável pelo preenchimento do Termo"]
[]
[null,"Eu, ",null,{"$f":"UPPER(INDEX(Tabela1[],A8325,2))","v":""},null,null,null,null,null,null,null,null,null,null,null,null,null,null,null,null,null,null,null,null,null,null,"portador do CPF número",null,null,null,null,null,null,null,null,null,{"$f":"TEXT(INDEX(Tabela1[],A8325,1),\"[<=9999]0000;[>=999999999999]00\\.000\\.000\\/0000-00;000\\.000\\.000-00\")","v":"0000"}]
[]
[]
[]
[]
[null,{"$f":"UPPER(INDEX(Tabela1[],A8325,2))","v":""},null,null,null,null,null,null,null,null,null,null,null,null,null,null,null,null,null,null,null,null,null,null,{"$f":"FONTE_PAGADORA","v":"INSIRA O NOME DA FONTE PAGADORA AQUI"}]
[]
[null,"À Cooperativa de Crédito Credisg LTDA - SICOOB CREDISG"]
[null,"CONTA ORIGEM",null,null,null,null,null,null,null,null,null,null,null,null,null,null,null,null,null,null,null,null,null,null,"CONTA DESTINO"]
[]
[]
[]
[]
[null,"À Cooperativa de Crédito Credisg LTDA - SICOOB CREDISG"]
[null,"solicito a TRANSFERÊNCIA dos valores creditados em minha conta junto a essa instituição a título de salário, aposentadoria ou similares, para a conta descrita abaixo, na mesma do crédito, sem nenhum custo e em caráter permanente:"]
[null,"FONTE PAGADORA:",null,null,null,null,null,null,{"$f":"FONTE_PAGADORA","v":"INSIRA O NOME DA FONTE PAGADORA AQUI"},null,null,null,null,null,null,null,null,null,null,null,null,null,null,null,"AGÊNCIA:",null,null,null,{"$f":"INDEX(Tabela1[],A8390,21)","v":0},null,null,null,null,null,"TIPO DE CONTA:",null,null,null,null,null,{"$f":"INDEX(Tabela1[],A8390,19)","v":0}]
[null,"Esta solicitação está de acordo com a Resolução BACEN 3.402/2006 e 3.424/2006, e sua revogação está condicionada a minha prévia e expressa manifestação."]
[]
[]
[]
[{"$f":"A8390+1","v":260},"TERMO DE AUTORIZAÇÃO PARA TRANSFERÊNCIA DE RECURSOS\nResoluções BACEN 3.402/2006 e 3.424/2006"]
[]
[null,"CONTA SALÁRIO (FUNCIONÁRIO):",null,null,null,null,null,null,null,null,null,null,null,null,null,null,null,null,null,null,null,null,null,null,"BANCO:",null,null,{"$f":"INDEX(Tabela1[],A8423,20)","v":0},null,{"$f":"IFERROR(VLOOKUP(AB8433,LISTA!Q:R,2,0),\"-\")","v":"-"}]
[]
[]
[null,{"$f":"UPPER(INDEX(Tabela1[],A8423,2))","v":""},null,null,null,null,null,null,null,null,null,null,null,null,null,null,null,null,null,null,null,null,null,null,{"$f":"FONTE_PAGADORA","v":"INSIRA O NOME DA FONTE PAGADORA AQUI"}]
[]
[null,"Eu, ",null,{"$f":"UPPER(INDEX(Tabela1[],A8455,2))","v":""},null,null,null,null,null,null,null,null,null,null,null,null,null,null,null,null,null,null,null,null,null,null,"portador do CPF número",null,null,null,null,null,null,null,null,null,{"$f":"TEXT(INDEX(Tabela1[],A8455,1),\"[<=9999]0000;[>=999999999999]00\\.000\\.000\\/0000-00;000\\.000\\.000-00\")","v":"0000"}]
[]
[]
[]
[]
[null,{"$f":"UPPER(INDEX(Tabela1[],A8455,2))","v":""},null,null,null,null,null,null,null,null,null,null,null,null,null,null,null,null,null,null,null,null,null,null,{"$f":"FONTE_PAGADORA","v":"INSIRA O NOME DA FONTE PAGADORA AQUI"}]
[]
[]
[null,"CONTA SALÁRIO (FUNCIONÁRIO):",null,null,null,null,null,null,null,null,null,null,null,null,null,null,null,null,null,null,null,null,null,null,"BANCO:",null,null,{"$f":"INDEX(Tabela1[],A8488,20)","v":0},null,{"$f":"IFERROR(VLOOKUP(AB8498,LISTA!Q:R,2,0),\"-\")","v":"-"}]
[]
[]
[]
[]
[null,"À Cooperativa de Crédito Credisg LTDA - SICOOB CREDISG"]
[]
[null,"FONTE PAGADORA:",null,null,null,null,null,null,{"$f":"FONTE_PAGADORA","v":"INSIRA O NOME DA FONTE PAGADORA AQUI"},null,null,null,null,null,null,null,null,null,null,null,null,null,null,null,"AGÊNCIA:",null,null,null,{"$f":"INDEX(Tabela1[],A8520,21)","v":0},null,null,null,null,null,"TIPO DE CONTA:",null,null,null,null,null,{"$f":"INDEX(Tabela1[],A8520,19)","v":0}]
[null,"Esta solicitação está de acordo com a Resolução BACEN 3.402/2006 e 3.424/2006, e sua revogação está condicionada a minha prévia e expressa manifestação."]
[]
[]
[]
[{"$f":"A8520+1","v":264},"TERMO DE AUTORIZAÇÃO PARA TRANSFERÊNCIA DE RECURSOS\nResoluções BACEN 3.402/2006 e 3.424/2006"]
[]
[]
[]
[]
[null,{"$f":"\"Solicitante de Portabilidade\"","v":"Solicitante de Portabilidade"},null,null,null,null,null,null,null,null,null,null,null,null,null,null,null,null,null,null,null,null,null,null,"Responsável pelo preenchimento do Termo"]
[]
[null,"Eu, ",null,{"$f":"UPPER(INDEX(Tabela1[],A8585,2))","v":""},null,null,null,null,null,null,null,null,null,null,null,null,null,null,null,null,null,null,null,null,null,null,"portador do CPF número",null,null,null,null,null,null,null,null,null,{"$f":"TEXT(INDEX(Tabela1[],A8585,1),\"[<=9999]0000;[>=999999999999]00\\.000\\.000\\/0000-00;000\\.000\\.000-00\")","v":"0000"}]
[null,"CONTA SALÁRIO (FUNCIONÁRIO):",null,null,null,null,null,null,null,null,null,null,null,null,null,null,null,null,null,null,null,null,null,null,"BANCO:",null,null,{"$f":"INDEX(Tabela1[],A8585,20)","v":0},null,{"$f":"IFERROR(VLOOKUP(AB8595,LISTA!Q:R,2,0),\"-\")","v":"-"}]
[]
[null,"Esta solicitação está de acordo com a Resolução BACEN 3.402/2006 e 3.424/2006, e sua revogação está condicionada a minha prévia e expressa manifestação."]
[]
[null,{"$f":"UPPER(INDEX(Tabela1[],A8585,2))","v":""},null,null,null,null,null,null,null,null,null,null,null,null,null,null,null,null,null,null,null,null,null,null,{"$f":"FONTE_PAGADORA","v":"INSIRA O NOME DA FONTE PAGADORA AQUI"}]
[]
[]
[]
[]
[]
[null,"________________________________________",null,null,null,null,null,null,null,null,null,null,null,null,null,null,null,null,null,null,null,null,null,null,"________________________________________"]
[]
[null,"À Cooperativa de Crédito Credisg LTDA - SICOOB CREDISG"]
[]
[null,"FONTE PAGADORA:",null,null,null,null,null,null,{"$f":"FONTE_PAGADORA","v":"INSIRA O NOME DA FONTE PAGADORA AQUI"},null,null,null,null,null,null,null,null,null,null,null,null,null,null,null,"AGÊNCIA:",null,null,null,{"$f":"INDEX(Tabela1[],A8650,21)","v":0},null,null,null,null,null,"TIPO DE CONTA:",null,null,null,null,null,{"$f":"INDEX(Tabela1[],A8650,19)","v":0}]
[]
[]
[]
[]
[{"$f":"A8650+1","v":268},"TERMO DE AUTORIZAÇÃO PARA TRANSFERÊNCIA DE RECURSOS\nResoluções BACEN 3.402/2006 e 3.424/2006"]
[]
[]
[]
[]
[null,{"$f":"\"Solicitante de Portabilidade\"","v":"Solicitante de Portabilidade"},null,null,null,null,null,null,null,null,null,null,null,null,null,null,null,null,null,null,null,null,null,null,"Responsável pelo preenchimento do Termo"]
[]
[]
[null,"CONTA SALÁRIO (FUNCIONÁRIO):",null,null,null,null,null,null,null,null,null,null,null,null,null,null,null,null,null,null,null,null,null,null,"BANCO:",null,null,{"$f":"INDEX(Tabela1[],A8715,20)","v":0},null,{"$f":"IFERROR(VLOOKUP(AB8725,LISTA!Q:R,2,0),\"-\")","v":"-"}]
[null,null,null,null,null,null,null,null,null,null,null,null,null,null,null,null,null,null,null,null,null,null,null,null,"NÚMERO:",null,null,null,{"$f":"INDEX(Tabela1[],A8715,22)","v":0}]
[]
[]
[null,{"$f":"\"Solicitante de Portabilidade\"","v":"Solicitante de Portabilidade"},null,null,null,null,null,null,null,null,null,null,null,null,null,null,null,null,null,null,null,null,null,null,"Responsável pelo preenchimento do Termo"]
[]
[null,"À Cooperativa de Crédito Credisg LTDA - SICOOB CREDISG"]
[null,"CONTA ORIGEM",null,null,null,null,null,null,null,null,null,null,null,null,null,null,null,null,null,null,null,null,null,null,"CONTA DESTINO"]
[]
[null,"São Gotardo, ",null,null,null,null,{"$f":"DAY(TODAY())","v":6},null,"de",null,{"$f":"VLOOKUP(MONTH(TODAY()),LISTA!O:P,2,0)","v":"ABRIL"},null,null,null,null,"de",null,{"$f":"YEAR(TODAY())","v":2023}]
[null,"________________________________________",null,null,null,null,null,null,null,null,null,null,null,null,null,null,null,null,null,null,null,null,null,null,"________________________________________"]
[]
[null,"À Cooperativa de Crédito Credisg LTDA - SICOOB CREDISG"]
[]
[null,"FONTE PAGADORA:",null,null,null,null,null,null,{"$f":"FONTE_PAGADORA","v":"INSIRA O NOME DA FONTE PAGADORA AQUI"},null,null,null,null,null,null,null,null,null,null,null,null,null,null,null,"AGÊNCIA:",null,null,null,{"$f":"INDEX(Tabela1[],A8780,21)","v":0},null,null,null,null,null,"TIPO DE CONTA:",null,null,null,null,null,{"$f":"INDEX(Tabela1[],A8780,19)","v":0}]
[]
[]
[null,{"$f":"\"Solicitante de Portabilidade\"","v":"Solicitante de Portabilidade"},null,null,null,null,null,null,null,null,null,null,null,null,null,null,null,null,null,null,null,null,null,null,"Responsável pelo preenchimento do Termo"]
[]
[{"$f":"A8780+1","v":272},"TERMO DE AUTORIZAÇÃO PARA TRANSFERÊNCIA DE RECURSOS\nResoluções BACEN 3.402/2006 e 3.424/2006"]
[null,"solicito a TRANSFERÊNCIA dos valores creditados em minha conta junto a essa instituição a título de salário, aposentadoria ou similares, para a conta descrita abaixo, na mesma do crédito, sem nenhum custo e em caráter permanente:"]
[]
[null,null,null,null,null,null,null,null,null,null,null,null,null,null,null,null,null,null,null,null,null,null,null,null,"NÚMERO:",null,null,null,{"$f":"INDEX(Tabela1[],A8813,22)","v":0}]
[]
[null,{"$f":"\"Solicitante de Portabilidade\"","v":"Solicitante de Portabilidade"},null,null,null,null,null,null,null,null,null,null,null,null,null,null,null,null,null,null,null,null,null,null,"Responsável pelo preenchimento do Termo"]
[{"$f":"A8813+1","v":273},"TERMO DE AUTORIZAÇÃO PARA TRANSFERÊNCIA DE RECURSOS\nResoluções BACEN 3.402/2006 e 3.424/2006"]
[]
[]
[null,"CONTA SALÁRIO (FUNCIONÁRIO):",null,null,null,null,null,null,null,null,null,null,null,null,null,null,null,null,null,null,null,null,null,null,"BANCO:",null,null,{"$f":"INDEX(Tabela1[],A8845,20)","v":0},null,{"$f":"IFERROR(VLOOKUP(AB8855,LISTA!Q:R,2,0),\"-\")","v":"-"}]
[]
[]
[null,{"$f":"\"Solicitante de Portabilidade\"","v":"Solicitante de Portabilidade"},null,null,null,null,null,null,null,null,null,null,null,null,null,null,null,null,null,null,null,null,null,null,"Responsável pelo preenchimento do Termo"]
[]
[]
[null,"CONTA ORIGEM",null,null,null,null,null,null,null,null,null,null,null,null,null,null,null,null,null,null,null,null,null,null,"CONTA DESTINO"]
[]
[null,"São Gotardo, ",null,null,null,null,{"$f":"DAY(TODAY())","v":6},null,"de",null,{"$f":"VLOOKUP(MONTH(TODAY()),LISTA!O:P,2,0)","v":"ABRIL"},null,null,null,null,"de",null,{"$f":"YEAR(TODAY())","v":2023}]
[null,"________________________________________",null,null,null,null,null,null,null,null,null,null,null,null,null,null,null,null,null,null,null,null,null,null,"________________________________________"]
[null,{"$f":"\"Solicitante de Portabilidade\"","v":"Solicitante de Portabilidade"},null,null,null,null,null,null,null,null,null,null,null,null,null,null,null,null,null,null,null,null,null,null,"Responsável pelo preenchimento do Termo"]
[null,"À Cooperativa de Crédito Credisg LTDA - SICOOB CREDISG"]
[]
[null,"CONTA ORIGEM",null,null,null,null,null,null,null,null,null,null,null,null,null,null,null,null,null,null,null,null,null,null,"CONTA DESTINO"]
[]
[null,"São Gotardo, ",null,null,null,null,{"$f":"DAY(TODAY())","v":6},null,"de",null,{"$f":"VLOOKUP(MONTH(TODAY()),LISTA!O:P,2,0)","v":"ABRIL"},null,null,null,null,"de",null,{"$f":"YEAR(TODAY())","v":2023}]
[]
[]
[]
[null,"solicito a TRANSFERÊNCIA dos valores creditados em minha conta junto a essa instituição a título de salário, aposentadoria ou similares, para a conta descrita abaixo, na mesma do crédito, sem nenhum custo e em caráter permanente:"]
[]
[]
[]
[]
[{"$f":"A8943+1","v":277},"TERMO DE AUTORIZAÇÃO PARA TRANSFERÊNCIA DE RECURSOS\nResoluções BACEN 3.402/2006 e 3.424/2006"]
[]
[null,"solicito a TRANSFERÊNCIA dos valores creditados em minha conta junto a essa instituição a título de salário, aposentadoria ou similares, para a conta descrita abaixo, na mesma do crédito, sem nenhum custo e em caráter permanente:"]
[null,"CONTA SALÁRIO (FUNCIONÁRIO):",null,null,null,null,null,null,null,null,null,null,null,null,null,null,null,null,null,null,null,null,null,null,"BANCO:",null,null,{"$f":"INDEX(Tabela1[],A8975,20)","v":0},null,{"$f":"IFERROR(VLOOKUP(AB8985,LISTA!Q:R,2,0),\"-\")","v":"-"}]
[]
[]
[null,{"$f":"\"Solicitante de Portabilidade\"","v":"Solicitante de Portabilidade"},null,null,null,null,null,null,null,null,null,null,null,null,null,null,null,null,null,null,null,null,null,null,"Responsável pelo preenchimento do Termo"]
[]
[]
[null,"CONTA ORIGEM",null,null,null,null,null,null,null,null,null,null,null,null,null,null,null,null,null,null,null,null,null,null,"CONTA DESTINO"]
[null,null,null,null,null,null,null,null,null,null,null,null,null,null,null,null,null,null,null,null,null,null,null,null,"NÚMERO:",null,null,null,{"$f":"INDEX(Tabela1[],A9008,22)","v":0}]
[null,"São Gotardo, ",null,null,null,null,{"$f":"DAY(TODAY())","v":6},null,"de",null,{"$f":"VLOOKUP(MONTH(TODAY()),LISTA!O:P,2,0)","v":"ABRIL"},null,null,null,null,"de",null,{"$f":"YEAR(TODAY())","v":2023}]
[]
[]
[null,"À Cooperativa de Crédito Credisg LTDA - SICOOB CREDISG"]
[]
[null,"CONTA ORIGEM",null,null,null,null,null,null,null,null,null,null,null,null,null,null,null,null,null,null,null,null,null,null,"CONTA DESTINO"]
[]
[]
[]
[]
[]
[null,"solicito a TRANSFERÊNCIA dos valores creditados em minha conta junto a essa instituição a título de salário, aposentadoria ou similares, para a conta descrita abaixo, na mesma do crédito, sem nenhum custo e em caráter permanente:"]
[null,"CONTA SALÁRIO (FUNCIONÁRIO):",null,null,null,null,null,null,null,null,null,null,null,null,null,null,null,null,null,null,null,null,null,null,"BANCO:",null,null,{"$f":"INDEX(Tabela1[],A9073,20)","v":0},null,{"$f":"IFERROR(VLOOKUP(AB9083,LISTA!Q:R,2,0),\"-\")","v":"-"}]
[]
[]
[]
[{"$f":"A9073+1","v":281},"TERMO DE AUTORIZAÇÃO PARA TRANSFERÊNCIA DE RECURSOS\nResoluções BACEN 3.402/2006 e 3.424/2006"]
[]
[]
[null,"CONTA SALÁRIO (FUNCIONÁRIO):",null,null,null,null,null,null,null,null,null,null,null,null,null,null,null,null,null,null,null,null,null,null,"BANCO:",null,null,{"$f":"INDEX(Tabela1[],A9105,20)","v":0},null,{"$f":"IFERROR(VLOOKUP(AB9115,LISTA!Q:R,2,0),\"-\")","v":"-"}]
[]
[]
[]
[]
[]
[]
[null,null,null,null,null,null,null,null,null,null,null,null,null,null,null,null,null,null,null,null,null,null,null,null,"NÚMERO:",null,null,null,{"$f":"INDEX(Tabela1[],A9138,22)","v":0}]
[null,"São Gotardo, ",null,null,null,null,{"$f":"DAY(TODAY())","v":6},null,"de",null,{"$f":"VLOOKUP(MONTH(TODAY()),LISTA!O:P,2,0)","v":"ABRIL"},null,null,null,null,"de",null,{"$f":"YEAR(TODAY())","v":2023}]
[]
[]
[]
[]
[null,"CONTA ORIGEM",null,null,null,null,null,null,null,null,null,null,null,null,null,null,null,null,null,null,null,null,null,null,"CONTA DESTINO"]
[]
[]
[null,"________________________________________",null,null,null,null,null,null,null,null,null,null,null,null,null,null,null,null,null,null,null,null,null,null,"________________________________________"]
[]
[]
[]
[]
[]
[]
[]
[]
[{"$f":"A9203+1","v":285},"TERMO DE AUTORIZAÇÃO PARA TRANSFERÊNCIA DE RECURSOS\nResoluções BACEN 3.402/2006 e 3.424/2006"]
[]
[]
[]
[]
[]
[]
[null,"Eu, ",null,{"$f":"UPPER(INDEX(Tabela1[],A9268,2))","v":""},null,null,null,null,null,null,null,null,null,null,null,null,null,null,null,null,null,null,null,null,null,null,"portador do CPF número",null,null,null,null,null,null,null,null,null,{"$f":"TEXT(INDEX(Tabela1[],A9268,1),\"[<=9999]0000;[>=999999999999]00\\.000\\.000\\/0000-00;000\\.000\\.000-00\")","v":"0000"}]
[]
[null,null,null,null,null,null,null,null,null,null,null,null,null,null,null,null,null,null,null,null,null,null,null,null,"NÚMERO:",null,null,null,{"$f":"INDEX(Tabela1[],A9268,22)","v":0}]
[null,"São Gotardo, ",null,null,null,null,{"$f":"DAY(TODAY())","v":6},null,"de",null,{"$f":"VLOOKUP(MONTH(TODAY()),LISTA!O:P,2,0)","v":"ABRIL"},null,null,null,null,"de",null,{"$f":"YEAR(TODAY())","v":2023}]
[null,"________________________________________",null,null,null,null,null,null,null,null,null,null,null,null,null,null,null,null,null,null,null,null,null,null,"________________________________________"]
[null,{"$f":"UPPER(INDEX(Tabela1[],A9268,2))","v":""},null,null,null,null,null,null,null,null,null,null,null,null,null,null,null,null,null,null,null,null,null,null,{"$f":"FONTE_PAGADORA","v":"INSIRA O NOME DA FONTE PAGADORA AQUI"}]
[]
[]
[null,"CONTA ORIGEM",null,null,null,null,null,null,null,null,null,null,null,null,null,null,null,null,null,null,null,null,null,null,"CONTA DESTINO"]
[]
[]
[null,"________________________________________",null,null,null,null,null,null,null,null,null,null,null,null,null,null,null,null,null,null,null,null,null,null,"________________________________________"]
[]
[null,"À Cooperativa de Crédito Credisg LTDA - SICOOB CREDISG"]
[null,"solicito a TRANSFERÊNCIA dos valores creditados em minha conta junto a essa instituição a título de salário, aposentadoria ou similares, para a conta descrita abaixo, na mesma do crédito, sem nenhum custo e em caráter permanente:"]
[]
[null,"Esta solicitação está de acordo com a Resolução BACEN 3.402/2006 e 3.424/2006, e sua revogação está condicionada a minha prévia e expressa manifestação."]
[]
[]
[]
[{"$f":"A9333+1","v":289},"TERMO DE AUTORIZAÇÃO PARA TRANSFERÊNCIA DE RECURSOS\nResoluções BACEN 3.402/2006 e 3.424/2006"]
[null,"solicito a TRANSFERÊNCIA dos valores creditados em minha conta junto a essa instituição a título de salário, aposentadoria ou similares, para a conta descrita abaixo, na mesma do crédito, sem nenhum custo e em caráter permanente:"]
[]
[]
[]
[null,{"$f":"\"Solicitante de Portabilidade\"","v":"Solicitante de Portabilidade"},null,null,null,null,null,null,null,null,null,null,null,null,null,null,null,null,null,null,null,null,null,null,"Responsável pelo preenchimento do Termo"]
[]
[null,"Eu, ",null,{"$f":"UPPER(INDEX(Tabela1[],A9398,2))","v":""},null,null,null,null,null,null,null,null,null,null,null,null,null,null,null,null,null,null,null,null,null,null,"portador do CPF número",null,null,null,null,null,null,null,null,null,{"$f":"TEXT(INDEX(Tabela1[],A9398,1),\"[<=9999]0000;[>=999999999999]00\\.000\\.000\\/0000-00;000\\.000\\.000-00\")","v":"0000"}]
[]
[null,"FONTE PAGADORA:",null,null,null,null,null,null,{"$f":"FONTE_PAGADORA","v":"INSIRA O NOME DA FONTE PAGADORA AQUI"},null,null,null,null,null,null,null,null,null,null,null,null,null,null,null,"AGÊNCIA:",null,null,null,{"$f":"INDEX(Tabela1[],A9398,21)","v":0},null,null,null,null,null,"TIPO DE CONTA:",null,null,null,null,null,{"$f":"INDEX(Tabela1[],A9398,19)","v":0}]
[null,"São Gotardo, ",null,null,null,null,{"$f":"DAY(TODAY())","v":6},null,"de",null,{"$f":"VLOOKUP(MONTH(TODAY()),LISTA!O:P,2,0)","v":"ABRIL"},null,null,null,null,"de",null,{"$f":"YEAR(TODAY())","v":2023}]
[null,"________________________________________",null,null,null,null,null,null,null,null,null,null,null,null,null,null,null,null,null,null,null,null,null,null,"________________________________________"]
[null,{"$f":"UPPER(INDEX(Tabela1[],A9398,2))","v":""},null,null,null,null,null,null,null,null,null,null,null,null,null,null,null,null,null,null,null,null,null,null,{"$f":"FONTE_PAGADORA","v":"INSIRA O NOME DA FONTE PAGADORA AQUI"}]
[]
[null,"Eu, ",null,{"$f":"UPPER(INDEX(Tabela1[],A9430,2))","v":""},null,null,null,null,null,null,null,null,null,null,null,null,null,null,null,null,null,null,null,null,null,null,"portador do CPF número",null,null,null,null,null,null,null,null,null,{"$f":"TEXT(INDEX(Tabela1[],A9430,1),\"[<=9999]0000;[>=999999999999]00\\.000\\.000\\/0000-00;000\\.000\\.000-00\")","v":"0000"}]
[]
[]
[null,"São Gotardo, ",null,null,null,null,{"$f":"DAY(TODAY())","v":6},null,"de",null,{"$f":"VLOOKUP(MONTH(TODAY()),LISTA!O:P,2,0)","v":"ABRIL"},null,null,null,null,"de",null,{"$f":"YEAR(TODAY())","v":2023}]
[null,"________________________________________",null,null,null,null,null,null,null,null,null,null,null,null,null,null,null,null,null,null,null,null,null,null,"________________________________________"]
[]
[]
[null,"solicito a TRANSFERÊNCIA dos valores creditados em minha conta junto a essa instituição a título de salário, aposentadoria ou similares, para a conta descrita abaixo, na mesma do crédito, sem nenhum custo e em caráter permanente:"]
[null,"FONTE PAGADORA:",null,null,null,null,null,null,{"$f":"FONTE_PAGADORA","v":"INSIRA O NOME DA FONTE PAGADORA AQUI"},null,null,null,null,null,null,null,null,null,null,null,null,null,null,null,"AGÊNCIA:",null,null,null,{"$f":"INDEX(Tabela1[],A9463,21)","v":0},null,null,null,null,null,"TIPO DE CONTA:",null,null,null,null,null,{"$f":"INDEX(Tabela1[],A9463,19)","v":0}]
[null,"Esta solicitação está de acordo com a Resolução BACEN 3.402/2006 e 3.424/2006, e sua revogação está condicionada a minha prévia e expressa manifestação."]
[]
[null,"________________________________________",null,null,null,null,null,null,null,null,null,null,null,null,null,null,null,null,null,null,null,null,null,null,"________________________________________"]
[]
[]
[null,"solicito a TRANSFERÊNCIA dos valores creditados em minha conta junto a essa instituição a título de salário, aposentadoria ou similares, para a conta descrita abaixo, na mesma do crédito, sem nenhum custo e em caráter permanente:"]
[]
[null,"Esta solicitação está de acordo com a Resolução BACEN 3.402/2006 e 3.424/2006, e sua revogação está condicionada a minha prévia e expressa manifestação."]
[]
[]
[]
[null,"Eu, ",null,{"$f":"UPPER(INDEX(Tabela1[],A9528,2))","v":""},null,null,null,null,null,null,null,null,null,null,null,null,null,null,null,null,null,null,null,null,null,null,"portador do CPF número",null,null,null,null,null,null,null,null,null,{"$f":"TEXT(INDEX(Tabela1[],A9528,1),\"[<=9999]0000;[>=999999999999]00\\.000\\.000\\/0000-00;000\\.000\\.000-00\")","v":"0000"}]
[null,"CONTA SALÁRIO (FUNCIONÁRIO):",null,null,null,null,null,null,null,null,null,null,null,null,null,null,null,null,null,null,null,null,null,null,"BANCO:",null,null,{"$f":"INDEX(Tabela1[],A9528,20)","v":0},null,{"$f":"IFERROR(VLOOKUP(AB9538,LISTA!Q:R,2,0),\"-\")","v":"-"}]
[]
[null,"São Gotardo, ",null,null,null,null,{"$f":"DAY(TODAY())","v":6},null,"de",null,{"$f":"VLOOKUP(MONTH(TODAY()),LISTA!O:P,2,0)","v":"ABRIL"},null,null,null,null,"de",null,{"$f":"YEAR(TODAY())","v":2023}]
[]
[null,{"$f":"UPPER(INDEX(Tabela1[],A9528,2))","v":""},null,null,null,null,null,null,null,null,null,null,null,null,null,null,null,null,null,null,null,null,null,null,{"$f":"FONTE_PAGADORA","v":"INSIRA O NOME DA FONTE PAGADORA AQUI"}]
[]
[null,"Eu, ",null,{"$f":"UPPER(INDEX(Tabela1[],A9560,2))","v":""},null,null,null,null,null,null,null,null,null,null,null,null,null,null,null,null,null,null,null,null,null,null,"portador do CPF número",null,null,null,null,null,null,null,null,null,{"$f":"TEXT(INDEX(Tabela1[],A9560,1),\"[<=9999]0000;[>=999999999999]00\\.000\\.000\\/0000-00;000\\.000\\.000-00\")","v":"0000"}]
[null,"CONTA ORIGEM",null,null,null,null,null,null,null,null,null,null,null,null,null,null,null,null,null,null,null,null,null,null,"CONTA DESTINO"]
[null,null,null,null,null,null,null,null,null,null,null,null,null,null,null,null,null,null,null,null,null,null,null,null,"NÚMERO:",null,null,null,{"$f":"INDEX(Tabela1[],A9560,22)","v":0}]
[null,"São Gotardo, ",null,null,null,null,{"$f":"DAY(TODAY())","v":6},null,"de",null,{"$f":"VLOOKUP(MONTH(TODAY()),LISTA!O:P,2,0)","v":"ABRIL"},null,null,null,null,"de",null,{"$f":"YEAR(TODAY())","v":2023}]
[null,"________________________________________",null,null,null,null,null,null,null,null,null,null,null,null,null,null,null,null,null,null,null,null,null,null,"________________________________________"]
[]
[]
[]
[null,"FONTE PAGADORA:",null,null,null,null,null,null,{"$f":"FONTE_PAGADORA","v":"INSIRA O NOME DA FONTE PAGADORA AQUI"},null,null,null,null,null,null,null,null,null,null,null,null,null,null,null,"AGÊNCIA:",null,null,null,{"$f":"INDEX(Tabela1[],A9593,21)","v":0},null,null,null,null,null,"TIPO DE CONTA:",null,null,null,null,null,{"$f":"INDEX(Tabela1[],A9593,19)","v":0}]
[null,"Esta solicitação está de acordo com a Resolução BACEN 3.402/2006 e 3.424/2006, e sua revogação está condicionada a minha prévia e expressa manifestação."]
[]
[]
[]
[]
[null,"solicito a TRANSFERÊNCIA dos valores creditados em minha conta junto a essa instituição a título de salário, aposentadoria ou similares, para a conta descrita abaixo, na mesma do crédito, sem nenhum custo e em caráter permanente:"]
[null,"FONTE PAGADORA:",null,null,null,null,null,null,{"$f":"FONTE_PAGADORA","v":"INSIRA O NOME DA FONTE PAGADORA AQUI"},null,null,null,null,null,null,null,null,null,null,null,null,null,null,null,"AGÊNCIA:",null,null,null,{"$f":"INDEX(Tabela1[],A9625,21)","v":0},null,null,null,null,null,"TIPO DE CONTA:",null,null,null,null,null,{"$f":"INDEX(Tabela1[],A9625,19)","v":0}]
[]
[]
[]
[]
[]
[null,"CONTA ORIGEM",null,null,null,null,null,null,null,null,null,null,null,null,null,null,null,null,null,null,null,null,null,null,"CONTA DESTINO"]
[null,null,null,null,null,null,null,null,null,null,null,null,null,null,null,null,null,null,null,null,null,null,null,null,"NÚMERO:",null,null,null,{"$f":"INDEX(Tabela1[],A9658,22)","v":0}]
[]
[]
[null,{"$f":"UPPER(INDEX(Tabela1[],A9658,2))","v":""},null,null,null,null,null,null,null,null,null,null,null,null,null,null,null,null,null,null,null,null,null,null,{"$f":"FONTE_PAGADORA","v":"INSIRA O NOME DA FONTE PAGADORA AQUI"}]
[]
[]
[]
[null,null,null,null,null,null,null,null,null,null,null,null,null,null,null,null,null,null,null,null,null,null,null,null,"NÚMERO:",null,null,null,{"$f":"INDEX(Tabela1[],A9690,22)","v":0}]
[null,"São Gotardo, ",null,null,null,null,{"$f":"DAY(TODAY())","v":6},null,"de",null,{"$f":"VLOOKUP(MONTH(TODAY()),LISTA!O:P,2,0)","v":"ABRIL"},null,null,null,null,"de",null,{"$f":"YEAR(TODAY())","v":2023}]
[null,{"$f":"UPPER(INDEX(Tabela1[],A9690,2))","v":""},null,null,null,null,null,null,null,null,null,null,null,null,null,null,null,null,null,null,null,null,null,null,{"$f":"FONTE_PAGADORA","v":"INSIRA O NOME DA FONTE PAGADORA AQUI"}]
[]
[null,"À Cooperativa de Crédito Credisg LTDA - SICOOB CREDISG"]
[]
[null,"FONTE PAGADORA:",null,null,null,null,null,null,{"$f":"FONTE_PAGADORA","v":"INSIRA O NOME DA FONTE PAGADORA AQUI"},null,null,null,null,null,null,null,null,null,null,null,null,null,null,null,"AGÊNCIA:",null,null,null,{"$f":"INDEX(Tabela1[],A9723,21)","v":0},null,null,null,null,null,"TIPO DE CONTA:",null,null,null,null,null,{"$f":"INDEX(Tabela1[],A9723,19)","v":0}]
[]
[]
[]
[]
[]
[]
[]
[]
[]
[]
[{"$f":"A9755+1","v":302},"TERMO DE AUTORIZAÇÃO PARA TRANSFERÊNCIA DE RECURSOS\nResoluções BACEN 3.402/2006 e 3.424/2006"]
[]
[]
[null,"CONTA SALÁRIO (FUNCIONÁRIO):",null,null,null,null,null,null,null,null,null,null,null,null,null,null,null,null,null,null,null,null,null,null,"BANCO:",null,null,{"$f":"INDEX(Tabela1[],A9788,20)","v":0},null,{"$f":"IFERROR(VLOOKUP(AB9798,LISTA!Q:R,2,0),\"-\")","v":"-"}]
[]
[]
[null,{"$f":"\"Solicitante de Portabilidade\"","v":"Solicitante de Portabilidade"},null,null,null,null,null,null,null,null,null,null,null,null,null,null,null,null,null,null,null,null,null,null,"Responsável pelo preenchimento do Termo"]
[{"$f":"A9788+1","v":303},"TERMO DE AUTORIZAÇÃO PARA TRANSFERÊNCIA DE RECURSOS\nResoluções BACEN 3.402/2006 e 3.424/2006"]
[null,"Eu, ",null,{"$f":"UPPER(INDEX(Tabela1[],A9820,2))","v":""},null,null,null,null,null,null,null,null,null,null,null,null,null,null,null,null,null,null,null,null,null,null,"portador do CPF número",null,null,null,null,null,null,null,null,null,{"$f":"TEXT(INDEX(Tabela1[],A9820,1),\"[<=9999]0000;[>=999999999999]00\\.000\\.000\\/0000-00;000\\.000\\.000-00\")","v":"0000"}]
[]
[null,null,null,null,null,null,null,null,null,null,null,null,null,null,null,null,null,null,null,null,null,null,null,null,"NÚMERO:",null,null,null,{"$f":"INDEX(Tabela1[],A9820,22)","v":0}]
[]
[null,{"$f":"UPPER(INDEX(Tabela1[],A9820,2))","v":""},null,null,null,null,null,null,null,null,null,null,null,null,null,null,null,null,null,null,null,null,null,null,{"$f":"FONTE_PAGADORA","v":"INSIRA O NOME DA FONTE PAGADORA AQUI"}]
[]
[null,"À Cooperativa de Crédito Credisg LTDA - SICOOB CREDISG"]
[]
[null,"CONTA ORIGEM",null,null,null,null,null,null,null,null,null,null,null,null,null,null,null,null,null,null,null,null,null,null,"CONTA DESTINO"]
[]
[null,"Esta solicitação está de acordo com a Resolução BACEN 3.402/2006 e 3.424/2006, e sua revogação está condicionada a minha prévia e expressa manifestação."]
[]
[]
[null,"À Cooperativa de Crédito Credisg LTDA - SICOOB CREDISG"]
[]
[null,"FONTE PAGADORA:",null,null,null,null,null,null,{"$f":"FONTE_PAGADORA","v":"INSIRA O NOME DA FONTE PAGADORA AQUI"},null,null,null,null,null,null,null,null,null,null,null,null,null,null,null,"AGÊNCIA:",null,null,null,{"$f":"INDEX(Tabela1[],A9885,21)","v":0},null,null,null,null,null,"TIPO DE CONTA:",null,null,null,null,null,{"$f":"INDEX(Tabela1[],A9885,19)","v":0}]
[null,"Esta solicitação está de acordo com a Resolução BACEN 3.402/2006 e 3.424/2006, e sua revogação está condicionada a minha prévia e expressa manifestação."]
[]
[]
[{"$f":"A9885+1","v":306},"TERMO DE AUTORIZAÇÃO PARA TRANSFERÊNCIA DE RECURSOS\nResoluções BACEN 3.402/2006 e 3.424/2006"]
[null,"Eu, ",null,{"$f":"UPPER(INDEX(Tabela1[],A9918,2))","v":""},null,null,null,null,null,null,null,null,null,null,null,null,null,null,null,null,null,null,null,null,null,null,"portador do CPF número",null,null,null,null,null,null,null,null,null,{"$f":"TEXT(INDEX(Tabela1[],A9918,1),\"[<=9999]0000;[>=999999999999]00\\.000\\.000\\/0000-00;000\\.000\\.000-00\")","v":"0000"}]
[]
[null,"CONTA SALÁRIO (FUNCIONÁRIO):",null,null,null,null,null,null,null,null,null,null,null,null,null,null,null,null,null,null,null,null,null,null,"BANCO:",null,null,{"$f":"INDEX(Tabela1[],A9918,20)","v":0},null,{"$f":"IFERROR(VLOOKUP(AB9928,LISTA!Q:R,2,0),\"-\")","v":"-"}]
[]
[]
[null,{"$f":"UPPER(INDEX(Tabela1[],A9918,2))","v":""},null,null,null,null,null,null,null,null,null,null,null,null,null,null,null,null,null,null,null,null,null,null,{"$f":"FONTE_PAGADORA","v":"INSIRA O NOME DA FONTE PAGADORA AQUI"}]
[]
[null,"Eu, ",null,{"$f":"UPPER(INDEX(Tabela1[],A9950,2))","v":""},null,null,null,null,null,null,null,null,null,null,null,null,null,null,null,null,null,null,null,null,null,null,"portador do CPF número",null,null,null,null,null,null,null,null,null,{"$f":"TEXT(INDEX(Tabela1[],A9950,1),\"[<=9999]0000;[>=999999999999]00\\.000\\.000\\/0000-00;000\\.000\\.000-00\")","v":"0000"}]
[]
[]
[]
[null,"________________________________________",null,null,null,null,null,null,null,null,null,null,null,null,null,null,null,null,null,null,null,null,null,null,"________________________________________"]
[]
[null,"À Cooperativa de Crédito Credisg LTDA - SICOOB CREDISG"]
[]
[null,"CONTA ORIGEM",null,null,null,null,null,null,null,null,null,null,null,null,null,null,null,null,null,null,null,null,null,null,"CONTA DESTINO"]
[]
[]
[]
[]
[null,"À Cooperativa de Crédito Credisg LTDA - SICOOB CREDISG"]
[]
[null,"FONTE PAGADORA:",null,null,null,null,null,null,{"$f":"FONTE_PAGADORA","v":"INSIRA O NOME DA FONTE PAGADORA AQUI"},null,null,null,null,null,null,null,null,null,null,null,null,null,null,null,"AGÊNCIA:",null,null,null,{"$f":"INDEX(Tabela1[],A10015,21)","v":0},null,null,null,null,null,"TIPO DE CONTA:",null,null,null,null,null,{"$f":"INDEX(Tabela1[],A10015,19)","v":0}]
[null,"Esta solicitação está de acordo com a Resolução BACEN 3.402/2006 e 3.424/2006, e sua revogação está condicionada a minha prévia e expressa manifestação."]
[]
[]
[]
[{"$f":"A10015+1","v":310},"TERMO DE AUTORIZAÇÃO PARA TRANSFERÊNCIA DE RECURSOS\nResoluções BACEN 3.402/2006 e 3.424/2006"]
[]
[null,"CONTA SALÁRIO (FUNCIONÁRIO):",null,null,null,null,null,null,null,null,null,null,null,null,null,null,null,null,null,null,null,null,null,null,"BANCO:",null,null,{"$f":"INDEX(Tabela1[],A10048,20)","v":0},null,{"$f":"IFERROR(VLOOKUP(AB10058,LISTA!Q:R,2,0),\"-\")","v":"-"}]
[]
[]
[]
[]
[null,"Eu, ",null,{"$f":"UPPER(INDEX(Tabela1[],A10080,2))","v":""},null,null,null,null,null,null,null,null,null,null,null,null,null,null,null,null,null,null,null,null,null,null,"portador do CPF número",null,null,null,null,null,null,null,null,null,{"$f":"TEXT(INDEX(Tabela1[],A10080,1),\"[<=9999]0000;[>=999999999999]00\\.000\\.000\\/0000-00;000\\.000\\.000-00\")","v":"0000"}]
[null,"CONTA SALÁRIO (FUNCIONÁRIO):",null,null,null,null,null,null,null,null,null,null,null,null,null,null,null,null,null,null,null,null,null,null,"BANCO:",null,null,{"$f":"INDEX(Tabela1[],A10080,20)","v":0},null,{"$f":"IFERROR(VLOOKUP(AB10090,LISTA!Q:R,2,0),\"-\")","v":"-"}]
[]
[null,"Esta solicitação está de acordo com a Resolução BACEN 3.402/2006 e 3.424/2006, e sua revogação está condicionada a minha prévia e expressa manifestação."]
[null,{"$f":"UPPER(INDEX(Tabela1[],A10080,2))","v":""},null,null,null,null,null,null,null,null,null,null,null,null,null,null,null,null,null,null,null,null,null,null,{"$f":"FONTE_PAGADORA","v":"INSIRA O NOME DA FONTE PAGADORA AQUI"}]
[]
[null,"À Cooperativa de Crédito Credisg LTDA - SICOOB CREDISG"]
[]
[]
[]
[]
[]
[]
[null,"À Cooperativa de Crédito Credisg LTDA - SICOOB CREDISG"]
[]
[null,"FONTE PAGADORA:",null,null,null,null,null,null,{"$f":"FONTE_PAGADORA","v":"INSIRA O NOME DA FONTE PAGADORA AQUI"},null,null,null,null,null,null,null,null,null,null,null,null,null,null,null,"AGÊNCIA:",null,null,null,{"$f":"INDEX(Tabela1[],A10145,21)","v":0},null,null,null,null,null,"TIPO DE CONTA:",null,null,null,null,null,{"$f":"INDEX(Tabela1[],A10145,19)","v":0}]
[null,"Esta solicitação está de acordo com a Resolução BACEN 3.402/2006 e 3.424/2006, e sua revogação está condicionada a minha prévia e expressa manifestação."]
[]
[]
[]
[{"$f":"A10145+1","v":314},"TERMO DE AUTORIZAÇÃO PARA TRANSFERÊNCIA DE RECURSOS\nResoluções BACEN 3.402/2006 e 3.424/2006"]
[]
[]
[]
[]
[null,{"$f":"\"Solicitante de Portabilidade\"","v":"Solicitante de Portabilidade"},null,null,null,null,null,null,null,null,null,null,null,null,null,null,null,null,null,null,null,null,null,null,"Responsável pelo preenchimento do Termo"]
[]
[]
[null,"CONTA SALÁRIO (FUNCIONÁRIO):",null,null,null,null,null,null,null,null,null,null,null,null,null,null,null,null,null,null,null,null,null,null,"BANCO:",null,null,{"$f":"INDEX(Tabela1[],A10210,20)","v":0},null,{"$f":"IFERROR(VLOOKUP(AB10220,LISTA!Q:R,2,0),\"-\")","v":"-"}]
[null,null,null,null,null,null,null,null,null,null,null,null,null,null,null,null,null,null,null,null,null,null,null,null,"NÚMERO:",null,null,null,{"$f":"INDEX(Tabela1[],A10210,22)","v":0}]
[]
[null,{"$f":"UPPER(INDEX(Tabela1[],A10210,2))","v":""},null,null,null,null,null,null,null,null,null,null,null,null,null,null,null,null,null,null,null,null,null,null,{"$f":"FONTE_PAGADORA","v":"INSIRA O NOME DA FONTE PAGADORA AQUI"}]
[]
[]
[]
[null,"CONTA ORIGEM",null,null,null,null,null,null,null,null,null,null,null,null,null,null,null,null,null,null,null,null,null,null,"CONTA DESTINO"]
[]
[]
[null,"________________________________________",null,null,null,null,null,null,null,null,null,null,null,null,null,null,null,null,null,null,null,null,null,null,"________________________________________"]
[]
[]
[]
[null,"FONTE PAGADORA:",null,null,null,null,null,null,{"$f":"FONTE_PAGADORA","v":"INSIRA O NOME DA FONTE PAGADORA AQUI"},null,null,null,null,null,null,null,null,null,null,null,null,null,null,null,"AGÊNCIA:",null,null,null,{"$f":"INDEX(Tabela1[],A10275,21)","v":0},null,null,null,null,null,"TIPO DE CONTA:",null,null,null,null,null,{"$f":"INDEX(Tabela1[],A10275,19)","v":0}]
[]
[]
[null,{"$f":"\"Solicitante de Portabilidade\"","v":"Solicitante de Portabilidade"},null,null,null,null,null,null,null,null,null,null,null,null,null,null,null,null,null,null,null,null,null,null,"Responsável pelo preenchimento do Termo"]
[]
[{"$f":"A10275+1","v":318},"TERMO DE AUTORIZAÇÃO PARA TRANSFERÊNCIA DE RECURSOS\nResoluções BACEN 3.402/2006 e 3.424/2006"]
[null,"solicito a TRANSFERÊNCIA dos valores creditados em minha conta junto a essa instituição a título de salário, aposentadoria ou similares, para a conta descrita abaixo, na mesma do crédito, sem nenhum custo e em caráter permanente:"]
[]
[]
[]
[null,{"$f":"\"Solicitante de Portabilidade\"","v":"Solicitante de Portabilidade"},null,null,null,null,null,null,null,null,null,null,null,null,null,null,null,null,null,null,null,null,null,null,"Responsável pelo preenchimento do Termo"]
[]
[]
[null,"CONTA SALÁRIO (FUNCIONÁRIO):",null,null,null,null,null,null,null,null,null,null,null,null,null,null,null,null,null,null,null,null,null,null,"BANCO:",null,null,{"$f":"INDEX(Tabela1[],A10340,20)","v":0},null,{"$f":"IFERROR(VLOOKUP(AB10350,LISTA!Q:R,2,0),\"-\")","v":"-"}]
[]
[]
[null,{"$f":"UPPER(INDEX(Tabela1[],A10340,2))","v":""},null,null,null,null,null,null,null,null,null,null,null,null,null,null,null,null,null,null,null,null,null,null,{"$f":"FONTE_PAGADORA","v":"INSIRA O NOME DA FONTE PAGADORA AQUI"}]
[null,{"$f":"\"Solicitante de Portabilidade\"","v":"Solicitante de Portabilidade"},null,null,null,null,null,null,null,null,null,null,null,null,null,null,null,null,null,null,null,null,null,null,"Responsável pelo preenchimento do Termo"]
[]
[]
[null,"CONTA ORIGEM",null,null,null,null,null,null,null,null,null,null,null,null,null,null,null,null,null,null,null,null,null,null,"CONTA DESTINO"]
[]
[null,"São Gotardo, ",null,null,null,null,{"$f":"DAY(TODAY())","v":6},null,"de",null,{"$f":"VLOOKUP(MONTH(TODAY()),LISTA!O:P,2,0)","v":"ABRIL"},null,null,null,null,"de",null,{"$f":"YEAR(TODAY())","v":2023}]
[null,"________________________________________",null,null,null,null,null,null,null,null,null,null,null,null,null,null,null,null,null,null,null,null,null,null,"________________________________________"]
[]
[null,"À Cooperativa de Crédito Credisg LTDA - SICOOB CREDISG"]
[]
[]
[]
[null,"São Gotardo, ",null,null,null,null,{"$f":"DAY(TODAY())","v":6},null,"de",null,{"$f":"VLOOKUP(MONTH(TODAY()),LISTA!O:P,2,0)","v":"ABRIL"},null,null,null,null,"de",null,{"$f":"YEAR(TODAY())","v":2023}]
[]
[]
[{"$f":"A10405+1","v":322},"TERMO DE AUTORIZAÇÃO PARA TRANSFERÊNCIA DE RECURSOS\nResoluções BACEN 3.402/2006 e 3.424/2006"]
[null,"solicito a TRANSFERÊNCIA dos valores creditados em minha conta junto a essa instituição a título de salário, aposentadoria ou similares, para a conta descrita abaixo, na mesma do crédito, sem nenhum custo e em caráter permanente:"]
[]
[null,"Esta solicitação está de acordo com a Resolução BACEN 3.402/2006 e 3.424/2006, e sua revogação está condicionada a minha prévia e expressa manifestação."]
[]
[null,{"$f":"\"Solicitante de Portabilidade\"","v":"Solicitante de Portabilidade"},null,null,null,null,null,null,null,null,null,null,null,null,null,null,null,null,null,null,null,null,null,null,"Responsável pelo preenchimento do Termo"]
[{"$f":"A10438+1","v":323},"TERMO DE AUTORIZAÇÃO PARA TRANSFERÊNCIA DE RECURSOS\nResoluções BACEN 3.402/2006 e 3.424/2006"]
[]
[null,"CONTA SALÁRIO (FUNCIONÁRIO):",null,null,null,null,null,null,null,null,null,null,null,null,null,null,null,null,null,null,null,null,null,null,"BANCO:",null,null,{"$f":"INDEX(Tabela1[],A10470,20)","v":0},null,{"$f":"IFERROR(VLOOKUP(AB10480,LISTA!Q:R,2,0),\"-\")","v":"-"}]
[]
[]
[]
[null,{"$f":"\"Solicitante de Portabilidade\"","v":"Solicitante de Portabilidade"},null,null,null,null,null,null,null,null,null,null,null,null,null,null,null,null,null,null,null,null,null,null,"Responsável pelo preenchimento do Termo"]
[]
[]
[null,"CONTA ORIGEM",null,null,null,null,null,null,null,null,null,null,null,null,null,null,null,null,null,null,null,null,null,null,"CONTA DESTINO"]
[null,null,null,null,null,null,null,null,null,null,null,null,null,null,null,null,null,null,null,null,null,null,null,null,"NÚMERO:",null,null,null,{"$f":"INDEX(Tabela1[],A10503,22)","v":0}]
[null,"São Gotardo, ",null,null,null,null,{"$f":"DAY(TODAY())","v":6},null,"de",null,{"$f":"VLOOKUP(MONTH(TODAY()),LISTA!O:P,2,0)","v":"ABRIL"},null,null,null,null,"de",null,{"$f":"YEAR(TODAY())","v":2023}]
[null,"________________________________________",null,null,null,null,null,null,null,null,null,null,null,null,null,null,null,null,null,null,null,null,null,null,"________________________________________"]
[]
[null,"À Cooperativa de Crédito Credisg LTDA - SICOOB CREDISG"]
[]
[]
[]
[]
[]
[]
[]
[null,"solicito a TRANSFERÊNCIA dos valores creditados em minha conta junto a essa instituição a título de salário, aposentadoria ou similares, para a conta descrita abaixo, na mesma do crédito, sem nenhum custo e em caráter permanente:"]
[null,"CONTA SALÁRIO (FUNCIONÁRIO):",null,null,null,null,null,null,null,null,null,null,null,null,null,null,null,null,null,null,null,null,null,null,"BANCO:",null,null,{"$f":"INDEX(Tabela1[],A10568,20)","v":0},null,{"$f":"IFERROR(VLOOKUP(AB10578,LISTA!Q:R,2,0),\"-\")","v":"-"}]
[]
[]
[]
[{"$f":"A10568+1","v":327},"TERMO DE AUTORIZAÇÃO PARA TRANSFERÊNCIA DE RECURSOS\nResoluções BACEN 3.402/2006 e 3.424/2006"]
[]
[null,"CONTA SALÁRIO (FUNCIONÁRIO):",null,null,null,null,null,null,null,null,null,null,null,null,null,null,null,null,null,null,null,null,null,null,"BANCO:",null,null,{"$f":"INDEX(Tabela1[],A10600,20)","v":0},null,{"$f":"IFERROR(VLOOKUP(AB10610,LISTA!Q:R,2,0),\"-\")","v":"-"}]
[]
[]
[]
[null,{"$f":"\"Solicitante de Portabilidade\"","v":"Solicitante de Portabilidade"},null,null,null,null,null,null,null,null,null,null,null,null,null,null,null,null,null,null,null,null,null,null,"Responsável pelo preenchimento do Termo"]
[]
[]
[]
[null,null,null,null,null,null,null,null,null,null,null,null,null,null,null,null,null,null,null,null,null,null,null,null,"NÚMERO:",null,null,null,{"$f":"INDEX(Tabela1[],A10633,22)","v":0}]
[null,"São Gotardo, ",null,null,null,null,{"$f":"DAY(TODAY())","v":6},null,"de",null,{"$f":"VLOOKUP(MONTH(TODAY()),LISTA!O:P,2,0)","v":"ABRIL"},null,null,null,null,"de",null,{"$f":"YEAR(TODAY())","v":2023}]
[]
[]
[null,"À Cooperativa de Crédito Credisg LTDA - SICOOB CREDISG"]
[null,"CONTA ORIGEM",null,null,null,null,null,null,null,null,null,null,null,null,null,null,null,null,null,null,null,null,null,null,"CONTA DESTINO"]
[]
[]
[]
[]
[]
[]
[null,"solicito a TRANSFERÊNCIA dos valores creditados em minha conta junto a essa instituição a título de salário, aposentadoria ou similares, para a conta descrita abaixo, na mesma do crédito, sem nenhum custo e em caráter permanente:"]
[]
[]
[]
[]
[{"$f":"A10698+1","v":331},"TERMO DE AUTORIZAÇÃO PARA TRANSFERÊNCIA DE RECURSOS\nResoluções BACEN 3.402/2006 e 3.424/2006"]
[null,"À Cooperativa de Crédito Credisg LTDA - SICOOB CREDISG"]
[null,"CONTA SALÁRIO (FUNCIONÁRIO):",null,null,null,null,null,null,null,null,null,null,null,null,null,null,null,null,null,null,null,null,null,null,"BANCO:",null,null,{"$f":"INDEX(Tabela1[],A10730,20)","v":0},null,{"$f":"IFERROR(VLOOKUP(AB10740,LISTA!Q:R,2,0),\"-\")","v":"-"}]
[]
[]
[]
[]
[]
[]
[]
[null,null,null,null,null,null,null,null,null,null,null,null,null,null,null,null,null,null,null,null,null,null,null,null,"NÚMERO:",null,null,null,{"$f":"INDEX(Tabela1[],A10763,22)","v":0}]
[null,"São Gotardo, ",null,null,null,null,{"$f":"DAY(TODAY())","v":6},null,"de",null,{"$f":"VLOOKUP(MONTH(TODAY()),LISTA!O:P,2,0)","v":"ABRIL"},null,null,null,null,"de",null,{"$f":"YEAR(TODAY())","v":2023}]
[null,"________________________________________",null,null,null,null,null,null,null,null,null,null,null,null,null,null,null,null,null,null,null,null,null,null,"________________________________________"]
[]
[]
[null,"CONTA ORIGEM",null,null,null,null,null,null,null,null,null,null,null,null,null,null,null,null,null,null,null,null,null,null,"CONTA DESTINO"]
[]
[null,null,null,null,null,null,null,null,null,null,null,null,null,null,null,null,null,null,null,null,null,null,null,null,"NÚMERO:",null,null,null,{"$f":"INDEX(Tabela1[],A10795,22)","v":0}]
[]
[null,"________________________________________",null,null,null,null,null,null,null,null,null,null,null,null,null,null,null,null,null,null,null,null,null,null,"________________________________________"]
[]
[]
[null,"solicito a TRANSFERÊNCIA dos valores creditados em minha conta junto a essa instituição a título de salário, aposentadoria ou similares, para a conta descrita abaixo, na mesma do crédito, sem nenhum custo e em caráter permanente:"]
[]
[null,"Esta solicitação está de acordo com a Resolução BACEN 3.402/2006 e 3.424/2006, e sua revogação está condicionada a minha prévia e expressa manifestação."]
[]
[]
[]
[]
[null,"CONTA SALÁRIO (FUNCIONÁRIO):",null,null,null,null,null,null,null,null,null,null,null,null,null,null,null,null,null,null,null,null,null,null,"BANCO:",null,null,{"$f":"INDEX(Tabela1[],A10860,20)","v":0},null,{"$f":"IFERROR(VLOOKUP(AB10870,LISTA!Q:R,2,0),\"-\")","v":"-"}]
[]
[]
[null,"________________________________________",null,null,null,null,null,null,null,null,null,null,null,null,null,null,null,null,null,null,null,null,null,null,"________________________________________"]
[null,{"$f":"\"Solicitante de Portabilidade\"","v":"Solicitante de Portabilidade"},null,null,null,null,null,null,null,null,null,null,null,null,null,null,null,null,null,null,null,null,null,null,"Responsável pelo preenchimento do Termo"]
[]
[null,"Eu, ",null,{"$f":"UPPER(INDEX(Tabela1[],A10893,2))","v":""},null,null,null,null,null,null,null,null,null,null,null,null,null,null,null,null,null,null,null,null,null,null,"portador do CPF número",null,null,null,null,null,null,null,null,null,{"$f":"TEXT(INDEX(Tabela1[],A10893,1),\"[<=9999]0000;[>=999999999999]00\\.000\\.000\\/0000-00;000\\.000\\.000-00\")","v":"0000"}]
[]
[]
[]
[null,"________________________________________",null,null,null,null,null,null,null,null,null,null,null,null,null,null,null,null,null,null,null,null,null,null,"________________________________________"]
[]
[]
[null,"CONTA ORIGEM",null,null,null,null,null,null,null,null,null,null,null,null,null,null,null,null,null,null,null,null,null,null,"CONTA DESTINO"]
[]
[]
[null,"São Gotardo, ",null,null,null,null,{"$f":"DAY(TODAY())","v":6},null,"de",null,{"$f":"VLOOKUP(MONTH(TODAY()),LISTA!O:P,2,0)","v":"ABRIL"},null,null,null,null,"de",null,{"$f":"YEAR(TODAY())","v":2023}]
[null,"________________________________________",null,null,null,null,null,null,null,null,null,null,null,null,null,null,null,null,null,null,null,null,null,null,"________________________________________"]
[]
[]
[null,"solicito a TRANSFERÊNCIA dos valores creditados em minha conta junto a essa instituição a título de salário, aposentadoria ou similares, para a conta descrita abaixo, na mesma do crédito, sem nenhum custo e em caráter permanente:"]
[]
[null,"Esta solicitação está de acordo com a Resolução BACEN 3.402/2006 e 3.424/2006, e sua revogação está condicionada a minha prévia e expressa manifestação."]
[]
[]
[]
[]
[null,"solicito a TRANSFERÊNCIA dos valores creditados em minha conta junto a essa instituição a título de salário, aposentadoria ou similares, para a conta descrita abaixo, na mesma do crédito, sem nenhum custo e em caráter permanente:"]
[]
[null,"Esta solicitação está de acordo com a Resolução BACEN 3.402/2006 e 3.424/2006, e sua revogação está condicionada a minha prévia e expressa manifestação."]
[]
[null,{"$f":"\"Solicitante de Portabilidade\"","v":"Solicitante de Portabilidade"},null,null,null,null,null,null,null,null,null,null,null,null,null,null,null,null,null,null,null,null,null,null,"Responsável pelo preenchimento do Termo"]
[]
[null,"Eu, ",null,{"$f":"UPPER(INDEX(Tabela1[],A11023,2))","v":""},null,null,null,null,null,null,null,null,null,null,null,null,null,null,null,null,null,null,null,null,null,null,"portador do CPF número",null,null,null,null,null,null,null,null,null,{"$f":"TEXT(INDEX(Tabela1[],A11023,1),\"[<=9999]0000;[>=999999999999]00\\.000\\.000\\/0000-00;000\\.000\\.000-00\")","v":"0000"}]
[]
[]
[null,"São Gotardo, ",null,null,null,null,{"$f":"DAY(TODAY())","v":6},null,"de",null,{"$f":"VLOOKUP(MONTH(TODAY()),LISTA!O:P,2,0)","v":"ABRIL"},null,null,null,null,"de",null,{"$f":"YEAR(TODAY())","v":2023}]
[null,{"$f":"UPPER(INDEX(Tabela1[],A11023,2))","v":""},null,null,null,null,null,null,null,null,null,null,null,null,null,null,null,null,null,null,null,null,null,null,{"$f":"FONTE_PAGADORA","v":"INSIRA O NOME DA FONTE PAGADORA AQUI"}]
[]
[]
[null,"Eu, ",null,{"$f":"UPPER(INDEX(Tabela1[],A11055,2))","v":""},null,null,null,null,null,null,null,null,null,null,null,null,null,null,null,null,null,null,null,null,null,null,"portador do CPF número",null,null,null,null,null,null,null,null,null,{"$f":"TEXT(INDEX(Tabela1[],A11055,1),\"[<=9999]0000;[>=999999999999]00\\.000\\.000\\/0000-00;000\\.000\\.000-00\")","v":"0000"}]
[null,"CONTA ORIGEM",null,null,null,null,null,null,null,null,null,null,null,null,null,null,null,null,null,null,null,null,null,null,"CONTA DESTINO"]
[null,null,null,null,null,null,null,null,null,null,null,null,null,null,null,null,null,null,null,null,null,null,null,null,"NÚMERO:",null,null,null,{"$f":"INDEX(Tabela1[],A11055,22)","v":0}]
[null,"São Gotardo, ",null,null,null,null,{"$f":"DAY(TODAY())","v":6},null,"de",null,{"$f":"VLOOKUP(MONTH(TODAY()),LISTA!O:P,2,0)","v":"ABRIL"},null,null,null,null,"de",null,{"$f":"YEAR(TODAY())","v":2023}]
[null,"________________________________________",null,null,null,null,null,null,null,null,null,null,null,null,null,null,null,null,null,null,null,null,null,null,"________________________________________"]
[]
[null,"À Cooperativa de Crédito Credisg LTDA - SICOOB CREDISG"]
[null,"solicito a TRANSFERÊNCIA dos valores creditados em minha conta junto a essa instituição a título de salário, aposentadoria ou similares, para a conta descrita abaixo, na mesma do crédito, sem nenhum custo e em caráter permanente:"]
[null,"FONTE PAGADORA:",null,null,null,null,null,null,{"$f":"FONTE_PAGADORA","v":"INSIRA O NOME DA FONTE PAGADORA AQUI"},null,null,null,null,null,null,null,null,null,null,null,null,null,null,null,"AGÊNCIA:",null,null,null,{"$f":"INDEX(Tabela1[],A11088,21)","v":0},null,null,null,null,null,"TIPO DE CONTA:",null,null,null,null,null,{"$f":"INDEX(Tabela1[],A11088,19)","v":0}]
[null,"Esta solicitação está de acordo com a Resolução BACEN 3.402/2006 e 3.424/2006, e sua revogação está condicionada a minha prévia e expressa manifestação."]
[]
[]
[{"$f":"A11088+1","v":343},"TERMO DE AUTORIZAÇÃO PARA TRANSFERÊNCIA DE RECURSOS\nResoluções BACEN 3.402/2006 e 3.424/2006"]
[]
[null,"solicito a TRANSFERÊNCIA dos valores creditados em minha conta junto a essa instituição a título de salário, aposentadoria ou similares, para a conta descrita abaixo, na mesma do crédito, sem nenhum custo e em caráter permanente:"]
[]
[]
[]
[]
[]
[null,"Eu, ",null,{"$f":"UPPER(INDEX(Tabela1[],A11153,2))","v":""},null,null,null,null,null,null,null,null,null,null,null,null,null,null,null,null,null,null,null,null,null,null,"portador do CPF número",null,null,null,null,null,null,null,null,null,{"$f":"TEXT(INDEX(Tabela1[],A11153,1),\"[<=9999]0000;[>=999999999999]00\\.000\\.000\\/0000-00;000\\.000\\.000-00\")","v":"0000"}]
[null,"CONTA SALÁRIO (FUNCIONÁRIO):",null,null,null,null,null,null,null,null,null,null,null,null,null,null,null,null,null,null,null,null,null,null,"BANCO:",null,null,{"$f":"INDEX(Tabela1[],A11153,20)","v":0},null,{"$f":"IFERROR(VLOOKUP(AB11163,LISTA!Q:R,2,0),\"-\")","v":"-"}]
[null,null,null,null,null,null,null,null,null,null,null,null,null,null,null,null,null,null,null,null,null,null,null,null,"NÚMERO:",null,null,null,{"$f":"INDEX(Tabela1[],A11153,22)","v":0}]
[]
[null,{"$f":"UPPER(INDEX(Tabela1[],A11153,2))","v":""},null,null,null,null,null,null,null,null,null,null,null,null,null,null,null,null,null,null,null,null,null,null,{"$f":"FONTE_PAGADORA","v":"INSIRA O NOME DA FONTE PAGADORA AQUI"}]
[]
[]
[]
[null,"CONTA ORIGEM",null,null,null,null,null,null,null,null,null,null,null,null,null,null,null,null,null,null,null,null,null,null,"CONTA DESTINO"]
[null,null,null,null,null,null,null,null,null,null,null,null,null,null,null,null,null,null,null,null,null,null,null,null,"NÚMERO:",null,null,null,{"$f":"INDEX(Tabela1[],A11185,22)","v":0}]
[null,"São Gotardo, ",null,null,null,null,{"$f":"DAY(TODAY())","v":6},null,"de",null,{"$f":"VLOOKUP(MONTH(TODAY()),LISTA!O:P,2,0)","v":"ABRIL"},null,null,null,null,"de",null,{"$f":"YEAR(TODAY())","v":2023}]
[null,{"$f":"UPPER(INDEX(Tabela1[],A11185,2))","v":""},null,null,null,null,null,null,null,null,null,null,null,null,null,null,null,null,null,null,null,null,null,null,{"$f":"FONTE_PAGADORA","v":"INSIRA O NOME DA FONTE PAGADORA AQUI"}]
[]
[]
[]
[null,"FONTE PAGADORA:",null,null,null,null,null,null,{"$f":"FONTE_PAGADORA","v":"INSIRA O NOME DA FONTE PAGADORA AQUI"},null,null,null,null,null,null,null,null,null,null,null,null,null,null,null,"AGÊNCIA:",null,null,null,{"$f":"INDEX(Tabela1[],A11218,21)","v":0},null,null,null,null,null,"TIPO DE CONTA:",null,null,null,null,null,{"$f":"INDEX(Tabela1[],A11218,19)","v":0}]
[null,"Esta solicitação está de acordo com a Resolução BACEN 3.402/2006 e 3.424/2006, e sua revogação está condicionada a minha prévia e expressa manifestação."]
[]
[]
[]
[]
[null,"solicito a TRANSFERÊNCIA dos valores creditados em minha conta junto a essa instituição a título de salário, aposentadoria ou similares, para a conta descrita abaixo, na mesma do crédito, sem nenhum custo e em caráter permanente:"]
[null,"FONTE PAGADORA:",null,null,null,null,null,null,{"$f":"FONTE_PAGADORA","v":"INSIRA O NOME DA FONTE PAGADORA AQUI"},null,null,null,null,null,null,null,null,null,null,null,null,null,null,null,"AGÊNCIA:",null,null,null,{"$f":"INDEX(Tabela1[],A11250,21)","v":0},null,null,null,null,null,"TIPO DE CONTA:",null,null,null,null,null,{"$f":"INDEX(Tabela1[],A11250,19)","v":0}]
[null,"São Gotardo, ",null,null,null,null,{"$f":"DAY(TODAY())","v":6},null,"de",null,{"$f":"VLOOKUP(MONTH(TODAY()),LISTA!O:P,2,0)","v":"ABRIL"},null,null,null,null,"de",null,{"$f":"YEAR(TODAY())","v":2023}]
[]
[]
[]
[]
[]
[null,null,null,null,null,null,null,null,null,null,null,null,null,null,null,null,null,null,null,null,null,null,null,null,"NÚMERO:",null,null,null,{"$f":"INDEX(Tabela1[],A11283,22)","v":0}]
[]
[null,{"$f":"UPPER(INDEX(Tabela1[],A11283,2))","v":""},null,null,null,null,null,null,null,null,null,null,null,null,null,null,null,null,null,null,null,null,null,null,{"$f":"FONTE_PAGADORA","v":"INSIRA O NOME DA FONTE PAGADORA AQUI"}]
[null,{"$f":"\"Solicitante de Portabilidade\"","v":"Solicitante de Portabilidade"},null,null,null,null,null,null,null,null,null,null,null,null,null,null,null,null,null,null,null,null,null,null,"Responsável pelo preenchimento do Termo"]
[{"$f":"A11283+1","v":349},"TERMO DE AUTORIZAÇÃO PARA TRANSFERÊNCIA DE RECURSOS\nResoluções BACEN 3.402/2006 e 3.424/2006"]
[]
[]
[null,null,null,null,null,null,null,null,null,null,null,null,null,null,null,null,null,null,null,null,null,null,null,null,"NÚMERO:",null,null,null,{"$f":"INDEX(Tabela1[],A11315,22)","v":0}]
[]
[null,{"$f":"UPPER(INDEX(Tabela1[],A11315,2))","v":""},null,null,null,null,null,null,null,null,null,null,null,null,null,null,null,null,null,null,null,null,null,null,{"$f":"FONTE_PAGADORA","v":"INSIRA O NOME DA FONTE PAGADORA AQUI"}]
[]
[null,"À Cooperativa de Crédito Credisg LTDA - SICOOB CREDISG"]
[]
[null,"FONTE PAGADORA:",null,null,null,null,null,null,{"$f":"FONTE_PAGADORA","v":"INSIRA O NOME DA FONTE PAGADORA AQUI"},null,null,null,null,null,null,null,null,null,null,null,null,null,null,null,"AGÊNCIA:",null,null,null,{"$f":"INDEX(Tabela1[],A11348,21)","v":0},null,null,null,null,null,"TIPO DE CONTA:",null,null,null,null,null,{"$f":"INDEX(Tabela1[],A11348,19)","v":0}]
[]
[null,"São Gotardo, ",null,null,null,null,{"$f":"DAY(TODAY())","v":6},null,"de",null,{"$f":"VLOOKUP(MONTH(TODAY()),LISTA!O:P,2,0)","v":"ABRIL"},null,null,null,null,"de",null,{"$f":"YEAR(TODAY())","v":2023}]
[]
[]
[]
[]
[null,"FONTE PAGADORA:",null,null,null,null,null,null,{"$f":"FONTE_PAGADORA","v":"INSIRA O NOME DA FONTE PAGADORA AQUI"},null,null,null,null,null,null,null,null,null,null,null,null,null,null,null,"AGÊNCIA:",null,null,null,{"$f":"INDEX(Tabela1[],A11380,21)","v":0},null,null,null,null,null,"TIPO DE CONTA:",null,null,null,null,null,{"$f":"INDEX(Tabela1[],A11380,19)","v":0}]
[]
[]
[]
[{"$f":"A11380+1","v":352},"TERMO DE AUTORIZAÇÃO PARA TRANSFERÊNCIA DE RECURSOS\nResoluções BACEN 3.402/2006 e 3.424/2006"]
[null,"Eu, ",null,{"$f":"UPPER(INDEX(Tabela1[],A11413,2))","v":""},null,null,null,null,null,null,null,null,null,null,null,null,null,null,null,null,null,null,null,null,null,null,"portador do CPF número",null,null,null,null,null,null,null,null,null,{"$f":"TEXT(INDEX(Tabela1[],A11413,1),\"[<=9999]0000;[>=999999999999]00\\.000\\.000\\/0000-00;000\\.000\\.000-00\")","v":"0000"}]
[]
[]
[]
[]
[null,{"$f":"\"Solicitante de Portabilidade\"","v":"Solicitante de Portabilidade"},null,null,null,null,null,null,null,null,null,null,null,null,null,null,null,null,null,null,null,null,null,null,"Responsável pelo preenchimento do Termo"]
[]
[null,"Eu, ",null,{"$f":"UPPER(INDEX(Tabela1[],A11445,2))","v":""},null,null,null,null,null,null,null,null,null,null,null,null,null,null,null,null,null,null,null,null,null,null,"portador do CPF número",null,null,null,null,null,null,null,null,null,{"$f":"TEXT(INDEX(Tabela1[],A11445,1),\"[<=9999]0000;[>=999999999999]00\\.000\\.000\\/0000-00;000\\.000\\.000-00\")","v":"0000"}]
[]
[null,null,null,null,null,null,null,null,null,null,null,null,null,null,null,null,null,null,null,null,null,null,null,null,"NÚMERO:",null,null,null,{"$f":"INDEX(Tabela1[],A11445,22)","v":0}]
[]
[null,"________________________________________",null,null,null,null,null,null,null,null,null,null,null,null,null,null,null,null,null,null,null,null,null,null,"________________________________________"]
[]
[null,"À Cooperativa de Crédito Credisg LTDA - SICOOB CREDISG"]
[]
[]
[]
[]
[]
[]
[null,"À Cooperativa de Crédito Credisg LTDA - SICOOB CREDISG"]
[]
[]
[null,"Esta solicitação está de acordo com a Resolução BACEN 3.402/2006 e 3.424/2006, e sua revogação está condicionada a minha prévia e expressa manifestação."]
[]
[]
[{"$f":"A11510+1","v":356},"TERMO DE AUTORIZAÇÃO PARA TRANSFERÊNCIA DE RECURSOS\nResoluções BACEN 3.402/2006 e 3.424/2006"]
[]
[null,"CONTA SALÁRIO (FUNCIONÁRIO):",null,null,null,null,null,null,null,null,null,null,null,null,null,null,null,null,null,null,null,null,null,null,"BANCO:",null,null,{"$f":"INDEX(Tabela1[],A11543,20)","v":0},null,{"$f":"IFERROR(VLOOKUP(AB11553,LISTA!Q:R,2,0),\"-\")","v":"-"}]
[]
[]
[]
[]
[]
[null,"Eu, ",null,{"$f":"UPPER(INDEX(Tabela1[],A11575,2))","v":""},null,null,null,null,null,null,null,null,null,null,null,null,null,null,null,null,null,null,null,null,null,null,"portador do CPF número",null,null,null,null,null,null,null,null,null,{"$f":"TEXT(INDEX(Tabela1[],A11575,1),\"[<=9999]0000;[>=999999999999]00\\.000\\.000\\/0000-00;000\\.000\\.000-00\")","v":"0000"}]
[]
[]
[]
[null,{"$f":"UPPER(INDEX(Tabela1[],A11575,2))","v":""},null,null,null,null,null,null,null,null,null,null,null,null,null,null,null,null,null,null,null,null,null,null,{"$f":"FONTE_PAGADORA","v":"INSIRA O NOME DA FONTE PAGADORA AQUI"}]
[]
[null,"À Cooperativa de Crédito Credisg LTDA - SICOOB CREDISG"]
[null,"CONTA ORIGEM",null,null,null,null,null,null,null,null,null,null,null,null,null,null,null,null,null,null,null,null,null,null,"CONTA DESTINO"]
[]
[null,null,null,null,null,null,null,null,null,null,null,null,null,null,null,null,null,null,null,null,null,null,null,null,"NÚMERO:",null,null,null,{"$f":"INDEX(Tabela1[],A11608,22)","v":0}]
[]
[]
[null,"Esta solicitação está de acordo com a Resolução BACEN 3.402/2006 e 3.424/2006, e sua revogação está condicionada a minha prévia e expressa manifestação."]
[]
[null,"São Gotardo, ",null,null,null,null,{"$f":"DAY(TODAY())","v":6},null,"de",null,{"$f":"VLOOKUP(MONTH(TODAY()),LISTA!O:P,2,0)","v":"ABRIL"},null,null,null,null,"de",null,{"$f":"YEAR(TODAY())","v":2023}]
[]
[]
[]
[]
[null,"________________________________________",null,null,null,null,null,null,null,null,null,null,null,null,null,null,null,null,null,null,null,null,null,null,"________________________________________"]
[null,{"$f":"UPPER(INDEX(Tabela1[],A11608,2))","v":""},null,null,null,null,null,null,null,null,null,null,null,null,null,null,null,null,null,null,null,null,null,null,{"$f":"FONTE_PAGADORA","v":"INSIRA O NOME DA FONTE PAGADORA AQUI"}]
[null,{"$f":"\"Solicitante de Portabilidade\"","v":"Solicitante de Portabilidade"},null,null,null,null,null,null,null,null,null,null,null,null,null,null,null,null,null,null,null,null,null,null,"Responsável pelo preenchimento do Termo"]
[]
[]
[]
[]
[]
[{"$f":"A11608+1","v":359},"TERMO DE AUTORIZAÇÃO PARA TRANSFERÊNCIA DE RECURSOS\nResoluções BACEN 3.402/2006 e 3.424/2006"]
[]
[null,"À Cooperativa de Crédito Credisg LTDA - SICOOB CREDISG"]
[]
[null,"Eu, ",null,{"$f":"UPPER(INDEX(Tabela1[],A11640,2))","v":""},null,null,null,null,null,null,null,null,null,null,null,null,null,null,null,null,null,null,null,null,null,null,"portador do CPF número",null,null,null,null,null,null,null,null,null,{"$f":"TEXT(INDEX(Tabela1[],A11640,1),\"[<=9999]0000;[>=999999999999]00\\.000\\.000\\/0000-00;000\\.000\\.000-00\")","v":"0000"}]
[]
[null,"solicito a TRANSFERÊNCIA dos valores creditados em minha conta junto a essa instituição a título de salário, aposentadoria ou similares, para a conta descrita abaixo, na mesma do crédito, sem nenhum custo e em caráter permanente:"]
[]
[null,"CONTA ORIGEM",null,null,null,null,null,null,null,null,null,null,null,null,null,null,null,null,null,null,null,null,null,null,"CONTA DESTINO"]
[]
[null,"CONTA SALÁRIO (FUNCIONÁRIO):",null,null,null,null,null,null,null,null,null,null,null,null,null,null,null,null,null,null,null,null,null,null,"BANCO:",null,null,{"$f":"INDEX(Tabela1[],A11640,20)","v":0},null,{"$f":"IFERROR(VLOOKUP(AB11650,LISTA!Q:R,2,0),\"-\")","v":"-"}]
[]
[null,"FONTE PAGADORA:",null,null,null,null,null,null,{"$f":"FONTE_PAGADORA","v":"INSIRA O NOME DA FONTE PAGADORA AQUI"},null,null,null,null,null,null,null,null,null,null,null,null,null,null,null,"AGÊNCIA:",null,null,null,{"$f":"INDEX(Tabela1[],A11640,21)","v":0},null,null,null,null,null,"TIPO DE CONTA:",null,null,null,null,null,{"$f":"INDEX(Tabela1[],A11640,19)","v":0}]
[]
[null,null,null,null,null,null,null,null,null,null,null,null,null,null,null,null,null,null,null,null,null,null,null,null,"NÚMERO:",null,null,null,{"$f":"INDEX(Tabela1[],A11640,22)","v":0}]
[]
[]
[null,"Esta solicitação está de acordo com a Resolução BACEN 3.402/2006 e 3.424/2006, e sua revogação está condicionada a minha prévia e expressa manifestação."]
[]
[null,"São Gotardo, ",null,null,null,null,{"$f":"DAY(TODAY())","v":6},null,"de",null,{"$f":"VLOOKUP(MONTH(TODAY()),LISTA!O:P,2,0)","v":"ABRIL"},null,null,null,null,"de",null,{"$f":"YEAR(TODAY())","v":2023}]
[]
[]
[]
[]
[null,"________________________________________",null,null,null,null,null,null,null,null,null,null,null,null,null,null,null,null,null,null,null,null,null,null,"________________________________________"]
[null,{"$f":"UPPER(INDEX(Tabela1[],A11640,2))","v":""},null,null,null,null,null,null,null,null,null,null,null,null,null,null,null,null,null,null,null,null,null,null,{"$f":"FONTE_PAGADORA","v":"INSIRA O NOME DA FONTE PAGADORA AQUI"}]
[null,{"$f":"\"Solicitante de Portabilidade\"","v":"Solicitante de Portabilidade"},null,null,null,null,null,null,null,null,null,null,null,null,null,null,null,null,null,null,null,null,null,null,"Responsável pelo preenchimento do Termo"]
[]
[]
[]
[]
[]
[]
[{"$f":"A11640+1","v":360},"TERMO DE AUTORIZAÇÃO PARA TRANSFERÊNCIA DE RECURSOS\nResoluções BACEN 3.402/2006 e 3.424/2006"]
[]
[null,"À Cooperativa de Crédito Credisg LTDA - SICOOB CREDISG"]
[]
[null,"Eu, ",null,{"$f":"UPPER(INDEX(Tabela1[],A11673,2))","v":""},null,null,null,null,null,null,null,null,null,null,null,null,null,null,null,null,null,null,null,null,null,null,"portador do CPF número",null,null,null,null,null,null,null,null,null,{"$f":"TEXT(INDEX(Tabela1[],A11673,1),\"[<=9999]0000;[>=999999999999]00\\.000\\.000\\/0000-00;000\\.000\\.000-00\")","v":"0000"}]
[]
[null,"solicito a TRANSFERÊNCIA dos valores creditados em minha conta junto a essa instituição a título de salário, aposentadoria ou similares, para a conta descrita abaixo, na mesma do crédito, sem nenhum custo e em caráter permanente:"]
[]
[null,"CONTA ORIGEM",null,null,null,null,null,null,null,null,null,null,null,null,null,null,null,null,null,null,null,null,null,null,"CONTA DESTINO"]
[]
[null,"CONTA SALÁRIO (FUNCIONÁRIO):",null,null,null,null,null,null,null,null,null,null,null,null,null,null,null,null,null,null,null,null,null,null,"BANCO:",null,null,{"$f":"INDEX(Tabela1[],A11673,20)","v":0},null,{"$f":"IFERROR(VLOOKUP(AB11683,LISTA!Q:R,2,0),\"-\")","v":"-"}]
[]
[null,"FONTE PAGADORA:",null,null,null,null,null,null,{"$f":"FONTE_PAGADORA","v":"INSIRA O NOME DA FONTE PAGADORA AQUI"},null,null,null,null,null,null,null,null,null,null,null,null,null,null,null,"AGÊNCIA:",null,null,null,{"$f":"INDEX(Tabela1[],A11673,21)","v":0},null,null,null,null,null,"TIPO DE CONTA:",null,null,null,null,null,{"$f":"INDEX(Tabela1[],A11673,19)","v":0}]
[]
[null,null,null,null,null,null,null,null,null,null,null,null,null,null,null,null,null,null,null,null,null,null,null,null,"NÚMERO:",null,null,null,{"$f":"INDEX(Tabela1[],A11673,22)","v":0}]
[]
[]
[null,"Esta solicitação está de acordo com a Resolução BACEN 3.402/2006 e 3.424/2006, e sua revogação está condicionada a minha prévia e expressa manifestação."]
[]
[null,"São Gotardo, ",null,null,null,null,{"$f":"DAY(TODAY())","v":6},null,"de",null,{"$f":"VLOOKUP(MONTH(TODAY()),LISTA!O:P,2,0)","v":"ABRIL"},null,null,null,null,"de",null,{"$f":"YEAR(TODAY())","v":2023}]
[]
[]
[]
[]
[null,"________________________________________",null,null,null,null,null,null,null,null,null,null,null,null,null,null,null,null,null,null,null,null,null,null,"________________________________________"]
[null,{"$f":"UPPER(INDEX(Tabela1[],A11673,2))","v":""},null,null,null,null,null,null,null,null,null,null,null,null,null,null,null,null,null,null,null,null,null,null,{"$f":"FONTE_PAGADORA","v":"INSIRA O NOME DA FONTE PAGADORA AQUI"}]
[null,{"$f":"\"Solicitante de Portabilidade\"","v":"Solicitante de Portabilidade"},null,null,null,null,null,null,null,null,null,null,null,null,null,null,null,null,null,null,null,null,null,null,"Responsável pelo preenchimento do Termo"]
[]
[]
[]
[]
[]
[{"$f":"A11673+1","v":361},"TERMO DE AUTORIZAÇÃO PARA TRANSFERÊNCIA DE RECURSOS\nResoluções BACEN 3.402/2006 e 3.424/2006"]
[]
[null,"À Cooperativa de Crédito Credisg LTDA - SICOOB CREDISG"]
[]
[null,"Eu, ",null,{"$f":"UPPER(INDEX(Tabela1[],A11705,2))","v":""},null,null,null,null,null,null,null,null,null,null,null,null,null,null,null,null,null,null,null,null,null,null,"portador do CPF número",null,null,null,null,null,null,null,null,null,{"$f":"TEXT(INDEX(Tabela1[],A11705,1),\"[<=9999]0000;[>=999999999999]00\\.000\\.000\\/0000-00;000\\.000\\.000-00\")","v":"0000"}]
[]
[null,"solicito a TRANSFERÊNCIA dos valores creditados em minha conta junto a essa instituição a título de salário, aposentadoria ou similares, para a conta descrita abaixo, na mesma do crédito, sem nenhum custo e em caráter permanente:"]
[]
[null,"CONTA ORIGEM",null,null,null,null,null,null,null,null,null,null,null,null,null,null,null,null,null,null,null,null,null,null,"CONTA DESTINO"]
[]
[null,"CONTA SALÁRIO (FUNCIONÁRIO):",null,null,null,null,null,null,null,null,null,null,null,null,null,null,null,null,null,null,null,null,null,null,"BANCO:",null,null,{"$f":"INDEX(Tabela1[],A11705,20)","v":0},null,{"$f":"IFERROR(VLOOKUP(AB11715,LISTA!Q:R,2,0),\"-\")","v":"-"}]
[]
[null,"FONTE PAGADORA:",null,null,null,null,null,null,{"$f":"FONTE_PAGADORA","v":"INSIRA O NOME DA FONTE PAGADORA AQUI"},null,null,null,null,null,null,null,null,null,null,null,null,null,null,null,"AGÊNCIA:",null,null,null,{"$f":"INDEX(Tabela1[],A11705,21)","v":0},null,null,null,null,null,"TIPO DE CONTA:",null,null,null,null,null,{"$f":"INDEX(Tabela1[],A11705,19)","v":0}]
[]
[null,null,null,null,null,null,null,null,null,null,null,null,null,null,null,null,null,null,null,null,null,null,null,null,"NÚMERO:",null,null,null,{"$f":"INDEX(Tabela1[],A11705,22)","v":0}]
[]
[]
[null,"Esta solicitação está de acordo com a Resolução BACEN 3.402/2006 e 3.424/2006, e sua revogação está condicionada a minha prévia e expressa manifestação."]
[]
[null,"São Gotardo, ",null,null,null,null,{"$f":"DAY(TODAY())","v":6},null,"de",null,{"$f":"VLOOKUP(MONTH(TODAY()),LISTA!O:P,2,0)","v":"ABRIL"},null,null,null,null,"de",null,{"$f":"YEAR(TODAY())","v":2023}]
[]
[]
[]
[]
[null,"________________________________________",null,null,null,null,null,null,null,null,null,null,null,null,null,null,null,null,null,null,null,null,null,null,"________________________________________"]
[null,{"$f":"UPPER(INDEX(Tabela1[],A11705,2))","v":""},null,null,null,null,null,null,null,null,null,null,null,null,null,null,null,null,null,null,null,null,null,null,{"$f":"FONTE_PAGADORA","v":"INSIRA O NOME DA FONTE PAGADORA AQUI"}]
[null,{"$f":"\"Solicitante de Portabilidade\"","v":"Solicitante de Portabilidade"},null,null,null,null,null,null,null,null,null,null,null,null,null,null,null,null,null,null,null,null,null,null,"Responsável pelo preenchimento do Termo"]
[]
[]
[]
[]
[]
[]
[{"$f":"A11705+1","v":362},"TERMO DE AUTORIZAÇÃO PARA TRANSFERÊNCIA DE RECURSOS\nResoluções BACEN 3.402/2006 e 3.424/2006"]
[]
[null,"À Cooperativa de Crédito Credisg LTDA - SICOOB CREDISG"]
[]
[null,"Eu, ",null,{"$f":"UPPER(INDEX(Tabela1[],A11738,2))","v":""},null,null,null,null,null,null,null,null,null,null,null,null,null,null,null,null,null,null,null,null,null,null,"portador do CPF número",null,null,null,null,null,null,null,null,null,{"$f":"TEXT(INDEX(Tabela1[],A11738,1),\"[<=9999]0000;[>=999999999999]00\\.000\\.000\\/0000-00;000\\.000\\.000-00\")","v":"0000"}]
[]
[null,"solicito a TRANSFERÊNCIA dos valores creditados em minha conta junto a essa instituição a título de salário, aposentadoria ou similares, para a conta descrita abaixo, na mesma do crédito, sem nenhum custo e em caráter permanente:"]
[]
[null,"CONTA ORIGEM",null,null,null,null,null,null,null,null,null,null,null,null,null,null,null,null,null,null,null,null,null,null,"CONTA DESTINO"]
[]
[null,"CONTA SALÁRIO (FUNCIONÁRIO):",null,null,null,null,null,null,null,null,null,null,null,null,null,null,null,null,null,null,null,null,null,null,"BANCO:",null,null,{"$f":"INDEX(Tabela1[],A11738,20)","v":0},null,{"$f":"IFERROR(VLOOKUP(AB11748,LISTA!Q:R,2,0),\"-\")","v":"-"}]
[]
[null,"FONTE PAGADORA:",null,null,null,null,null,null,{"$f":"FONTE_PAGADORA","v":"INSIRA O NOME DA FONTE PAGADORA AQUI"},null,null,null,null,null,null,null,null,null,null,null,null,null,null,null,"AGÊNCIA:",null,null,null,{"$f":"INDEX(Tabela1[],A11738,21)","v":0},null,null,null,null,null,"TIPO DE CONTA:",null,null,null,null,null,{"$f":"INDEX(Tabela1[],A11738,19)","v":0}]
[]
[null,null,null,null,null,null,null,null,null,null,null,null,null,null,null,null,null,null,null,null,null,null,null,null,"NÚMERO:",null,null,null,{"$f":"INDEX(Tabela1[],A11738,22)","v":0}]
[]
[]
[null,"Esta solicitação está de acordo com a Resolução BACEN 3.402/2006 e 3.424/2006, e sua revogação está condicionada a minha prévia e expressa manifestação."]
[]
[null,"São Gotardo, ",null,null,null,null,{"$f":"DAY(TODAY())","v":6},null,"de",null,{"$f":"VLOOKUP(MONTH(TODAY()),LISTA!O:P,2,0)","v":"ABRIL"},null,null,null,null,"de",null,{"$f":"YEAR(TODAY())","v":2023}]
[]
[]
[]
[]
[null,"________________________________________",null,null,null,null,null,null,null,null,null,null,null,null,null,null,null,null,null,null,null,null,null,null,"________________________________________"]
[null,{"$f":"UPPER(INDEX(Tabela1[],A11738,2))","v":""},null,null,null,null,null,null,null,null,null,null,null,null,null,null,null,null,null,null,null,null,null,null,{"$f":"FONTE_PAGADORA","v":"INSIRA O NOME DA FONTE PAGADORA AQUI"}]
[null,{"$f":"\"Solicitante de Portabilidade\"","v":"Solicitante de Portabilidade"},null,null,null,null,null,null,null,null,null,null,null,null,null,null,null,null,null,null,null,null,null,null,"Responsável pelo preenchimento do Termo"]
[]
[]
[]
[]
[]
[{"$f":"A11738+1","v":363},"TERMO DE AUTORIZAÇÃO PARA TRANSFERÊNCIA DE RECURSOS\nResoluções BACEN 3.402/2006 e 3.424/2006"]
[]
[null,"À Cooperativa de Crédito Credisg LTDA - SICOOB CREDISG"]
[]
[null,"Eu, ",null,{"$f":"UPPER(INDEX(Tabela1[],A11770,2))","v":""},null,null,null,null,null,null,null,null,null,null,null,null,null,null,null,null,null,null,null,null,null,null,"portador do CPF número",null,null,null,null,null,null,null,null,null,{"$f":"TEXT(INDEX(Tabela1[],A11770,1),\"[<=9999]0000;[>=999999999999]00\\.000\\.000\\/0000-00;000\\.000\\.000-00\")","v":"0000"}]
[]
[null,"solicito a TRANSFERÊNCIA dos valores creditados em minha conta junto a essa instituição a título de salário, aposentadoria ou similares, para a conta descrita abaixo, na mesma do crédito, sem nenhum custo e em caráter permanente:"]
[]
[null,"CONTA ORIGEM",null,null,null,null,null,null,null,null,null,null,null,null,null,null,null,null,null,null,null,null,null,null,"CONTA DESTINO"]
[]
[null,"CONTA SALÁRIO (FUNCIONÁRIO):",null,null,null,null,null,null,null,null,null,null,null,null,null,null,null,null,null,null,null,null,null,null,"BANCO:",null,null,{"$f":"INDEX(Tabela1[],A11770,20)","v":0},null,{"$f":"IFERROR(VLOOKUP(AB11780,LISTA!Q:R,2,0),\"-\")","v":"-"}]
[]
[null,"FONTE PAGADORA:",null,null,null,null,null,null,{"$f":"FONTE_PAGADORA","v":"INSIRA O NOME DA FONTE PAGADORA AQUI"},null,null,null,null,null,null,null,null,null,null,null,null,null,null,null,"AGÊNCIA:",null,null,null,{"$f":"INDEX(Tabela1[],A11770,21)","v":0},null,null,null,null,null,"TIPO DE CONTA:",null,null,null,null,null,{"$f":"INDEX(Tabela1[],A11770,19)","v":0}]
[]
[null,null,null,null,null,null,null,null,null,null,null,null,null,null,null,null,null,null,null,null,null,null,null,null,"NÚMERO:",null,null,null,{"$f":"INDEX(Tabela1[],A11770,22)","v":0}]
[]
[]
[null,"Esta solicitação está de acordo com a Resolução BACEN 3.402/2006 e 3.424/2006, e sua revogação está condicionada a minha prévia e expressa manifestação."]
[]
[null,"São Gotardo, ",null,null,null,null,{"$f":"DAY(TODAY())","v":6},null,"de",null,{"$f":"VLOOKUP(MONTH(TODAY()),LISTA!O:P,2,0)","v":"ABRIL"},null,null,null,null,"de",null,{"$f":"YEAR(TODAY())","v":2023}]
[]
[]
[]
[]
[null,"________________________________________",null,null,null,null,null,null,null,null,null,null,null,null,null,null,null,null,null,null,null,null,null,null,"________________________________________"]
[null,{"$f":"UPPER(INDEX(Tabela1[],A11770,2))","v":""},null,null,null,null,null,null,null,null,null,null,null,null,null,null,null,null,null,null,null,null,null,null,{"$f":"FONTE_PAGADORA","v":"INSIRA O NOME DA FONTE PAGADORA AQUI"}]
[null,{"$f":"\"Solicitante de Portabilidade\"","v":"Solicitante de Portabilidade"},null,null,null,null,null,null,null,null,null,null,null,null,null,null,null,null,null,null,null,null,null,null,"Responsável pelo preenchimento do Termo"]
[]
[]
[]
[]
[]
[]
[{"$f":"A11770+1","v":364},"TERMO DE AUTORIZAÇÃO PARA TRANSFERÊNCIA DE RECURSOS\nResoluções BACEN 3.402/2006 e 3.424/2006"]
[]
[null,"À Cooperativa de Crédito Credisg LTDA - SICOOB CREDISG"]
[]
[null,"Eu, ",null,{"$f":"UPPER(INDEX(Tabela1[],A11803,2))","v":""},null,null,null,null,null,null,null,null,null,null,null,null,null,null,null,null,null,null,null,null,null,null,"portador do CPF número",null,null,null,null,null,null,null,null,null,{"$f":"TEXT(INDEX(Tabela1[],A11803,1),\"[<=9999]0000;[>=999999999999]00\\.000\\.000\\/0000-00;000\\.000\\.000-00\")","v":"0000"}]
[]
[null,"solicito a TRANSFERÊNCIA dos valores creditados em minha conta junto a essa instituição a título de salário, aposentadoria ou similares, para a conta descrita abaixo, na mesma do crédito, sem nenhum custo e em caráter permanente:"]
[]
[null,"CONTA ORIGEM",null,null,null,null,null,null,null,null,null,null,null,null,null,null,null,null,null,null,null,null,null,null,"CONTA DESTINO"]
[]
[null,"CONTA SALÁRIO (FUNCIONÁRIO):",null,null,null,null,null,null,null,null,null,null,null,null,null,null,null,null,null,null,null,null,null,null,"BANCO:",null,null,{"$f":"INDEX(Tabela1[],A11803,20)","v":0},null,{"$f":"IFERROR(VLOOKUP(AB11813,LISTA!Q:R,2,0),\"-\")","v":"-"}]
[]
[null,"FONTE PAGADORA:",null,null,null,null,null,null,{"$f":"FONTE_PAGADORA","v":"INSIRA O NOME DA FONTE PAGADORA AQUI"},null,null,null,null,null,null,null,null,null,null,null,null,null,null,null,"AGÊNCIA:",null,null,null,{"$f":"INDEX(Tabela1[],A11803,21)","v":0},null,null,null,null,null,"TIPO DE CONTA:",null,null,null,null,null,{"$f":"INDEX(Tabela1[],A11803,19)","v":0}]
[]
[null,null,null,null,null,null,null,null,null,null,null,null,null,null,null,null,null,null,null,null,null,null,null,null,"NÚMERO:",null,null,null,{"$f":"INDEX(Tabela1[],A11803,22)","v":0}]
[]
[]
[null,"Esta solicitação está de acordo com a Resolução BACEN 3.402/2006 e 3.424/2006, e sua revogação está condicionada a minha prévia e expressa manifestação."]
[]
[null,"São Gotardo, ",null,null,null,null,{"$f":"DAY(TODAY())","v":6},null,"de",null,{"$f":"VLOOKUP(MONTH(TODAY()),LISTA!O:P,2,0)","v":"ABRIL"},null,null,null,null,"de",null,{"$f":"YEAR(TODAY())","v":2023}]
[]
[]
[]
[]
[null,"________________________________________",null,null,null,null,null,null,null,null,null,null,null,null,null,null,null,null,null,null,null,null,null,null,"________________________________________"]
[null,{"$f":"UPPER(INDEX(Tabela1[],A11803,2))","v":""},null,null,null,null,null,null,null,null,null,null,null,null,null,null,null,null,null,null,null,null,null,null,{"$f":"FONTE_PAGADORA","v":"INSIRA O NOME DA FONTE PAGADORA AQUI"}]
[null,{"$f":"\"Solicitante de Portabilidade\"","v":"Solicitante de Portabilidade"},null,null,null,null,null,null,null,null,null,null,null,null,null,null,null,null,null,null,null,null,null,null,"Responsável pelo preenchimento do Termo"]
[]
[]
[]
[]
[]
[{"$f":"A11803+1","v":365},"TERMO DE AUTORIZAÇÃO PARA TRANSFERÊNCIA DE RECURSOS\nResoluções BACEN 3.402/2006 e 3.424/2006"]
[]
[null,"À Cooperativa de Crédito Credisg LTDA - SICOOB CREDISG"]
[]
[null,"Eu, ",null,{"$f":"UPPER(INDEX(Tabela1[],A11835,2))","v":""},null,null,null,null,null,null,null,null,null,null,null,null,null,null,null,null,null,null,null,null,null,null,"portador do CPF número",null,null,null,null,null,null,null,null,null,{"$f":"TEXT(INDEX(Tabela1[],A11835,1),\"[<=9999]0000;[>=999999999999]00\\.000\\.000\\/0000-00;000\\.000\\.000-00\")","v":"0000"}]
[]
[null,"solicito a TRANSFERÊNCIA dos valores creditados em minha conta junto a essa instituição a título de salário, aposentadoria ou similares, para a conta descrita abaixo, na mesma do crédito, sem nenhum custo e em caráter permanente:"]
[]
[null,"CONTA ORIGEM",null,null,null,null,null,null,null,null,null,null,null,null,null,null,null,null,null,null,null,null,null,null,"CONTA DESTINO"]
[]
[null,"CONTA SALÁRIO (FUNCIONÁRIO):",null,null,null,null,null,null,null,null,null,null,null,null,null,null,null,null,null,null,null,null,null,null,"BANCO:",null,null,{"$f":"INDEX(Tabela1[],A11835,20)","v":0},null,{"$f":"IFERROR(VLOOKUP(AB11845,LISTA!Q:R,2,0),\"-\")","v":"-"}]
[]
[null,"FONTE PAGADORA:",null,null,null,null,null,null,{"$f":"FONTE_PAGADORA","v":"INSIRA O NOME DA FONTE PAGADORA AQUI"},null,null,null,null,null,null,null,null,null,null,null,null,null,null,null,"AGÊNCIA:",null,null,null,{"$f":"INDEX(Tabela1[],A11835,21)","v":0},null,null,null,null,null,"TIPO DE CONTA:",null,null,null,null,null,{"$f":"INDEX(Tabela1[],A11835,19)","v":0}]
[]
[null,null,null,null,null,null,null,null,null,null,null,null,null,null,null,null,null,null,null,null,null,null,null,null,"NÚMERO:",null,null,null,{"$f":"INDEX(Tabela1[],A11835,22)","v":0}]
[]
[]
[null,"Esta solicitação está de acordo com a Resolução BACEN 3.402/2006 e 3.424/2006, e sua revogação está condicionada a minha prévia e expressa manifestação."]
[]
[null,"São Gotardo, ",null,null,null,null,{"$f":"DAY(TODAY())","v":6},null,"de",null,{"$f":"VLOOKUP(MONTH(TODAY()),LISTA!O:P,2,0)","v":"ABRIL"},null,null,null,null,"de",null,{"$f":"YEAR(TODAY())","v":2023}]
[]
[]
[]
[]
[null,"________________________________________",null,null,null,null,null,null,null,null,null,null,null,null,null,null,null,null,null,null,null,null,null,null,"________________________________________"]
[null,{"$f":"UPPER(INDEX(Tabela1[],A11835,2))","v":""},null,null,null,null,null,null,null,null,null,null,null,null,null,null,null,null,null,null,null,null,null,null,{"$f":"FONTE_PAGADORA","v":"INSIRA O NOME DA FONTE PAGADORA AQUI"}]
[null,{"$f":"\"Solicitante de Portabilidade\"","v":"Solicitante de Portabilidade"},null,null,null,null,null,null,null,null,null,null,null,null,null,null,null,null,null,null,null,null,null,null,"Responsável pelo preenchimento do Termo"]
[]
[]
[]
[]
[]
[]
[{"$f":"A11835+1","v":366},"TERMO DE AUTORIZAÇÃO PARA TRANSFERÊNCIA DE RECURSOS\nResoluções BACEN 3.402/2006 e 3.424/2006"]
[]
[null,"À Cooperativa de Crédito Credisg LTDA - SICOOB CREDISG"]
[]
[null,"Eu, ",null,{"$f":"UPPER(INDEX(Tabela1[],A11868,2))","v":""},null,null,null,null,null,null,null,null,null,null,null,null,null,null,null,null,null,null,null,null,null,null,"portador do CPF número",null,null,null,null,null,null,null,null,null,{"$f":"TEXT(INDEX(Tabela1[],A11868,1),\"[<=9999]0000;[>=999999999999]00\\.000\\.000\\/0000-00;000\\.000\\.000-00\")","v":"0000"}]
[]
[null,"solicito a TRANSFERÊNCIA dos valores creditados em minha conta junto a essa instituição a título de salário, aposentadoria ou similares, para a conta descrita abaixo, na mesma do crédito, sem nenhum custo e em caráter permanente:"]
[]
[null,"CONTA ORIGEM",null,null,null,null,null,null,null,null,null,null,null,null,null,null,null,null,null,null,null,null,null,null,"CONTA DESTINO"]
[]
[null,"CONTA SALÁRIO (FUNCIONÁRIO):",null,null,null,null,null,null,null,null,null,null,null,null,null,null,null,null,null,null,null,null,null,null,"BANCO:",null,null,{"$f":"INDEX(Tabela1[],A11868,20)","v":0},null,{"$f":"IFERROR(VLOOKUP(AB11878,LISTA!Q:R,2,0),\"-\")","v":"-"}]
[]
[null,"FONTE PAGADORA:",null,null,null,null,null,null,{"$f":"FONTE_PAGADORA","v":"INSIRA O NOME DA FONTE PAGADORA AQUI"},null,null,null,null,null,null,null,null,null,null,null,null,null,null,null,"AGÊNCIA:",null,null,null,{"$f":"INDEX(Tabela1[],A11868,21)","v":0},null,null,null,null,null,"TIPO DE CONTA:",null,null,null,null,null,{"$f":"INDEX(Tabela1[],A11868,19)","v":0}]
[]
[null,null,null,null,null,null,null,null,null,null,null,null,null,null,null,null,null,null,null,null,null,null,null,null,"NÚMERO:",null,null,null,{"$f":"INDEX(Tabela1[],A11868,22)","v":0}]
[]
[]
[null,"Esta solicitação está de acordo com a Resolução BACEN 3.402/2006 e 3.424/2006, e sua revogação está condicionada a minha prévia e expressa manifestação."]
[]
[null,"São Gotardo, ",null,null,null,null,{"$f":"DAY(TODAY())","v":6},null,"de",null,{"$f":"VLOOKUP(MONTH(TODAY()),LISTA!O:P,2,0)","v":"ABRIL"},null,null,null,null,"de",null,{"$f":"YEAR(TODAY())","v":2023}]
[]
[]
[]
[]
[null,"________________________________________",null,null,null,null,null,null,null,null,null,null,null,null,null,null,null,null,null,null,null,null,null,null,"________________________________________"]
[null,{"$f":"UPPER(INDEX(Tabela1[],A11868,2))","v":""},null,null,null,null,null,null,null,null,null,null,null,null,null,null,null,null,null,null,null,null,null,null,{"$f":"FONTE_PAGADORA","v":"INSIRA O NOME DA FONTE PAGADORA AQUI"}]
[null,{"$f":"\"Solicitante de Portabilidade\"","v":"Solicitante de Portabilidade"},null,null,null,null,null,null,null,null,null,null,null,null,null,null,null,null,null,null,null,null,null,null,"Responsável pelo preenchimento do Termo"]
[]
[]
[]
[]
[]
[{"$f":"A11868+1","v":367},"TERMO DE AUTORIZAÇÃO PARA TRANSFERÊNCIA DE RECURSOS\nResoluções BACEN 3.402/2006 e 3.424/2006"]
[]
[null,"À Cooperativa de Crédito Credisg LTDA - SICOOB CREDISG"]
[]
[null,"Eu, ",null,{"$f":"UPPER(INDEX(Tabela1[],A11900,2))","v":""},null,null,null,null,null,null,null,null,null,null,null,null,null,null,null,null,null,null,null,null,null,null,"portador do CPF número",null,null,null,null,null,null,null,null,null,{"$f":"TEXT(INDEX(Tabela1[],A11900,1),\"[<=9999]0000;[>=999999999999]00\\.000\\.000\\/0000-00;000\\.000\\.000-00\")","v":"0000"}]
[]
[null,"solicito a TRANSFERÊNCIA dos valores creditados em minha conta junto a essa instituição a título de salário, aposentadoria ou similares, para a conta descrita abaixo, na mesma do crédito, sem nenhum custo e em caráter permanente:"]
[]
[null,"CONTA ORIGEM",null,null,null,null,null,null,null,null,null,null,null,null,null,null,null,null,null,null,null,null,null,null,"CONTA DESTINO"]
[]
[null,"CONTA SALÁRIO (FUNCIONÁRIO):",null,null,null,null,null,null,null,null,null,null,null,null,null,null,null,null,null,null,null,null,null,null,"BANCO:",null,null,{"$f":"INDEX(Tabela1[],A11900,20)","v":0},null,{"$f":"IFERROR(VLOOKUP(AB11910,LISTA!Q:R,2,0),\"-\")","v":"-"}]
[]
[null,"FONTE PAGADORA:",null,null,null,null,null,null,{"$f":"FONTE_PAGADORA","v":"INSIRA O NOME DA FONTE PAGADORA AQUI"},null,null,null,null,null,null,null,null,null,null,null,null,null,null,null,"AGÊNCIA:",null,null,null,{"$f":"INDEX(Tabela1[],A11900,21)","v":0},null,null,null,null,null,"TIPO DE CONTA:",null,null,null,null,null,{"$f":"INDEX(Tabela1[],A11900,19)","v":0}]
[]
[null,null,null,null,null,null,null,null,null,null,null,null,null,null,null,null,null,null,null,null,null,null,null,null,"NÚMERO:",null,null,null,{"$f":"INDEX(Tabela1[],A11900,22)","v":0}]
[]
[]
[null,"Esta solicitação está de acordo com a Resolução BACEN 3.402/2006 e 3.424/2006, e sua revogação está condicionada a minha prévia e expressa manifestação."]
[]
[null,"São Gotardo, ",null,null,null,null,{"$f":"DAY(TODAY())","v":6},null,"de",null,{"$f":"VLOOKUP(MONTH(TODAY()),LISTA!O:P,2,0)","v":"ABRIL"},null,null,null,null,"de",null,{"$f":"YEAR(TODAY())","v":2023}]
[]
[]
[]
[]
[null,"________________________________________",null,null,null,null,null,null,null,null,null,null,null,null,null,null,null,null,null,null,null,null,null,null,"________________________________________"]
[null,{"$f":"UPPER(INDEX(Tabela1[],A11900,2))","v":""},null,null,null,null,null,null,null,null,null,null,null,null,null,null,null,null,null,null,null,null,null,null,{"$f":"FONTE_PAGADORA","v":"INSIRA O NOME DA FONTE PAGADORA AQUI"}]
[null,{"$f":"\"Solicitante de Portabilidade\"","v":"Solicitante de Portabilidade"},null,null,null,null,null,null,null,null,null,null,null,null,null,null,null,null,null,null,null,null,null,null,"Responsável pelo preenchimento do Termo"]
[]
[]
[]
[]
[]
[]
[{"$f":"A11900+1","v":368},"TERMO DE AUTORIZAÇÃO PARA TRANSFERÊNCIA DE RECURSOS\nResoluções BACEN 3.402/2006 e 3.424/2006"]
[]
[null,"À Cooperativa de Crédito Credisg LTDA - SICOOB CREDISG"]
[]
[null,"Eu, ",null,{"$f":"UPPER(INDEX(Tabela1[],A11933,2))","v":""},null,null,null,null,null,null,null,null,null,null,null,null,null,null,null,null,null,null,null,null,null,null,"portador do CPF número",null,null,null,null,null,null,null,null,null,{"$f":"TEXT(INDEX(Tabela1[],A11933,1),\"[<=9999]0000;[>=999999999999]00\\.000\\.000\\/0000-00;000\\.000\\.000-00\")","v":"0000"}]
[]
[null,"solicito a TRANSFERÊNCIA dos valores creditados em minha conta junto a essa instituição a título de salário, aposentadoria ou similares, para a conta descrita abaixo, na mesma do crédito, sem nenhum custo e em caráter permanente:"]
[]
[null,"CONTA ORIGEM",null,null,null,null,null,null,null,null,null,null,null,null,null,null,null,null,null,null,null,null,null,null,"CONTA DESTINO"]
[]
[null,"CONTA SALÁRIO (FUNCIONÁRIO):",null,null,null,null,null,null,null,null,null,null,null,null,null,null,null,null,null,null,null,null,null,null,"BANCO:",null,null,{"$f":"INDEX(Tabela1[],A11933,20)","v":0},null,{"$f":"IFERROR(VLOOKUP(AB11943,LISTA!Q:R,2,0),\"-\")","v":"-"}]
[]
[null,"FONTE PAGADORA:",null,null,null,null,null,null,{"$f":"FONTE_PAGADORA","v":"INSIRA O NOME DA FONTE PAGADORA AQUI"},null,null,null,null,null,null,null,null,null,null,null,null,null,null,null,"AGÊNCIA:",null,null,null,{"$f":"INDEX(Tabela1[],A11933,21)","v":0},null,null,null,null,null,"TIPO DE CONTA:",null,null,null,null,null,{"$f":"INDEX(Tabela1[],A11933,19)","v":0}]
[]
[null,null,null,null,null,null,null,null,null,null,null,null,null,null,null,null,null,null,null,null,null,null,null,null,"NÚMERO:",null,null,null,{"$f":"INDEX(Tabela1[],A11933,22)","v":0}]
[]
[]
[null,"Esta solicitação está de acordo com a Resolução BACEN 3.402/2006 e 3.424/2006, e sua revogação está condicionada a minha prévia e expressa manifestação."]
[]
[null,"São Gotardo, ",null,null,null,null,{"$f":"DAY(TODAY())","v":6},null,"de",null,{"$f":"VLOOKUP(MONTH(TODAY()),LISTA!O:P,2,0)","v":"ABRIL"},null,null,null,null,"de",null,{"$f":"YEAR(TODAY())","v":2023}]
[]
[]
[]
[]
[null,"________________________________________",null,null,null,null,null,null,null,null,null,null,null,null,null,null,null,null,null,null,null,null,null,null,"________________________________________"]
[null,{"$f":"UPPER(INDEX(Tabela1[],A11933,2))","v":""},null,null,null,null,null,null,null,null,null,null,null,null,null,null,null,null,null,null,null,null,null,null,{"$f":"FONTE_PAGADORA","v":"INSIRA O NOME DA FONTE PAGADORA AQUI"}]
[null,{"$f":"\"Solicitante de Portabilidade\"","v":"Solicitante de Portabilidade"},null,null,null,null,null,null,null,null,null,null,null,null,null,null,null,null,null,null,null,null,null,null,"Responsável pelo preenchimento do Termo"]
[]
[]
[]
[]
[]
[{"$f":"A11933+1","v":369},"TERMO DE AUTORIZAÇÃO PARA TRANSFERÊNCIA DE RECURSOS\nResoluções BACEN 3.402/2006 e 3.424/2006"]
[]
[null,"À Cooperativa de Crédito Credisg LTDA - SICOOB CREDISG"]
[]
[null,"Eu, ",null,{"$f":"UPPER(INDEX(Tabela1[],A11965,2))","v":""},null,null,null,null,null,null,null,null,null,null,null,null,null,null,null,null,null,null,null,null,null,null,"portador do CPF número",null,null,null,null,null,null,null,null,null,{"$f":"TEXT(INDEX(Tabela1[],A11965,1),\"[<=9999]0000;[>=999999999999]00\\.000\\.000\\/0000-00;000\\.000\\.000-00\")","v":"0000"}]
[]
[null,"solicito a TRANSFERÊNCIA dos valores creditados em minha conta junto a essa instituição a título de salário, aposentadoria ou similares, para a conta descrita abaixo, na mesma do crédito, sem nenhum custo e em caráter permanente:"]
[]
[null,"CONTA ORIGEM",null,null,null,null,null,null,null,null,null,null,null,null,null,null,null,null,null,null,null,null,null,null,"CONTA DESTINO"]
[]
[null,"CONTA SALÁRIO (FUNCIONÁRIO):",null,null,null,null,null,null,null,null,null,null,null,null,null,null,null,null,null,null,null,null,null,null,"BANCO:",null,null,{"$f":"INDEX(Tabela1[],A11965,20)","v":0},null,{"$f":"IFERROR(VLOOKUP(AB11975,LISTA!Q:R,2,0),\"-\")","v":"-"}]
[]
[null,"FONTE PAGADORA:",null,null,null,null,null,null,{"$f":"FONTE_PAGADORA","v":"INSIRA O NOME DA FONTE PAGADORA AQUI"},null,null,null,null,null,null,null,null,null,null,null,null,null,null,null,"AGÊNCIA:",null,null,null,{"$f":"INDEX(Tabela1[],A11965,21)","v":0},null,null,null,null,null,"TIPO DE CONTA:",null,null,null,null,null,{"$f":"INDEX(Tabela1[],A11965,19)","v":0}]
[]
[null,null,null,null,null,null,null,null,null,null,null,null,null,null,null,null,null,null,null,null,null,null,null,null,"NÚMERO:",null,null,null,{"$f":"INDEX(Tabela1[],A11965,22)","v":0}]
[]
[]
[null,"Esta solicitação está de acordo com a Resolução BACEN 3.402/2006 e 3.424/2006, e sua revogação está condicionada a minha prévia e expressa manifestação."]
[]
[null,"São Gotardo, ",null,null,null,null,{"$f":"DAY(TODAY())","v":6},null,"de",null,{"$f":"VLOOKUP(MONTH(TODAY()),LISTA!O:P,2,0)","v":"ABRIL"},null,null,null,null,"de",null,{"$f":"YEAR(TODAY())","v":2023}]
[]
[]
[]
[]
[null,"________________________________________",null,null,null,null,null,null,null,null,null,null,null,null,null,null,null,null,null,null,null,null,null,null,"________________________________________"]
[null,{"$f":"UPPER(INDEX(Tabela1[],A11965,2))","v":""},null,null,null,null,null,null,null,null,null,null,null,null,null,null,null,null,null,null,null,null,null,null,{"$f":"FONTE_PAGADORA","v":"INSIRA O NOME DA FONTE PAGADORA AQUI"}]
[null,{"$f":"\"Solicitante de Portabilidade\"","v":"Solicitante de Portabilidade"},null,null,null,null,null,null,null,null,null,null,null,null,null,null,null,null,null,null,null,null,null,null,"Responsável pelo preenchimento do Termo"]
[]
[]
[]
[]
[]
[]
[{"$f":"A11965+1","v":370},"TERMO DE AUTORIZAÇÃO PARA TRANSFERÊNCIA DE RECURSOS\nResoluções BACEN 3.402/2006 e 3.424/2006"]
[]
[null,"À Cooperativa de Crédito Credisg LTDA - SICOOB CREDISG"]
[]
[null,"Eu, ",null,{"$f":"UPPER(INDEX(Tabela1[],A11998,2))","v":""},null,null,null,null,null,null,null,null,null,null,null,null,null,null,null,null,null,null,null,null,null,null,"portador do CPF número",null,null,null,null,null,null,null,null,null,{"$f":"TEXT(INDEX(Tabela1[],A11998,1),\"[<=9999]0000;[>=999999999999]00\\.000\\.000\\/0000-00;000\\.000\\.000-00\")","v":"0000"}]
[]
[null,"solicito a TRANSFERÊNCIA dos valores creditados em minha conta junto a essa instituição a título de salário, aposentadoria ou similares, para a conta descrita abaixo, na mesma do crédito, sem nenhum custo e em caráter permanente:"]
[]
[null,"CONTA ORIGEM",null,null,null,null,null,null,null,null,null,null,null,null,null,null,null,null,null,null,null,null,null,null,"CONTA DESTINO"]
[]
[null,"CONTA SALÁRIO (FUNCIONÁRIO):",null,null,null,null,null,null,null,null,null,null,null,null,null,null,null,null,null,null,null,null,null,null,"BANCO:",null,null,{"$f":"INDEX(Tabela1[],A11998,20)","v":0},null,{"$f":"IFERROR(VLOOKUP(AB12008,LISTA!Q:R,2,0),\"-\")","v":"-"}]
[]
[null,"FONTE PAGADORA:",null,null,null,null,null,null,{"$f":"FONTE_PAGADORA","v":"INSIRA O NOME DA FONTE PAGADORA AQUI"},null,null,null,null,null,null,null,null,null,null,null,null,null,null,null,"AGÊNCIA:",null,null,null,{"$f":"INDEX(Tabela1[],A11998,21)","v":0},null,null,null,null,null,"TIPO DE CONTA:",null,null,null,null,null,{"$f":"INDEX(Tabela1[],A11998,19)","v":0}]
[]
[null,null,null,null,null,null,null,null,null,null,null,null,null,null,null,null,null,null,null,null,null,null,null,null,"NÚMERO:",null,null,null,{"$f":"INDEX(Tabela1[],A11998,22)","v":0}]
[]
[]
[null,"Esta solicitação está de acordo com a Resolução BACEN 3.402/2006 e 3.424/2006, e sua revogação está condicionada a minha prévia e expressa manifestação."]
[]
[null,"São Gotardo, ",null,null,null,null,{"$f":"DAY(TODAY())","v":6},null,"de",null,{"$f":"VLOOKUP(MONTH(TODAY()),LISTA!O:P,2,0)","v":"ABRIL"},null,null,null,null,"de",null,{"$f":"YEAR(TODAY())","v":2023}]
[]
[]
[]
[]
[null,"________________________________________",null,null,null,null,null,null,null,null,null,null,null,null,null,null,null,null,null,null,null,null,null,null,"________________________________________"]
[null,{"$f":"UPPER(INDEX(Tabela1[],A11998,2))","v":""},null,null,null,null,null,null,null,null,null,null,null,null,null,null,null,null,null,null,null,null,null,null,{"$f":"FONTE_PAGADORA","v":"INSIRA O NOME DA FONTE PAGADORA AQUI"}]
[null,{"$f":"\"Solicitante de Portabilidade\"","v":"Solicitante de Portabilidade"},null,null,null,null,null,null,null,null,null,null,null,null,null,null,null,null,null,null,null,null,null,null,"Responsável pelo preenchimento do Termo"]
[]
[]
[]
[]
[]
[{"$f":"A11998+1","v":371},"TERMO DE AUTORIZAÇÃO PARA TRANSFERÊNCIA DE RECURSOS\nResoluções BACEN 3.402/2006 e 3.424/2006"]
[]
[null,"À Cooperativa de Crédito Credisg LTDA - SICOOB CREDISG"]
[]
[null,"Eu, ",null,{"$f":"UPPER(INDEX(Tabela1[],A12030,2))","v":""},null,null,null,null,null,null,null,null,null,null,null,null,null,null,null,null,null,null,null,null,null,null,"portador do CPF número",null,null,null,null,null,null,null,null,null,{"$f":"TEXT(INDEX(Tabela1[],A12030,1),\"[<=9999]0000;[>=999999999999]00\\.000\\.000\\/0000-00;000\\.000\\.000-00\")","v":"0000"}]
[]
[null,"solicito a TRANSFERÊNCIA dos valores creditados em minha conta junto a essa instituição a título de salário, aposentadoria ou similares, para a conta descrita abaixo, na mesma do crédito, sem nenhum custo e em caráter permanente:"]
[]
[null,"CONTA ORIGEM",null,null,null,null,null,null,null,null,null,null,null,null,null,null,null,null,null,null,null,null,null,null,"CONTA DESTINO"]
[]
[null,"CONTA SALÁRIO (FUNCIONÁRIO):",null,null,null,null,null,null,null,null,null,null,null,null,null,null,null,null,null,null,null,null,null,null,"BANCO:",null,null,{"$f":"INDEX(Tabela1[],A12030,20)","v":0},null,{"$f":"IFERROR(VLOOKUP(AB12040,LISTA!Q:R,2,0),\"-\")","v":"-"}]
[]
[null,"FONTE PAGADORA:",null,null,null,null,null,null,{"$f":"FONTE_PAGADORA","v":"INSIRA O NOME DA FONTE PAGADORA AQUI"},null,null,null,null,null,null,null,null,null,null,null,null,null,null,null,"AGÊNCIA:",null,null,null,{"$f":"INDEX(Tabela1[],A12030,21)","v":0},null,null,null,null,null,"TIPO DE CONTA:",null,null,null,null,null,{"$f":"INDEX(Tabela1[],A12030,19)","v":0}]
[]
[null,null,null,null,null,null,null,null,null,null,null,null,null,null,null,null,null,null,null,null,null,null,null,null,"NÚMERO:",null,null,null,{"$f":"INDEX(Tabela1[],A12030,22)","v":0}]
[]
[]
[null,"Esta solicitação está de acordo com a Resolução BACEN 3.402/2006 e 3.424/2006, e sua revogação está condicionada a minha prévia e expressa manifestação."]
[]
[null,"São Gotardo, ",null,null,null,null,{"$f":"DAY(TODAY())","v":6},null,"de",null,{"$f":"VLOOKUP(MONTH(TODAY()),LISTA!O:P,2,0)","v":"ABRIL"},null,null,null,null,"de",null,{"$f":"YEAR(TODAY())","v":2023}]
[]
[]
[]
[]
[null,"________________________________________",null,null,null,null,null,null,null,null,null,null,null,null,null,null,null,null,null,null,null,null,null,null,"________________________________________"]
[null,{"$f":"UPPER(INDEX(Tabela1[],A12030,2))","v":""},null,null,null,null,null,null,null,null,null,null,null,null,null,null,null,null,null,null,null,null,null,null,{"$f":"FONTE_PAGADORA","v":"INSIRA O NOME DA FONTE PAGADORA AQUI"}]
[null,{"$f":"\"Solicitante de Portabilidade\"","v":"Solicitante de Portabilidade"},null,null,null,null,null,null,null,null,null,null,null,null,null,null,null,null,null,null,null,null,null,null,"Responsável pelo preenchimento do Termo"]
[]
[]
[]
[]
[]
[]
[{"$f":"A12030+1","v":372},"TERMO DE AUTORIZAÇÃO PARA TRANSFERÊNCIA DE RECURSOS\nResoluções BACEN 3.402/2006 e 3.424/2006"]
[]
[null,"À Cooperativa de Crédito Credisg LTDA - SICOOB CREDISG"]
[]
[null,"Eu, ",null,{"$f":"UPPER(INDEX(Tabela1[],A12063,2))","v":""},null,null,null,null,null,null,null,null,null,null,null,null,null,null,null,null,null,null,null,null,null,null,"portador do CPF número",null,null,null,null,null,null,null,null,null,{"$f":"TEXT(INDEX(Tabela1[],A12063,1),\"[<=9999]0000;[>=999999999999]00\\.000\\.000\\/0000-00;000\\.000\\.000-00\")","v":"0000"}]
[]
[null,"solicito a TRANSFERÊNCIA dos valores creditados em minha conta junto a essa instituição a título de salário, aposentadoria ou similares, para a conta descrita abaixo, na mesma do crédito, sem nenhum custo e em caráter permanente:"]
[]
[null,"CONTA ORIGEM",null,null,null,null,null,null,null,null,null,null,null,null,null,null,null,null,null,null,null,null,null,null,"CONTA DESTINO"]
[]
[null,"CONTA SALÁRIO (FUNCIONÁRIO):",null,null,null,null,null,null,null,null,null,null,null,null,null,null,null,null,null,null,null,null,null,null,"BANCO:",null,null,{"$f":"INDEX(Tabela1[],A12063,20)","v":0},null,{"$f":"IFERROR(VLOOKUP(AB12073,LISTA!Q:R,2,0),\"-\")","v":"-"}]
[]
[null,"FONTE PAGADORA:",null,null,null,null,null,null,{"$f":"FONTE_PAGADORA","v":"INSIRA O NOME DA FONTE PAGADORA AQUI"},null,null,null,null,null,null,null,null,null,null,null,null,null,null,null,"AGÊNCIA:",null,null,null,{"$f":"INDEX(Tabela1[],A12063,21)","v":0},null,null,null,null,null,"TIPO DE CONTA:",null,null,null,null,null,{"$f":"INDEX(Tabela1[],A12063,19)","v":0}]
[]
[null,null,null,null,null,null,null,null,null,null,null,null,null,null,null,null,null,null,null,null,null,null,null,null,"NÚMERO:",null,null,null,{"$f":"INDEX(Tabela1[],A12063,22)","v":0}]
[]
[]
[null,"Esta solicitação está de acordo com a Resolução BACEN 3.402/2006 e 3.424/2006, e sua revogação está condicionada a minha prévia e expressa manifestação."]
[]
[null,"São Gotardo, ",null,null,null,null,{"$f":"DAY(TODAY())","v":6},null,"de",null,{"$f":"VLOOKUP(MONTH(TODAY()),LISTA!O:P,2,0)","v":"ABRIL"},null,null,null,null,"de",null,{"$f":"YEAR(TODAY())","v":2023}]
[]
[]
[]
[]
[null,"________________________________________",null,null,null,null,null,null,null,null,null,null,null,null,null,null,null,null,null,null,null,null,null,null,"________________________________________"]
[null,{"$f":"UPPER(INDEX(Tabela1[],A12063,2))","v":""},null,null,null,null,null,null,null,null,null,null,null,null,null,null,null,null,null,null,null,null,null,null,{"$f":"FONTE_PAGADORA","v":"INSIRA O NOME DA FONTE PAGADORA AQUI"}]
[null,{"$f":"\"Solicitante de Portabilidade\"","v":"Solicitante de Portabilidade"},null,null,null,null,null,null,null,null,null,null,null,null,null,null,null,null,null,null,null,null,null,null,"Responsável pelo preenchimento do Termo"]
[]
[]
[]
[]
[]
[{"$f":"A12063+1","v":373},"TERMO DE AUTORIZAÇÃO PARA TRANSFERÊNCIA DE RECURSOS\nResoluções BACEN 3.402/2006 e 3.424/2006"]
[]
[null,"À Cooperativa de Crédito Credisg LTDA - SICOOB CREDISG"]
[]
[null,"Eu, ",null,{"$f":"UPPER(INDEX(Tabela1[],A12095,2))","v":""},null,null,null,null,null,null,null,null,null,null,null,null,null,null,null,null,null,null,null,null,null,null,"portador do CPF número",null,null,null,null,null,null,null,null,null,{"$f":"TEXT(INDEX(Tabela1[],A12095,1),\"[<=9999]0000;[>=999999999999]00\\.000\\.000\\/0000-00;000\\.000\\.000-00\")","v":"0000"}]
[]
[null,"solicito a TRANSFERÊNCIA dos valores creditados em minha conta junto a essa instituição a título de salário, aposentadoria ou similares, para a conta descrita abaixo, na mesma do crédito, sem nenhum custo e em caráter permanente:"]
[]
[null,"CONTA ORIGEM",null,null,null,null,null,null,null,null,null,null,null,null,null,null,null,null,null,null,null,null,null,null,"CONTA DESTINO"]
[]
[null,"CONTA SALÁRIO (FUNCIONÁRIO):",null,null,null,null,null,null,null,null,null,null,null,null,null,null,null,null,null,null,null,null,null,null,"BANCO:",null,null,{"$f":"INDEX(Tabela1[],A12095,20)","v":0},null,{"$f":"IFERROR(VLOOKUP(AB12105,LISTA!Q:R,2,0),\"-\")","v":"-"}]
[]
[null,"FONTE PAGADORA:",null,null,null,null,null,null,{"$f":"FONTE_PAGADORA","v":"INSIRA O NOME DA FONTE PAGADORA AQUI"},null,null,null,null,null,null,null,null,null,null,null,null,null,null,null,"AGÊNCIA:",null,null,null,{"$f":"INDEX(Tabela1[],A12095,21)","v":0},null,null,null,null,null,"TIPO DE CONTA:",null,null,null,null,null,{"$f":"INDEX(Tabela1[],A12095,19)","v":0}]
[]
[null,null,null,null,null,null,null,null,null,null,null,null,null,null,null,null,null,null,null,null,null,null,null,null,"NÚMERO:",null,null,null,{"$f":"INDEX(Tabela1[],A12095,22)","v":0}]
[]
[]
[null,"Esta solicitação está de acordo com a Resolução BACEN 3.402/2006 e 3.424/2006, e sua revogação está condicionada a minha prévia e expressa manifestação."]
[]
[null,"São Gotardo, ",null,null,null,null,{"$f":"DAY(TODAY())","v":6},null,"de",null,{"$f":"VLOOKUP(MONTH(TODAY()),LISTA!O:P,2,0)","v":"ABRIL"},null,null,null,null,"de",null,{"$f":"YEAR(TODAY())","v":2023}]
[]
[]
[]
[]
[null,"________________________________________",null,null,null,null,null,null,null,null,null,null,null,null,null,null,null,null,null,null,null,null,null,null,"________________________________________"]
[null,{"$f":"UPPER(INDEX(Tabela1[],A12095,2))","v":""},null,null,null,null,null,null,null,null,null,null,null,null,null,null,null,null,null,null,null,null,null,null,{"$f":"FONTE_PAGADORA","v":"INSIRA O NOME DA FONTE PAGADORA AQUI"}]
[null,{"$f":"\"Solicitante de Portabilidade\"","v":"Solicitante de Portabilidade"},null,null,null,null,null,null,null,null,null,null,null,null,null,null,null,null,null,null,null,null,null,null,"Responsável pelo preenchimento do Termo"]